{"text_format":"1","workbook":"xlsx","n_sheets":12,"sheets":["表紙","基本情報・事業所情報の作成","届出・申告書の作成","eAppData","ETL","LIST","【自動入力】様式第17","【自動入力】Form2.2","【自動入力】Form2.3","【自動入力】Form2.3.1","【自動入力】Form2.3.2","【自動入力】Form2.4"],"not_rendered":{"charts":0,"images":0,"macros":1,"external_links":0,"defined_names":135,"comments":0,"pivot_tables":0},"unopened":[],"bounds":{"document_bytes":16777216,"sheet_cells":100000,"rows_first":2000,"rows_last":500,"rows_between":2000,"halvings":0,"cell_chars":16384,"cell_head_chars":4096},"cells_cut":0,"cells_raw":0,"read":"whole","date_system":"1900"}

{"sheet":"表紙","index":0,"n_rows":45,"n_cols":27,"rows_kept":45,"cut":false,"hidden":false,"merged":[[44,3,44,7],[41,3,41,17],[31,11,31,17],[16,3,16,26],[17,3,17,15],[19,3,19,26],[26,3,26,26],[32,3,32,26],[35,3,35,26],[36,2,36,26],[20,3,20,18],[21,3,21,18],[22,3,22,18],[23,3,23,18],[24,3,24,18],[29,3,30,26],[27,11,27,26],[1,1,1,26],[4,1,4,26],[10,3,10,10],[14,3,14,10],[13,3,13,26]]}
[null,"Version","2.0.1",null,null,null,null,null,null,null,null,null,null,null,null,null,null,null,null,null,null,null,null,null,null,null,"様式改訂：2024/07/16"]
[null,"化兵法に基づく第一種指定物質（表2剤）の実績届出（様式第17）および申告書の作成"]
[null,null,"(※）国際機関に申告するための書面（Form）では、化学兵器禁止法の「第一種指定物質」は化学兵器禁止条約では「表２剤（Schedule 2 Chemical）」との用語となっています。"]
[]
[null,"第一種指定物質を製造・抽出・精製（副生成を含む。）又は使用する事業者は当該活動の予定と実績を経済産業大臣に届け出ることになっています。また、併せて、国際機関に申告するための書面（Form）を提出することとされています。第一種指定物質（表２剤）の実績届出（様式第17）および申告書の作成に必要な情報を入力して届出書・申告書を作成して下さい。"]
[]
[]
[null,"届出・申告書の作成・提出手順"]
[]
[null,null,"①","「基本情報・事業所情報の作成」シートで届出・申告する基本情報と事業所情報を入力して下さい。"]
[null,null,null,"基本情報・事業所情報の入力へ→　"]
[]
[null,null,"②","「届出・申告書の作成」シートで届出・申告する情報を入力して下さい。"]
[null,null,null,"「様式第17の作成のためのブロック」（31行目）以降は、各ブロックの冒頭で、作成する様式数やプラント数を選択してから入力してください。"]
[null,null,null,"届出・申告書の情報の入力へ→　"]
[]
[null,null,"③","「【自動入力】様式第１7」シートで届出の内容を確認して下さい。修正が必要な場合は、①または②のシートに入力された情報を修正してください。"]
[null,null,null,"【自動入力】様式第１７へ→"]
[]
[null,null,"④","「【自動入力】Form」の各シートで申告の内容を確認して下さい。修正が必要な場合は、①または②のシートに入力された情報を修正してください。なお、届出のみの場合は各Formシートの表示内容がなくなります。"]
[null,null,null,"【自動入力】Form2.2　表2剤事業所の申告へ→"]
[null,null,null,"【自動入力】Form2.3　表2剤施設（プラント）の申告へ→"]
[null,null,null,"【自動入力】Form2.3.1　表2剤施設（プラント）の活動内容の申告へ→"]
[null,null,null,"【自動入力】Form2.3.2　表2剤施設（プラント）の生産能力の申告へ→"]
[null,null,null,"【自動入力】Form2.4　表2剤に関する実績活動の申告へ→"]
[]
[null,null,"⑤","エクセルファイルを保存してください。なお、ファイルの名称はわかりやすいように変更していただいてかまいませんが、ファイル名先頭の３文字（「Y17」）は変更しないでください（\"17\"は届出様式番号２桁を示しており（実際は届出様式及び国際申告Formの情報を含みます）、当該文字列がないと電子申請が受理されません。）。また、e-Govでは一部の記号文字をファイル名に使うことができません（例：“-”、“_”等。詳細は以下のe-Gov電子申請ウェブサイトを参照ください）。"]
[null,null,null,null,"ファイル名に使用できる文字：",null,null,null,null,null,null,"https://shinsei.e-gov.go.jp/contents/help/notes/filename-letters.html"]
[]
[null,null,"⑥","保存された電子申請用エクセルファイル及び添付資料（事業所内の当該第一種指定物質の製造等（使用）施設の位置、事業所内の製造等（使用）設備その他の設備の位置を示す図面、当該第一種指定物質の製造等（使用）工程を説明した書面（製造にあってはその製造能力の計算方法を含む。必要に応じ、変更点のメモや委任状等）をe-Gov電子申請ウェブサイトから電子申請します。"]
[]
[null,null,null,null,"e-Gov電子申請ウェブサイト：",null,null,null,null,null,null,"https://shinsei.e-gov.go.jp/"]
[null,null,null,"※ご不明な点などございましたら、下記「参考情報」欄の経済産業省ウェブサイトをご参照下さい。"]
[]
[null,"注意事項"]
[]
[null,null,"・当該ファイルはマクロ機能を利用しておりますため、マクロ機能を有効に（「コンテンツの有効化」）していただけますようお願いいたします。\n・入力欄のコピー＆ペーストは行わないようにお願いいたします（セルの構造が壊れてしまいますため）。\n・上記①（「基本情報・事業所情報の作成」）及び②（「届出・申告書の作成」）のシートにつきましては、一番右の列（Ｘ列）に自動入力チェック欄がございます。その欄に「未入力」と表示されている箇所がございましたら、同じ行の情報をご入力いただけますようお願いいたします。"]
[]
[null,"参考情報"]
[]
[null,null,"○経済産業省ウェブサイト（化学兵器禁止法　届出・申告関係及びお問合せ先）"]
[null,null,null,"https://www.meti.go.jp/policy/chemical_management/cwc/todokede.html"]
[]
[null,null,"○gビズID（e-Gov他様々な行政サービスにログインできるサービス）"]
[null,null,null,"https://gbiz-id.go.jp/top/"]

{"sheet":"基本情報・事業所情報の作成","index":1,"n_rows":120,"n_cols":24,"rows_kept":120,"cut":false,"hidden":false,"merged":[[119,21,119,22],[108,1,118,5],[108,6,108,20],[109,21,109,22],[113,21,113,22],[114,21,114,22],[115,21,115,22],[116,21,116,22],[117,21,117,22],[118,21,118,22],[94,3,100,10],[94,21,94,22],[95,21,95,22],[96,21,96,22],[97,21,97,22],[98,21,98,22],[99,21,99,22],[100,21,100,22],[87,3,93,10],[87,21,87,22],[88,21,88,22],[89,21,89,22],[90,21,90,22],[91,21,91,22],[92,21,92,22],[93,21,93,22],[80,3,86,10],[80,21,80,22],[81,21,81,22],[82,21,82,22],[83,21,83,22],[84,21,84,22],[85,21,85,22],[86,21,86,22],[69,3,76,10],[69,21,69,22],[70,21,70,22],[71,21,71,22],[72,21,72,22],[73,21,73,22],[74,21,74,22],[75,21,75,22],[76,21,76,22],[61,3,68,10],[61,21,61,22],[62,21,62,22],[63,21,63,22],[64,21,64,22],[65,21,65,22],[66,21,66,22],[67,21,67,22],[68,21,68,22],[47,21,47,22],[48,21,48,22],[49,21,49,22],[53,3,60,10],[53,21,53,22],[54,21,54,22],[55,21,55,22],[56,21,56,22],[57,21,57,22],[58,21,58,22],[59,21,59,22],[60,21,60,22],[26,2,26,21],[40,3,40,6],[40,8,40,9],[40,11,40,12],[43,3,43,6],[43,8,43,9],[43,11,43,12],[24,2,24,22],[1,1,1,23],[3,2,3,22],[6,3,6,6],[6,7,6,21],[7,7,7,21],[8,7,8,22],[9,3,9,6],[9,7,9,21],[10,7,10,22],[11,3,11,6],[11,7,11,21]]}
[null,null,null,null,null,null,null,null,null,null,null,null,null,null,null,null,null,null,null,null,null,null,null,"様式改訂：2024/07/16"]
[null,"化兵法に基づく届出および申告書の基本情報・事業所情報"]
[]
[null,null,"基本情報・事業所情報の作成シートでは、化兵法に基づく届出および申告書の基本情報と事業所情報を入力してください。"]
[]
[]
[null,null,null,"ピンク",null,null,null," の部分は、入力必須です。"]
[]
[]
[null,null,null,"ブルー",null,null,null," の部分は、設問項目に該当しない場合は、入力不要（空欄可）です。"]
[]
[null,null,null,"グレー",null,null,null," の部分は、入力不要です。"]
[]
[]
[]
[]
[]
[]
[]
[]
[]
[]
[null,"過去または他の化兵法届出で作成した基本情報・事業所情報を自動で転記することができます。"]
[]
[null,null,"①化兵法の届出エクセルファイルを指定してください。（「ファイル選択…」ボタン）\n②「取込」ボタンをクリックすると、「基本情報・事業所情報の作成」「届出・申告書の作成」シートに入力した内容が各シートに転記されます。\n※既に入力済の項目は上書きされますのでご注意ください。(念のため、このファイルのバックアップを取ってから実行することをお勧めします。）"]
[null,null,"転記元ファイル："]
[]
[]
[]
[]
[]
[]
[]
[]
[]
[]
[]
[null,"基本情報を入力してください。"]
[]
[null,"１．届出日を西暦で入力してください。（例：2025年2月15日）",null,null,null,null,null,null,null,null,null,null,null,null,null,null,null,null,null,null,null,null,null,"自動入力チェック"]
[null,null,null,null,null,null,null,"年",null,null,"月",null,null,"日",null,null,null,null,null,null,null,null,null,{"$f":"IF(OR($D41=\"\",$I41=\"\",$L41=\"\"),\"未入力\",\"\")","v":"未入力"}]
[]
[null,"２．届出対象年を西暦４桁で入力してください。（例：2025年2月に届出される前年分の実績届出では、”2023年”が届出対象年となりますので、”2024”を入力します）",null,null,null,null,null,null,null,null,null,null,null,null,null,null,null,null,null,null,null,null,null,"自動入力チェック"]
[null,null,null,null,null,null,null,"年",null,null,null,null,null,null,null,null,null,null,null,null,null,null,null,{"$f":"IF($D44=\"\",\"未入力\",\"\")","v":"未入力"}]
[null,"３．届出者の情報を入力してください（届出者が法人代表でない場合には、届出を委任された届出者の情報（例：事業所長、工場長）を入力してください。）。"]
[null,null,null,null,null,null,null,null,null,null,null,null,null,null,null,null,null,null,null,null,null,"日本語","英語","自動入力チェック"]
[null,null,null,"氏名または名称",null,null,null,null,null,null,null,null,null,null,null,null,null,null,null,null,null,null,null,{"$f":"FormOnlyAutoChk(届出のみ判定,$V47,$W47, TRUE)","v":"未入力"}]
[null,null,null,"法人にあっては、\nその代表者の役職",null,null,null,null,null,null,null,null,null,null,null,null,null,null,null,null,null,null,null,""]
[null,null,null,"法人にあっては、\nその代表者の氏名",null,null,null,null,null,null,null,null,null,null,null,null,null,null,null,null,null,null,null,""]
[null,null,null,"住所",null,null,null,null,null,null,null,null,null,null,null,null,null,null,null,null,null,null,null,{"$f":"IF($V50=\"\",\"未入力\",\"\")","v":"未入力"}]
[]
[]
[null,"４．届出関係担当者の情報を入力してください。",null,null,null,null,null,null,null,null,null,null,null,null,null,null,null,null,null,null,null,"日本語",null,"自動入力チェック"]
[null,null,null,"担当者の情報①",null,null,null,null,null,null,null,"氏名",null,null,null,null,null,null,null,null,null,null,null,{"$f":"IF($V54=\"\",\"未入力\",\"\")","v":"未入力"}]
[null,null,null,null,null,null,null,null,null,null,null,"郵便番号",null,null,null,null,null,null,null,null,null,null,null,""]
[null,null,null,null,null,null,null,null,null,null,null,"住所",null,null,null,null,null,null,null,null,null,null,null,""]
[null,null,null,null,null,null,null,null,null,null,null,"部署名",null,null,null,null,null,null,null,null,null,null,null,""]
[null,null,null,null,null,null,null,null,null,null,null,"役職",null,null,null,null,null,null,null,null,null,null,null,""]
[null,null,null,null,null,null,null,null,null,null,null,"電話番号",null,null,null,null,null,null,null,null,null,null,null,{"$f":"IF($V59=\"\",\"未入力\",\"\")","v":"未入力"}]
[null,null,null,null,null,null,null,null,null,null,null,"FAX番号",null,null,null,null,null,null,null,null,null,null,null,""]
[null,null,null,null,null,null,null,null,null,null,null,"メールアドレス",null,null,null,null,null,null,null,null,null,null,null,{"$f":"IF($V61=\"\",\"未入力\",\"\")","v":"未入力"}]
[null,null,null,"担当者の情報②",null,null,null,null,null,null,null,"氏名",null,null,null,null,null,null,null,null,null,null,null,""]
[null,null,null,null,null,null,null,null,null,null,null,"郵便番号",null,null,null,null,null,null,null,null,null,null,null,""]
[null,null,null,null,null,null,null,null,null,null,null,"住所",null,null,null,null,null,null,null,null,null,null,null,""]
[null,null,null,null,null,null,null,null,null,null,null,"部署名",null,null,null,null,null,null,null,null,null,null,null,""]
[null,null,null,null,null,null,null,null,null,null,null,"役職",null,null,null,null,null,null,null,null,null,null,null,""]
[null,null,null,null,null,null,null,null,null,null,null,"電話番号",null,null,null,null,null,null,null,null,null,null,null,""]
[null,null,null,null,null,null,null,null,null,null,null,"FAX番号",null,null,null,null,null,null,null,null,null,null,null,""]
[null,null,null,null,null,null,null,null,null,null,null,"メールアドレス",null,null,null,null,null,null,null,null,null,null,null,""]
[null,null,null,"担当者の情報③",null,null,null,null,null,null,null,"氏名",null,null,null,null,null,null,null,null,null,null,null,""]
[null,null,null,null,null,null,null,null,null,null,null,"郵便番号",null,null,null,null,null,null,null,null,null,null,null,""]
[null,null,null,null,null,null,null,null,null,null,null,"住所",null,null,null,null,null,null,null,null,null,null,null,""]
[null,null,null,null,null,null,null,null,null,null,null,"部署名",null,null,null,null,null,null,null,null,null,null,null,""]
[null,null,null,null,null,null,null,null,null,null,null,"役職",null,null,null,null,null,null,null,null,null,null,null,""]
[null,null,null,null,null,null,null,null,null,null,null,"電話番号",null,null,null,null,null,null,null,null,null,null,null,""]
[null,null,null,null,null,null,null,null,null,null,null,"FAX番号",null,null,null,null,null,null,null,null,null,null,null,""]
[null,null,null,null,null,null,null,null,null,null,null,"メールアドレス",null,null,null,null,null,null,null,null,null,null,null,""]
[]
[]
[null,"５．国際検査対応関係担当者の情報を入力してください。",null,null,null,null,null,null,null,null,null,null,null,null,null,null,null,null,null,null,null,"日本語",null,"チェック"]
[null,null,null,"担当者の情報①",null,null,null,null,null,null,null,"氏名",null,null,null,null,null,null,null,null,null,null,null,{"$f":"FormOnlyAutoChk(届出のみ判定,$V81,\"\", FALSE)","v":"未入力"}]
[null,null,null,null,null,null,null,null,null,null,null,"住所",null,null,null,null,null,null,null,null,null,null,null,""]
[null,null,null,null,null,null,null,null,null,null,null,"部署名",null,null,null,null,null,null,null,null,null,null,null,""]
[null,null,null,null,null,null,null,null,null,null,null,"役職",null,null,null,null,null,null,null,null,null,null,null,""]
[null,null,null,null,null,null,null,null,null,null,null,"電話番号",null,null,null,null,null,null,null,null,null,null,null,{"$f":"FormOnlyAutoChk(届出のみ判定,$V85,\"\", FALSE)","v":"未入力"}]
[null,null,null,null,null,null,null,null,null,null,null,"FAX番号",null,null,null,null,null,null,null,null,null,null,null,""]
[null,null,null,null,null,null,null,null,null,null,null,"メールアドレス",null,null,null,null,null,null,null,null,null,null,null,{"$f":"FormOnlyAutoChk(届出のみ判定,$V87,\"\", FALSE)","v":"未入力"}]
[null,null,null,"担当者の情報②",null,null,null,null,null,null,null,"氏名",null,null,null,null,null,null,null,null,null,null,null,""]
[null,null,null,null,null,null,null,null,null,null,null,"住所",null,null,null,null,null,null,null,null,null,null,null,""]
[null,null,null,null,null,null,null,null,null,null,null,"部署名",null,null,null,null,null,null,null,null,null,null,null,""]
[null,null,null,null,null,null,null,null,null,null,null,"役職",null,null,null,null,null,null,null,null,null,null,null,""]
[null,null,null,null,null,null,null,null,null,null,null,"電話番号",null,null,null,null,null,null,null,null,null,null,null,""]
[null,null,null,null,null,null,null,null,null,null,null,"FAX番号",null,null,null,null,null,null,null,null,null,null,null,""]
[null,null,null,null,null,null,null,null,null,null,null,"メールアドレス",null,null,null,null,null,null,null,null,null,null,null,""]
[null,null,null,"担当者の情報③",null,null,null,null,null,null,null,"氏名",null,null,null,null,null,null,null,null,null,null,null,""]
[null,null,null,null,null,null,null,null,null,null,null,"住所",null,null,null,null,null,null,null,null,null,null,null,""]
[null,null,null,null,null,null,null,null,null,null,null,"部署名",null,null,null,null,null,null,null,null,null,null,null,""]
[null,null,null,null,null,null,null,null,null,null,null,"役職",null,null,null,null,null,null,null,null,null,null,null,""]
[null,null,null,null,null,null,null,null,null,null,null,"電話番号",null,null,null,null,null,null,null,null,null,null,null,""]
[null,null,null,null,null,null,null,null,null,null,null,"FAX番号",null,null,null,null,null,null,null,null,null,null,null,""]
[null,null,null,null,null,null,null,null,null,null,null,"メールアドレス",null,null,null,null,null,null,null,null,null,null,null,""]
[]
[]
[]
[]
[null,"届出を行う事業所の情報を入力して下さい。"]
[]
[null,null,null,null,null,null,null,null,null,null,null,null,null,null,null,null,null,null,null,null,null,"日本語","英語","自動入力チェック"]
[null,"製造等（使用）をした事業所の情報",null,null,null,null,"事業所の名称（「会社名 事業所名」で入力）",null,null,null,null,null,null,null,null,null,null,null,null,null,null,null,null,{"$f":"FormOnlyAutoChk(届出のみ判定,$V109,$W109, TRUE)","v":"未入力"}]
[null,null,null,null,null,null,"事業所コード",null,null,null,null,null,null,null,null,null,null,null,null,null,null,null,null,{"$f":"IF($V110=\"\",\"未入力\",\"\")","v":"未入力"}]
[null,null,null,null,null,null,"所在地",null,null,null,null,"都道府県",null,null,null,null,null,null,null,null,null,null,{"$f":"IF(V111=\"\",\"\",IF(eAppData!$D$1=eAppData!$B$5,\"\",VLOOKUP(V111,LIST!B5:D51,3,FALSE)))","v":""},{"$f":"FormOnlyAutoChk(届出のみ判定,$V111,$W111, TRUE)","v":"未入力"}]
[null,null,null,null,null,null,null,null,null,null,null,"市／区／郡",null,null,null,null,null,null,null,null,null,null,null,{"$f":"FormOnlyAutoChk(届出のみ判定,$V112,$W112, TRUE)","v":"未入力"}]
[null,null,null,null,null,null,null,null,null,null,null,"町村および番地",null,null,null,null,null,null,null,null,null,null,null,{"$f":"FormOnlyAutoChk(届出のみ判定,$V113,$W113, TRUE)","v":"未入力"}]
[null,null,null,null,null,null,null,null,null,null,null,"緯度",null,null,"度",null,null,null,null,null,null,null,null,{"$f":"FormOnlyAutoChk(届出のみ判定,$V114,\"\", FALSE)","v":"未入力"}]
[null,null,null,null,null,null,null,null,null,null,null,null,null,null,"分",null,null,null,null,null,null,null,null,"未入力"]
[null,null,null,null,null,null,null,null,null,null,null,null,null,null,"秒",null,null,null,null,null,null,null,null,"未入力"]
[null,null,null,null,null,null,null,null,null,null,null,"経度",null,null,"度",null,null,null,null,null,null,null,null,"未入力"]
[null,null,null,null,null,null,null,null,null,null,null,null,null,null,"分",null,null,null,null,null,null,null,null,"未入力"]
[null,null,null,null,null,null,null,null,null,null,null,null,null,null,"秒",null,null,null,null,null,null,null,null,"未入力"]
[null,"事業所についての追加的情報（英語で入力）",null,null,null,null,null,null,null,null,null,null,null,null,null,null,null,null,null,null,null,null,null,""]

{"sheet":"届出・申告書の作成","index":2,"n_rows":1505,"n_cols":24,"rows_kept":1505,"cut":false,"hidden":false,"merged":[[1473,1,1483,5],[1484,1,1487,5],[1488,1,1498,5],[1499,1,1502,5],[1503,1,1503,5],[1400,1,1403,5],[1404,1,1414,5],[1415,1,1418,5],[1419,1,1419,5],[1431,1,1441,5],[1442,1,1445,5],[1446,1,1456,5],[1457,1,1460,5],[1461,1,1461,5],[1320,1,1330,5],[1331,1,1334,5],[1335,1,1335,5],[1347,1,1357,5],[1358,1,1361,5],[1362,1,1372,5],[1373,1,1376,5],[1377,1,1377,5],[1389,1,1399,5],[1247,1,1250,5],[1251,1,1251,5],[1263,1,1273,5],[1274,1,1277,5],[1278,1,1288,5],[1289,1,1292,5],[1293,1,1293,5],[1305,1,1315,5],[1316,1,1319,5],[1498,6,1498,20],[1499,6,1499,20],[1500,6,1502,20],[1095,1,1105,5],[1106,1,1109,5],[1110,1,1120,5],[1121,1,1124,5],[1125,1,1125,5],[1137,1,1147,5],[1148,1,1151,5],[1152,1,1162,5],[1163,1,1166,5],[1167,1,1167,5],[1179,1,1189,5],[1190,1,1193,5],[1194,1,1204,5],[1205,1,1208,5],[1209,1,1209,5],[1221,1,1231,5],[1232,1,1235,5],[1236,1,1246,5],[1372,6,1372,20],[1373,6,1373,20],[1441,6,1441,20],[1442,6,1442,20],[1443,6,1445,20],[1483,6,1483,20],[1484,6,1484,20],[1485,6,1487,20],[1120,6,1120,20],[1121,6,1121,20],[1122,6,1124,20],[1162,6,1162,20],[1163,6,1163,20],[1164,6,1166,20],[1204,6,1204,20],[1205,6,1205,20],[1206,6,1208,20],[1246,6,1246,20],[1247,6,1247,20],[1248,6,1250,20],[1288,6,1288,20],[1289,6,1289,20],[1290,6,1292,20],[1330,6,1330,20],[1331,6,1331,20],[1332,6,1334,20],[1348,6,1348,20],[1147,6,1147,20],[1148,6,1148,20],[1149,6,1151,20],[1189,6,1189,20],[1190,6,1190,20],[1349,6,1349,20],[1362,6,1368,13],[766,11,766,20],[767,11,767,20],[825,11,825,20],[826,11,826,20],[884,11,884,20],[885,11,885,20],[943,11,943,20],[944,11,944,20],[1002,11,1002,20],[1180,6,1180,20],[1181,6,1181,20],[1138,6,1138,20],[1139,6,1139,20],[1152,6,1158,13],[1152,14,1152,20],[1153,14,1158,20],[1159,6,1161,13],[1159,14,1159,20],[1160,14,1160,20],[1161,14,1161,20],[1167,6,1167,20],[1140,6,1140,20],[1141,6,1141,20],[1142,6,1146,13],[1142,14,1142,20],[1143,14,1143,20],[1144,14,1144,20],[1145,14,1145,20],[1146,14,1146,20],[1014,11,1018,16],[1014,17,1014,20],[1015,17,1015,20],[1520,2,1520,23],[1394,14,1394,20],[1395,14,1395,20],[1396,14,1396,20],[1398,14,1398,20],[1397,14,1397,20],[1394,6,1398,13],[1438,14,1438,20],[1439,14,1439,20],[1440,14,1440,20],[1474,6,1474,20],[1475,6,1475,20],[1447,14,1452,20],[1453,6,1455,13],[1453,14,1453,20],[1454,14,1454,20],[1455,14,1455,20],[1503,6,1503,20],[1478,6,1482,13],[1478,14,1478,20],[1479,14,1479,20],[1480,14,1480,20],[1481,14,1481,20],[1482,14,1482,20],[1476,6,1476,20],[1477,6,1477,20],[1488,6,1494,13],[1414,6,1414,20],[1415,6,1415,20],[1416,6,1418,20],[1456,6,1456,20],[1457,6,1457,20],[1488,14,1488,20],[1489,14,1494,20],[1495,6,1497,13],[1495,14,1495,20],[1496,14,1496,20],[1497,14,1497,20],[1461,6,1461,20],[1390,6,1390,20],[1391,6,1391,20],[1446,6,1452,13],[1446,14,1446,20],[1419,6,1419,20],[1392,6,1392,20],[1393,6,1393,20],[1434,6,1434,20],[1435,6,1435,20],[1436,6,1440,13],[1436,14,1436,20],[1437,14,1437,20],[1432,6,1432,20],[1433,6,1433,20],[1404,6,1410,13],[1404,14,1404,20],[1405,14,1410,20],[1411,6,1413,13],[1411,14,1411,20],[1412,14,1412,20],[1413,14,1413,20],[1399,6,1399,20],[1400,6,1400,20],[1401,6,1403,20],[1458,6,1460,20],[1362,14,1362,20],[1363,14,1368,20],[1369,6,1371,13],[1369,14,1369,20],[1370,14,1370,20],[1371,14,1371,20],[1377,6,1377,20],[1350,6,1350,20],[1351,6,1351,20],[1352,6,1356,13],[1352,14,1352,20],[1353,14,1353,20],[1354,14,1354,20],[1355,14,1355,20],[1356,14,1356,20],[1357,6,1357,20],[1358,6,1358,20],[1359,6,1361,20],[1374,6,1376,20],[1306,6,1306,20],[1307,6,1307,20],[1320,6,1326,13],[1320,14,1320,20],[1321,14,1326,20],[1327,6,1329,13],[1327,14,1327,20],[1328,14,1328,20],[1329,14,1329,20],[1335,6,1335,20],[1308,6,1308,20],[1309,6,1309,20],[1310,6,1314,13],[1310,14,1310,20],[1311,14,1311,20],[1312,14,1312,20],[1313,14,1313,20],[1314,14,1314,20],[1315,6,1315,20],[1316,6,1316,20],[1317,6,1319,20],[1264,6,1264,20],[1265,6,1265,20],[1278,6,1284,13],[1278,14,1278,20],[1279,14,1284,20],[1285,6,1287,13],[1285,14,1285,20],[1286,14,1286,20],[1287,14,1287,20],[1293,6,1293,20],[1266,6,1266,20],[1267,6,1267,20],[1268,6,1272,13],[1268,14,1268,20],[1269,14,1269,20],[1270,14,1270,20],[1271,14,1271,20],[1272,14,1272,20],[1273,6,1273,20],[1274,6,1274,20],[1275,6,1277,20],[1222,6,1222,20],[1223,6,1223,20],[1236,6,1242,13],[1236,14,1236,20],[1237,14,1242,20],[1243,6,1245,13],[1243,14,1243,20],[1244,14,1244,20],[1245,14,1245,20],[1251,6,1251,20],[1224,6,1224,20],[1225,6,1225,20],[1226,6,1230,13],[1226,14,1226,20],[1227,14,1227,20],[1228,14,1228,20],[1229,14,1229,20],[1230,14,1230,20],[1231,6,1231,20],[1232,6,1232,20],[1233,6,1235,20],[1194,6,1200,13],[1194,14,1194,20],[1195,14,1200,20],[1201,6,1203,13],[1201,14,1201,20],[1202,14,1202,20],[1203,14,1203,20],[1209,6,1209,20],[1182,6,1182,20],[1183,6,1183,20],[1184,6,1188,13],[1184,14,1184,20],[1185,14,1185,20],[1186,14,1186,20],[1187,14,1187,20],[1188,14,1188,20],[1191,6,1193,20],[1082,3,1082,5],[1096,6,1096,20],[1097,6,1097,20],[1110,6,1116,13],[1110,14,1110,20],[1111,14,1116,20],[1117,6,1119,13],[1117,14,1117,20],[1118,14,1118,20],[1119,14,1119,20],[1125,6,1125,20],[1099,6,1099,20],[1098,6,1098,20],[1100,14,1100,20],[1101,14,1101,20],[1102,14,1102,20],[1103,14,1103,20],[1104,14,1104,20],[1100,6,1104,13],[1106,6,1106,20],[1105,6,1105,20],[1107,6,1109,20],[1060,1,1077,5],[1060,6,1065,10],[1060,11,1060,20],[1061,11,1061,20],[1066,6,1071,10],[1066,11,1066,20],[1067,11,1067,20],[1072,6,1077,10],[1072,11,1072,20],[1073,11,1073,20],[1024,11,1028,16],[1024,17,1024,20],[1025,17,1025,20],[1026,17,1026,20],[1028,17,1028,20],[1039,11,1043,16],[1039,17,1039,20],[1040,17,1040,20],[1041,17,1041,20],[1043,17,1043,20],[1029,11,1033,16],[1029,17,1029,20],[1030,17,1030,20],[1031,17,1031,20],[1033,17,1033,20],[1034,11,1038,16],[1034,17,1034,20],[1035,17,1035,20],[1036,17,1036,20],[1038,17,1038,20],[1016,17,1016,20],[1018,17,1018,20],[1019,11,1023,16],[1019,17,1019,20],[1020,17,1020,20],[1021,17,1021,20],[1023,17,1023,20],[996,1,997,2],[996,6,997,10],[996,11,996,20],[997,11,997,20],[998,11,998,20],[996,3,997,5],[999,11,999,20],[1000,11,1000,20],[1001,11,1001,20],[1014,6,1015,10],[1003,11,1003,20],[1007,6,1013,10],[1007,11,1009,16],[1007,17,1007,20],[1008,17,1008,20],[1009,17,1009,20],[1010,11,1010,20],[1011,11,1013,20],[965,11,969,16],[965,17,965,20],[966,17,966,20],[967,17,967,20],[969,17,969,20],[980,11,984,16],[980,17,980,20],[981,17,981,20],[982,17,982,20],[984,17,984,20],[970,11,974,16],[970,17,970,20],[971,17,971,20],[972,17,972,20],[974,17,974,20],[975,11,979,16],[975,17,975,20],[976,17,976,20],[977,17,977,20],[979,17,979,20],[937,1,938,2],[937,6,938,10],[937,11,937,20],[938,11,938,20],[939,11,939,20],[937,3,938,5],[940,11,940,20],[941,11,941,20],[942,11,942,20],[921,11,925,16],[921,17,921,20],[922,17,922,20],[923,17,923,20],[925,17,925,20],[911,11,915,16],[911,17,911,20],[912,17,912,20],[913,17,913,20],[915,17,915,20],[916,11,920,16],[916,17,916,20],[917,17,917,20],[918,17,918,20],[920,17,920,20],[878,1,879,2],[878,6,879,10],[878,11,878,20],[879,11,879,20],[880,11,880,20],[878,3,879,5],[881,11,881,20],[882,11,882,20],[883,11,883,20],[862,11,866,16],[862,17,862,20],[863,17,863,20],[864,17,864,20],[866,17,866,20],[852,11,856,16],[852,17,852,20],[853,17,853,20],[854,17,854,20],[856,17,856,20],[857,11,861,16],[857,17,857,20],[858,17,858,20],[859,17,859,20],[861,17,861,20],[763,11,763,20],[764,11,764,20],[765,11,765,20],[735,17,735,20],[736,17,736,20],[738,17,738,20],[739,11,743,16],[739,17,739,20],[740,17,740,20],[741,17,741,20],[743,17,743,20],[819,1,820,2],[819,6,820,10],[819,11,819,20],[820,11,820,20],[821,11,821,20],[819,3,820,5],[803,11,807,16],[803,17,803,20],[804,17,804,20],[805,17,805,20],[807,17,807,20],[793,11,797,16],[793,17,793,20],[794,17,794,20],[795,17,795,20],[797,17,797,20],[798,11,802,16],[798,17,798,20],[799,17,799,20],[800,17,800,20],[802,17,802,20],[662,17,662,20],[664,17,664,20],[653,6,659,10],[653,11,655,16],[653,17,653,20],[654,17,654,20],[655,17,655,20],[656,11,656,20],[657,11,659,20],[660,6,661,10],[648,11,648,20],[649,11,649,20],[760,1,761,2],[760,6,761,10],[760,11,760,20],[761,11,761,20],[762,11,762,20],[760,3,761,5],[665,11,669,16],[665,17,665,20],[666,17,666,20],[667,17,667,20],[669,17,669,20],[670,11,674,16],[670,17,670,20],[671,17,671,20],[672,17,672,20],[674,17,674,20],[675,11,679,16],[675,17,675,20],[676,17,676,20],[677,17,677,20],[642,1,643,2],[642,6,643,10],[642,11,642,20],[643,11,643,20],[606,11,610,16],[606,17,606,20],[607,17,607,20],[608,17,608,20],[610,17,610,20],[611,11,615,16],[611,17,611,20],[612,17,612,20],[613,17,613,20],[615,17,615,20],[701,1,702,2],[701,6,702,10],[701,11,701,20],[702,11,702,20],[701,3,702,5],[685,11,689,16],[685,17,685,20],[686,17,686,20],[687,17,687,20],[689,17,689,20],[644,11,644,20],[642,3,643,5],[645,11,645,20],[646,11,646,20],[647,11,647,20],[660,11,664,16],[660,17,660,20],[661,17,661,20],[589,11,589,20],[590,11,590,20],[583,1,584,2],[583,6,584,10],[583,11,583,20],[584,11,584,20],[585,11,585,20],[583,3,584,5],[586,11,586,20],[587,11,587,20],[588,11,588,20],[567,11,571,16],[567,17,567,20],[568,17,568,20],[569,17,569,20],[571,17,571,20],[557,11,561,16],[557,17,557,20],[558,17,558,20],[559,17,559,20],[561,17,561,20],[562,11,566,16],[562,17,562,20],[563,17,563,20],[564,17,564,20],[566,17,566,20],[547,11,551,16],[547,17,547,20],[548,17,548,20],[549,17,549,20],[551,17,551,20],[552,11,556,16],[552,17,552,20],[553,17,553,20],[554,17,554,20],[556,17,556,20],[528,11,528,20],[529,11,529,20],[542,11,546,16],[542,17,542,20],[543,17,543,20],[544,17,544,20],[546,17,546,20],[524,1,525,2],[524,6,525,10],[524,11,524,20],[525,11,525,20],[526,11,526,20],[527,11,527,20],[524,3,525,5],[535,6,541,10],[535,11,537,16],[535,17,535,20],[536,17,536,20],[537,17,537,20],[538,11,538,20],[539,11,541,20],[542,6,543,10],[530,11,530,20],[531,11,531,20],[503,11,507,16],[503,17,503,20],[504,17,504,20],[505,17,505,20],[507,17,507,20],[508,11,512,16],[508,17,508,20],[509,17,509,20],[510,17,510,20],[512,17,512,20],[467,11,467,20],[468,11,468,20],[469,11,469,20],[470,11,470,20],[483,11,487,16],[483,17,483,20],[484,17,484,20],[485,17,485,20],[487,17,487,20],[471,11,471,20],[472,11,472,20],[498,11,502,16],[498,17,498,20],[499,17,499,20],[500,17,500,20],[502,17,502,20],[453,3,453,5],[465,1,466,2],[465,3,466,5],[465,6,466,10],[465,11,465,20],[466,11,466,20],[415,10,417,13],[415,14,415,20],[418,10,420,13],[418,14,418,20],[421,6,421,20],[422,6,422,20],[395,1,422,5],[396,6,401,13],[397,14,397,20],[398,14,398,20],[399,14,399,20],[400,14,400,20],[404,6,404,20],[405,6,405,20],[406,6,420,9],[406,10,408,13],[406,14,406,20],[409,10,411,13],[409,14,409,20],[412,10,414,13],[412,14,412,20],[402,6,403,13],[356,1,383,5],[357,6,362,13],[358,14,358,20],[359,14,359,20],[360,14,360,20],[361,14,361,20],[365,6,365,20],[366,6,366,20],[367,6,381,9],[367,10,369,13],[367,14,367,20],[370,10,372,13],[370,14,370,20],[373,10,375,13],[373,14,373,20],[376,10,378,13],[376,14,376,20],[379,10,381,13],[379,14,379,20],[382,6,382,20],[383,6,383,20],[363,6,364,13],[328,14,328,20],[331,10,333,13],[331,14,331,20],[334,10,336,13],[334,14,334,20],[337,10,339,13],[337,14,337,20],[317,1,344,5],[318,6,323,13],[319,14,319,20],[320,14,320,20],[321,14,321,20],[322,14,322,20],[326,6,326,20],[327,6,327,20],[328,6,342,9],[328,10,330,13],[340,10,342,13],[340,14,340,20],[343,6,343,20],[344,6,344,20],[324,6,325,13],[278,1,305,5],[279,6,284,13],[280,14,280,20],[281,14,281,20],[282,14,282,20],[298,10,300,13],[298,14,298,20],[301,10,303,13],[301,14,301,20],[304,6,304,20],[305,6,305,20],[283,14,283,20],[287,6,287,20],[288,6,288,20],[289,6,303,9],[289,10,291,13],[289,14,289,20],[292,10,294,13],[292,14,292,20],[295,10,297,13],[295,14,295,20],[285,6,286,13],[239,1,266,5],[240,6,245,13],[241,14,241,20],[242,14,242,20],[243,14,243,20],[244,14,244,20],[248,6,248,20],[249,6,249,20],[250,6,264,9],[250,10,252,13],[250,14,250,20],[253,10,255,13],[253,14,253,20],[256,10,258,13],[256,14,256,20],[259,10,261,13],[259,14,259,20],[262,10,264,13],[262,14,262,20],[265,6,265,20],[266,6,266,20],[246,6,247,13],[211,14,211,20],[214,10,216,13],[214,14,214,20],[217,10,219,13],[217,14,217,20],[220,10,222,13],[220,14,220,20],[200,1,227,5],[201,6,206,13],[202,14,202,20],[203,14,203,20],[204,14,204,20],[205,14,205,20],[209,6,209,20],[210,6,210,20],[211,6,225,9],[211,10,213,13],[223,10,225,13],[223,14,223,20],[226,6,226,20],[227,6,227,20],[207,6,208,13],[161,1,188,5],[162,6,167,13],[163,14,163,20],[164,14,164,20],[165,14,165,20],[181,10,183,13],[181,14,181,20],[184,10,186,13],[184,14,184,20],[187,6,187,20],[188,6,188,20],[166,14,166,20],[170,6,170,20],[171,6,171,20],[172,6,186,9],[172,10,174,13],[172,14,172,20],[175,10,177,13],[175,14,175,20],[178,10,180,13],[178,14,178,20],[168,6,169,13],[109,6,109,20],[110,6,110,20],[122,1,149,5],[123,6,128,13],[124,14,124,20],[125,14,125,20],[126,14,126,20],[127,14,127,20],[131,6,131,20],[132,6,132,20],[133,6,147,9],[133,10,135,13],[133,14,133,20],[136,10,138,13],[136,14,136,20],[139,10,141,13],[139,14,139,20],[142,10,144,13],[142,14,142,20],[145,10,147,13],[145,14,145,20],[148,6,148,20],[149,6,149,20],[129,6,130,13],[94,10,96,13],[94,14,94,20],[97,10,99,13],[97,14,97,20],[100,10,102,13],[100,14,100,20],[103,10,105,13],[103,14,103,20],[106,10,108,13],[106,14,106,20],[1,1,1,23],[3,2,3,22],[6,3,6,6],[6,7,6,21],[7,7,7,21],[8,7,8,22],[9,3,9,6],[9,7,9,21],[10,7,10,22],[11,3,11,6],[11,7,11,21],[17,21,17,22],[32,3,32,5],[90,6,91,13],[438,21,438,22],[44,1,71,5],[45,6,50,13],[46,14,46,20],[47,14,47,20],[48,14,48,20],[49,14,49,20],[53,6,53,20],[54,6,54,20],[67,14,67,20],[70,6,70,20],[71,6,71,20],[83,1,110,5],[84,6,89,13],[85,14,85,20],[86,14,86,20],[87,14,87,20],[88,14,88,20],[93,6,93,20],[92,6,92,20],[55,6,69,9],[55,10,57,13],[55,14,55,20],[58,10,60,13],[58,14,58,20],[61,10,63,13],[61,14,61,20],[64,10,66,13],[64,14,64,20],[67,10,69,13],[51,6,52,13],[94,6,108,9],[476,6,482,10],[476,11,478,16],[476,17,476,20],[477,17,477,20],[478,17,478,20],[479,11,479,20],[480,11,482,20],[483,6,484,10],[488,11,492,16],[488,17,488,20],[489,17,489,20],[490,17,490,20],[492,17,492,20],[493,11,497,16],[493,17,493,20],[494,17,494,20],[495,17,495,20],[497,17,497,20],[594,6,600,10],[594,11,596,16],[594,17,594,20],[595,17,595,20],[596,17,596,20],[597,11,597,20],[598,11,600,20],[601,6,602,10],[601,11,605,16],[601,17,601,20],[602,17,602,20],[603,17,603,20],[605,17,605,20],[626,11,630,16],[626,17,626,20],[627,17,627,20],[628,17,628,20],[630,17,630,20],[616,11,620,16],[616,17,616,20],[617,17,617,20],[618,17,618,20],[620,17,620,20],[621,11,625,16],[621,17,621,20],[622,17,622,20],[623,17,623,20],[625,17,625,20],[679,17,679,20],[680,11,684,16],[680,17,680,20],[681,17,681,20],[712,6,718,10],[712,11,714,16],[712,17,712,20],[713,17,713,20],[714,17,714,20],[715,11,715,20],[716,11,718,20],[682,17,682,20],[684,17,684,20],[705,11,705,20],[706,11,706,20],[719,6,720,10],[719,11,723,16],[719,17,719,20],[720,17,720,20],[721,17,721,20],[723,17,723,20],[707,11,707,20],[708,11,708,20],[703,11,703,20],[704,11,704,20],[724,11,728,16],[724,17,724,20],[725,17,725,20],[726,17,726,20],[728,17,728,20],[729,11,733,16],[729,17,729,20],[730,17,730,20],[731,17,731,20],[733,17,733,20],[744,11,748,16],[744,17,744,20],[745,17,745,20],[746,17,746,20],[748,17,748,20],[734,11,738,16],[734,17,734,20],[842,17,842,20],[843,17,843,20],[844,17,844,20],[846,17,846,20],[847,11,851,16],[847,17,847,20],[848,17,848,20],[849,17,849,20],[771,6,777,10],[771,11,773,16],[771,17,771,20],[772,17,772,20],[773,17,773,20],[774,11,774,20],[775,11,777,20],[778,6,779,10],[778,11,782,16],[778,17,778,20],[779,17,779,20],[780,17,780,20],[782,17,782,20],[783,11,787,16],[783,17,783,20],[784,17,784,20],[785,17,785,20],[787,17,787,20],[908,17,908,20],[910,17,910,20],[961,17,961,20],[962,17,962,20],[964,17,964,20],[948,6,954,10],[948,11,950,16],[948,17,948,20],[959,17,959,20],[893,11,895,20],[788,11,792,16],[788,17,788,20],[789,17,789,20],[790,17,790,20],[792,17,792,20],[830,6,836,10],[830,11,832,16],[830,17,830,20],[831,17,831,20],[832,17,832,20],[833,11,833,20],[834,11,836,20],[837,6,838,10],[837,11,841,16],[837,17,837,20],[838,17,838,20],[839,17,839,20],[841,17,841,20],[822,11,822,20],[823,11,823,20],[824,11,824,20],[842,11,846,16],[949,17,949,20],[950,17,950,20],[951,11,951,20],[952,11,954,20],[955,6,956,10]],"merged_total":1027,"flags":["merged_cut"]}
[null,null,null,null,null,null,null,null,null,null,null,null,null,null,null,null,null,null,null,null,null,null,null,"様式改訂：2024/07/16"]
[null,"化兵法に基づく第一種指定物質（表2剤）の実績届出（様式第17）および申告書の作成"]
[]
[null,null,"第一種指定物質を製造・抽出・精製（副生成を含む。）又は使用する事業者は当該活動の予定と実績を経済産業大臣に届け出ることになっています。また、併せて提出することとされている国際機関に申告するための書面（Form）では、化学兵器禁止法の「第一種指定物質」は化学兵器禁止条約では「表２剤（Schedule 2 Chemical）」との用語となっています。\n届出・申告書の作成シートでは、第一種指定物質（表２剤）の実績届出（様式第17）および申告書の作成に必要な情報を入力してください。"]
[]
[]
[null,null,null,"ピンク",null,null,null," の部分は、入力必須です。"]
[]
[]
[null,null,null,"ブルー",null,null,null," の部分は、設問項目に該当しない場合は、入力不要（空欄可）です。"]
[]
[null,null,null,"グレー",null,null,null," の部分は、入力不要です。"]
[]
[]
[null,"前回の届出、申告内容から変更がある場合には、変更内容を入力して下さい。（入力誤り／真に変更された点のどちらかを判別するため）"]
[null,"また、届出内容について、特記すべき事項がもしあれば入力して下さい。"]
[]
[null,null,null,"前回の届出、申告内容からの変更点および届出内容についての特記事項",null,null,null,null,null,null,null,null,null,null,null,null,null,null,null,null,null,null,null,""]
[null,"今後の項目追加に備えての空行"]
[]
[]
[]
[]
[]
[]
[]
[]
[]
[]
[null,"様式第17の項目を入力してください。(最大10枚）"]
[null,"様式17の作成のための入力ブロック"]
[]
[null,"様式第17の数：",null,1,null,null,null,"←初めに選択してください。"]
[null,"今後の項目追加に備えての空行"]
[]
[]
[]
[]
[]
[]
[]
[]
[]
[null,null,null,null,null,null,null,null,null,null,null,null,null,null,null,null,null,null,null,null,null,"日本語",null,"自動入力チェック"]
[null,"製造等（使用）をした第一種指定物質の情報（１）",null,null,null,null,"製造等または使用の別",null,null,null,null,null,null,null,null,null,null,null,null,null,null,null,null,{"$f":"IF($V45=\"\",\"未入力\",\"\")","v":"未入力"}]
[null,null,null,null,null,null,"製造等（使用）をした第一種指定物質",null,null,null,null,null,null,null,"CAS番号",null,null,null,null,null,null,null,null,{"$f":"IF($V46=\"\",\"未入力\",\"\")","v":"未入力"}]
[null,null,null,null,null,null,null,null,null,null,null,null,null,null,"条約表剤番号",null,null,null,null,null,null,null,null,{"$f":"IF($V47=\"\",\"未入力\",\"\")","v":"未入力"}]
[null,null,null,null,null,null,null,null,null,null,null,null,null,null,"物質名称（日本語名）",null,null,null,null,null,null,null,null,{"$f":"IF(AND($V46<>STRING_NOCAS, $V48=\"\"),\"未入力\",\"\")","v":"未入力"}]
[null,null,null,null,null,null,null,null,null,null,null,null,null,null,"※「CAS番号なし」の場合入力\nCAS番号",null,null,null,null,null,null,null,null,{"$f":"IF(AND($V46=STRING_NOCAS, $V49=\"\"),\"未入力\",\"\")","v":""}]
[null,null,null,null,null,null,null,null,null,null,null,null,null,null,"※「CAS番号なし」の場合入力\n物質名称（日本語名）",null,null,null,null,null,null,null,null,{"$f":"IF(AND($V46=STRING_NOCAS, $V50=\"\"),\"未入力\",\"\")","v":""}]
[null,null,null,null,null,null,null,null,null,null,null,null,null,null,"区分",null,null,null,null,null,null,null,null,{"$f":"IF($V51=\"\",\"未入力\",\"\")","v":"未入力"}]
[null,null,null,null,null,null,"製造等（使用）をした第一種指定物質の合計数量のうち、直接輸出入したものの数量",null,null,null,null,null,null,null,"直接輸出\n(kg)"]
[null,null,null,null,null,null,null,null,null,null,null,null,null,null,"直接輸入\n(kg)"]
[null,null,null,null,null,null,"事業所内の当該第一種指定物質の製造等（使用）施設の数",null,null,null,null,null,null,null,null,null,null,null,null,null,null,1,null,{"$f":"IF($V54=\"\",\"未入力\",\"\")","v":""}]
[null,null,null,null,null,null,"事業所内の当該第一種指定物質の製造等（使用）施設の位置",null,null,null,null,null,null,null,null,null,null,null,null,null,null,"別添資料のとおり",null,{"$f":"IF($V55=\"\",\"未入力\",\"\")","v":""}]
[null,null,null,null,null,null,"施設ごとの数量と製造能力",null,null,null,"施設（１）",null,null,null,"施設名称"]
[null,null,null,null,null,null,null,null,null,null,null,null,null,null,"数量\n(kg)",null,null,null,null,null,null,null,null,{"$f":"IF($V57=\"\",\"未入力\",\"\")","v":"未入力"}]
[null,null,null,null,null,null,null,null,null,null,null,null,null,null,"能力\n(kg／年）",null,null,null,null,null,null,null,null,{"$f":"IF(AND($V58=\"\", $V51=\"製造\", $V45 = \"製造等\"),\"未入力\",\"\")","v":""}]
[null,null,null,null,null,null,null,null,null,null,"施設（２）",null,null,null,"施設名称",null,null,null,null,null,null,""]
[null,null,null,null,null,null,null,null,null,null,null,null,null,null,"数量\n(kg)",null,null,null,null,null,null,null,null,{"$f":"IF(AND($V60=\"\", $V54 > 1),\"未入力\",\"\")","v":""}]
[null,null,null,null,null,null,null,null,null,null,null,null,null,null,"能力\n(kg／年）",null,null,null,null,null,null,null,null,{"$f":"IF(AND($V61=\"\",  $V51=\"製造\", $V45 = \"製造等\", $V54 > 1),\"未入力\",\"\")","v":""}]
[null,null,null,null,null,null,null,null,null,null,"施設（３）",null,null,null,"施設名称",null,null,null,null,null,null,""]
[null,null,null,null,null,null,null,null,null,null,null,null,null,null,"数量\n(kg)",null,null,null,null,null,null,null,null,{"$f":"IF(AND($V63=\"\", $V54 > 2),\"未入力\",\"\")","v":""}]
[null,null,null,null,null,null,null,null,null,null,null,null,null,null,"能力\n(kg／年）",null,null,null,null,null,null,null,null,{"$f":"IF(AND($V64=\"\",  $V51=\"製造\", $V45 = \"製造等\", $V54 > 2),\"未入力\",\"\")","v":""}]
[null,null,null,null,null,null,null,null,null,null,"施設（４）",null,null,null,"施設名称",null,null,null,null,null,null,""]
[null,null,null,null,null,null,null,null,null,null,null,null,null,null,"数量\n(kg)",null,null,null,null,null,null,null,null,{"$f":"IF(AND($V66=\"\", $V54 > 3),\"未入力\",\"\")","v":""}]
[null,null,null,null,null,null,null,null,null,null,null,null,null,null,"能力\n(kg／年）",null,null,null,null,null,null,null,null,{"$f":"IF(AND($V67=\"\",  $V51=\"製造\", $V45 = \"製造等\", $V54 > 3),\"未入力\",\"\")","v":""}]
[null,null,null,null,null,null,null,null,null,null,"施設（5）",null,null,null,"施設名称"]
[null,null,null,null,null,null,null,null,null,null,null,null,null,null,"数量\n(kg)",null,null,null,null,null,null,null,null,{"$f":"IF(AND($V69=\"\", $V54 > 4),\"未入力\",\"\")","v":""}]
[null,null,null,null,null,null,null,null,null,null,null,null,null,null,"能力\n(kg／年）",null,null,null,null,null,null,null,null,{"$f":"IF(AND($V70=\"\",  $V51=\"製造\", $V45 = \"製造等\", $V54 > 4),\"未入力\",\"\")","v":""}]
[null,null,null,null,null,null,"和文の様式の提出のみで十分ですか？\n（英文の申告Formの提出は不要ですか？）",null,null,null,null,null,null,null,null,null,null,null,null,null,null,"いいえ",null,{"$f":"IF($V71=\"\",\"未入力\",\"\")","v":""}]
[null,null,null,null,null,null,"英文Formの提出が不要である場合、その理由を選択してください",null,null,null,null,null,null,null,null,null,null,null,null,null,null,"－",null,{"$f":"IF(AND(OR($V72=\"\", $V72=LIST!$X$5), $V71 = LIST!$V$6 ),\"未入力\",\"\")","v":""}]
[null,"今後の項目追加に備えての空行"]
[]
[]
[]
[]
[]
[]
[]
[]
[]
[null,null,null,null,null,null,null,null,null,null,null,null,null,null,null,null,null,null,null,null,null,"日本語",null,"自動入力チェック"]
[null,"製造等（使用）をした第一種指定物質の情報（２）",null,null,null,null,"製造等または使用の別",null,null,null,null,null,null,null,null,null,null,null,null,null,null,null,null,{"$f":"IF($V84=\"\",\"未入力\",\"\")","v":"未入力"}]
[null,null,null,null,null,null,"製造等（使用）をした第一種指定物質",null,null,null,null,null,null,null,"CAS番号",null,null,null,null,null,null,null,null,{"$f":"IF($V85=\"\",\"未入力\",\"\")","v":"未入力"}]
[null,null,null,null,null,null,null,null,null,null,null,null,null,null,"条約表剤番号",null,null,null,null,null,null,null,null,{"$f":"IF($V86=\"\",\"未入力\",\"\")","v":"未入力"}]
[null,null,null,null,null,null,null,null,null,null,null,null,null,null,"物質名称（日本語名）",null,null,null,null,null,null,null,null,{"$f":"IF(AND($V85<>STRING_NOCAS, $V87=\"\"),\"未入力\",\"\")","v":"未入力"}]
[null,null,null,null,null,null,null,null,null,null,null,null,null,null,"※「CAS番号なし」の場合入力\nCAS番号",null,null,null,null,null,null,null,null,{"$f":"IF(AND($V85=STRING_NOCAS, $V88=\"\"),\"未入力\",\"\")","v":""}]
[null,null,null,null,null,null,null,null,null,null,null,null,null,null,"※「CAS番号なし」の場合入力\n物質名称（日本語名）",null,null,null,null,null,null,null,null,{"$f":"IF(AND($V85=STRING_NOCAS, $V89=\"\"),\"未入力\",\"\")","v":""}]
[null,null,null,null,null,null,null,null,null,null,null,null,null,null,"区分",null,null,null,null,null,null,null,null,{"$f":"IF($V90=\"\",\"未入力\",\"\")","v":"未入力"}]
[null,null,null,null,null,null,"製造等（使用）をした第一種指定物質の合計数量のうち、直接輸出入したものの数量",null,null,null,null,null,null,null,"直接輸出\n(kg)"]
[null,null,null,null,null,null,null,null,null,null,null,null,null,null,"直接輸入\n(kg)"]
[null,null,null,null,null,null,"事業所内の当該第一種指定物質の製造等（使用）施設の数",null,null,null,null,null,null,null,null,null,null,null,null,null,null,1,null,{"$f":"IF($V93=\"\",\"未入力\",\"\")","v":""}]
[null,null,null,null,null,null,"事業所内の当該第一種指定物質の製造等（使用）施設の位置",null,null,null,null,null,null,null,null,null,null,null,null,null,null,"別添資料のとおり",null,{"$f":"IF($V94=\"\",\"未入力\",\"\")","v":""}]
[null,null,null,null,null,null,"施設ごとの数量と製造能力",null,null,null,"施設（１）",null,null,null,"施設名称"]
[null,null,null,null,null,null,null,null,null,null,null,null,null,null,"数量\n(kg)",null,null,null,null,null,null,null,null,{"$f":"IF($V96=\"\",\"未入力\",\"\")","v":"未入力"}]
[null,null,null,null,null,null,null,null,null,null,null,null,null,null,"能力\n(kg／年）",null,null,null,null,null,null,null,null,{"$f":"IF(AND($V97=\"\", $V90=\"製造\", $V84 = \"製造等\"),\"未入力\",\"\")","v":""}]
[null,null,null,null,null,null,null,null,null,null,"施設（２）",null,null,null,"施設名称",null,null,null,null,null,null,""]
[null,null,null,null,null,null,null,null,null,null,null,null,null,null,"数量\n(kg)",null,null,null,null,null,null,null,null,{"$f":"IF(AND($V99=\"\", $V93 > 1),\"未入力\",\"\")","v":""}]
[null,null,null,null,null,null,null,null,null,null,null,null,null,null,"能力\n(kg／年）",null,null,null,null,null,null,null,null,{"$f":"IF(AND($V100=\"\", $V90=\"製造\", $V84 = \"製造等\", $V93 > 1),\"未入力\",\"\")","v":""}]
[null,null,null,null,null,null,null,null,null,null,"施設（３）",null,null,null,"施設名称",null,null,null,null,null,null,""]
[null,null,null,null,null,null,null,null,null,null,null,null,null,null,"数量\n(kg)",null,null,null,null,null,null,null,null,{"$f":"IF(AND($V102=\"\", $V93 > 2),\"未入力\",\"\")","v":""}]
[null,null,null,null,null,null,null,null,null,null,null,null,null,null,"能力\n(kg／年）",null,null,null,null,null,null,null,null,{"$f":"IF(AND($V103=\"\", $V90=\"製造\", $V84 = \"製造等\", $V93 > 2),\"未入力\",\"\")","v":""}]
[null,null,null,null,null,null,null,null,null,null,"施設（４）",null,null,null,"施設名称",null,null,null,null,null,null,""]
[null,null,null,null,null,null,null,null,null,null,null,null,null,null,"数量\n(kg)",null,null,null,null,null,null,null,null,{"$f":"IF(AND($V105=\"\", $V93 > 3),\"未入力\",\"\")","v":""}]
[null,null,null,null,null,null,null,null,null,null,null,null,null,null,"能力\n(kg／年）",null,null,null,null,null,null,null,null,{"$f":"IF(AND($V106=\"\", $V90=\"製造\", $V84 = \"製造等\", $V93 > 3),\"未入力\",\"\")","v":""}]
[null,null,null,null,null,null,null,null,null,null,"施設（5）",null,null,null,"施設名称",null,null,null,null,null,null,""]
[null,null,null,null,null,null,null,null,null,null,null,null,null,null,"数量\n(kg)",null,null,null,null,null,null,null,null,{"$f":"IF(AND($V108=\"\", $V93 > 4),\"未入力\",\"\")","v":""}]
[null,null,null,null,null,null,null,null,null,null,null,null,null,null,"能力\n(kg／年）",null,null,null,null,null,null,null,null,{"$f":"IF(AND($V109=\"\", $V90=\"製造\", $V84 = \"製造等\", $V93 > 4),\"未入力\",\"\")","v":""}]
[null,null,null,null,null,null,"和文の様式の提出のみで十分ですか？\n（英文の申告Formの提出は不要ですか？）",null,null,null,null,null,null,null,null,null,null,null,null,null,null,"いいえ",null,{"$f":"IF($V110=\"\",\"未入力\",\"\")","v":""}]
[null,null,null,null,null,null,"英文Formの提出が不要である場合、その理由を選択してください",null,null,null,null,null,null,null,null,null,null,null,null,null,null,"－",null,{"$f":"IF(AND(OR($V111=\"\", $V111=LIST!$X$5), $V110 = LIST!$V$6 ),\"未入力\",\"\")","v":""}]
[null,"今後の項目追加に備えての空行"]
[]
[]
[]
[]
[]
[]
[]
[]
[]
[null,null,null,null,null,null,null,null,null,null,null,null,null,null,null,null,null,null,null,null,null,"日本語",null,"自動入力チェック"]
[null,"製造等（使用）をした第一種指定物質の情報（3）",null,null,null,null,"製造等または使用の別",null,null,null,null,null,null,null,null,null,null,null,null,null,null,null,null,{"$f":"IF($V123=\"\",\"未入力\",\"\")","v":"未入力"}]
[null,null,null,null,null,null,"製造等（使用）をした第一種指定物質",null,null,null,null,null,null,null,"CAS番号",null,null,null,null,null,null,null,null,{"$f":"IF($V124=\"\",\"未入力\",\"\")","v":"未入力"}]
[null,null,null,null,null,null,null,null,null,null,null,null,null,null,"条約表剤番号",null,null,null,null,null,null,null,null,{"$f":"IF($V125=\"\",\"未入力\",\"\")","v":"未入力"}]
[null,null,null,null,null,null,null,null,null,null,null,null,null,null,"物質名称（日本語名）",null,null,null,null,null,null,null,null,{"$f":"IF(AND($V124<>STRING_NOCAS, $V126=\"\"),\"未入力\",\"\")","v":"未入力"}]
[null,null,null,null,null,null,null,null,null,null,null,null,null,null,"※「CAS番号なし」の場合入力\nCAS番号",null,null,null,null,null,null,null,null,{"$f":"IF(AND($V124=STRING_NOCAS, $V127=\"\"),\"未入力\",\"\")","v":""}]
[null,null,null,null,null,null,null,null,null,null,null,null,null,null,"※「CAS番号なし」の場合入力\n物質名称（日本語名）",null,null,null,null,null,null,null,null,{"$f":"IF(AND($V124=STRING_NOCAS, $V128=\"\"),\"未入力\",\"\")","v":""}]
[null,null,null,null,null,null,null,null,null,null,null,null,null,null,"区分",null,null,null,null,null,null,null,null,{"$f":"IF($V129=\"\",\"未入力\",\"\")","v":"未入力"}]
[null,null,null,null,null,null,"製造等（使用）をした第一種指定物質の合計数量のうち、直接輸出入したものの数量",null,null,null,null,null,null,null,"直接輸出\n(kg)"]
[null,null,null,null,null,null,null,null,null,null,null,null,null,null,"直接輸入\n(kg)"]
[null,null,null,null,null,null,"事業所内の当該第一種指定物質の製造等（使用）施設の数",null,null,null,null,null,null,null,null,null,null,null,null,null,null,1,null,{"$f":"IF($V132=\"\",\"未入力\",\"\")","v":""}]
[null,null,null,null,null,null,"事業所内の当該第一種指定物質の製造等（使用）施設の位置",null,null,null,null,null,null,null,null,null,null,null,null,null,null,"別添資料のとおり",null,{"$f":"IF($V133=\"\",\"未入力\",\"\")","v":""}]
[null,null,null,null,null,null,"施設ごとの数量と製造能力",null,null,null,"施設（１）",null,null,null,"施設名称"]
[null,null,null,null,null,null,null,null,null,null,null,null,null,null,"数量\n(kg)",null,null,null,null,null,null,null,null,{"$f":"IF($V135=\"\",\"未入力\",\"\")","v":"未入力"}]
[null,null,null,null,null,null,null,null,null,null,null,null,null,null,"能力\n(kg／年）",null,null,null,null,null,null,null,null,{"$f":"IF(AND($V136=\"\", $V129=\"製造\", $V123 = \"製造等\"),\"未入力\",\"\")","v":""}]
[null,null,null,null,null,null,null,null,null,null,"施設（２）",null,null,null,"施設名称",null,null,null,null,null,null,""]
[null,null,null,null,null,null,null,null,null,null,null,null,null,null,"数量\n(kg)",null,null,null,null,null,null,null,null,{"$f":"IF(AND($V138=\"\", $V132 > 1),\"未入力\",\"\")","v":""}]
[null,null,null,null,null,null,null,null,null,null,null,null,null,null,"能力\n(kg／年）",null,null,null,null,null,null,null,null,{"$f":"IF(AND($V139=\"\", $V129=\"製造\", $V123 = \"製造等\", $V132 > 1),\"未入力\",\"\")","v":""}]
[null,null,null,null,null,null,null,null,null,null,"施設（３）",null,null,null,"施設名称",null,null,null,null,null,null,""]
[null,null,null,null,null,null,null,null,null,null,null,null,null,null,"数量\n(kg)",null,null,null,null,null,null,null,null,{"$f":"IF(AND($V141=\"\", $V132 > 2),\"未入力\",\"\")","v":""}]
[null,null,null,null,null,null,null,null,null,null,null,null,null,null,"能力\n(kg／年）",null,null,null,null,null,null,null,null,{"$f":"IF(AND($V142=\"\", $V129=\"製造\", $V123 = \"製造等\", $V132 > 2),\"未入力\",\"\")","v":""}]
[null,null,null,null,null,null,null,null,null,null,"施設（４）",null,null,null,"施設名称",null,null,null,null,null,null,""]
[null,null,null,null,null,null,null,null,null,null,null,null,null,null,"数量\n(kg)",null,null,null,null,null,null,null,null,{"$f":"IF(AND($V144=\"\", $V132 > 3),\"未入力\",\"\")","v":""}]
[null,null,null,null,null,null,null,null,null,null,null,null,null,null,"能力\n(kg／年）",null,null,null,null,null,null,null,null,{"$f":"IF(AND($V145=\"\", $V129=\"製造\", $V123 = \"製造等\", $V132 > 3),\"未入力\",\"\")","v":""}]
[null,null,null,null,null,null,null,null,null,null,"施設（5）",null,null,null,"施設名称",null,null,null,null,null,null,""]
[null,null,null,null,null,null,null,null,null,null,null,null,null,null,"数量\n(kg)",null,null,null,null,null,null,null,null,{"$f":"IF(AND($V147=\"\", $V132 > 4),\"未入力\",\"\")","v":""}]
[null,null,null,null,null,null,null,null,null,null,null,null,null,null,"能力\n(kg／年）",null,null,null,null,null,null,null,null,{"$f":"IF(AND($V148=\"\", $V129=\"製造\", $V123 = \"製造等\", $V132 > 4),\"未入力\",\"\")","v":""}]
[null,null,null,null,null,null,"和文の様式の提出のみで十分ですか？\n（英文の申告Formの提出は不要ですか？）",null,null,null,null,null,null,null,null,null,null,null,null,null,null,"いいえ",null,{"$f":"IF($V149=\"\",\"未入力\",\"\")","v":""}]
[null,null,null,null,null,null,"英文Formの提出が不要である場合、その理由を選択してください",null,null,null,null,null,null,null,null,null,null,null,null,null,null,"－",null,{"$f":"IF(AND(OR($V150=\"\", $V150=LIST!$X$5), $V149 = LIST!$V$6 ),\"未入力\",\"\")","v":""}]
[null,"今後の項目追加に備えての空行"]
[]
[]
[]
[]
[]
[]
[]
[]
[]
[null,null,null,null,null,null,null,null,null,null,null,null,null,null,null,null,null,null,null,null,null,"日本語",null,"自動入力チェック"]
[null,"製造等（使用）をした第一種指定物質の情報（４）",null,null,null,null,"製造等または使用の別",null,null,null,null,null,null,null,null,null,null,null,null,null,null,null,null,{"$f":"IF($V162=\"\",\"未入力\",\"\")","v":"未入力"}]
[null,null,null,null,null,null,"製造等（使用）をした第一種指定物質",null,null,null,null,null,null,null,"CAS番号",null,null,null,null,null,null,null,null,{"$f":"IF($V163=\"\",\"未入力\",\"\")","v":"未入力"}]
[null,null,null,null,null,null,null,null,null,null,null,null,null,null,"条約表剤番号",null,null,null,null,null,null,null,null,{"$f":"IF($V164=\"\",\"未入力\",\"\")","v":"未入力"}]
[null,null,null,null,null,null,null,null,null,null,null,null,null,null,"物質名称（日本語名）",null,null,null,null,null,null,null,null,{"$f":"IF(AND($V163<>STRING_NOCAS, $V165=\"\"),\"未入力\",\"\")","v":"未入力"}]
[null,null,null,null,null,null,null,null,null,null,null,null,null,null,"※「CAS番号なし」の場合入力\nCAS番号",null,null,null,null,null,null,null,null,{"$f":"IF(AND($V163=STRING_NOCAS, $V166=\"\"),\"未入力\",\"\")","v":""}]
[null,null,null,null,null,null,null,null,null,null,null,null,null,null,"※「CAS番号なし」の場合入力\n物質名称（日本語名）",null,null,null,null,null,null,null,null,{"$f":"IF(AND($V163=STRING_NOCAS, $V167=\"\"),\"未入力\",\"\")","v":""}]
[null,null,null,null,null,null,null,null,null,null,null,null,null,null,"区分",null,null,null,null,null,null,null,null,{"$f":"IF($V168=\"\",\"未入力\",\"\")","v":"未入力"}]
[null,null,null,null,null,null,"製造等（使用）をした第一種指定物質の合計数量のうち、直接輸出入したものの数量",null,null,null,null,null,null,null,"直接輸出\n(kg)"]
[null,null,null,null,null,null,null,null,null,null,null,null,null,null,"直接輸入\n(kg)"]
[null,null,null,null,null,null,"事業所内の当該第一種指定物質の製造等（使用）施設の数",null,null,null,null,null,null,null,null,null,null,null,null,null,null,1,null,{"$f":"IF($V171=\"\",\"未入力\",\"\")","v":""}]
[null,null,null,null,null,null,"事業所内の当該第一種指定物質の製造等（使用）施設の位置",null,null,null,null,null,null,null,null,null,null,null,null,null,null,"別添資料のとおり",null,{"$f":"IF($V172=\"\",\"未入力\",\"\")","v":""}]
[null,null,null,null,null,null,"施設ごとの数量と製造能力",null,null,null,"施設（１）",null,null,null,"施設名称"]
[null,null,null,null,null,null,null,null,null,null,null,null,null,null,"数量\n(kg)",null,null,null,null,null,null,null,null,{"$f":"IF($V174=\"\",\"未入力\",\"\")","v":"未入力"}]
[null,null,null,null,null,null,null,null,null,null,null,null,null,null,"能力\n(kg／年）",null,null,null,null,null,null,null,null,{"$f":"IF(AND($V175=\"\", $V168=\"製造\", $V162 = \"製造等\"),\"未入力\",\"\")","v":""}]
[null,null,null,null,null,null,null,null,null,null,"施設（２）",null,null,null,"施設名称",null,null,null,null,null,null,""]
[null,null,null,null,null,null,null,null,null,null,null,null,null,null,"数量\n(kg)",null,null,null,null,null,null,null,null,{"$f":"IF(AND($V177=\"\", $V171 > 1),\"未入力\",\"\")","v":""}]
[null,null,null,null,null,null,null,null,null,null,null,null,null,null,"能力\n(kg／年）",null,null,null,null,null,null,null,null,{"$f":"IF(AND($V178=\"\", $V168=\"製造\", $V162 = \"製造等\", $V171 > 1),\"未入力\",\"\")","v":""}]
[null,null,null,null,null,null,null,null,null,null,"施設（３）",null,null,null,"施設名称",null,null,null,null,null,null,""]
[null,null,null,null,null,null,null,null,null,null,null,null,null,null,"数量\n(kg)",null,null,null,null,null,null,null,null,{"$f":"IF(AND($V180=\"\", $V171 > 2),\"未入力\",\"\")","v":""}]
[null,null,null,null,null,null,null,null,null,null,null,null,null,null,"能力\n(kg／年）",null,null,null,null,null,null,null,null,{"$f":"IF(AND($V181=\"\", $V168=\"製造\", $V162 = \"製造等\", $V171 > 2),\"未入力\",\"\")","v":""}]
[null,null,null,null,null,null,null,null,null,null,"施設（４）",null,null,null,"施設名称",null,null,null,null,null,null,""]
[null,null,null,null,null,null,null,null,null,null,null,null,null,null,"数量\n(kg)",null,null,null,null,null,null,null,null,{"$f":"IF(AND($V183=\"\", $V171 > 3),\"未入力\",\"\")","v":""}]
[null,null,null,null,null,null,null,null,null,null,null,null,null,null,"能力\n(kg／年）",null,null,null,null,null,null,null,null,{"$f":"IF(AND($V184=\"\", $V168=\"製造\", $V162 = \"製造等\", $V171 > 3),\"未入力\",\"\")","v":""}]
[null,null,null,null,null,null,null,null,null,null,"施設（5）",null,null,null,"施設名称",null,null,null,null,null,null,""]
[null,null,null,null,null,null,null,null,null,null,null,null,null,null,"数量\n(kg)",null,null,null,null,null,null,null,null,{"$f":"IF(AND($V186=\"\", $V171 > 4),\"未入力\",\"\")","v":""}]
[null,null,null,null,null,null,null,null,null,null,null,null,null,null,"能力\n(kg／年）",null,null,null,null,null,null,null,null,{"$f":"IF(AND($V187=\"\", $V168=\"製造\", $V162 = \"製造等\", $V171 > 4),\"未入力\",\"\")","v":""}]
[null,null,null,null,null,null,"和文の様式の提出のみで十分ですか？\n（英文の申告Formの提出は不要ですか？）",null,null,null,null,null,null,null,null,null,null,null,null,null,null,"いいえ",null,{"$f":"IF($V188=\"\",\"未入力\",\"\")","v":""}]
[null,null,null,null,null,null,"英文Formの提出が不要である場合、その理由を選択してください",null,null,null,null,null,null,null,null,null,null,null,null,null,null,"－",null,{"$f":"IF(AND(OR($V189=\"\", $V189=LIST!$X$5), $V188 = LIST!$V$6 ),\"未入力\",\"\")","v":""}]
[null,"今後の項目追加に備えての空行"]
[]
[]
[]
[]
[]
[]
[]
[]
[]
[null,null,null,null,null,null,null,null,null,null,null,null,null,null,null,null,null,null,null,null,null,"日本語",null,"自動入力チェック"]
[null,"製造等（使用）をした第一種指定物質の情報（５）",null,null,null,null,"製造等または使用の別",null,null,null,null,null,null,null,null,null,null,null,null,null,null,null,null,{"$f":"IF($V201=\"\",\"未入力\",\"\")","v":"未入力"}]
[null,null,null,null,null,null,"製造等（使用）をした第一種指定物質",null,null,null,null,null,null,null,"CAS番号",null,null,null,null,null,null,null,null,{"$f":"IF($V202=\"\",\"未入力\",\"\")","v":"未入力"}]
[null,null,null,null,null,null,null,null,null,null,null,null,null,null,"条約表剤番号",null,null,null,null,null,null,null,null,{"$f":"IF($V203=\"\",\"未入力\",\"\")","v":"未入力"}]
[null,null,null,null,null,null,null,null,null,null,null,null,null,null,"物質名称（日本語名）",null,null,null,null,null,null,null,null,{"$f":"IF(AND($V202<>STRING_NOCAS, $V204=\"\"),\"未入力\",\"\")","v":"未入力"}]
[null,null,null,null,null,null,null,null,null,null,null,null,null,null,"※「CAS番号なし」の場合入力\nCAS番号",null,null,null,null,null,null,null,null,{"$f":"IF(AND($V202=STRING_NOCAS, $V205=\"\"),\"未入力\",\"\")","v":""}]
[null,null,null,null,null,null,null,null,null,null,null,null,null,null,"※「CAS番号なし」の場合入力\n物質名称（日本語名）",null,null,null,null,null,null,null,null,{"$f":"IF(AND($V202=STRING_NOCAS, $V206=\"\"),\"未入力\",\"\")","v":""}]
[null,null,null,null,null,null,null,null,null,null,null,null,null,null,"区分",null,null,null,null,null,null,null,null,{"$f":"IF($V207=\"\",\"未入力\",\"\")","v":"未入力"}]
[null,null,null,null,null,null,"製造等（使用）をした第一種指定物質の合計数量のうち、直接輸出入したものの数量",null,null,null,null,null,null,null,"直接輸出\n(kg)"]
[null,null,null,null,null,null,null,null,null,null,null,null,null,null,"直接輸入\n(kg)"]
[null,null,null,null,null,null,"事業所内の当該第一種指定物質の製造等（使用）施設の数",null,null,null,null,null,null,null,null,null,null,null,null,null,null,1,null,{"$f":"IF($V210=\"\",\"未入力\",\"\")","v":""}]
[null,null,null,null,null,null,"事業所内の当該第一種指定物質の製造等（使用）施設の位置",null,null,null,null,null,null,null,null,null,null,null,null,null,null,"別添資料のとおり",null,{"$f":"IF($V211=\"\",\"未入力\",\"\")","v":""}]
[null,null,null,null,null,null,"施設ごとの数量と製造能力",null,null,null,"施設（１）",null,null,null,"施設名称"]
[null,null,null,null,null,null,null,null,null,null,null,null,null,null,"数量\n(kg)",null,null,null,null,null,null,null,null,{"$f":"IF($V213=\"\",\"未入力\",\"\")","v":"未入力"}]
[null,null,null,null,null,null,null,null,null,null,null,null,null,null,"能力\n(kg／年）",null,null,null,null,null,null,null,null,{"$f":"IF(AND($V214=\"\", $V207=\"製造\", $V201 = \"製造等\"),\"未入力\",\"\")","v":""}]
[null,null,null,null,null,null,null,null,null,null,"施設（２）",null,null,null,"施設名称",null,null,null,null,null,null,""]
[null,null,null,null,null,null,null,null,null,null,null,null,null,null,"数量\n(kg)",null,null,null,null,null,null,null,null,{"$f":"IF(AND($V216=\"\", $V210 > 1),\"未入力\",\"\")","v":""}]
[null,null,null,null,null,null,null,null,null,null,null,null,null,null,"能力\n(kg／年）",null,null,null,null,null,null,null,null,{"$f":"IF(AND($V217=\"\", $V207=\"製造\", $V201 = \"製造等\", $V210 > 1),\"未入力\",\"\")","v":""}]
[null,null,null,null,null,null,null,null,null,null,"施設（３）",null,null,null,"施設名称",null,null,null,null,null,null,""]
[null,null,null,null,null,null,null,null,null,null,null,null,null,null,"数量\n(kg)",null,null,null,null,null,null,null,null,{"$f":"IF(AND($V219=\"\", $V210 > 2),\"未入力\",\"\")","v":""}]
[null,null,null,null,null,null,null,null,null,null,null,null,null,null,"能力\n(kg／年）",null,null,null,null,null,null,null,null,{"$f":"IF(AND($V220=\"\", $V207=\"製造\", $V201 = \"製造等\", $V210 > 2),\"未入力\",\"\")","v":""}]
[null,null,null,null,null,null,null,null,null,null,"施設（４）",null,null,null,"施設名称",null,null,null,null,null,null,""]
[null,null,null,null,null,null,null,null,null,null,null,null,null,null,"数量\n(kg)",null,null,null,null,null,null,null,null,{"$f":"IF(AND($V222=\"\", $V210 > 3),\"未入力\",\"\")","v":""}]
[null,null,null,null,null,null,null,null,null,null,null,null,null,null,"能力\n(kg／年）",null,null,null,null,null,null,null,null,{"$f":"IF(AND($V223=\"\", $V207=\"製造\", $V201 = \"製造等\", $V210 > 3),\"未入力\",\"\")","v":""}]
[null,null,null,null,null,null,null,null,null,null,"施設（5）",null,null,null,"施設名称",null,null,null,null,null,null,""]
[null,null,null,null,null,null,null,null,null,null,null,null,null,null,"数量\n(kg)",null,null,null,null,null,null,null,null,{"$f":"IF(AND($V225=\"\", $V210 > 4),\"未入力\",\"\")","v":""}]
[null,null,null,null,null,null,null,null,null,null,null,null,null,null,"能力\n(kg／年）",null,null,null,null,null,null,null,null,{"$f":"IF(AND($V226=\"\", $V207=\"製造\", $V201 = \"製造等\", $V210 > 4),\"未入力\",\"\")","v":""}]
[null,null,null,null,null,null,"和文の様式の提出のみで十分ですか？\n（英文の申告Formの提出は不要ですか？）",null,null,null,null,null,null,null,null,null,null,null,null,null,null,"いいえ",null,{"$f":"IF($V227=\"\",\"未入力\",\"\")","v":""}]
[null,null,null,null,null,null,"英文Formの提出が不要である場合、その理由を選択してください",null,null,null,null,null,null,null,null,null,null,null,null,null,null,"－",null,{"$f":"IF(AND(OR($V228=\"\", $V228=LIST!$X$5), $V227 = LIST!$V$6 ),\"未入力\",\"\")","v":""}]
[null,"今後の項目追加に備えての空行"]
[]
[]
[]
[]
[]
[]
[]
[]
[]
[null,null,null,null,null,null,null,null,null,null,null,null,null,null,null,null,null,null,null,null,null,"日本語",null,"自動入力チェック"]
[null,"製造等（使用）をした第一種指定物質の情報（６）",null,null,null,null,"製造等または使用の別",null,null,null,null,null,null,null,null,null,null,null,null,null,null,null,null,{"$f":"IF($V240=\"\",\"未入力\",\"\")","v":"未入力"}]
[null,null,null,null,null,null,"製造等（使用）をした第一種指定物質",null,null,null,null,null,null,null,"CAS番号",null,null,null,null,null,null,null,null,{"$f":"IF($V241=\"\",\"未入力\",\"\")","v":"未入力"}]
[null,null,null,null,null,null,null,null,null,null,null,null,null,null,"条約表剤番号",null,null,null,null,null,null,null,null,{"$f":"IF($V242=\"\",\"未入力\",\"\")","v":"未入力"}]
[null,null,null,null,null,null,null,null,null,null,null,null,null,null,"物質名称（日本語名）",null,null,null,null,null,null,null,null,{"$f":"IF(AND($V241<>STRING_NOCAS, $V243=\"\"),\"未入力\",\"\")","v":"未入力"}]
[null,null,null,null,null,null,null,null,null,null,null,null,null,null,"※「CAS番号なし」の場合入力\nCAS番号",null,null,null,null,null,null,null,null,{"$f":"IF(AND($V241=STRING_NOCAS, $V244=\"\"),\"未入力\",\"\")","v":""}]
[null,null,null,null,null,null,null,null,null,null,null,null,null,null,"※「CAS番号なし」の場合入力\n物質名称（日本語名）",null,null,null,null,null,null,null,null,{"$f":"IF(AND($V241=STRING_NOCAS, $V245=\"\"),\"未入力\",\"\")","v":""}]
[null,null,null,null,null,null,null,null,null,null,null,null,null,null,"区分",null,null,null,null,null,null,null,null,{"$f":"IF($V246=\"\",\"未入力\",\"\")","v":"未入力"}]
[null,null,null,null,null,null,"製造等（使用）をした第一種指定物質の合計数量のうち、直接輸出入したものの数量",null,null,null,null,null,null,null,"直接輸出\n(kg)"]
[null,null,null,null,null,null,null,null,null,null,null,null,null,null,"直接輸入\n(kg)"]
[null,null,null,null,null,null,"事業所内の当該第一種指定物質の製造等（使用）施設の数",null,null,null,null,null,null,null,null,null,null,null,null,null,null,1,null,{"$f":"IF($V249=\"\",\"未入力\",\"\")","v":""}]
[null,null,null,null,null,null,"事業所内の当該第一種指定物質の製造等（使用）施設の位置",null,null,null,null,null,null,null,null,null,null,null,null,null,null,"別添資料のとおり",null,{"$f":"IF($V250=\"\",\"未入力\",\"\")","v":""}]
[null,null,null,null,null,null,"施設ごとの数量と製造能力",null,null,null,"施設（１）",null,null,null,"施設名称"]
[null,null,null,null,null,null,null,null,null,null,null,null,null,null,"数量\n(kg)",null,null,null,null,null,null,null,null,{"$f":"IF($V252=\"\",\"未入力\",\"\")","v":"未入力"}]
[null,null,null,null,null,null,null,null,null,null,null,null,null,null,"能力\n(kg／年）",null,null,null,null,null,null,null,null,{"$f":"IF(AND($V253=\"\", $V246=\"製造\", $V240 = \"製造等\"),\"未入力\",\"\")","v":""}]
[null,null,null,null,null,null,null,null,null,null,"施設（２）",null,null,null,"施設名称",null,null,null,null,null,null,""]
[null,null,null,null,null,null,null,null,null,null,null,null,null,null,"数量\n(kg)",null,null,null,null,null,null,null,null,{"$f":"IF(AND($V255=\"\", $V249 > 1),\"未入力\",\"\")","v":""}]
[null,null,null,null,null,null,null,null,null,null,null,null,null,null,"能力\n(kg／年）",null,null,null,null,null,null,null,null,{"$f":"IF(AND($V256=\"\", $V246=\"製造\", $V240 = \"製造等\", $V249 > 1),\"未入力\",\"\")","v":""}]
[null,null,null,null,null,null,null,null,null,null,"施設（３）",null,null,null,"施設名称",null,null,null,null,null,null,""]
[null,null,null,null,null,null,null,null,null,null,null,null,null,null,"数量\n(kg)",null,null,null,null,null,null,null,null,{"$f":"IF(AND($V258=\"\", $V249 > 2),\"未入力\",\"\")","v":""}]
[null,null,null,null,null,null,null,null,null,null,null,null,null,null,"能力\n(kg／年）",null,null,null,null,null,null,null,null,{"$f":"IF(AND($V259=\"\", $V246=\"製造\", $V240 = \"製造等\", $V249 > 2),\"未入力\",\"\")","v":""}]
[null,null,null,null,null,null,null,null,null,null,"施設（４）",null,null,null,"施設名称",null,null,null,null,null,null,""]
[null,null,null,null,null,null,null,null,null,null,null,null,null,null,"数量\n(kg)",null,null,null,null,null,null,null,null,{"$f":"IF(AND($V261=\"\", $V249 > 3),\"未入力\",\"\")","v":""}]
[null,null,null,null,null,null,null,null,null,null,null,null,null,null,"能力\n(kg／年）",null,null,null,null,null,null,null,null,{"$f":"IF(AND($V262=\"\", $V246=\"製造\", $V240 = \"製造等\", $V249 > 3),\"未入力\",\"\")","v":""}]
[null,null,null,null,null,null,null,null,null,null,"施設（5）",null,null,null,"施設名称",null,null,null,null,null,null,""]
[null,null,null,null,null,null,null,null,null,null,null,null,null,null,"数量\n(kg)",null,null,null,null,null,null,null,null,{"$f":"IF(AND($V264=\"\", $V249 > 4),\"未入力\",\"\")","v":""}]
[null,null,null,null,null,null,null,null,null,null,null,null,null,null,"能力\n(kg／年）",null,null,null,null,null,null,null,null,{"$f":"IF(AND($V265=\"\", $V246=\"製造\", $V240 = \"製造等\", $V249 > 4),\"未入力\",\"\")","v":""}]
[null,null,null,null,null,null,"和文の様式の提出のみで十分ですか？\n（英文の申告Formの提出は不要ですか？）",null,null,null,null,null,null,null,null,null,null,null,null,null,null,"いいえ",null,{"$f":"IF($V266=\"\",\"未入力\",\"\")","v":""}]
[null,null,null,null,null,null,"英文Formの提出が不要である場合、その理由を選択してください",null,null,null,null,null,null,null,null,null,null,null,null,null,null,"－",null,{"$f":"IF(AND(OR($V267=\"\", $V267=LIST!$X$5), $V266 = LIST!$V$6 ),\"未入力\",\"\")","v":""}]
[null,"今後の項目追加に備えての空行"]
[]
[]
[]
[]
[]
[]
[]
[]
[]
[null,null,null,null,null,null,null,null,null,null,null,null,null,null,null,null,null,null,null,null,null,"日本語",null,"自動入力チェック"]
[null,"製造等（使用）をした第一種指定物質の情報（７）",null,null,null,null,"製造等または使用の別",null,null,null,null,null,null,null,null,null,null,null,null,null,null,null,null,{"$f":"IF($V279=\"\",\"未入力\",\"\")","v":"未入力"}]
[null,null,null,null,null,null,"製造等（使用）をした第一種指定物質",null,null,null,null,null,null,null,"CAS番号",null,null,null,null,null,null,null,null,{"$f":"IF($V280=\"\",\"未入力\",\"\")","v":"未入力"}]
[null,null,null,null,null,null,null,null,null,null,null,null,null,null,"条約表剤番号",null,null,null,null,null,null,null,null,{"$f":"IF($V281=\"\",\"未入力\",\"\")","v":"未入力"}]
[null,null,null,null,null,null,null,null,null,null,null,null,null,null,"物質名称（日本語名）",null,null,null,null,null,null,null,null,{"$f":"IF(AND($V280<>STRING_NOCAS, $V282=\"\"),\"未入力\",\"\")","v":"未入力"}]
[null,null,null,null,null,null,null,null,null,null,null,null,null,null,"※「CAS番号なし」の場合入力\nCAS番号",null,null,null,null,null,null,null,null,{"$f":"IF(AND($V280=STRING_NOCAS, $V283=\"\"),\"未入力\",\"\")","v":""}]
[null,null,null,null,null,null,null,null,null,null,null,null,null,null,"※「CAS番号なし」の場合入力\n物質名称（日本語名）",null,null,null,null,null,null,null,null,{"$f":"IF(AND($V280=STRING_NOCAS, $V284=\"\"),\"未入力\",\"\")","v":""}]
[null,null,null,null,null,null,null,null,null,null,null,null,null,null,"区分",null,null,null,null,null,null,null,null,{"$f":"IF($V285=\"\",\"未入力\",\"\")","v":"未入力"}]
[null,null,null,null,null,null,"製造等（使用）をした第一種指定物質の合計数量のうち、直接輸出入したものの数量",null,null,null,null,null,null,null,"直接輸出\n(kg)"]
[null,null,null,null,null,null,null,null,null,null,null,null,null,null,"直接輸入\n(kg)"]
[null,null,null,null,null,null,"事業所内の当該第一種指定物質の製造等（使用）施設の数",null,null,null,null,null,null,null,null,null,null,null,null,null,null,1,null,{"$f":"IF($V288=\"\",\"未入力\",\"\")","v":""}]
[null,null,null,null,null,null,"事業所内の当該第一種指定物質の製造等（使用）施設の位置",null,null,null,null,null,null,null,null,null,null,null,null,null,null,"別添資料のとおり",null,{"$f":"IF($V289=\"\",\"未入力\",\"\")","v":""}]
[null,null,null,null,null,null,"施設ごとの数量と製造能力",null,null,null,"施設（１）",null,null,null,"施設名称"]
[null,null,null,null,null,null,null,null,null,null,null,null,null,null,"数量\n(kg)",null,null,null,null,null,null,null,null,{"$f":"IF($V291=\"\",\"未入力\",\"\")","v":"未入力"}]
[null,null,null,null,null,null,null,null,null,null,null,null,null,null,"能力\n(kg／年）",null,null,null,null,null,null,null,null,{"$f":"IF(AND($V292=\"\", $V285=\"製造\", $V279 = \"製造等\"),\"未入力\",\"\")","v":""}]
[null,null,null,null,null,null,null,null,null,null,"施設（２）",null,null,null,"施設名称",null,null,null,null,null,null,""]
[null,null,null,null,null,null,null,null,null,null,null,null,null,null,"数量\n(kg)",null,null,null,null,null,null,null,null,{"$f":"IF(AND($V294=\"\", $V288 > 1),\"未入力\",\"\")","v":""}]
[null,null,null,null,null,null,null,null,null,null,null,null,null,null,"能力\n(kg／年）",null,null,null,null,null,null,null,null,{"$f":"IF(AND($V295=\"\", $V285=\"製造\", $V279 = \"製造等\", $V288 > 1),\"未入力\",\"\")","v":""}]
[null,null,null,null,null,null,null,null,null,null,"施設（３）",null,null,null,"施設名称",null,null,null,null,null,null,""]
[null,null,null,null,null,null,null,null,null,null,null,null,null,null,"数量\n(kg)",null,null,null,null,null,null,null,null,{"$f":"IF(AND($V297=\"\", $V288 > 2),\"未入力\",\"\")","v":""}]
[null,null,null,null,null,null,null,null,null,null,null,null,null,null,"能力\n(kg／年）",null,null,null,null,null,null,null,null,{"$f":"IF(AND($V298=\"\", $V285=\"製造\", $V279 = \"製造等\", $V288 > 2),\"未入力\",\"\")","v":""}]
[null,null,null,null,null,null,null,null,null,null,"施設（４）",null,null,null,"施設名称",null,null,null,null,null,null,""]
[null,null,null,null,null,null,null,null,null,null,null,null,null,null,"数量\n(kg)",null,null,null,null,null,null,null,null,{"$f":"IF(AND($V300=\"\", $V288 > 3),\"未入力\",\"\")","v":""}]
[null,null,null,null,null,null,null,null,null,null,null,null,null,null,"能力\n(kg／年）",null,null,null,null,null,null,null,null,{"$f":"IF(AND($V301=\"\", $V285=\"製造\", $V279 = \"製造等\", $V288 > 3),\"未入力\",\"\")","v":""}]
[null,null,null,null,null,null,null,null,null,null,"施設（5）",null,null,null,"施設名称",null,null,null,null,null,null,""]
[null,null,null,null,null,null,null,null,null,null,null,null,null,null,"数量\n(kg)",null,null,null,null,null,null,null,null,{"$f":"IF(AND($V303=\"\", $V288 > 4),\"未入力\",\"\")","v":""}]
[null,null,null,null,null,null,null,null,null,null,null,null,null,null,"能力\n(kg／年）",null,null,null,null,null,null,null,null,{"$f":"IF(AND($V304=\"\", $V285=\"製造\", $V279 = \"製造等\", $V288 > 4),\"未入力\",\"\")","v":""}]
[null,null,null,null,null,null,"和文の様式の提出のみで十分ですか？\n（英文の申告Formの提出は不要ですか？）",null,null,null,null,null,null,null,null,null,null,null,null,null,null,"いいえ",null,{"$f":"IF($V305=\"\",\"未入力\",\"\")","v":""}]
[null,null,null,null,null,null,"英文Formの提出が不要である場合、その理由を選択してください",null,null,null,null,null,null,null,null,null,null,null,null,null,null,"－",null,{"$f":"IF(AND(OR($V306=\"\", $V306=LIST!$X$5), $V305 = LIST!$V$6 ),\"未入力\",\"\")","v":""}]
[null,"今後の項目追加に備えての空行"]
[]
[]
[]
[]
[]
[]
[]
[]
[]
[null,null,null,null,null,null,null,null,null,null,null,null,null,null,null,null,null,null,null,null,null,"日本語",null,"自動入力チェック"]
[null,"製造等（使用）をした第一種指定物質の情報（８）",null,null,null,null,"製造等または使用の別",null,null,null,null,null,null,null,null,null,null,null,null,null,null,null,null,{"$f":"IF($V318=\"\",\"未入力\",\"\")","v":"未入力"}]
[null,null,null,null,null,null,"製造等（使用）をした第一種指定物質",null,null,null,null,null,null,null,"CAS番号",null,null,null,null,null,null,null,null,{"$f":"IF($V319=\"\",\"未入力\",\"\")","v":"未入力"}]
[null,null,null,null,null,null,null,null,null,null,null,null,null,null,"条約表剤番号",null,null,null,null,null,null,null,null,{"$f":"IF($V320=\"\",\"未入力\",\"\")","v":"未入力"}]
[null,null,null,null,null,null,null,null,null,null,null,null,null,null,"物質名称（日本語名）",null,null,null,null,null,null,null,null,{"$f":"IF(AND($V319<>STRING_NOCAS, $V321=\"\"),\"未入力\",\"\")","v":"未入力"}]
[null,null,null,null,null,null,null,null,null,null,null,null,null,null,"※「CAS番号なし」の場合入力\nCAS番号",null,null,null,null,null,null,null,null,{"$f":"IF(AND($V319=STRING_NOCAS, $V322=\"\"),\"未入力\",\"\")","v":""}]
[null,null,null,null,null,null,null,null,null,null,null,null,null,null,"※「CAS番号なし」の場合入力\n物質名称（日本語名）",null,null,null,null,null,null,null,null,{"$f":"IF(AND($V319=STRING_NOCAS, $V323=\"\"),\"未入力\",\"\")","v":""}]
[null,null,null,null,null,null,null,null,null,null,null,null,null,null,"区分",null,null,null,null,null,null,null,null,{"$f":"IF($V324=\"\",\"未入力\",\"\")","v":"未入力"}]
[null,null,null,null,null,null,"製造等（使用）をした第一種指定物質の合計数量のうち、直接輸出入したものの数量",null,null,null,null,null,null,null,"直接輸出\n(kg)"]
[null,null,null,null,null,null,null,null,null,null,null,null,null,null,"直接輸入\n(kg)"]
[null,null,null,null,null,null,"事業所内の当該第一種指定物質の製造等（使用）施設の数",null,null,null,null,null,null,null,null,null,null,null,null,null,null,1,null,{"$f":"IF($V327=\"\",\"未入力\",\"\")","v":""}]
[null,null,null,null,null,null,"事業所内の当該第一種指定物質の製造等（使用）施設の位置",null,null,null,null,null,null,null,null,null,null,null,null,null,null,"別添資料のとおり",null,{"$f":"IF($V328=\"\",\"未入力\",\"\")","v":""}]
[null,null,null,null,null,null,"施設ごとの数量と製造能力",null,null,null,"施設（１）",null,null,null,"施設名称"]
[null,null,null,null,null,null,null,null,null,null,null,null,null,null,"数量\n(kg)",null,null,null,null,null,null,null,null,{"$f":"IF($V330=\"\",\"未入力\",\"\")","v":"未入力"}]
[null,null,null,null,null,null,null,null,null,null,null,null,null,null,"能力\n(kg／年）",null,null,null,null,null,null,null,null,{"$f":"IF(AND($V331=\"\", $V324=\"製造\", $V318 = \"製造等\"),\"未入力\",\"\")","v":""}]
[null,null,null,null,null,null,null,null,null,null,"施設（２）",null,null,null,"施設名称",null,null,null,null,null,null,""]
[null,null,null,null,null,null,null,null,null,null,null,null,null,null,"数量\n(kg)",null,null,null,null,null,null,null,null,{"$f":"IF(AND($V333=\"\", $V327 > 1),\"未入力\",\"\")","v":""}]
[null,null,null,null,null,null,null,null,null,null,null,null,null,null,"能力\n(kg／年）",null,null,null,null,null,null,null,null,{"$f":"IF(AND($V334=\"\", $V324=\"製造\", $V318 = \"製造等\", $V327 > 1),\"未入力\",\"\")","v":""}]
[null,null,null,null,null,null,null,null,null,null,"施設（３）",null,null,null,"施設名称",null,null,null,null,null,null,""]
[null,null,null,null,null,null,null,null,null,null,null,null,null,null,"数量\n(kg)",null,null,null,null,null,null,null,null,{"$f":"IF(AND($V336=\"\", $V327 > 2),\"未入力\",\"\")","v":""}]
[null,null,null,null,null,null,null,null,null,null,null,null,null,null,"能力\n(kg／年）",null,null,null,null,null,null,null,null,{"$f":"IF(AND($V337=\"\", $V324=\"製造\", $V318 = \"製造等\", $V327 > 2),\"未入力\",\"\")","v":""}]
[null,null,null,null,null,null,null,null,null,null,"施設（４）",null,null,null,"施設名称",null,null,null,null,null,null,""]
[null,null,null,null,null,null,null,null,null,null,null,null,null,null,"数量\n(kg)",null,null,null,null,null,null,null,null,{"$f":"IF(AND($V339=\"\", $V327 > 3),\"未入力\",\"\")","v":""}]
[null,null,null,null,null,null,null,null,null,null,null,null,null,null,"能力\n(kg／年）",null,null,null,null,null,null,null,null,{"$f":"IF(AND($V340=\"\", $V324=\"製造\", $V318 = \"製造等\", $V327 > 3),\"未入力\",\"\")","v":""}]
[null,null,null,null,null,null,null,null,null,null,"施設（5）",null,null,null,"施設名称",null,null,null,null,null,null,""]
[null,null,null,null,null,null,null,null,null,null,null,null,null,null,"数量\n(kg)",null,null,null,null,null,null,null,null,{"$f":"IF(AND($V342=\"\", $V327 > 4),\"未入力\",\"\")","v":""}]
[null,null,null,null,null,null,null,null,null,null,null,null,null,null,"能力\n(kg／年）",null,null,null,null,null,null,null,null,{"$f":"IF(AND($V343=\"\", $V324=\"製造\", $V318 = \"製造等\", $V327 > 4),\"未入力\",\"\")","v":""}]
[null,null,null,null,null,null,"和文の様式の提出のみで十分ですか？\n（英文の申告Formの提出は不要ですか？）",null,null,null,null,null,null,null,null,null,null,null,null,null,null,"いいえ",null,{"$f":"IF($V344=\"\",\"未入力\",\"\")","v":""}]
[null,null,null,null,null,null,"英文Formの提出が不要である場合、その理由を選択してください",null,null,null,null,null,null,null,null,null,null,null,null,null,null,"－",null,{"$f":"IF(AND(OR($V345=\"\", $V345=LIST!$X$5), $V344 = LIST!$V$6 ),\"未入力\",\"\")","v":""}]
[null,"今後の項目追加に備えての空行"]
[]
[]
[]
[]
[]
[]
[]
[]
[]
[null,null,null,null,null,null,null,null,null,null,null,null,null,null,null,null,null,null,null,null,null,"日本語",null,"自動入力チェック"]
[null,"製造等（使用）をした第一種指定物質の情報（９）",null,null,null,null,"製造等または使用の別",null,null,null,null,null,null,null,null,null,null,null,null,null,null,null,null,{"$f":"IF($V357=\"\",\"未入力\",\"\")","v":"未入力"}]
[null,null,null,null,null,null,"製造等（使用）をした第一種指定物質",null,null,null,null,null,null,null,"CAS番号",null,null,null,null,null,null,null,null,{"$f":"IF($V358=\"\",\"未入力\",\"\")","v":"未入力"}]
[null,null,null,null,null,null,null,null,null,null,null,null,null,null,"条約表剤番号",null,null,null,null,null,null,null,null,{"$f":"IF($V359=\"\",\"未入力\",\"\")","v":"未入力"}]
[null,null,null,null,null,null,null,null,null,null,null,null,null,null,"物質名称（日本語名）",null,null,null,null,null,null,null,null,{"$f":"IF(AND($V358<>STRING_NOCAS, $V360=\"\"),\"未入力\",\"\")","v":"未入力"}]
[null,null,null,null,null,null,null,null,null,null,null,null,null,null,"※「CAS番号なし」の場合入力\nCAS番号",null,null,null,null,null,null,null,null,{"$f":"IF(AND($V358=STRING_NOCAS, $V361=\"\"),\"未入力\",\"\")","v":""}]
[null,null,null,null,null,null,null,null,null,null,null,null,null,null,"※「CAS番号なし」の場合入力\n物質名称（日本語名）",null,null,null,null,null,null,null,null,{"$f":"IF(AND($V358=STRING_NOCAS, $V362=\"\"),\"未入力\",\"\")","v":""}]
[null,null,null,null,null,null,null,null,null,null,null,null,null,null,"区分",null,null,null,null,null,null,null,null,{"$f":"IF($V363=\"\",\"未入力\",\"\")","v":"未入力"}]
[null,null,null,null,null,null,"製造等（使用）をした第一種指定物質の合計数量のうち、直接輸出入したものの数量",null,null,null,null,null,null,null,"直接輸出\n(kg)"]
[null,null,null,null,null,null,null,null,null,null,null,null,null,null,"直接輸入\n(kg)"]
[null,null,null,null,null,null,"事業所内の当該第一種指定物質の製造等（使用）施設の数",null,null,null,null,null,null,null,null,null,null,null,null,null,null,1,null,{"$f":"IF($V366=\"\",\"未入力\",\"\")","v":""}]
[null,null,null,null,null,null,"事業所内の当該第一種指定物質の製造等（使用）施設の位置",null,null,null,null,null,null,null,null,null,null,null,null,null,null,"別添資料のとおり",null,{"$f":"IF($V367=\"\",\"未入力\",\"\")","v":""}]
[null,null,null,null,null,null,"施設ごとの数量と製造能力",null,null,null,"施設（１）",null,null,null,"施設名称"]
[null,null,null,null,null,null,null,null,null,null,null,null,null,null,"数量\n(kg)",null,null,null,null,null,null,null,null,{"$f":"IF($V369=\"\",\"未入力\",\"\")","v":"未入力"}]
[null,null,null,null,null,null,null,null,null,null,null,null,null,null,"能力\n(kg／年）",null,null,null,null,null,null,null,null,{"$f":"IF(AND($V370=\"\", $V363=\"製造\", $V357 = \"製造等\"),\"未入力\",\"\")","v":""}]
[null,null,null,null,null,null,null,null,null,null,"施設（２）",null,null,null,"施設名称",null,null,null,null,null,null,""]
[null,null,null,null,null,null,null,null,null,null,null,null,null,null,"数量\n(kg)",null,null,null,null,null,null,null,null,{"$f":"IF(AND($V372=\"\", $V366 > 1),\"未入力\",\"\")","v":""}]
[null,null,null,null,null,null,null,null,null,null,null,null,null,null,"能力\n(kg／年）",null,null,null,null,null,null,null,null,{"$f":"IF(AND($V373=\"\", $V363=\"製造\", $V357 = \"製造等\", $V366 > 1),\"未入力\",\"\")","v":""}]
[null,null,null,null,null,null,null,null,null,null,"施設（３）",null,null,null,"施設名称",null,null,null,null,null,null,""]
[null,null,null,null,null,null,null,null,null,null,null,null,null,null,"数量\n(kg)",null,null,null,null,null,null,null,null,{"$f":"IF(AND($V375=\"\", $V366 > 2),\"未入力\",\"\")","v":""}]
[null,null,null,null,null,null,null,null,null,null,null,null,null,null,"能力\n(kg／年）",null,null,null,null,null,null,null,null,{"$f":"IF(AND($V376=\"\", $V363=\"製造\", $V357 = \"製造等\", $V366 > 2),\"未入力\",\"\")","v":""}]
[null,null,null,null,null,null,null,null,null,null,"施設（４）",null,null,null,"施設名称",null,null,null,null,null,null,""]
[null,null,null,null,null,null,null,null,null,null,null,null,null,null,"数量\n(kg)",null,null,null,null,null,null,null,null,{"$f":"IF(AND($V378=\"\", $V366 > 3),\"未入力\",\"\")","v":""}]
[null,null,null,null,null,null,null,null,null,null,null,null,null,null,"能力\n(kg／年）",null,null,null,null,null,null,null,null,{"$f":"IF(AND($V379=\"\", $V363=\"製造\", $V357 = \"製造等\", $V366 > 3),\"未入力\",\"\")","v":""}]
[null,null,null,null,null,null,null,null,null,null,"施設（5）",null,null,null,"施設名称",null,null,null,null,null,null,""]
[null,null,null,null,null,null,null,null,null,null,null,null,null,null,"数量\n(kg)",null,null,null,null,null,null,null,null,{"$f":"IF(AND($V381=\"\", $V366 > 4),\"未入力\",\"\")","v":""}]
[null,null,null,null,null,null,null,null,null,null,null,null,null,null,"能力\n(kg／年）",null,null,null,null,null,null,null,null,{"$f":"IF(AND($V382=\"\", $V363=\"製造\", $V357 = \"製造等\", $V366 > 4),\"未入力\",\"\")","v":""}]
[null,null,null,null,null,null,"和文の様式の提出のみで十分ですか？\n（英文の申告Formの提出は不要ですか？）",null,null,null,null,null,null,null,null,null,null,null,null,null,null,"いいえ",null,{"$f":"IF($V383=\"\",\"未入力\",\"\")","v":""}]
[null,null,null,null,null,null,"英文Formの提出が不要である場合、その理由を選択してください",null,null,null,null,null,null,null,null,null,null,null,null,null,null,"－",null,{"$f":"IF(AND(OR($V384=\"\", $V384=LIST!$X$5), $V383 = LIST!$V$6 ),\"未入力\",\"\")","v":""}]
[null,"今後の項目追加に備えての空行"]
[]
[]
[]
[]
[]
[]
[]
[]
[]
[null,null,null,null,null,null,null,null,null,null,null,null,null,null,null,null,null,null,null,null,null,"日本語",null,"自動入力チェック"]
[null,"製造等（使用）をした第一種指定物質の情報（１０）",null,null,null,null,"製造等または使用の別",null,null,null,null,null,null,null,null,null,null,null,null,null,null,null,null,{"$f":"IF($V396=\"\",\"未入力\",\"\")","v":"未入力"}]
[null,null,null,null,null,null,"製造等（使用）をした第一種指定物質",null,null,null,null,null,null,null,"CAS番号",null,null,null,null,null,null,null,null,{"$f":"IF($V397=\"\",\"未入力\",\"\")","v":"未入力"}]
[null,null,null,null,null,null,null,null,null,null,null,null,null,null,"条約表剤番号",null,null,null,null,null,null,"",null,{"$f":"IF($V398=\"\",\"未入力\",\"\")","v":"未入力"}]
[null,null,null,null,null,null,null,null,null,null,null,null,null,null,"物質名称（日本語名）",null,null,null,null,null,null,null,null,{"$f":"IF(AND($V397<>STRING_NOCAS, $V399=\"\"),\"未入力\",\"\")","v":"未入力"}]
[null,null,null,null,null,null,null,null,null,null,null,null,null,null,"※「CAS番号なし」の場合入力\nCAS番号",null,null,null,null,null,null,null,null,{"$f":"IF(AND($V397=STRING_NOCAS, $V400=\"\"),\"未入力\",\"\")","v":""}]
[null,null,null,null,null,null,null,null,null,null,null,null,null,null,"※「CAS番号なし」の場合入力\n物質名称（日本語名）",null,null,null,null,null,null,null,null,{"$f":"IF(AND($V397=STRING_NOCAS, $V401=\"\"),\"未入力\",\"\")","v":""}]
[null,null,null,null,null,null,null,null,null,null,null,null,null,null,"区分",null,null,null,null,null,null,null,null,{"$f":"IF($V402=\"\",\"未入力\",\"\")","v":"未入力"}]
[null,null,null,null,null,null,"製造等（使用）をした第一種指定物質の合計数量のうち、直接輸出入したものの数量",null,null,null,null,null,null,null,"直接輸出\n(kg)"]
[null,null,null,null,null,null,null,null,null,null,null,null,null,null,"直接輸入\n(kg)"]
[null,null,null,null,null,null,"事業所内の当該第一種指定物質の製造等（使用）施設の数",null,null,null,null,null,null,null,null,null,null,null,null,null,null,1,null,{"$f":"IF($V405=\"\",\"未入力\",\"\")","v":""}]
[null,null,null,null,null,null,"事業所内の当該第一種指定物質の製造等（使用）施設の位置",null,null,null,null,null,null,null,null,null,null,null,null,null,null,"別添資料のとおり",null,{"$f":"IF($V406=\"\",\"未入力\",\"\")","v":""}]
[null,null,null,null,null,null,"施設ごとの数量と製造能力",null,null,null,"施設（１）",null,null,null,"施設名称"]
[null,null,null,null,null,null,null,null,null,null,null,null,null,null,"数量\n(kg)",null,null,null,null,null,null,null,null,{"$f":"IF($V408=\"\",\"未入力\",\"\")","v":"未入力"}]
[null,null,null,null,null,null,null,null,null,null,null,null,null,null,"能力\n(kg／年）",null,null,null,null,null,null,null,null,{"$f":"IF(AND($V409=\"\", $V402=\"製造\", $V396 = \"製造等\"),\"未入力\",\"\")","v":""}]
[null,null,null,null,null,null,null,null,null,null,"施設（２）",null,null,null,"施設名称",null,null,null,null,null,null,""]
[null,null,null,null,null,null,null,null,null,null,null,null,null,null,"数量\n(kg)",null,null,null,null,null,null,null,null,{"$f":"IF(AND($V411=\"\", $V405 > 1),\"未入力\",\"\")","v":""}]
[null,null,null,null,null,null,null,null,null,null,null,null,null,null,"能力\n(kg／年）",null,null,null,null,null,null,null,null,{"$f":"IF(AND($V412=\"\", $V402=\"製造\", $V396 = \"製造等\", $V405 > 1),\"未入力\",\"\")","v":""}]
[null,null,null,null,null,null,null,null,null,null,"施設（３）",null,null,null,"施設名称",null,null,null,null,null,null,""]
[null,null,null,null,null,null,null,null,null,null,null,null,null,null,"数量\n(kg)",null,null,null,null,null,null,null,null,{"$f":"IF(AND($V414=\"\", $V405 > 2),\"未入力\",\"\")","v":""}]
[null,null,null,null,null,null,null,null,null,null,null,null,null,null,"能力\n(kg／年）",null,null,null,null,null,null,null,null,{"$f":"IF(AND($V415=\"\", $V402=\"製造\", $V396 = \"製造等\", $V405 > 2),\"未入力\",\"\")","v":""}]
[null,null,null,null,null,null,null,null,null,null,"施設（４）",null,null,null,"施設名称",null,null,null,null,null,null,""]
[null,null,null,null,null,null,null,null,null,null,null,null,null,null,"数量\n(kg)",null,null,null,null,null,null,null,null,{"$f":"IF(AND($V417=\"\", $V405 > 3),\"未入力\",\"\")","v":""}]
[null,null,null,null,null,null,null,null,null,null,null,null,null,null,"能力\n(kg／年）",null,null,null,null,null,null,null,null,{"$f":"IF(AND($V418=\"\", $V402=\"製造\", $V396 = \"製造等\", $V405 > 3),\"未入力\",\"\")","v":""}]
[null,null,null,null,null,null,null,null,null,null,"施設（5）",null,null,null,"施設名称",null,null,null,null,null,null,""]
[null,null,null,null,null,null,null,null,null,null,null,null,null,null,"数量\n(kg)",null,null,null,null,null,null,null,null,{"$f":"IF(AND($V420=\"\", $V405 > 4),\"未入力\",\"\")","v":""}]
[null,null,null,null,null,null,null,null,null,null,null,null,null,null,"能力\n(kg／年）",null,null,null,null,null,null,null,null,{"$f":"IF(AND($V421=\"\", $V402=\"製造\", $V396 = \"製造等\", $V405 > 4),\"未入力\",\"\")","v":""}]
[null,null,null,null,null,null,"和文の様式の提出のみで十分ですか？\n（英文の申告Formの提出は不要ですか？）",null,null,null,null,null,null,null,null,null,null,null,null,null,null,"いいえ",null,{"$f":"IF($V422=\"\",\"未入力\",\"\")","v":""}]
[null,null,null,null,null,null,"英文Formの提出が不要である場合、その理由を選択してください",null,null,null,null,null,null,null,null,null,null,null,null,null,null,"－",null,{"$f":"IF(AND(OR($V423=\"\", $V423=LIST!$X$5), $V422 = LIST!$V$6 ),\"未入力\",\"\")","v":""}]
[null,"今後の項目追加に備えての空行"]
[]
[]
[]
[]
[]
[]
[]
[]
[]
[]
[null,"国際機関に申告するための書面（Form）を提出する事業所の情報を入力してください。"]
[null,"Form2.2作成のための入力ブロック"]
[]
[null,null,null,null,null,null,null,null,null,null,null,null,null,null,null,null,null,null,null,null,null,null,null,"自動入力チェック"]
[null,"事業所内の申告された表３剤（第二種指定物質）施設の数",null,null,null,null,null,null,null,null,null,null,null,null,null,null,null,null,null,null,null,null,null,{"$f":"IF(AND($V439=\"\", $D454 > 0),\"未入力\",\"\")","v":"未入力"}]
[null,"今後の項目追加に備えての空行"]
[]
[]
[]
[]
[]
[]
[]
[]
[]
[]
[null,"Formに記載する事業所内の施設（プラント）の情報を入力してください。10施設まで入力できます。"]
[null,"Form2.3、Form2.3.1、Form2.3.2作成のための入力ブロック"]
[]
[null,"プラント数：",null,1,null,null,null,"←初めに選択してください。"]
[null,"今後の項目追加に備えての空行"]
[]
[]
[]
[]
[]
[]
[]
[]
[]
[null,null,null,null,null,null,null,null,null,null,null,null,null,null,null,null,null,null,null,null,null,"英語",null,"自動入力チェック"]
[null,"当該製造等施設ごとの情報",null,"施設（１）",null,null,"施設（プラント）の申告",null,null,null,null,"施設名称",null,null,null,null,null,null,null,null,null,"",null,{"$f":"IF(AND($V466=\"\"),\"未入力\",\"\")","v":"未入力"}]
[null,null,null,null,null,null,null,null,null,null,null,"プラントコード",null,null,null,null,null,null,null,null,null,"",null,{"$f":"IF(AND($V467=\"\"),\"未入力\",\"\")","v":"未入力"}]
[null,null,null,null,null,null,null,null,null,null,null,"事業所内の施設の正確な場所\n（英語で入力）",null,null,null,null,null,null,null,null,null,null,null,""]
[null,null,null,null,null,null,null,null,null,null,null,"施設を特定する構造物番号",null,null,null,null,null,null,null,null,null,null,null,""]
[null,null,null,null,null,null,null,null,null,null,null,"施設を特定する建物番号",null,null,null,null,null,null,null,null,null,null,null,""]
[null,null,null,null,null,null,null,null,null,null,null,"施設についての追加的情報\n（英語で入力）",null,null,null,null,null,null,null,null,null,null,null,""]
[null,null,null,null,null,null,null,null,null,null,null,null,null,null,null,null,null,null,null,null,null,{"$f":"IF(V473=\"\",\"\",V473)","v":""},null,{"$f":"IF(AND($V472=\"\"),\"未入力\",\"\")","v":"未入力"}]
[null,null,null,null,null,null,null,null,null,null,null,"施設の主要な活動\n（シート保護対策非表示）",null,null,null,null,null,null,null,null,null,"",null,""]
[null,null,null,null,null,null,null,null,null,null,null,null,null,null,null,null,null,null,null,null,null,null,null,""]
[null,null,null,null,null,null,null,null,null,null,null,null,null,null,null,null,null,null,null,null,null,null,null,""]
[null,null,null,null,null,null,null,null,null,null,null,null,null,null,null,null,null,null,null,null,null,null,null,""]
[null,null,null,null,null,null,"施設（プラント）の活動内容",null,null,null,null,"施設の活動",null,null,null,null,null,"生産",null,null,null,null,null,{"$f":"IF(AND($V477=\"\"),\"未入力\",\"\")","v":"未入力"}]
[null,null,null,null,null,null,null,null,null,null,null,null,null,null,null,null,null,"加工",null,null,null,null,null,{"$f":"IF(AND($V478=\"\"),\"未入力\",\"\")","v":"未入力"}]
[null,null,null,null,null,null,null,null,null,null,null,null,null,null,null,null,null,"消費",null,null,null,null,null,{"$f":"IF(AND($V479=\"\"),\"未入力\",\"\")","v":"未入力"}]
[null,null,null,null,null,null,null,null,null,null,null,"施設の専用／多目的の別",null,null,null,null,null,null,null,null,null,null,null,{"$f":"IF(AND($V480=\"\"),\"未入力\",\"\")","v":"未入力"}]
[null,null,null,null,null,null,null,null,null,null,null,"施設におけるその他の活動",null,null,null,null,null,null,null,null,null,null,null,""]
[null,null,null,null,null,null,null,null,null,null,null,null,null,null,null,null,null,null,null,null,null,null,null,""]
[null,null,null,null,null,null,null,null,null,null,null,null,null,null,null,null,null,null,null,null,null,null,null,""]
[null,null,null,null,null,null,"施設（プラント）の生産能力",null,null,null,null,"第一種指定物質の生産能力(1)",null,null,null,null,null,"CAS番号",null,null,null,null,null,{"$f":"IF(AND($V484=\"\",$V477=\"有り\"),\"未入力\",\"\")","v":""}]
[null,null,null,null,null,null,null,null,null,null,null,null,null,null,null,null,null,"※「CAS番号なし」の場合入力\nCAS番号",null,null,null,null,null,{"$f":"IF(AND($V484=STRING_NOCAS, $V485=\"\",$V477=\"有り\"),\"未入力\",\"\")","v":""}]
[null,null,null,null,null,null,null,null,null,null,null,null,null,null,null,null,null,"物質名称（英語名）",null,null,null,null,null,{"$f":"IF(AND($V486=\"\",$V477=\"有り\"),\"未入力\",\"\")","v":""}]
[null,null,null,null,null,null,null,null,null,null,null,null,null,null,null,null,null,"能力\n(kg／年）",null,null,null,null,null,{"$f":"IF(AND($V487=\"\",$V477=\"有り\"),\"未入力\",\"\")","v":""}]
[null,null,null,null,null,null,null,null,null,null,null,null,null,null,null,null,null,"生産能力の計算方法",null,null,null,null,null,{"$f":"IF(AND($V488=\"\",$V477=\"有り\"),\"未入力\",\"\")","v":""}]
[null,null,null,null,null,null,null,null,null,null,null,"第一種指定物質の生産能力(2)",null,null,null,null,null,"CAS番号"]
[null,null,null,null,null,null,null,null,null,null,null,null,null,null,null,null,null,"※「CAS番号なし」の場合入力\nCAS番号"]
[null,null,null,null,null,null,null,null,null,null,null,null,null,null,null,null,null,"物質名称（英語名）"]
[null,null,null,null,null,null,null,null,null,null,null,null,null,null,null,null,null,"能力\n(kg／年）"]
[null,null,null,null,null,null,null,null,null,null,null,null,null,null,null,null,null,"生産能力の計算方法"]
[null,null,null,null,null,null,null,null,null,null,null,"第一種指定物質の生産能力(3)",null,null,null,null,null,"CAS番号"]
[null,null,null,null,null,null,null,null,null,null,null,null,null,null,null,null,null,"※「CAS番号なし」の場合入力\nCAS番号"]
[null,null,null,null,null,null,null,null,null,null,null,null,null,null,null,null,null,"物質名称（英語名）"]
[null,null,null,null,null,null,null,null,null,null,null,null,null,null,null,null,null,"能力\n(kg／年）"]
[null,null,null,null,null,null,null,null,null,null,null,null,null,null,null,null,null,"生産能力の計算方法"]
[null,null,null,null,null,null,null,null,null,null,null,"第一種指定物質の生産能力(4)",null,null,null,null,null,"CAS番号"]
[null,null,null,null,null,null,null,null,null,null,null,null,null,null,null,null,null,"※「CAS番号なし」の場合入力\nCAS番号"]
[null,null,null,null,null,null,null,null,null,null,null,null,null,null,null,null,null,"物質名称（英語名）"]
[null,null,null,null,null,null,null,null,null,null,null,null,null,null,null,null,null,"能力\n(kg／年）"]
[null,null,null,null,null,null,null,null,null,null,null,null,null,null,null,null,null,"生産能力の計算方法"]
[null,null,null,null,null,null,null,null,null,null,null,"第一種指定物質の生産能力(5)",null,null,null,null,null,"CAS番号"]
[null,null,null,null,null,null,null,null,null,null,null,null,null,null,null,null,null,"※「CAS番号なし」の場合入力\nCAS番号"]
[null,null,null,null,null,null,null,null,null,null,null,null,null,null,null,null,null,"物質名称（英語名）"]
[null,null,null,null,null,null,null,null,null,null,null,null,null,null,null,null,null,"能力\n(kg／年）"]
[null,null,null,null,null,null,null,null,null,null,null,null,null,null,null,null,null,"生産能力の計算方法"]
[null,null,null,null,null,null,null,null,null,null,null,"第一種指定物質の生産能力(6)",null,null,null,null,null,"CAS番号"]
[null,null,null,null,null,null,null,null,null,null,null,null,null,null,null,null,null,"※「CAS番号なし」の場合入力\nCAS番号"]
[null,null,null,null,null,null,null,null,null,null,null,null,null,null,null,null,null,"物質名称（英語名）"]
[null,null,null,null,null,null,null,null,null,null,null,null,null,null,null,null,null,"能力\n(kg／年）"]
[null,null,null,null,null,null,null,null,null,null,null,null,null,null,null,null,null,"生産能力の計算方法"]
[null,"今後の項目追加に備えての空行"]
[]
[]
[]
[]
[]
[]
[]
[]
[]
[null,null,null,null,null,null,null,null,null,null,null,null,null,null,null,null,null,null,null,null,null,"英語",null,"自動入力チェック"]
[null,"当該製造等施設ごとの情報",null,"施設（２）",null,null,"施設（プラント）の申告",null,null,null,null,"施設名称",null,null,null,null,null,null,null,null,null,null,null,{"$f":"IF(AND($V525=\"\"),\"未入力\",\"\")","v":"未入力"}]
[null,null,null,null,null,null,null,null,null,null,null,"プラントコード",null,null,null,null,null,null,null,null,null,"",null,{"$f":"IF(AND($V526=\"\"),\"未入力\",\"\")","v":"未入力"}]
[null,null,null,null,null,null,null,null,null,null,null,"事業所内の施設の正確な場所\n（英語で入力）",null,null,null,null,null,null,null,null,null,null,null,""]
[null,null,null,null,null,null,null,null,null,null,null,"施設を特定する構造物番号",null,null,null,null,null,null,null,null,null,null,null,""]
[null,null,null,null,null,null,null,null,null,null,null,"施設を特定する建物番号",null,null,null,null,null,null,null,null,null,null,null,""]
[null,null,null,null,null,null,null,null,null,null,null,"施設についての追加的情報\n（英語で入力）",null,null,null,null,null,null,null,null,null,null,null,""]
[null,null,null,null,null,null,null,null,null,null,null,null,null,null,null,null,null,null,null,null,null,{"$f":"IF(V532=\"\",\"\",V532)","v":""},null,{"$f":"IF(AND($V531=\"\"),\"未入力\",\"\")","v":"未入力"}]
[null,null,null,null,null,null,null,null,null,null,null,"施設の主要な活動\n（シート保護対策非表示）",null,null,null,null,null,null,null,null,null,"",null,""]
[null,null,null,null,null,null,null,null,null,null,null,null,null,null,null,null,null,null,null,null,null,null,null,""]
[null,null,null,null,null,null,null,null,null,null,null,null,null,null,null,null,null,null,null,null,null,null,null,""]
[null,null,null,null,null,null,null,null,null,null,null,null,null,null,null,null,null,null,null,null,null,null,null,""]
[null,null,null,null,null,null,"施設（プラント）の活動内容",null,null,null,null,"施設の活動",null,null,null,null,null,"生産",null,null,null,null,null,{"$f":"IF(AND($V536=\"\"),\"未入力\",\"\")","v":"未入力"}]
[null,null,null,null,null,null,null,null,null,null,null,null,null,null,null,null,null,"加工",null,null,null,null,null,{"$f":"IF(AND($V537=\"\"),\"未入力\",\"\")","v":"未入力"}]
[null,null,null,null,null,null,null,null,null,null,null,null,null,null,null,null,null,"消費",null,null,null,null,null,{"$f":"IF(AND($V538=\"\"),\"未入力\",\"\")","v":"未入力"}]
[null,null,null,null,null,null,null,null,null,null,null,"施設の専用／多目的の別",null,null,null,null,null,null,null,null,null,null,null,{"$f":"IF(AND($V539=\"\"),\"未入力\",\"\")","v":"未入力"}]
[null,null,null,null,null,null,null,null,null,null,null,"施設におけるその他の活動",null,null,null,null,null,null,null,null,null,null,null,""]
[null,null,null,null,null,null,null,null,null,null,null,null,null,null,null,null,null,null,null,null,null,null,null,""]
[null,null,null,null,null,null,null,null,null,null,null,null,null,null,null,null,null,null,null,null,null,null,null,""]
[null,null,null,null,null,null,"施設（プラント）の生産能力",null,null,null,null,"第一種指定物質の生産能力(1)",null,null,null,null,null,"CAS番号",null,null,null,null,null,{"$f":"IF(AND($V543=\"\",$V536=\"有り\"),\"未入力\",\"\")","v":""}]
[null,null,null,null,null,null,null,null,null,null,null,null,null,null,null,null,null,"※「CAS番号なし」の場合入力\nCAS番号",null,null,null,null,null,{"$f":"IF(AND($V543=STRING_NOCAS, $V544=\"\",$V536=\"有り\"),\"未入力\",\"\")","v":""}]
[null,null,null,null,null,null,null,null,null,null,null,null,null,null,null,null,null,"物質名称（英語名）",null,null,null,null,null,{"$f":"IF(AND($V545=\"\",$V536=\"有り\"),\"未入力\",\"\")","v":""}]
[null,null,null,null,null,null,null,null,null,null,null,null,null,null,null,null,null,"能力\n(kg／年）",null,null,null,null,null,{"$f":"IF(AND($V546=\"\",$V536=\"有り\"),\"未入力\",\"\")","v":""}]
[null,null,null,null,null,null,null,null,null,null,null,null,null,null,null,null,null,"生産能力の計算方法",null,null,null,null,null,{"$f":"IF(AND($V547=\"\",$V536=\"有り\"),\"未入力\",\"\")","v":""}]
[null,null,null,null,null,null,null,null,null,null,null,"第一種指定物質の生産能力(2)",null,null,null,null,null,"CAS番号"]
[null,null,null,null,null,null,null,null,null,null,null,null,null,null,null,null,null,"※「CAS番号なし」の場合入力\nCAS番号"]
[null,null,null,null,null,null,null,null,null,null,null,null,null,null,null,null,null,"物質名称（英語名）"]
[null,null,null,null,null,null,null,null,null,null,null,null,null,null,null,null,null,"能力\n(kg／年）"]
[null,null,null,null,null,null,null,null,null,null,null,null,null,null,null,null,null,"生産能力の計算方法"]
[null,null,null,null,null,null,null,null,null,null,null,"第一種指定物質の生産能力(3)",null,null,null,null,null,"CAS番号"]
[null,null,null,null,null,null,null,null,null,null,null,null,null,null,null,null,null,"※「CAS番号なし」の場合入力\nCAS番号"]
[null,null,null,null,null,null,null,null,null,null,null,null,null,null,null,null,null,"物質名称（英語名）"]
[null,null,null,null,null,null,null,null,null,null,null,null,null,null,null,null,null,"能力\n(kg／年）"]
[null,null,null,null,null,null,null,null,null,null,null,null,null,null,null,null,null,"生産能力の計算方法"]
[null,null,null,null,null,null,null,null,null,null,null,"第一種指定物質の生産能力(4)",null,null,null,null,null,"CAS番号"]
[null,null,null,null,null,null,null,null,null,null,null,null,null,null,null,null,null,"※「CAS番号なし」の場合入力\nCAS番号"]
[null,null,null,null,null,null,null,null,null,null,null,null,null,null,null,null,null,"物質名称（英語名）"]
[null,null,null,null,null,null,null,null,null,null,null,null,null,null,null,null,null,"能力\n(kg／年）"]
[null,null,null,null,null,null,null,null,null,null,null,null,null,null,null,null,null,"生産能力の計算方法"]
[null,null,null,null,null,null,null,null,null,null,null,"第一種指定物質の生産能力(5)",null,null,null,null,null,"CAS番号"]
[null,null,null,null,null,null,null,null,null,null,null,null,null,null,null,null,null,"※「CAS番号なし」の場合入力\nCAS番号"]
[null,null,null,null,null,null,null,null,null,null,null,null,null,null,null,null,null,"物質名称（英語名）"]
[null,null,null,null,null,null,null,null,null,null,null,null,null,null,null,null,null,"能力\n(kg／年）"]
[null,null,null,null,null,null,null,null,null,null,null,null,null,null,null,null,null,"生産能力の計算方法"]
[null,null,null,null,null,null,null,null,null,null,null,"第一種指定物質の生産能力(6)",null,null,null,null,null,"CAS番号"]
[null,null,null,null,null,null,null,null,null,null,null,null,null,null,null,null,null,"※「CAS番号なし」の場合入力\nCAS番号"]
[null,null,null,null,null,null,null,null,null,null,null,null,null,null,null,null,null,"物質名称（英語名）"]
[null,null,null,null,null,null,null,null,null,null,null,null,null,null,null,null,null,"能力\n(kg／年）"]
[null,null,null,null,null,null,null,null,null,null,null,null,null,null,null,null,null,"生産能力の計算方法"]
[null,"今後の項目追加に備えての空行"]
[]
[]
[]
[]
[]
[]
[]
[]
[]
[null,null,null,null,null,null,null,null,null,null,null,null,null,null,null,null,null,null,null,null,null,"英語",null,"自動入力チェック"]
[null,"当該製造等施設ごとの情報",null,"施設（３）",null,null,"施設（プラント）の申告",null,null,null,null,"施設名称",null,null,null,null,null,null,null,null,null,"",null,{"$f":"IF(AND($V584=\"\"),\"未入力\",\"\")","v":"未入力"}]
[null,null,null,null,null,null,null,null,null,null,null,"プラントコード",null,null,null,null,null,null,null,null,null,null,null,{"$f":"IF(AND($V585=\"\"),\"未入力\",\"\")","v":"未入力"}]
[null,null,null,null,null,null,null,null,null,null,null,"事業所内の施設の正確な場所\n（英語で入力）",null,null,null,null,null,null,null,null,null,null,null,""]
[null,null,null,null,null,null,null,null,null,null,null,"施設を特定する構造物番号",null,null,null,null,null,null,null,null,null,null,null,""]
[null,null,null,null,null,null,null,null,null,null,null,"施設を特定する建物番号",null,null,null,null,null,null,null,null,null,null,null,""]
[null,null,null,null,null,null,null,null,null,null,null,"施設についての追加的情報\n（英語で入力）",null,null,null,null,null,null,null,null,null,null,null,""]
[null,null,null,null,null,null,null,null,null,null,null,null,null,null,null,null,null,null,null,null,null,{"$f":"IF(V591=\"\",\"\",V591)","v":""},null,{"$f":"IF(AND($V590=\"\"),\"未入力\",\"\")","v":"未入力"}]
[null,null,null,null,null,null,null,null,null,null,null,"施設の主要な活動\n（シート保護対策非表示）",null,null,null,null,null,null,null,null,null,"",null,""]
[null,null,null,null,null,null,null,null,null,null,null,null,null,null,null,null,null,null,null,null,null,null,null,""]
[null,null,null,null,null,null,null,null,null,null,null,null,null,null,null,null,null,null,null,null,null,null,null,""]
[null,null,null,null,null,null,null,null,null,null,null,null,null,null,null,null,null,null,null,null,null,null,null,""]
[null,null,null,null,null,null,"施設（プラント）の活動内容",null,null,null,null,"施設の活動",null,null,null,null,null,"生産",null,null,null,null,null,{"$f":"IF(AND($V595=\"\"),\"未入力\",\"\")","v":"未入力"}]
[null,null,null,null,null,null,null,null,null,null,null,null,null,null,null,null,null,"加工",null,null,null,null,null,{"$f":"IF(AND($V596=\"\"),\"未入力\",\"\")","v":"未入力"}]
[null,null,null,null,null,null,null,null,null,null,null,null,null,null,null,null,null,"消費",null,null,null,null,null,{"$f":"IF(AND($V597=\"\"),\"未入力\",\"\")","v":"未入力"}]
[null,null,null,null,null,null,null,null,null,null,null,"施設の専用／多目的の別",null,null,null,null,null,null,null,null,null,null,null,{"$f":"IF(AND($V598=\"\"),\"未入力\",\"\")","v":"未入力"}]
[null,null,null,null,null,null,null,null,null,null,null,"施設におけるその他の活動",null,null,null,null,null,null,null,null,null,null,null,""]
[null,null,null,null,null,null,null,null,null,null,null,null,null,null,null,null,null,null,null,null,null,null,null,""]
[null,null,null,null,null,null,null,null,null,null,null,null,null,null,null,null,null,null,null,null,null,null,null,""]
[null,null,null,null,null,null,"施設（プラント）の生産能力",null,null,null,null,"第一種指定物質の生産能力(1)",null,null,null,null,null,"CAS番号",null,null,null,null,null,{"$f":"IF(AND($V602=\"\",$V595=\"有り\"),\"未入力\",\"\")","v":""}]
[null,null,null,null,null,null,null,null,null,null,null,null,null,null,null,null,null,"※「CAS番号なし」の場合入力\nCAS番号",null,null,null,null,null,{"$f":"IF(AND($V602=STRING_NOCAS, $V603=\"\",$V595=\"有り\"),\"未入力\",\"\")","v":""}]
[null,null,null,null,null,null,null,null,null,null,null,null,null,null,null,null,null,"物質名称（英語名）",null,null,null,null,null,{"$f":"IF(AND($V604=\"\",$V595=\"有り\"),\"未入力\",\"\")","v":""}]
[null,null,null,null,null,null,null,null,null,null,null,null,null,null,null,null,null,"能力\n(kg／年）",null,null,null,null,null,{"$f":"IF(AND($V605=\"\",$V595=\"有り\"),\"未入力\",\"\")","v":""}]
[null,null,null,null,null,null,null,null,null,null,null,null,null,null,null,null,null,"生産能力の計算方法",null,null,null,null,null,{"$f":"IF(AND($V606=\"\",$V595=\"有り\"),\"未入力\",\"\")","v":""}]
[null,null,null,null,null,null,null,null,null,null,null,"第一種指定物質の生産能力(2)",null,null,null,null,null,"CAS番号"]
[null,null,null,null,null,null,null,null,null,null,null,null,null,null,null,null,null,"※「CAS番号なし」の場合入力\nCAS番号"]
[null,null,null,null,null,null,null,null,null,null,null,null,null,null,null,null,null,"物質名称（英語名）"]
[null,null,null,null,null,null,null,null,null,null,null,null,null,null,null,null,null,"能力\n(kg／年）"]
[null,null,null,null,null,null,null,null,null,null,null,null,null,null,null,null,null,"生産能力の計算方法"]
[null,null,null,null,null,null,null,null,null,null,null,"第一種指定物質の生産能力(3)",null,null,null,null,null,"CAS番号"]
[null,null,null,null,null,null,null,null,null,null,null,null,null,null,null,null,null,"※「CAS番号なし」の場合入力\nCAS番号"]
[null,null,null,null,null,null,null,null,null,null,null,null,null,null,null,null,null,"物質名称（英語名）"]
[null,null,null,null,null,null,null,null,null,null,null,null,null,null,null,null,null,"能力\n(kg／年）"]
[null,null,null,null,null,null,null,null,null,null,null,null,null,null,null,null,null,"生産能力の計算方法"]
[null,null,null,null,null,null,null,null,null,null,null,"第一種指定物質の生産能力(4)",null,null,null,null,null,"CAS番号"]
[null,null,null,null,null,null,null,null,null,null,null,null,null,null,null,null,null,"※「CAS番号なし」の場合入力\nCAS番号"]
[null,null,null,null,null,null,null,null,null,null,null,null,null,null,null,null,null,"物質名称（英語名）"]
[null,null,null,null,null,null,null,null,null,null,null,null,null,null,null,null,null,"能力\n(kg／年）"]
[null,null,null,null,null,null,null,null,null,null,null,null,null,null,null,null,null,"生産能力の計算方法"]
[null,null,null,null,null,null,null,null,null,null,null,"第一種指定物質の生産能力(5)",null,null,null,null,null,"CAS番号"]
[null,null,null,null,null,null,null,null,null,null,null,null,null,null,null,null,null,"※「CAS番号なし」の場合入力\nCAS番号"]
[null,null,null,null,null,null,null,null,null,null,null,null,null,null,null,null,null,"物質名称（英語名）"]
[null,null,null,null,null,null,null,null,null,null,null,null,null,null,null,null,null,"能力\n(kg／年）"]
[null,null,null,null,null,null,null,null,null,null,null,null,null,null,null,null,null,"生産能力の計算方法"]
[null,null,null,null,null,null,null,null,null,null,null,"第一種指定物質の生産能力(6)",null,null,null,null,null,"CAS番号"]
[null,null,null,null,null,null,null,null,null,null,null,null,null,null,null,null,null,"※「CAS番号なし」の場合入力\nCAS番号"]
[null,null,null,null,null,null,null,null,null,null,null,null,null,null,null,null,null,"物質名称（英語名）"]
[null,null,null,null,null,null,null,null,null,null,null,null,null,null,null,null,null,"能力\n(kg／年）"]
[null,null,null,null,null,null,null,null,null,null,null,null,null,null,null,null,null,"生産能力の計算方法"]
[null,"今後の項目追加に備えての空行"]
[]
[]
[]
[]
[]
[]
[]
[]
[]
[null,null,null,null,null,null,null,null,null,null,null,null,null,null,null,null,null,null,null,null,null,"英語",null,"自動入力チェック"]
[null,"当該製造等施設ごとの情報",null,"施設（４）",null,null,"施設（プラント）の申告",null,null,null,null,"施設名称",null,null,null,null,null,null,null,null,null,"",null,{"$f":"IF(AND($V643=\"\"),\"未入力\",\"\")","v":"未入力"}]
[null,null,null,null,null,null,null,null,null,null,null,"プラントコード",null,null,null,null,null,null,null,null,null,null,null,{"$f":"IF(AND($V644=\"\"),\"未入力\",\"\")","v":"未入力"}]
[null,null,null,null,null,null,null,null,null,null,null,"事業所内の施設の正確な場所\n（英語で入力）",null,null,null,null,null,null,null,null,null,null,null,""]
[null,null,null,null,null,null,null,null,null,null,null,"施設を特定する構造物番号",null,null,null,null,null,null,null,null,null,null,null,""]
[null,null,null,null,null,null,null,null,null,null,null,"施設を特定する建物番号",null,null,null,null,null,null,null,null,null,null,null,""]
[null,null,null,null,null,null,null,null,null,null,null,"施設についての追加的情報\n（英語で入力）",null,null,null,null,null,null,null,null,null,null,null,""]
[null,null,null,null,null,null,null,null,null,null,null,null,null,null,null,null,null,null,null,null,null,{"$f":"IF(V650=\"\",\"\",V650)","v":""},null,{"$f":"IF(AND($V649=\"\"),\"未入力\",\"\")","v":"未入力"}]
[null,null,null,null,null,null,null,null,null,null,null,"施設の主要な活動\n（シート保護対策非表示）",null,null,null,null,null,null,null,null,null,"",null,""]
[null,null,null,null,null,null,null,null,null,null,null,null,null,null,null,null,null,null,null,null,null,null,null,""]
[null,null,null,null,null,null,null,null,null,null,null,null,null,null,null,null,null,null,null,null,null,null,null,""]
[null,null,null,null,null,null,null,null,null,null,null,null,null,null,null,null,null,null,null,null,null,null,null,""]
[null,null,null,null,null,null,"施設（プラント）の活動内容",null,null,null,null,"施設の活動",null,null,null,null,null,"生産",null,null,null,null,null,{"$f":"IF(AND($V654=\"\"),\"未入力\",\"\")","v":"未入力"}]
[null,null,null,null,null,null,null,null,null,null,null,null,null,null,null,null,null,"加工",null,null,null,null,null,{"$f":"IF(AND($V655=\"\"),\"未入力\",\"\")","v":"未入力"}]
[null,null,null,null,null,null,null,null,null,null,null,null,null,null,null,null,null,"消費",null,null,null,null,null,{"$f":"IF(AND($V656=\"\"),\"未入力\",\"\")","v":"未入力"}]
[null,null,null,null,null,null,null,null,null,null,null,"施設の専用／多目的の別",null,null,null,null,null,null,null,null,null,null,null,{"$f":"IF(AND($V657=\"\"),\"未入力\",\"\")","v":"未入力"}]
[null,null,null,null,null,null,null,null,null,null,null,"施設におけるその他の活動",null,null,null,null,null,null,null,null,null,null,null,""]
[null,null,null,null,null,null,null,null,null,null,null,null,null,null,null,null,null,null,null,null,null,null,null,""]
[null,null,null,null,null,null,null,null,null,null,null,null,null,null,null,null,null,null,null,null,null,null,null,""]
[null,null,null,null,null,null,"施設（プラント）の生産能力",null,null,null,null,"第一種指定物質の生産能力(1)",null,null,null,null,null,"CAS番号",null,null,null,null,null,{"$f":"IF(AND($V661=\"\",$V654=\"有り\"),\"未入力\",\"\")","v":""}]
[null,null,null,null,null,null,null,null,null,null,null,null,null,null,null,null,null,"※「CAS番号なし」の場合入力\nCAS番号",null,null,null,null,null,{"$f":"IF(AND($V661=STRING_NOCAS, $V662=\"\",$V654=\"有り\"),\"未入力\",\"\")","v":""}]
[null,null,null,null,null,null,null,null,null,null,null,null,null,null,null,null,null,"物質名称（英語名）",null,null,null,null,null,{"$f":"IF(AND($V663=\"\",$V654=\"有り\"),\"未入力\",\"\")","v":""}]
[null,null,null,null,null,null,null,null,null,null,null,null,null,null,null,null,null,"能力\n(kg／年）",null,null,null,null,null,{"$f":"IF(AND($V664=\"\",$V654=\"有り\"),\"未入力\",\"\")","v":""}]
[null,null,null,null,null,null,null,null,null,null,null,null,null,null,null,null,null,"生産能力の計算方法",null,null,null,null,null,{"$f":"IF(AND($V665=\"\",$V654=\"有り\"),\"未入力\",\"\")","v":""}]
[null,null,null,null,null,null,null,null,null,null,null,"第一種指定物質の生産能力(2)",null,null,null,null,null,"CAS番号"]
[null,null,null,null,null,null,null,null,null,null,null,null,null,null,null,null,null,"※「CAS番号なし」の場合入力\nCAS番号"]
[null,null,null,null,null,null,null,null,null,null,null,null,null,null,null,null,null,"物質名称（英語名）"]
[null,null,null,null,null,null,null,null,null,null,null,null,null,null,null,null,null,"能力\n(kg／年）"]
[null,null,null,null,null,null,null,null,null,null,null,null,null,null,null,null,null,"生産能力の計算方法"]
[null,null,null,null,null,null,null,null,null,null,null,"第一種指定物質の生産能力(3)",null,null,null,null,null,"CAS番号"]
[null,null,null,null,null,null,null,null,null,null,null,null,null,null,null,null,null,"※「CAS番号なし」の場合入力\nCAS番号"]
[null,null,null,null,null,null,null,null,null,null,null,null,null,null,null,null,null,"物質名称（英語名）"]
[null,null,null,null,null,null,null,null,null,null,null,null,null,null,null,null,null,"能力\n(kg／年）"]
[null,null,null,null,null,null,null,null,null,null,null,null,null,null,null,null,null,"生産能力の計算方法"]
[null,null,null,null,null,null,null,null,null,null,null,"第一種指定物質の生産能力(4)",null,null,null,null,null,"CAS番号"]
[null,null,null,null,null,null,null,null,null,null,null,null,null,null,null,null,null,"※「CAS番号なし」の場合入力\nCAS番号"]
[null,null,null,null,null,null,null,null,null,null,null,null,null,null,null,null,null,"物質名称（英語名）"]
[null,null,null,null,null,null,null,null,null,null,null,null,null,null,null,null,null,"能力\n(kg／年）"]
[null,null,null,null,null,null,null,null,null,null,null,null,null,null,null,null,null,"生産能力の計算方法"]
[null,null,null,null,null,null,null,null,null,null,null,"第一種指定物質の生産能力(5)",null,null,null,null,null,"CAS番号"]
[null,null,null,null,null,null,null,null,null,null,null,null,null,null,null,null,null,"※「CAS番号なし」の場合入力\nCAS番号"]
[null,null,null,null,null,null,null,null,null,null,null,null,null,null,null,null,null,"物質名称（英語名）"]
[null,null,null,null,null,null,null,null,null,null,null,null,null,null,null,null,null,"能力\n(kg／年）"]
[null,null,null,null,null,null,null,null,null,null,null,null,null,null,null,null,null,"生産能力の計算方法"]
[null,null,null,null,null,null,null,null,null,null,null,"第一種指定物質の生産能力(6)",null,null,null,null,null,"CAS番号"]
[null,null,null,null,null,null,null,null,null,null,null,null,null,null,null,null,null,"※「CAS番号なし」の場合入力\nCAS番号"]
[null,null,null,null,null,null,null,null,null,null,null,null,null,null,null,null,null,"物質名称（英語名）"]
[null,null,null,null,null,null,null,null,null,null,null,null,null,null,null,null,null,"能力\n(kg／年）"]
[null,null,null,null,null,null,null,null,null,null,null,null,null,null,null,null,null,"生産能力の計算方法"]
[null,"今後の項目追加に備えての空行"]
[]
[]
[]
[]
[]
[]
[]
[]
[]
[null,null,null,null,null,null,null,null,null,null,null,null,null,null,null,null,null,null,null,null,null,"英語",null,"自動入力チェック"]
[null,"当該製造等施設ごとの情報",null,"施設（５）",null,null,"施設（プラント）の申告",null,null,null,null,"施設名称",null,null,null,null,null,null,null,null,null,"",null,{"$f":"IF(AND($V702=\"\"),\"未入力\",\"\")","v":"未入力"}]
[null,null,null,null,null,null,null,null,null,null,null,"プラントコード",null,null,null,null,null,null,null,null,null,"",null,{"$f":"IF(AND($V703=\"\"),\"未入力\",\"\")","v":"未入力"}]
[null,null,null,null,null,null,null,null,null,null,null,"事業所内の施設の正確な場所\n（英語で入力）",null,null,null,null,null,null,null,null,null,null,null,""]
[null,null,null,null,null,null,null,null,null,null,null,"施設を特定する構造物番号",null,null,null,null,null,null,null,null,null,null,null,""]
[null,null,null,null,null,null,null,null,null,null,null,"施設を特定する建物番号",null,null,null,null,null,null,null,null,null,null,null,""]
[null,null,null,null,null,null,null,null,null,null,null,"施設についての追加的情報\n（英語で入力）",null,null,null,null,null,null,null,null,null,null,null,""]
[null,null,null,null,null,null,null,null,null,null,null,null,null,null,null,null,null,null,null,null,null,{"$f":"IF(V709=\"\",\"\",V709)","v":""},null,{"$f":"IF(AND($V708=\"\"),\"未入力\",\"\")","v":"未入力"}]
[null,null,null,null,null,null,null,null,null,null,null,"施設の主要な活動\n（シート保護対策非表示）",null,null,null,null,null,null,null,null,null,"",null,""]
[null,null,null,null,null,null,null,null,null,null,null,null,null,null,null,null,null,null,null,null,null,null,null,""]
[null,null,null,null,null,null,null,null,null,null,null,null,null,null,null,null,null,null,null,null,null,null,null,""]
[null,null,null,null,null,null,null,null,null,null,null,null,null,null,null,null,null,null,null,null,null,null,null,""]
[null,null,null,null,null,null,"施設（プラント）の活動内容",null,null,null,null,"施設の活動",null,null,null,null,null,"生産",null,null,null,null,null,{"$f":"IF(AND($V713=\"\"),\"未入力\",\"\")","v":"未入力"}]
[null,null,null,null,null,null,null,null,null,null,null,null,null,null,null,null,null,"加工",null,null,null,null,null,{"$f":"IF(AND($V714=\"\"),\"未入力\",\"\")","v":"未入力"}]
[null,null,null,null,null,null,null,null,null,null,null,null,null,null,null,null,null,"消費",null,null,null,null,null,{"$f":"IF(AND($V715=\"\"),\"未入力\",\"\")","v":"未入力"}]
[null,null,null,null,null,null,null,null,null,null,null,"施設の専用／多目的の別",null,null,null,null,null,null,null,null,null,null,null,{"$f":"IF(AND($V716=\"\"),\"未入力\",\"\")","v":"未入力"}]
[null,null,null,null,null,null,null,null,null,null,null,"施設におけるその他の活動",null,null,null,null,null,null,null,null,null,null,null,""]
[null,null,null,null,null,null,null,null,null,null,null,null,null,null,null,null,null,null,null,null,null,null,null,""]
[null,null,null,null,null,null,null,null,null,null,null,null,null,null,null,null,null,null,null,null,null,null,null,""]
[null,null,null,null,null,null,"施設（プラント）の生産能力",null,null,null,null,"第一種指定物質の生産能力(1)",null,null,null,null,null,"CAS番号",null,null,null,null,null,{"$f":"IF(AND($V720=\"\",$V713=\"有り\"),\"未入力\",\"\")","v":""}]
[null,null,null,null,null,null,null,null,null,null,null,null,null,null,null,null,null,"※「CAS番号なし」の場合入力\nCAS番号",null,null,null,null,null,{"$f":"IF(AND($V720=STRING_NOCAS, $V721=\"\",$V713=\"有り\"),\"未入力\",\"\")","v":""}]
[null,null,null,null,null,null,null,null,null,null,null,null,null,null,null,null,null,"物質名称（英語名）",null,null,null,null,null,{"$f":"IF(AND($V722=\"\",$V713=\"有り\"),\"未入力\",\"\")","v":""}]
[null,null,null,null,null,null,null,null,null,null,null,null,null,null,null,null,null,"能力\n(kg／年）",null,null,null,null,null,{"$f":"IF(AND($V723=\"\",$V713=\"有り\"),\"未入力\",\"\")","v":""}]
[null,null,null,null,null,null,null,null,null,null,null,null,null,null,null,null,null,"生産能力の計算方法",null,null,null,null,null,{"$f":"IF(AND($V724=\"\",$V713=\"有り\"),\"未入力\",\"\")","v":""}]
[null,null,null,null,null,null,null,null,null,null,null,"第一種指定物質の生産能力(2)",null,null,null,null,null,"CAS番号"]
[null,null,null,null,null,null,null,null,null,null,null,null,null,null,null,null,null,"※「CAS番号なし」の場合入力\nCAS番号"]
[null,null,null,null,null,null,null,null,null,null,null,null,null,null,null,null,null,"物質名称（英語名）"]
[null,null,null,null,null,null,null,null,null,null,null,null,null,null,null,null,null,"能力\n(kg／年）"]
[null,null,null,null,null,null,null,null,null,null,null,null,null,null,null,null,null,"生産能力の計算方法"]
[null,null,null,null,null,null,null,null,null,null,null,"第一種指定物質の生産能力(3)",null,null,null,null,null,"CAS番号"]
[null,null,null,null,null,null,null,null,null,null,null,null,null,null,null,null,null,"※「CAS番号なし」の場合入力\nCAS番号"]
[null,null,null,null,null,null,null,null,null,null,null,null,null,null,null,null,null,"物質名称（英語名）"]
[null,null,null,null,null,null,null,null,null,null,null,null,null,null,null,null,null,"能力\n(kg／年）"]
[null,null,null,null,null,null,null,null,null,null,null,null,null,null,null,null,null,"生産能力の計算方法"]
[null,null,null,null,null,null,null,null,null,null,null,"第一種指定物質の生産能力(4)",null,null,null,null,null,"CAS番号"]
[null,null,null,null,null,null,null,null,null,null,null,null,null,null,null,null,null,"※「CAS番号なし」の場合入力\nCAS番号"]
[null,null,null,null,null,null,null,null,null,null,null,null,null,null,null,null,null,"物質名称（英語名）"]
[null,null,null,null,null,null,null,null,null,null,null,null,null,null,null,null,null,"能力\n(kg／年）"]
[null,null,null,null,null,null,null,null,null,null,null,null,null,null,null,null,null,"生産能力の計算方法"]
[null,null,null,null,null,null,null,null,null,null,null,"第一種指定物質の生産能力(5)",null,null,null,null,null,"CAS番号"]
[null,null,null,null,null,null,null,null,null,null,null,null,null,null,null,null,null,"※「CAS番号なし」の場合入力\nCAS番号"]
[null,null,null,null,null,null,null,null,null,null,null,null,null,null,null,null,null,"物質名称（英語名）"]
[null,null,null,null,null,null,null,null,null,null,null,null,null,null,null,null,null,"能力\n(kg／年）"]
[null,null,null,null,null,null,null,null,null,null,null,null,null,null,null,null,null,"生産能力の計算方法"]
[null,null,null,null,null,null,null,null,null,null,null,"第一種指定物質の生産能力(6)",null,null,null,null,null,"CAS番号"]
[null,null,null,null,null,null,null,null,null,null,null,null,null,null,null,null,null,"※「CAS番号なし」の場合入力\nCAS番号"]
[null,null,null,null,null,null,null,null,null,null,null,null,null,null,null,null,null,"物質名称（英語名）"]
[null,null,null,null,null,null,null,null,null,null,null,null,null,null,null,null,null,"能力\n(kg／年）"]
[null,null,null,null,null,null,null,null,null,null,null,null,null,null,null,null,null,"生産能力の計算方法"]
[null,"今後の項目追加に備えての空行"]
[]
[]
[]
[]
[]
[]
[]
[]
[]
[null,null,null,null,null,null,null,null,null,null,null,null,null,null,null,null,null,null,null,null,null,"英語",null,"自動入力チェック"]
[null,"当該製造等施設ごとの情報",null,"施設（６）",null,null,"施設（プラント）の申告",null,null,null,null,"施設名称",null,null,null,null,null,null,null,null,null,"",null,{"$f":"IF(AND($V761=\"\"),\"未入力\",\"\")","v":"未入力"}]
[null,null,null,null,null,null,null,null,null,null,null,"プラントコード",null,null,null,null,null,null,null,null,null,"",null,{"$f":"IF(AND($V762=\"\"),\"未入力\",\"\")","v":"未入力"}]
[null,null,null,null,null,null,null,null,null,null,null,"事業所内の施設の正確な場所\n（英語で入力）",null,null,null,null,null,null,null,null,null,null,null,""]
[null,null,null,null,null,null,null,null,null,null,null,"施設を特定する構造物番号",null,null,null,null,null,null,null,null,null,null,null,""]
[null,null,null,null,null,null,null,null,null,null,null,"施設を特定する建物番号",null,null,null,null,null,null,null,null,null,null,null,""]
[null,null,null,null,null,null,null,null,null,null,null,"施設についての追加的情報\n（英語で入力）",null,null,null,null,null,null,null,null,null,null,null,""]
[null,null,null,null,null,null,null,null,null,null,null,null,null,null,null,null,null,null,null,null,null,{"$f":"IF(V768=\"\",\"\",V768)","v":""},null,{"$f":"IF(AND($V767=\"\"),\"未入力\",\"\")","v":"未入力"}]
[null,null,null,null,null,null,null,null,null,null,null,"施設の主要な活動\n（シート保護対策非表示）",null,null,null,null,null,null,null,null,null,"",null,""]
[null,null,null,null,null,null,null,null,null,null,null,null,null,null,null,null,null,null,null,null,null,null,null,""]
[null,null,null,null,null,null,null,null,null,null,null,null,null,null,null,null,null,null,null,null,null,null,null,""]
[null,null,null,null,null,null,null,null,null,null,null,null,null,null,null,null,null,null,null,null,null,null,null,""]
[null,null,null,null,null,null,"施設（プラント）の活動内容",null,null,null,null,"施設の活動",null,null,null,null,null,"生産",null,null,null,null,null,{"$f":"IF(AND($V772=\"\"),\"未入力\",\"\")","v":"未入力"}]
[null,null,null,null,null,null,null,null,null,null,null,null,null,null,null,null,null,"加工",null,null,null,null,null,{"$f":"IF(AND($V773=\"\"),\"未入力\",\"\")","v":"未入力"}]
[null,null,null,null,null,null,null,null,null,null,null,null,null,null,null,null,null,"消費",null,null,null,null,null,{"$f":"IF(AND($V774=\"\"),\"未入力\",\"\")","v":"未入力"}]
[null,null,null,null,null,null,null,null,null,null,null,"施設の専用／多目的の別",null,null,null,null,null,null,null,null,null,null,null,{"$f":"IF(AND($V775=\"\"),\"未入力\",\"\")","v":"未入力"}]
[null,null,null,null,null,null,null,null,null,null,null,"施設におけるその他の活動",null,null,null,null,null,null,null,null,null,null,null,""]
[null,null,null,null,null,null,null,null,null,null,null,null,null,null,null,null,null,null,null,null,null,null,null,""]
[null,null,null,null,null,null,null,null,null,null,null,null,null,null,null,null,null,null,null,null,null,null,null,""]
[null,null,null,null,null,null,"施設（プラント）の生産能力",null,null,null,null,"第一種指定物質の生産能力(1)",null,null,null,null,null,"CAS番号",null,null,null,null,null,{"$f":"IF(AND($V779=\"\",$V772=\"有り\"),\"未入力\",\"\")","v":""}]
[null,null,null,null,null,null,null,null,null,null,null,null,null,null,null,null,null,"※「CAS番号なし」の場合入力\nCAS番号",null,null,null,null,null,{"$f":"IF(AND($V779=STRING_NOCAS, $V780=\"\",$V772=\"有り\"),\"未入力\",\"\")","v":""}]
[null,null,null,null,null,null,null,null,null,null,null,null,null,null,null,null,null,"物質名称（英語名）",null,null,null,null,null,{"$f":"IF(AND($V781=\"\",$V772=\"有り\"),\"未入力\",\"\")","v":""}]
[null,null,null,null,null,null,null,null,null,null,null,null,null,null,null,null,null,"能力\n(kg／年）",null,null,null,null,null,{"$f":"IF(AND($V782=\"\",$V772=\"有り\"),\"未入力\",\"\")","v":""}]
[null,null,null,null,null,null,null,null,null,null,null,null,null,null,null,null,null,"生産能力の計算方法",null,null,null,null,null,{"$f":"IF(AND($V783=\"\",$V772=\"有り\"),\"未入力\",\"\")","v":""}]
[null,null,null,null,null,null,null,null,null,null,null,"第一種指定物質の生産能力(2)",null,null,null,null,null,"CAS番号"]
[null,null,null,null,null,null,null,null,null,null,null,null,null,null,null,null,null,"※「CAS番号なし」の場合入力\nCAS番号"]
[null,null,null,null,null,null,null,null,null,null,null,null,null,null,null,null,null,"物質名称（英語名）"]
[null,null,null,null,null,null,null,null,null,null,null,null,null,null,null,null,null,"能力\n(kg／年）"]
[null,null,null,null,null,null,null,null,null,null,null,null,null,null,null,null,null,"生産能力の計算方法"]
[null,null,null,null,null,null,null,null,null,null,null,"第一種指定物質の生産能力(3)",null,null,null,null,null,"CAS番号"]
[null,null,null,null,null,null,null,null,null,null,null,null,null,null,null,null,null,"※「CAS番号なし」の場合入力\nCAS番号"]
[null,null,null,null,null,null,null,null,null,null,null,null,null,null,null,null,null,"物質名称（英語名）"]
[null,null,null,null,null,null,null,null,null,null,null,null,null,null,null,null,null,"能力\n(kg／年）"]
[null,null,null,null,null,null,null,null,null,null,null,null,null,null,null,null,null,"生産能力の計算方法"]
[null,null,null,null,null,null,null,null,null,null,null,"第一種指定物質の生産能力(4)",null,null,null,null,null,"CAS番号"]
[null,null,null,null,null,null,null,null,null,null,null,null,null,null,null,null,null,"※「CAS番号なし」の場合入力\nCAS番号"]
[null,null,null,null,null,null,null,null,null,null,null,null,null,null,null,null,null,"物質名称（英語名）"]
[null,null,null,null,null,null,null,null,null,null,null,null,null,null,null,null,null,"能力\n(kg／年）"]
[null,null,null,null,null,null,null,null,null,null,null,null,null,null,null,null,null,"生産能力の計算方法"]
[null,null,null,null,null,null,null,null,null,null,null,"第一種指定物質の生産能力(5)",null,null,null,null,null,"CAS番号"]
[null,null,null,null,null,null,null,null,null,null,null,null,null,null,null,null,null,"※「CAS番号なし」の場合入力\nCAS番号"]
[null,null,null,null,null,null,null,null,null,null,null,null,null,null,null,null,null,"物質名称（英語名）"]
[null,null,null,null,null,null,null,null,null,null,null,null,null,null,null,null,null,"能力\n(kg／年）"]
[null,null,null,null,null,null,null,null,null,null,null,null,null,null,null,null,null,"生産能力の計算方法"]
[null,null,null,null,null,null,null,null,null,null,null,"第一種指定物質の生産能力(6)",null,null,null,null,null,"CAS番号"]
[null,null,null,null,null,null,null,null,null,null,null,null,null,null,null,null,null,"※「CAS番号なし」の場合入力\nCAS番号"]
[null,null,null,null,null,null,null,null,null,null,null,null,null,null,null,null,null,"物質名称（英語名）"]
[null,null,null,null,null,null,null,null,null,null,null,null,null,null,null,null,null,"能力\n(kg／年）"]
[null,null,null,null,null,null,null,null,null,null,null,null,null,null,null,null,null,"生産能力の計算方法"]
[null,"今後の項目追加に備えての空行"]
[]
[]
[]
[]
[]
[]
[]
[]
[]
[null,null,null,null,null,null,null,null,null,null,null,null,null,null,null,null,null,null,null,null,null,"英語",null,"自動入力チェック"]
[null,"当該製造等施設ごとの情報",null,"施設（７）",null,null,"施設（プラント）の申告",null,null,null,null,"施設名称",null,null,null,null,null,null,null,null,null,"",null,{"$f":"IF(AND($V820=\"\"),\"未入力\",\"\")","v":"未入力"}]
[null,null,null,null,null,null,null,null,null,null,null,"プラントコード",null,null,null,null,null,null,null,null,null,null,null,{"$f":"IF(AND($V821=\"\"),\"未入力\",\"\")","v":"未入力"}]
[null,null,null,null,null,null,null,null,null,null,null,"事業所内の施設の正確な場所\n（英語で入力）",null,null,null,null,null,null,null,null,null,null,null,""]
[null,null,null,null,null,null,null,null,null,null,null,"施設を特定する構造物番号",null,null,null,null,null,null,null,null,null,null,null,""]
[null,null,null,null,null,null,null,null,null,null,null,"施設を特定する建物番号",null,null,null,null,null,null,null,null,null,null,null,""]
[null,null,null,null,null,null,null,null,null,null,null,"施設についての追加的情報\n（英語で入力）",null,null,null,null,null,null,null,null,null,null,null,""]
[null,null,null,null,null,null,null,null,null,null,null,null,null,null,null,null,null,null,null,null,null,{"$f":"IF(V827=\"\",\"\",V827)","v":""},null,{"$f":"IF(AND($V826=\"\"),\"未入力\",\"\")","v":"未入力"}]
[null,null,null,null,null,null,null,null,null,null,null,"施設の主要な活動\n（シート保護対策非表示）",null,null,null,null,null,null,null,null,null,"",null,""]
[null,null,null,null,null,null,null,null,null,null,null,null,null,null,null,null,null,null,null,null,null,null,null,""]
[null,null,null,null,null,null,null,null,null,null,null,null,null,null,null,null,null,null,null,null,null,null,null,""]
[null,null,null,null,null,null,null,null,null,null,null,null,null,null,null,null,null,null,null,null,null,null,null,""]
[null,null,null,null,null,null,"施設（プラント）の活動内容",null,null,null,null,"施設の活動",null,null,null,null,null,"生産",null,null,null,null,null,{"$f":"IF(AND($V831=\"\"),\"未入力\",\"\")","v":"未入力"}]
[null,null,null,null,null,null,null,null,null,null,null,null,null,null,null,null,null,"加工",null,null,null,null,null,{"$f":"IF(AND($V832=\"\"),\"未入力\",\"\")","v":"未入力"}]
[null,null,null,null,null,null,null,null,null,null,null,null,null,null,null,null,null,"消費",null,null,null,null,null,{"$f":"IF(AND($V833=\"\"),\"未入力\",\"\")","v":"未入力"}]
[null,null,null,null,null,null,null,null,null,null,null,"施設の専用／多目的の別",null,null,null,null,null,null,null,null,null,null,null,{"$f":"IF(AND($V834=\"\"),\"未入力\",\"\")","v":"未入力"}]
[null,null,null,null,null,null,null,null,null,null,null,"施設におけるその他の活動",null,null,null,null,null,null,null,null,null,null,null,""]
[null,null,null,null,null,null,null,null,null,null,null,null,null,null,null,null,null,null,null,null,null,null,null,""]
[null,null,null,null,null,null,null,null,null,null,null,null,null,null,null,null,null,null,null,null,null,null,null,""]
[null,null,null,null,null,null,"施設（プラント）の生産能力",null,null,null,null,"第一種指定物質の生産能力(1)",null,null,null,null,null,"CAS番号",null,null,null,null,null,{"$f":"IF(AND($V838=\"\",$V831=\"有り\"),\"未入力\",\"\")","v":""}]
[null,null,null,null,null,null,null,null,null,null,null,null,null,null,null,null,null,"※「CAS番号なし」の場合入力\nCAS番号",null,null,null,null,null,{"$f":"IF(AND($V838=STRING_NOCAS, $V839=\"\",$V831=\"有り\"),\"未入力\",\"\")","v":""}]
[null,null,null,null,null,null,null,null,null,null,null,null,null,null,null,null,null,"物質名称（英語名）",null,null,null,null,null,{"$f":"IF(AND($V840=\"\",$V831=\"有り\"),\"未入力\",\"\")","v":""}]
[null,null,null,null,null,null,null,null,null,null,null,null,null,null,null,null,null,"能力\n(kg／年）",null,null,null,null,null,{"$f":"IF(AND($V841=\"\",$V831=\"有り\"),\"未入力\",\"\")","v":""}]
[null,null,null,null,null,null,null,null,null,null,null,null,null,null,null,null,null,"生産能力の計算方法",null,null,null,null,null,{"$f":"IF(AND($V842=\"\",$V831=\"有り\"),\"未入力\",\"\")","v":""}]
[null,null,null,null,null,null,null,null,null,null,null,"第一種指定物質の生産能力(2)",null,null,null,null,null,"CAS番号"]
[null,null,null,null,null,null,null,null,null,null,null,null,null,null,null,null,null,"※「CAS番号なし」の場合入力\nCAS番号"]
[null,null,null,null,null,null,null,null,null,null,null,null,null,null,null,null,null,"物質名称（英語名）"]
[null,null,null,null,null,null,null,null,null,null,null,null,null,null,null,null,null,"能力\n(kg／年）"]
[null,null,null,null,null,null,null,null,null,null,null,null,null,null,null,null,null,"生産能力の計算方法"]
[null,null,null,null,null,null,null,null,null,null,null,"第一種指定物質の生産能力(3)",null,null,null,null,null,"CAS番号"]
[null,null,null,null,null,null,null,null,null,null,null,null,null,null,null,null,null,"※「CAS番号なし」の場合入力\nCAS番号"]
[null,null,null,null,null,null,null,null,null,null,null,null,null,null,null,null,null,"物質名称（英語名）"]
[null,null,null,null,null,null,null,null,null,null,null,null,null,null,null,null,null,"能力\n(kg／年）"]
[null,null,null,null,null,null,null,null,null,null,null,null,null,null,null,null,null,"生産能力の計算方法"]
[null,null,null,null,null,null,null,null,null,null,null,"第一種指定物質の生産能力(4)",null,null,null,null,null,"CAS番号"]
[null,null,null,null,null,null,null,null,null,null,null,null,null,null,null,null,null,"※「CAS番号なし」の場合入力\nCAS番号"]
[null,null,null,null,null,null,null,null,null,null,null,null,null,null,null,null,null,"物質名称（英語名）"]
[null,null,null,null,null,null,null,null,null,null,null,null,null,null,null,null,null,"能力\n(kg／年）"]
[null,null,null,null,null,null,null,null,null,null,null,null,null,null,null,null,null,"生産能力の計算方法"]
[null,null,null,null,null,null,null,null,null,null,null,"第一種指定物質の生産能力(5)",null,null,null,null,null,"CAS番号"]
[null,null,null,null,null,null,null,null,null,null,null,null,null,null,null,null,null,"※「CAS番号なし」の場合入力\nCAS番号"]
[null,null,null,null,null,null,null,null,null,null,null,null,null,null,null,null,null,"物質名称（英語名）"]
[null,null,null,null,null,null,null,null,null,null,null,null,null,null,null,null,null,"能力\n(kg／年）"]
[null,null,null,null,null,null,null,null,null,null,null,null,null,null,null,null,null,"生産能力の計算方法"]
[null,null,null,null,null,null,null,null,null,null,null,"第一種指定物質の生産能力(6)",null,null,null,null,null,"CAS番号"]
[null,null,null,null,null,null,null,null,null,null,null,null,null,null,null,null,null,"※「CAS番号なし」の場合入力\nCAS番号"]
[null,null,null,null,null,null,null,null,null,null,null,null,null,null,null,null,null,"物質名称（英語名）"]
[null,null,null,null,null,null,null,null,null,null,null,null,null,null,null,null,null,"能力\n(kg／年）"]
[null,null,null,null,null,null,null,null,null,null,null,null,null,null,null,null,null,"生産能力の計算方法"]
[null,"今後の項目追加に備えての空行"]
[]
[]
[]
[]
[]
[]
[]
[]
[]
[null,null,null,null,null,null,null,null,null,null,null,null,null,null,null,null,null,null,null,null,null,"英語",null,"自動入力チェック"]
[null,"当該製造等施設ごとの情報",null,"施設（８）",null,null,"施設（プラント）の申告",null,null,null,null,"施設名称",null,null,null,null,null,null,null,null,null,"",null,{"$f":"IF(AND($V879=\"\"),\"未入力\",\"\")","v":"未入力"}]
[null,null,null,null,null,null,null,null,null,null,null,"プラントコード",null,null,null,null,null,null,null,null,null,null,null,{"$f":"IF(AND($V880=\"\"),\"未入力\",\"\")","v":"未入力"}]
[null,null,null,null,null,null,null,null,null,null,null,"事業所内の施設の正確な場所\n（英語で入力）",null,null,null,null,null,null,null,null,null,null,null,""]
[null,null,null,null,null,null,null,null,null,null,null,"施設を特定する構造物番号",null,null,null,null,null,null,null,null,null,null,null,""]
[null,null,null,null,null,null,null,null,null,null,null,"施設を特定する建物番号",null,null,null,null,null,null,null,null,null,null,null,""]
[null,null,null,null,null,null,null,null,null,null,null,"施設についての追加的情報\n（英語で入力）",null,null,null,null,null,null,null,null,null,null,null,""]
[null,null,null,null,null,null,null,null,null,null,null,null,null,null,null,null,null,null,null,null,null,{"$f":"IF(V886=\"\",\"\",V886)","v":""},null,{"$f":"IF(AND($V885=\"\"),\"未入力\",\"\")","v":"未入力"}]
[null,null,null,null,null,null,null,null,null,null,null,"施設の主要な活動\n（シート保護対策非表示）",null,null,null,null,null,null,null,null,null,"",null,""]
[null,null,null,null,null,null,null,null,null,null,null,null,null,null,null,null,null,null,null,null,null,null,null,""]
[null,null,null,null,null,null,null,null,null,null,null,null,null,null,null,null,null,null,null,null,null,null,null,""]
[null,null,null,null,null,null,null,null,null,null,null,null,null,null,null,null,null,null,null,null,null,null,null,""]
[null,null,null,null,null,null,"施設（プラント）の活動内容",null,null,null,null,"施設の活動",null,null,null,null,null,"生産",null,null,null,null,null,{"$f":"IF(AND($V890=\"\"),\"未入力\",\"\")","v":"未入力"}]
[null,null,null,null,null,null,null,null,null,null,null,null,null,null,null,null,null,"加工",null,null,null,null,null,{"$f":"IF(AND($V891=\"\"),\"未入力\",\"\")","v":"未入力"}]
[null,null,null,null,null,null,null,null,null,null,null,null,null,null,null,null,null,"消費",null,null,null,null,null,{"$f":"IF(AND($V892=\"\"),\"未入力\",\"\")","v":"未入力"}]
[null,null,null,null,null,null,null,null,null,null,null,"施設の専用／多目的の別",null,null,null,null,null,null,null,null,null,null,null,{"$f":"IF(AND($V893=\"\"),\"未入力\",\"\")","v":"未入力"}]
[null,null,null,null,null,null,null,null,null,null,null,"施設におけるその他の活動",null,null,null,null,null,null,null,null,null,null,null,""]
[null,null,null,null,null,null,null,null,null,null,null,null,null,null,null,null,null,null,null,null,null,null,null,""]
[null,null,null,null,null,null,null,null,null,null,null,null,null,null,null,null,null,null,null,null,null,null,null,""]
[null,null,null,null,null,null,"施設（プラント）の生産能力",null,null,null,null,"第一種指定物質の生産能力(1)",null,null,null,null,null,"CAS番号",null,null,null,null,null,{"$f":"IF(AND($V897=\"\",$V890=\"有り\"),\"未入力\",\"\")","v":""}]
[null,null,null,null,null,null,null,null,null,null,null,null,null,null,null,null,null,"※「CAS番号なし」の場合入力\nCAS番号",null,null,null,null,null,{"$f":"IF(AND($V897=STRING_NOCAS, $V898=\"\",$V890=\"有り\"),\"未入力\",\"\")","v":""}]
[null,null,null,null,null,null,null,null,null,null,null,null,null,null,null,null,null,"物質名称（英語名）",null,null,null,null,null,{"$f":"IF(AND($V899=\"\",$V890=\"有り\"),\"未入力\",\"\")","v":""}]
[null,null,null,null,null,null,null,null,null,null,null,null,null,null,null,null,null,"能力\n(kg／年）",null,null,null,null,null,{"$f":"IF(AND($V900=\"\",$V890=\"有り\"),\"未入力\",\"\")","v":""}]
[null,null,null,null,null,null,null,null,null,null,null,null,null,null,null,null,null,"生産能力の計算方法",null,null,null,null,null,{"$f":"IF(AND($V901=\"\",$V890=\"有り\"),\"未入力\",\"\")","v":""}]
[null,null,null,null,null,null,null,null,null,null,null,"第一種指定物質の生産能力(2)",null,null,null,null,null,"CAS番号"]
[null,null,null,null,null,null,null,null,null,null,null,null,null,null,null,null,null,"※「CAS番号なし」の場合入力\nCAS番号"]
[null,null,null,null,null,null,null,null,null,null,null,null,null,null,null,null,null,"物質名称（英語名）"]
[null,null,null,null,null,null,null,null,null,null,null,null,null,null,null,null,null,"能力\n(kg／年）"]
[null,null,null,null,null,null,null,null,null,null,null,null,null,null,null,null,null,"生産能力の計算方法"]
[null,null,null,null,null,null,null,null,null,null,null,"第一種指定物質の生産能力(3)",null,null,null,null,null,"CAS番号"]
[null,null,null,null,null,null,null,null,null,null,null,null,null,null,null,null,null,"※「CAS番号なし」の場合入力\nCAS番号"]
[null,null,null,null,null,null,null,null,null,null,null,null,null,null,null,null,null,"物質名称（英語名）"]
[null,null,null,null,null,null,null,null,null,null,null,null,null,null,null,null,null,"能力\n(kg／年）"]
[null,null,null,null,null,null,null,null,null,null,null,null,null,null,null,null,null,"生産能力の計算方法"]
[null,null,null,null,null,null,null,null,null,null,null,"第一種指定物質の生産能力(4)",null,null,null,null,null,"CAS番号"]
[null,null,null,null,null,null,null,null,null,null,null,null,null,null,null,null,null,"※「CAS番号なし」の場合入力\nCAS番号"]
[null,null,null,null,null,null,null,null,null,null,null,null,null,null,null,null,null,"物質名称（英語名）"]
[null,null,null,null,null,null,null,null,null,null,null,null,null,null,null,null,null,"能力\n(kg／年）"]
[null,null,null,null,null,null,null,null,null,null,null,null,null,null,null,null,null,"生産能力の計算方法"]
[null,null,null,null,null,null,null,null,null,null,null,"第一種指定物質の生産能力(5)",null,null,null,null,null,"CAS番号"]
[null,null,null,null,null,null,null,null,null,null,null,null,null,null,null,null,null,"※「CAS番号なし」の場合入力\nCAS番号"]
[null,null,null,null,null,null,null,null,null,null,null,null,null,null,null,null,null,"物質名称（英語名）"]
[null,null,null,null,null,null,null,null,null,null,null,null,null,null,null,null,null,"能力\n(kg／年）"]
[null,null,null,null,null,null,null,null,null,null,null,null,null,null,null,null,null,"生産能力の計算方法"]
[null,null,null,null,null,null,null,null,null,null,null,"第一種指定物質の生産能力(6)",null,null,null,null,null,"CAS番号"]
[null,null,null,null,null,null,null,null,null,null,null,null,null,null,null,null,null,"※「CAS番号なし」の場合入力\nCAS番号"]
[null,null,null,null,null,null,null,null,null,null,null,null,null,null,null,null,null,"物質名称（英語名）"]
[null,null,null,null,null,null,null,null,null,null,null,null,null,null,null,null,null,"能力\n(kg／年）"]
[null,null,null,null,null,null,null,null,null,null,null,null,null,null,null,null,null,"生産能力の計算方法"]
[null,"今後の項目追加に備えての空行"]
[]
[]
[]
[]
[]
[]
[]
[]
[]
[null,null,null,null,null,null,null,null,null,null,null,null,null,null,null,null,null,null,null,null,null,"英語",null,"自動入力チェック"]
[null,"当該製造等施設ごとの情報",null,"施設（９）",null,null,"施設（プラント）の申告",null,null,null,null,"施設名称",null,null,null,null,null,null,null,null,null,"",null,{"$f":"IF(AND($V938=\"\"),\"未入力\",\"\")","v":"未入力"}]
[null,null,null,null,null,null,null,null,null,null,null,"プラントコード",null,null,null,null,null,null,null,null,null,"",null,{"$f":"IF(AND($V939=\"\"),\"未入力\",\"\")","v":"未入力"}]
[null,null,null,null,null,null,null,null,null,null,null,"事業所内の施設の正確な場所\n（英語で入力）",null,null,null,null,null,null,null,null,null,null,null,""]
[null,null,null,null,null,null,null,null,null,null,null,"施設を特定する構造物番号",null,null,null,null,null,null,null,null,null,null,null,""]
[null,null,null,null,null,null,null,null,null,null,null,"施設を特定する建物番号",null,null,null,null,null,null,null,null,null,null,null,""]
[null,null,null,null,null,null,null,null,null,null,null,"施設についての追加的情報\n（英語で入力）",null,null,null,null,null,null,null,null,null,null,null,""]
[null,null,null,null,null,null,null,null,null,null,null,null,null,null,null,null,null,null,null,null,null,{"$f":"IF(V945=\"\",\"\",V945)","v":""},null,{"$f":"IF(AND($V944=\"\"),\"未入力\",\"\")","v":"未入力"}]
[null,null,null,null,null,null,null,null,null,null,null,"施設の主要な活動\n（シート保護対策非表示）",null,null,null,null,null,null,null,null,null,"",null,""]
[null,null,null,null,null,null,null,null,null,null,null,null,null,null,null,null,null,null,null,null,null,null,null,""]
[null,null,null,null,null,null,null,null,null,null,null,null,null,null,null,null,null,null,null,null,null,null,null,""]
[null,null,null,null,null,null,null,null,null,null,null,null,null,null,null,null,null,null,null,null,null,null,null,""]
[null,null,null,null,null,null,"施設（プラント）の活動内容",null,null,null,null,"施設の活動",null,null,null,null,null,"生産",null,null,null,null,null,{"$f":"IF(AND($V949=\"\"),\"未入力\",\"\")","v":"未入力"}]
[null,null,null,null,null,null,null,null,null,null,null,null,null,null,null,null,null,"加工",null,null,null,null,null,{"$f":"IF(AND($V950=\"\"),\"未入力\",\"\")","v":"未入力"}]
[null,null,null,null,null,null,null,null,null,null,null,null,null,null,null,null,null,"消費",null,null,null,null,null,{"$f":"IF(AND($V951=\"\"),\"未入力\",\"\")","v":"未入力"}]
[null,null,null,null,null,null,null,null,null,null,null,"施設の専用／多目的の別",null,null,null,null,null,null,null,null,null,null,null,{"$f":"IF(AND($V952=\"\"),\"未入力\",\"\")","v":"未入力"}]
[null,null,null,null,null,null,null,null,null,null,null,"施設におけるその他の活動",null,null,null,null,null,null,null,null,null,null,null,""]
[null,null,null,null,null,null,null,null,null,null,null,null,null,null,null,null,null,null,null,null,null,null,null,""]
[null,null,null,null,null,null,null,null,null,null,null,null,null,null,null,null,null,null,null,null,null,null,null,""]
[null,null,null,null,null,null,"施設（プラント）の生産能力",null,null,null,null,"第一種指定物質の生産能力(1)",null,null,null,null,null,"CAS番号",null,null,null,null,null,{"$f":"IF(AND($V956=\"\",$V949=\"有り\"),\"未入力\",\"\")","v":""}]
[null,null,null,null,null,null,null,null,null,null,null,null,null,null,null,null,null,"※「CAS番号なし」の場合入力\nCAS番号",null,null,null,null,null,{"$f":"IF(AND($V956=STRING_NOCAS, $V957=\"\",$V949=\"有り\"),\"未入力\",\"\")","v":""}]
[null,null,null,null,null,null,null,null,null,null,null,null,null,null,null,null,null,"物質名称（英語名）",null,null,null,null,null,{"$f":"IF(AND($V958=\"\",$V949=\"有り\"),\"未入力\",\"\")","v":""}]
[null,null,null,null,null,null,null,null,null,null,null,null,null,null,null,null,null,"能力\n(kg／年）",null,null,null,null,null,{"$f":"IF(AND($V959=\"\",$V949=\"有り\"),\"未入力\",\"\")","v":""}]
[null,null,null,null,null,null,null,null,null,null,null,null,null,null,null,null,null,"生産能力の計算方法",null,null,null,null,null,{"$f":"IF(AND($V960=\"\",$V949=\"有り\"),\"未入力\",\"\")","v":""}]
[null,null,null,null,null,null,null,null,null,null,null,"第一種指定物質の生産能力(2)",null,null,null,null,null,"CAS番号"]
[null,null,null,null,null,null,null,null,null,null,null,null,null,null,null,null,null,"※「CAS番号なし」の場合入力\nCAS番号"]
[null,null,null,null,null,null,null,null,null,null,null,null,null,null,null,null,null,"物質名称（英語名）"]
[null,null,null,null,null,null,null,null,null,null,null,null,null,null,null,null,null,"能力\n(kg／年）"]
[null,null,null,null,null,null,null,null,null,null,null,null,null,null,null,null,null,"生産能力の計算方法"]
[null,null,null,null,null,null,null,null,null,null,null,"第一種指定物質の生産能力(3)",null,null,null,null,null,"CAS番号"]
[null,null,null,null,null,null,null,null,null,null,null,null,null,null,null,null,null,"※「CAS番号なし」の場合入力\nCAS番号"]
[null,null,null,null,null,null,null,null,null,null,null,null,null,null,null,null,null,"物質名称（英語名）"]
[null,null,null,null,null,null,null,null,null,null,null,null,null,null,null,null,null,"能力\n(kg／年）"]
[null,null,null,null,null,null,null,null,null,null,null,null,null,null,null,null,null,"生産能力の計算方法"]
[null,null,null,null,null,null,null,null,null,null,null,"第一種指定物質の生産能力(4)",null,null,null,null,null,"CAS番号"]
[null,null,null,null,null,null,null,null,null,null,null,null,null,null,null,null,null,"※「CAS番号なし」の場合入力\nCAS番号"]
[null,null,null,null,null,null,null,null,null,null,null,null,null,null,null,null,null,"物質名称（英語名）"]
[null,null,null,null,null,null,null,null,null,null,null,null,null,null,null,null,null,"能力\n(kg／年）"]
[null,null,null,null,null,null,null,null,null,null,null,null,null,null,null,null,null,"生産能力の計算方法"]
[null,null,null,null,null,null,null,null,null,null,null,"第一種指定物質の生産能力(5)",null,null,null,null,null,"CAS番号"]
[null,null,null,null,null,null,null,null,null,null,null,null,null,null,null,null,null,"※「CAS番号なし」の場合入力\nCAS番号"]
[null,null,null,null,null,null,null,null,null,null,null,null,null,null,null,null,null,"物質名称（英語名）"]
[null,null,null,null,null,null,null,null,null,null,null,null,null,null,null,null,null,"能力\n(kg／年）"]
[null,null,null,null,null,null,null,null,null,null,null,null,null,null,null,null,null,"生産能力の計算方法"]
[null,null,null,null,null,null,null,null,null,null,null,"第一種指定物質の生産能力(6)",null,null,null,null,null,"CAS番号"]
[null,null,null,null,null,null,null,null,null,null,null,null,null,null,null,null,null,"※「CAS番号なし」の場合入力\nCAS番号"]
[null,null,null,null,null,null,null,null,null,null,null,null,null,null,null,null,null,"物質名称（英語名）"]
[null,null,null,null,null,null,null,null,null,null,null,null,null,null,null,null,null,"能力\n(kg／年）"]
[null,null,null,null,null,null,null,null,null,null,null,null,null,null,null,null,null,"生産能力の計算方法"]
[null,"今後の項目追加に備えての空行"]
[]
[]
[]
[]
[]
[]
[]
[]
[]
[null,null,null,null,null,null,null,null,null,null,null,null,null,null,null,null,null,null,null,null,null,"英語",null,"自動入力チェック"]
[null,"当該製造等施設ごとの情報",null,"施設（１０）",null,null,"施設（プラント）の申告",null,null,null,null,"施設名称",null,null,null,null,null,null,null,null,null,"",null,{"$f":"IF(AND($V997=\"\"),\"未入力\",\"\")","v":"未入力"}]
[null,null,null,null,null,null,null,null,null,null,null,"プラントコード",null,null,null,null,null,null,null,null,null,null,null,{"$f":"IF(AND($V998=\"\"),\"未入力\",\"\")","v":"未入力"}]
[null,null,null,null,null,null,null,null,null,null,null,"事業所内の施設の正確な場所\n（英語で入力）",null,null,null,null,null,null,null,null,null,null,null,""]
[null,null,null,null,null,null,null,null,null,null,null,"施設を特定する構造物番号",null,null,null,null,null,null,null,null,null,null,null,""]
[null,null,null,null,null,null,null,null,null,null,null,"施設を特定する建物番号",null,null,null,null,null,null,null,null,null,null,null,""]
[null,null,null,null,null,null,null,null,null,null,null,"施設についての追加的情報\n（英語で入力）",null,null,null,null,null,null,null,null,null,null,null,""]
[null,null,null,null,null,null,null,null,null,null,null,null,null,null,null,null,null,null,null,null,null,{"$f":"IF(V1004=\"\",\"\",V1004)","v":""},null,{"$f":"IF(AND($V1003=\"\"),\"未入力\",\"\")","v":"未入力"}]
[null,null,null,null,null,null,null,null,null,null,null,"施設の主要な活動\n（シート保護対策非表示）",null,null,null,null,null,null,null,null,null,"",null,""]
[null,null,null,null,null,null,null,null,null,null,null,null,null,null,null,null,null,null,null,null,null,null,null,""]
[null,null,null,null,null,null,null,null,null,null,null,null,null,null,null,null,null,null,null,null,null,null,null,""]
[null,null,null,null,null,null,null,null,null,null,null,null,null,null,null,null,null,null,null,null,null,null,null,""]
[null,null,null,null,null,null,"施設（プラント）の活動内容",null,null,null,null,"施設の活動",null,null,null,null,null,"生産",null,null,null,null,null,{"$f":"IF(AND($V1008=\"\"),\"未入力\",\"\")","v":"未入力"}]
[null,null,null,null,null,null,null,null,null,null,null,null,null,null,null,null,null,"加工",null,null,null,null,null,{"$f":"IF(AND($V1009=\"\"),\"未入力\",\"\")","v":"未入力"}]
[null,null,null,null,null,null,null,null,null,null,null,null,null,null,null,null,null,"消費",null,null,null,null,null,{"$f":"IF(AND($V1010=\"\"),\"未入力\",\"\")","v":"未入力"}]
[null,null,null,null,null,null,null,null,null,null,null,"施設の専用／多目的の別",null,null,null,null,null,null,null,null,null,null,null,{"$f":"IF(AND($V1011=\"\"),\"未入力\",\"\")","v":"未入力"}]
[null,null,null,null,null,null,null,null,null,null,null,"施設におけるその他の活動",null,null,null,null,null,null,null,null,null,null,null,""]
[null,null,null,null,null,null,null,null,null,null,null,null,null,null,null,null,null,null,null,null,null,null,null,""]
[null,null,null,null,null,null,null,null,null,null,null,null,null,null,null,null,null,null,null,null,null,null,null,""]
[null,null,null,null,null,null,"施設（プラント）の生産能力",null,null,null,null,"第一種指定物質の生産能力(1)",null,null,null,null,null,"CAS番号",null,null,null,null,null,{"$f":"IF(AND($V1015=\"\",$V1008=\"有り\"),\"未入力\",\"\")","v":""}]
[null,null,null,null,null,null,null,null,null,null,null,null,null,null,null,null,null,"※「CAS番号なし」の場合入力\nCAS番号",null,null,null,null,null,{"$f":"IF(AND($V1015=STRING_NOCAS, $V1016=\"\",$V1008=\"有り\"),\"未入力\",\"\")","v":""}]
[null,null,null,null,null,null,null,null,null,null,null,null,null,null,null,null,null,"物質名称（英語名）",null,null,null,null,null,{"$f":"IF(AND($V1017=\"\",$V1008=\"有り\"),\"未入力\",\"\")","v":""}]
[null,null,null,null,null,null,null,null,null,null,null,null,null,null,null,null,null,"能力\n(kg／年）",null,null,null,null,null,{"$f":"IF(AND($V1018=\"\",$V1008=\"有り\"),\"未入力\",\"\")","v":""}]
[null,null,null,null,null,null,null,null,null,null,null,null,null,null,null,null,null,"生産能力の計算方法",null,null,null,null,null,{"$f":"IF(AND($V1019=\"\",$V1008=\"有り\"),\"未入力\",\"\")","v":""}]
[null,null,null,null,null,null,null,null,null,null,null,"第一種指定物質の生産能力(2)",null,null,null,null,null,"CAS番号"]
[null,null,null,null,null,null,null,null,null,null,null,null,null,null,null,null,null,"※「CAS番号なし」の場合入力\nCAS番号"]
[null,null,null,null,null,null,null,null,null,null,null,null,null,null,null,null,null,"物質名称（英語名）"]
[null,null,null,null,null,null,null,null,null,null,null,null,null,null,null,null,null,"能力\n(kg／年）"]
[null,null,null,null,null,null,null,null,null,null,null,null,null,null,null,null,null,"生産能力の計算方法"]
[null,null,null,null,null,null,null,null,null,null,null,"第一種指定物質の生産能力(3)",null,null,null,null,null,"CAS番号"]
[null,null,null,null,null,null,null,null,null,null,null,null,null,null,null,null,null,"※「CAS番号なし」の場合入力\nCAS番号"]
[null,null,null,null,null,null,null,null,null,null,null,null,null,null,null,null,null,"物質名称（英語名）"]
[null,null,null,null,null,null,null,null,null,null,null,null,null,null,null,null,null,"能力\n(kg／年）"]
[null,null,null,null,null,null,null,null,null,null,null,null,null,null,null,null,null,"生産能力の計算方法"]
[null,null,null,null,null,null,null,null,null,null,null,"第一種指定物質の生産能力(4)",null,null,null,null,null,"CAS番号"]
[null,null,null,null,null,null,null,null,null,null,null,null,null,null,null,null,null,"※「CAS番号なし」の場合入力\nCAS番号"]
[null,null,null,null,null,null,null,null,null,null,null,null,null,null,null,null,null,"物質名称（英語名）"]
[null,null,null,null,null,null,null,null,null,null,null,null,null,null,null,null,null,"能力\n(kg／年）"]
[null,null,null,null,null,null,null,null,null,null,null,null,null,null,null,null,null,"生産能力の計算方法"]
[null,null,null,null,null,null,null,null,null,null,null,"第一種指定物質の生産能力(5)",null,null,null,null,null,"CAS番号"]
[null,null,null,null,null,null,null,null,null,null,null,null,null,null,null,null,null,"※「CAS番号なし」の場合入力\nCAS番号"]
[null,null,null,null,null,null,null,null,null,null,null,null,null,null,null,null,null,"物質名称（英語名）"]
[null,null,null,null,null,null,null,null,null,null,null,null,null,null,null,null,null,"能力\n(kg／年）"]
[null,null,null,null,null,null,null,null,null,null,null,null,null,null,null,null,null,"生産能力の計算方法"]
[null,null,null,null,null,null,null,null,null,null,null,"第一種指定物質の生産能力(6)",null,null,null,null,null,"CAS番号"]
[null,null,null,null,null,null,null,null,null,null,null,null,null,null,null,null,null,"※「CAS番号なし」の場合入力\nCAS番号"]
[null,null,null,null,null,null,null,null,null,null,null,null,null,null,null,null,null,"物質名称（英語名）"]
[null,null,null,null,null,null,null,null,null,null,null,null,null,null,null,null,null,"能力\n(kg／年）"]
[null,null,null,null,null,null,null,null,null,null,null,null,null,null,null,null,null,"生産能力の計算方法"]
[null,"今後の項目追加に備えての空行"]
[]
[]
[]
[]
[]
[]
[]
[]
[]
[]
[]
[]
[]
[]
[]
[]
[]
[]
[]
[]
[]
[]
[]
[]
[]
[]
[]
[]
[]
[]
[]
[]
[]
[]
[null,"Formに記載する表2剤に関する活動の目的を入力してください。"]
[null,"Form2.4作成のための入力ブロック"]
[]
[null,"作成枚数：",null,1,null,null,null,"←初めに選択してください。"]
[null,"今後の項目追加に備えての空行"]
[]
[]
[]
[]
[]
[]
[]
[]
[]
[]
[null,null,null,null,null,null,null,null,null,null,null,null,null,null,null,null,null,null,null,null,null,"英語",null,"自動入力チェック"]
[null,"表2剤に関する活動の目的（１）",null,null,null,null,"CAS番号",null,null,null,null,null,null,null,null,null,null,null,null,null,null,null,null,{"$f":"IF($V1096=\"\",\"未入力\",\"\")","v":"未入力"}]
[null,null,null,null,null,null,"※「CAS番号なし」の場合入力\nCAS番号",null,null,null,null,null,null,null,null,null,null,null,null,null,null,null,null,{"$f":"IF(AND($V1096=STRING_NOCAS, $V1097=\"\"),\"未入力\",\"\")","v":""}]
[null,null,null,null,null,null,"物質名称（英語名）",null,null,null,null,null,null,null,null,null,null,null,null,null,null,null,null,{"$f":"IF($V1098=\"\",\"未入力\",\"\")","v":"未入力"}]
[null,null,null,null,null,null,"一般名又は取引名"]
[null,null,null,null,null,null,"化学構造式"]
[null,null,null,null,null,null,"実績数量(kg)",null,null,null,null,null,null,null,"生産",null,null,null,null,null,null,null,null,{"$f":"IF($V1101=\"\",\"未入力\",\"\")","v":"未入力"}]
[null,null,null,null,null,null,null,null,null,null,null,null,null,null,"加工",null,null,null,null,null,null,null,null,{"$f":"IF($V1102=\"\",\"未入力\",\"\")","v":"未入力"}]
[null,null,null,null,null,null,null,null,null,null,null,null,null,null,"消費",null,null,null,null,null,null,null,null,{"$f":"IF($V1103=\"\",\"未入力\",\"\")","v":"未入力"}]
[null,null,null,null,null,null,null,null,null,null,null,null,null,null,"輸入",null,null,null,null,null,null,null,null,{"$f":"IF($V1104=\"\",\"未入力\",\"\")","v":"未入力"}]
[null,null,null,null,null,null,null,null,null,null,null,null,null,null,"輸出",null,null,null,null,null,null,null,null,{"$f":"IF($V1105=\"\",\"未入力\",\"\")","v":"未入力"}]
[null,null,null,null,null,null,null,null,null,null,null,null,null,null,null,null,null,null,null,null,null,{"$f":"IF(V1107=\"\",\"\",V1107)","v":""},null,{"$f":"IF(AND(V1106=\"\", OR(V1102>0, V1103>0)),\"未入力\",\"\")","v":""}]
[null,null,null,null,null,null,"加工・消費している場合の製品の種類\n（シート保護対策非表示）",null,null,null,null,null,null,null,null,null,null,null,null,null,null,null,null,""]
[null,null,null,null,null,null,null,null,null,null,null,null,null,null,null,null,null,null,null,null,null,null,null,""]
[null,null,null,null,null,null,null,null,null,null,null,null,null,null,null,null,null,null,null,null,null,null,null,""]
[null,null,null,null,null,null,null,null,null,null,null,null,null,null,null,null,null,null,null,null,null,null,null,""]
[null,null,null,null,null,null,"事業所からの表2剤の直接輸出",null,null,null,null,null,null,null,"直接輸出の有無",null,null,null,null,null,null,null,null,{"$f":"IF(AND($V1111=\"\"),\"未入力\",\"\")","v":"未入力"}]
[null,null,null,null,null,null,null,null,null,null,null,null,null,null,"直接輸出先の国",null,null,null,null,null,null,null,null,""]
[null,null,null,null,null,null,null,null,null,null,null,null,null,null,null,null,null,null,null,null,null,null,null,""]
[null,null,null,null,null,null,null,null,null,null,null,null,null,null,null,null,null,null,null,null,null,null,null,""]
[null,null,null,null,null,null,null,null,null,null,null,null,null,null,null,null,null,null,null,null,null,null,null,""]
[null,null,null,null,null,null,null,null,null,null,null,null,null,null,null,null,null,null,null,null,null,null,null,""]
[null,null,null,null,null,null,null,null,null,null,null,null,null,null,null,null,null,null,null,null,null,null,null,""]
[null,null,null,null,null,null,"国内での販売又は移転の有無",null,null,null,null,null,null,null,"他産業:Other  industry",null,null,null,null,null,null,null,null,{"$f":"IF(AND($V1118=\"\"),\"未入力\",\"\")","v":"未入力"}]
[null,null,null,null,null,null,null,null,null,null,null,null,null,null,"流通:Trader",null,null,null,null,null,null,null,null,{"$f":"IF(AND($V1119=\"\"),\"未入力\",\"\")","v":"未入力"}]
[null,null,null,null,null,null,null,null,null,null,null,null,null,null,"その他:Other destination",null,null,null,null,null,null,null,null,{"$f":"IF(AND($V1120=\"\"),\"未入力\",\"\")","v":"未入力"}]
[null,null,null,null,null,null,null,null,null,null,null,null,null,null,null,null,null,null,null,null,null,{"$f":"IF(V1122=\"\",\"\",V1122)","v":""},null,""]
[null,null,null,null,null,null,"把握可能であれば、最終製品の種類\n（シート保護対策非表示）",null,null,null,null,null,null,null,null,null,null,null,null,null,null,"",null,""]
[null,null,null,null,null,null,null,null,null,null,null,null,null,null,null,null,null,null,null,null,null,null,null,""]
[null,null,null,null,null,null,null,null,null,null,null,null,null,null,null,null,null,null,null,null,null,null,null,""]
[null,null,null,null,null,null,null,null,null,null,null,null,null,null,null,null,null,null,null,null,null,null,null,""]
[null,null,null,null,null,null,"上記以外の活動の目的があれば具体的に入力して下さい。(英語で入力）",null,null,null,null,null,null,null,null,null,null,null,null,null,null,null,null,""]
[null,"今後の項目追加に備えての空行"]
[]
[]
[]
[]
[]
[]
[]
[]
[]
[null,null,null,null,null,null,null,null,null,null,null,null,null,null,null,null,null,null,null,null,null,"英語",null,"自動入力チェック"]
[null,"表2剤に関する活動の目的（２）",null,null,null,null,"CAS番号",null,null,null,null,null,null,null,null,null,null,null,null,null,null,null,null,{"$f":"IF($V1138=\"\",\"未入力\",\"\")","v":"未入力"}]
[null,null,null,null,null,null,"※「CAS番号なし」の場合入力\nCAS番号",null,null,null,null,null,null,null,null,null,null,null,null,null,null,null,null,{"$f":"IF(AND($V1138=STRING_NOCAS, $V1139=\"\"),\"未入力\",\"\")","v":""}]
[null,null,null,null,null,null,"物質名称（英語名）",null,null,null,null,null,null,null,null,null,null,null,null,null,null,null,null,{"$f":"IF($V1140=\"\",\"未入力\",\"\")","v":"未入力"}]
[null,null,null,null,null,null,"一般名又は取引名"]
[null,null,null,null,null,null,"化学構造式"]
[null,null,null,null,null,null,"実績数量(kg)",null,null,null,null,null,null,null,"生産",null,null,null,null,null,null,null,null,{"$f":"IF($V1143=\"\",\"未入力\",\"\")","v":"未入力"}]
[null,null,null,null,null,null,null,null,null,null,null,null,null,null,"加工",null,null,null,null,null,null,null,null,{"$f":"IF($V1144=\"\",\"未入力\",\"\")","v":"未入力"}]
[null,null,null,null,null,null,null,null,null,null,null,null,null,null,"消費",null,null,null,null,null,null,null,null,{"$f":"IF($V1145=\"\",\"未入力\",\"\")","v":"未入力"}]
[null,null,null,null,null,null,null,null,null,null,null,null,null,null,"輸入",null,null,null,null,null,null,null,null,{"$f":"IF($V1146=\"\",\"未入力\",\"\")","v":"未入力"}]
[null,null,null,null,null,null,null,null,null,null,null,null,null,null,"輸出",null,null,null,null,null,null,null,null,{"$f":"IF($V1147=\"\",\"未入力\",\"\")","v":"未入力"}]
[null,null,null,null,null,null,null,null,null,null,null,null,null,null,null,null,null,null,null,null,null,{"$f":"IF(V1149=\"\",\"\",V1149)","v":""},null,{"$f":"IF(AND(V1148=\"\", OR(V1144>0, V1145>0)),\"未入力\",\"\")","v":""}]
[null,null,null,null,null,null,"加工・消費している場合の製品の種類\n（シート保護対策非表示）",null,null,null,null,null,null,null,null,null,null,null,null,null,null,"",null,""]
[null,null,null,null,null,null,null,null,null,null,null,null,null,null,null,null,null,null,null,null,null,null,null,""]
[null,null,null,null,null,null,null,null,null,null,null,null,null,null,null,null,null,null,null,null,null,null,null,""]
[null,null,null,null,null,null,null,null,null,null,null,null,null,null,null,null,null,null,null,null,null,null,null,""]
[null,null,null,null,null,null,"事業所からの表2剤の直接輸出",null,null,null,null,null,null,null,"直接輸出の有無",null,null,null,null,null,null,null,null,{"$f":"IF(AND($V1153=\"\"),\"未入力\",\"\")","v":"未入力"}]
[null,null,null,null,null,null,null,null,null,null,null,null,null,null,"直接輸出先の国",null,null,null,null,null,null,null,null,""]
[null,null,null,null,null,null,null,null,null,null,null,null,null,null,null,null,null,null,null,null,null,null,null,""]
[null,null,null,null,null,null,null,null,null,null,null,null,null,null,null,null,null,null,null,null,null,null,null,""]
[null,null,null,null,null,null,null,null,null,null,null,null,null,null,null,null,null,null,null,null,null,null,null,""]
[null,null,null,null,null,null,null,null,null,null,null,null,null,null,null,null,null,null,null,null,null,null,null,""]
[null,null,null,null,null,null,null,null,null,null,null,null,null,null,null,null,null,null,null,null,null,null,null,""]
[null,null,null,null,null,null,"国内での販売又は移転の有無",null,null,null,null,null,null,null,"他産業:Other  industry",null,null,null,null,null,null,null,null,{"$f":"IF(AND($V1160=\"\"),\"未入力\",\"\")","v":"未入力"}]
[null,null,null,null,null,null,null,null,null,null,null,null,null,null,"流通:Trader",null,null,null,null,null,null,null,null,{"$f":"IF(AND($V1161=\"\"),\"未入力\",\"\")","v":"未入力"}]
[null,null,null,null,null,null,null,null,null,null,null,null,null,null,"その他:Other destination",null,null,null,null,null,null,null,null,{"$f":"IF(AND($V1162=\"\"),\"未入力\",\"\")","v":"未入力"}]
[null,null,null,null,null,null,null,null,null,null,null,null,null,null,null,null,null,null,null,null,null,{"$f":"IF(V1164=\"\",\"\",V1164)","v":""},null,""]
[null,null,null,null,null,null,"把握可能であれば、最終製品の種類\n（シート保護対策非表示）",null,null,null,null,null,null,null,null,null,null,null,null,null,null,"",null,""]
[null,null,null,null,null,null,null,null,null,null,null,null,null,null,null,null,null,null,null,null,null,null,null,""]
[null,null,null,null,null,null,null,null,null,null,null,null,null,null,null,null,null,null,null,null,null,null,null,""]
[null,null,null,null,null,null,null,null,null,null,null,null,null,null,null,null,null,null,null,null,null,null,null,""]
[null,null,null,null,null,null,"上記以外の活動の目的があれば具体的に入力して下さい。(英語で入力）",null,null,null,null,null,null,null,null,null,null,null,null,null,null,null,null,""]
[null,"今後の項目追加に備えての空行"]
[]
[]
[]
[]
[]
[]
[]
[]
[]
[null,null,null,null,null,null,null,null,null,null,null,null,null,null,null,null,null,null,null,null,null,"英語",null,"自動入力チェック"]
[null,"表2剤に関する活動の目的（３）",null,null,null,null,"CAS番号",null,null,null,null,null,null,null,null,null,null,null,null,null,null,null,null,{"$f":"IF($V1180=\"\",\"未入力\",\"\")","v":"未入力"}]
[null,null,null,null,null,null,"※「CAS番号なし」の場合入力\nCAS番号",null,null,null,null,null,null,null,null,null,null,null,null,null,null,null,null,{"$f":"IF(AND($V1180=STRING_NOCAS, $V1181=\"\"),\"未入力\",\"\")","v":""}]
[null,null,null,null,null,null,"物質名称（英語名）",null,null,null,null,null,null,null,null,null,null,null,null,null,null,null,null,{"$f":"IF($V1182=\"\",\"未入力\",\"\")","v":"未入力"}]
[null,null,null,null,null,null,"一般名又は取引名"]
[null,null,null,null,null,null,"化学構造式"]
[null,null,null,null,null,null,"実績数量(kg)",null,null,null,null,null,null,null,"生産",null,null,null,null,null,null,null,null,{"$f":"IF($V1185=\"\",\"未入力\",\"\")","v":"未入力"}]
[null,null,null,null,null,null,null,null,null,null,null,null,null,null,"加工",null,null,null,null,null,null,null,null,{"$f":"IF($V1186=\"\",\"未入力\",\"\")","v":"未入力"}]
[null,null,null,null,null,null,null,null,null,null,null,null,null,null,"消費",null,null,null,null,null,null,null,null,{"$f":"IF($V1187=\"\",\"未入力\",\"\")","v":"未入力"}]
[null,null,null,null,null,null,null,null,null,null,null,null,null,null,"輸入",null,null,null,null,null,null,null,null,{"$f":"IF($V1188=\"\",\"未入力\",\"\")","v":"未入力"}]
[null,null,null,null,null,null,null,null,null,null,null,null,null,null,"輸出",null,null,null,null,null,null,null,null,{"$f":"IF($V1189=\"\",\"未入力\",\"\")","v":"未入力"}]
[null,null,null,null,null,null,null,null,null,null,null,null,null,null,null,null,null,null,null,null,null,{"$f":"IF(V1191=\"\",\"\",V1191)","v":""},null,{"$f":"IF(AND(V1190=\"\", OR(V1186>0, V1187>0)),\"未入力\",\"\")","v":""}]
[null,null,null,null,null,null,"加工・消費している場合の製品の種類\n（シート保護対策非表示）",null,null,null,null,null,null,null,null,null,null,null,null,null,null,"",null,""]
[null,null,null,null,null,null,null,null,null,null,null,null,null,null,null,null,null,null,null,null,null,null,null,""]
[null,null,null,null,null,null,null,null,null,null,null,null,null,null,null,null,null,null,null,null,null,null,null,""]
[null,null,null,null,null,null,null,null,null,null,null,null,null,null,null,null,null,null,null,null,null,null,null,""]
[null,null,null,null,null,null,"事業所からの表2剤の直接輸出",null,null,null,null,null,null,null,"直接輸出の有無",null,null,null,null,null,null,null,null,{"$f":"IF(AND($V1195=\"\"),\"未入力\",\"\")","v":"未入力"}]
[null,null,null,null,null,null,null,null,null,null,null,null,null,null,"直接輸出先の国",null,null,null,null,null,null,null,null,""]
[null,null,null,null,null,null,null,null,null,null,null,null,null,null,null,null,null,null,null,null,null,null,null,""]
[null,null,null,null,null,null,null,null,null,null,null,null,null,null,null,null,null,null,null,null,null,null,null,""]
[null,null,null,null,null,null,null,null,null,null,null,null,null,null,null,null,null,null,null,null,null,null,null,""]
[null,null,null,null,null,null,null,null,null,null,null,null,null,null,null,null,null,null,null,null,null,null,null,""]
[null,null,null,null,null,null,null,null,null,null,null,null,null,null,null,null,null,null,null,null,null,null,null,""]
[null,null,null,null,null,null,"国内での販売又は移転の有無",null,null,null,null,null,null,null,"他産業:Other  industry",null,null,null,null,null,null,null,null,{"$f":"IF(AND($V1202=\"\"),\"未入力\",\"\")","v":"未入力"}]
[null,null,null,null,null,null,null,null,null,null,null,null,null,null,"流通:Trader",null,null,null,null,null,null,null,null,{"$f":"IF(AND($V1203=\"\"),\"未入力\",\"\")","v":"未入力"}]
[null,null,null,null,null,null,null,null,null,null,null,null,null,null,"その他:Other destination",null,null,null,null,null,null,null,null,{"$f":"IF(AND($V1204=\"\"),\"未入力\",\"\")","v":"未入力"}]
[null,null,null,null,null,null,null,null,null,null,null,null,null,null,null,null,null,null,null,null,null,{"$f":"IF(V1206=\"\",\"\",V1206)","v":""},null,""]
[null,null,null,null,null,null,"把握可能であれば、最終製品の種類\n（シート保護対策非表示）",null,null,null,null,null,null,null,null,null,null,null,null,null,null,"",null,""]
[null,null,null,null,null,null,null,null,null,null,null,null,null,null,null,null,null,null,null,null,null,null,null,""]
[null,null,null,null,null,null,null,null,null,null,null,null,null,null,null,null,null,null,null,null,null,null,null,""]
[null,null,null,null,null,null,null,null,null,null,null,null,null,null,null,null,null,null,null,null,null,null,null,""]
[null,null,null,null,null,null,"上記以外の活動の目的があれば具体的に入力して下さい。(英語で入力）",null,null,null,null,null,null,null,null,null,null,null,null,null,null,null,null,""]
[null,"今後の項目追加に備えての空行"]
[]
[]
[]
[]
[]
[]
[]
[]
[]
[null,null,null,null,null,null,null,null,null,null,null,null,null,null,null,null,null,null,null,null,null,"英語",null,"自動入力チェック"]
[null,"表2剤に関する活動の目的（４）",null,null,null,null,"CAS番号",null,null,null,null,null,null,null,null,null,null,null,null,null,null,null,null,{"$f":"IF($V1222=\"\",\"未入力\",\"\")","v":"未入力"}]
[null,null,null,null,null,null,"※「CAS番号なし」の場合入力\nCAS番号",null,null,null,null,null,null,null,null,null,null,null,null,null,null,null,null,{"$f":"IF(AND($V1222=STRING_NOCAS, $V1223=\"\"),\"未入力\",\"\")","v":""}]
[null,null,null,null,null,null,"物質名称（英語名）",null,null,null,null,null,null,null,null,null,null,null,null,null,null,null,null,{"$f":"IF($V1224=\"\",\"未入力\",\"\")","v":"未入力"}]
[null,null,null,null,null,null,"一般名又は取引名"]
[null,null,null,null,null,null,"化学構造式"]
[null,null,null,null,null,null,"実績数量(kg)",null,null,null,null,null,null,null,"生産",null,null,null,null,null,null,null,null,{"$f":"IF($V1227=\"\",\"未入力\",\"\")","v":"未入力"}]
[null,null,null,null,null,null,null,null,null,null,null,null,null,null,"加工",null,null,null,null,null,null,null,null,{"$f":"IF($V1228=\"\",\"未入力\",\"\")","v":"未入力"}]
[null,null,null,null,null,null,null,null,null,null,null,null,null,null,"消費",null,null,null,null,null,null,null,null,{"$f":"IF($V1229=\"\",\"未入力\",\"\")","v":"未入力"}]
[null,null,null,null,null,null,null,null,null,null,null,null,null,null,"輸入",null,null,null,null,null,null,null,null,{"$f":"IF($V1230=\"\",\"未入力\",\"\")","v":"未入力"}]
[null,null,null,null,null,null,null,null,null,null,null,null,null,null,"輸出",null,null,null,null,null,null,null,null,{"$f":"IF($V1231=\"\",\"未入力\",\"\")","v":"未入力"}]
[null,null,null,null,null,null,null,null,null,null,null,null,null,null,null,null,null,null,null,null,null,{"$f":"IF(V1233=\"\",\"\",V1233)","v":""},null,{"$f":"IF(AND(V1232=\"\", OR(V1228>0, V1229>0)),\"未入力\",\"\")","v":""}]
[null,null,null,null,null,null,"加工・消費している場合の製品の種類\n（シート保護対策非表示）",null,null,null,null,null,null,null,null,null,null,null,null,null,null,"",null,""]
[null,null,null,null,null,null,null,null,null,null,null,null,null,null,null,null,null,null,null,null,null,null,null,""]
[null,null,null,null,null,null,null,null,null,null,null,null,null,null,null,null,null,null,null,null,null,null,null,""]
[null,null,null,null,null,null,null,null,null,null,null,null,null,null,null,null,null,null,null,null,null,null,null,""]
[null,null,null,null,null,null,"事業所からの表2剤の直接輸出",null,null,null,null,null,null,null,"直接輸出の有無",null,null,null,null,null,null,null,null,{"$f":"IF(AND($V1237=\"\"),\"未入力\",\"\")","v":"未入力"}]
[null,null,null,null,null,null,null,null,null,null,null,null,null,null,"直接輸出先の国",null,null,null,null,null,null,null,null,""]
[null,null,null,null,null,null,null,null,null,null,null,null,null,null,null,null,null,null,null,null,null,null,null,""]
[null,null,null,null,null,null,null,null,null,null,null,null,null,null,null,null,null,null,null,null,null,null,null,""]
[null,null,null,null,null,null,null,null,null,null,null,null,null,null,null,null,null,null,null,null,null,null,null,""]
[null,null,null,null,null,null,null,null,null,null,null,null,null,null,null,null,null,null,null,null,null,null,null,""]
[null,null,null,null,null,null,null,null,null,null,null,null,null,null,null,null,null,null,null,null,null,null,null,""]
[null,null,null,null,null,null,"国内での販売又は移転の有無",null,null,null,null,null,null,null,"他産業:Other  industry",null,null,null,null,null,null,null,null,{"$f":"IF(AND($V1244=\"\"),\"未入力\",\"\")","v":"未入力"}]
[null,null,null,null,null,null,null,null,null,null,null,null,null,null,"流通:Trader",null,null,null,null,null,null,null,null,{"$f":"IF(AND($V1245=\"\"),\"未入力\",\"\")","v":"未入力"}]
[null,null,null,null,null,null,null,null,null,null,null,null,null,null,"その他:Other destination",null,null,null,null,null,null,null,null,{"$f":"IF(AND($V1246=\"\"),\"未入力\",\"\")","v":"未入力"}]
[null,null,null,null,null,null,null,null,null,null,null,null,null,null,null,null,null,null,null,null,null,{"$f":"IF(V1248=\"\",\"\",V1248)","v":""},null,""]
[null,null,null,null,null,null,"把握可能であれば、最終製品の種類\n（シート保護対策非表示）",null,null,null,null,null,null,null,null,null,null,null,null,null,null,"",null,""]
[null,null,null,null,null,null,null,null,null,null,null,null,null,null,null,null,null,null,null,null,null,null,null,""]
[null,null,null,null,null,null,null,null,null,null,null,null,null,null,null,null,null,null,null,null,null,null,null,""]
[null,null,null,null,null,null,null,null,null,null,null,null,null,null,null,null,null,null,null,null,null,null,null,""]
[null,null,null,null,null,null,"上記以外の活動の目的があれば具体的に入力して下さい。(英語で入力）",null,null,null,null,null,null,null,null,null,null,null,null,null,null,null,null,""]
[null,"今後の項目追加に備えての空行"]
[]
[]
[]
[]
[]
[]
[]
[]
[]
[null,null,null,null,null,null,null,null,null,null,null,null,null,null,null,null,null,null,null,null,null,"英語",null,"自動入力チェック"]
[null,"表2剤に関する活動の目的（５）",null,null,null,null,"CAS番号",null,null,null,null,null,null,null,null,null,null,null,null,null,null,null,null,{"$f":"IF($V1264=\"\",\"未入力\",\"\")","v":"未入力"}]
[null,null,null,null,null,null,"※「CAS番号なし」の場合入力\nCAS番号",null,null,null,null,null,null,null,null,null,null,null,null,null,null,null,null,{"$f":"IF(AND($V1264=STRING_NOCAS, $V1265=\"\"),\"未入力\",\"\")","v":""}]
[null,null,null,null,null,null,"物質名称（英語名）",null,null,null,null,null,null,null,null,null,null,null,null,null,null,null,null,{"$f":"IF($V1266=\"\",\"未入力\",\"\")","v":"未入力"}]
[null,null,null,null,null,null,"一般名又は取引名"]
[null,null,null,null,null,null,"化学構造式"]
[null,null,null,null,null,null,"実績数量(kg)",null,null,null,null,null,null,null,"生産",null,null,null,null,null,null,null,null,{"$f":"IF($V1269=\"\",\"未入力\",\"\")","v":"未入力"}]
[null,null,null,null,null,null,null,null,null,null,null,null,null,null,"加工",null,null,null,null,null,null,null,null,{"$f":"IF($V1270=\"\",\"未入力\",\"\")","v":"未入力"}]
[null,null,null,null,null,null,null,null,null,null,null,null,null,null,"消費",null,null,null,null,null,null,null,null,{"$f":"IF($V1271=\"\",\"未入力\",\"\")","v":"未入力"}]
[null,null,null,null,null,null,null,null,null,null,null,null,null,null,"輸入",null,null,null,null,null,null,null,null,{"$f":"IF($V1272=\"\",\"未入力\",\"\")","v":"未入力"}]
[null,null,null,null,null,null,null,null,null,null,null,null,null,null,"輸出",null,null,null,null,null,null,null,null,{"$f":"IF($V1273=\"\",\"未入力\",\"\")","v":"未入力"}]
[null,null,null,null,null,null,null,null,null,null,null,null,null,null,null,null,null,null,null,null,null,{"$f":"IF(V1275=\"\",\"\",V1275)","v":""},null,{"$f":"IF(AND(V1274=\"\", OR(V1270>0, V1271>0)),\"未入力\",\"\")","v":""}]
[null,null,null,null,null,null,"加工・消費している場合の製品の種類\n（シート保護対策非表示）",null,null,null,null,null,null,null,null,null,null,null,null,null,null,"",null,""]
[null,null,null,null,null,null,null,null,null,null,null,null,null,null,null,null,null,null,null,null,null,null,null,""]
[null,null,null,null,null,null,null,null,null,null,null,null,null,null,null,null,null,null,null,null,null,null,null,""]
[null,null,null,null,null,null,null,null,null,null,null,null,null,null,null,null,null,null,null,null,null,null,null,""]
[null,null,null,null,null,null,"事業所からの表2剤の直接輸出",null,null,null,null,null,null,null,"直接輸出の有無",null,null,null,null,null,null,null,null,{"$f":"IF(AND($V1279=\"\"),\"未入力\",\"\")","v":"未入力"}]
[null,null,null,null,null,null,null,null,null,null,null,null,null,null,"直接輸出先の国",null,null,null,null,null,null,null,null,""]
[null,null,null,null,null,null,null,null,null,null,null,null,null,null,null,null,null,null,null,null,null,null,null,""]
[null,null,null,null,null,null,null,null,null,null,null,null,null,null,null,null,null,null,null,null,null,null,null,""]
[null,null,null,null,null,null,null,null,null,null,null,null,null,null,null,null,null,null,null,null,null,null,null,""]
[null,null,null,null,null,null,null,null,null,null,null,null,null,null,null,null,null,null,null,null,null,null,null,""]
[null,null,null,null,null,null,null,null,null,null,null,null,null,null,null,null,null,null,null,null,null,null,null,""]
[null,null,null,null,null,null,"国内での販売又は移転の有無",null,null,null,null,null,null,null,"他産業:Other  industry",null,null,null,null,null,null,null,null,{"$f":"IF(AND($V1286=\"\"),\"未入力\",\"\")","v":"未入力"}]
[null,null,null,null,null,null,null,null,null,null,null,null,null,null,"流通:Trader",null,null,null,null,null,null,null,null,{"$f":"IF(AND($V1287=\"\"),\"未入力\",\"\")","v":"未入力"}]
[null,null,null,null,null,null,null,null,null,null,null,null,null,null,"その他:Other destination",null,null,null,null,null,null,null,null,{"$f":"IF(AND($V1288=\"\"),\"未入力\",\"\")","v":"未入力"}]
[null,null,null,null,null,null,null,null,null,null,null,null,null,null,null,null,null,null,null,null,null,{"$f":"IF(V1290=\"\",\"\",V1290)","v":""},null,""]
[null,null,null,null,null,null,"把握可能であれば、最終製品の種類\n（シート保護対策非表示）",null,null,null,null,null,null,null,null,null,null,null,null,null,null,"",null,""]
[null,null,null,null,null,null,null,null,null,null,null,null,null,null,null,null,null,null,null,null,null,null,null,""]
[null,null,null,null,null,null,null,null,null,null,null,null,null,null,null,null,null,null,null,null,null,null,null,""]
[null,null,null,null,null,null,null,null,null,null,null,null,null,null,null,null,null,null,null,null,null,null,null,""]
[null,null,null,null,null,null,"上記以外の活動の目的があれば具体的に入力して下さい。(英語で入力）",null,null,null,null,null,null,null,null,null,null,null,null,null,null,null,null,""]
[null,"今後の項目追加に備えての空行"]
[]
[]
[]
[]
[]
[]
[]
[]
[]
[null,null,null,null,null,null,null,null,null,null,null,null,null,null,null,null,null,null,null,null,null,"英語",null,"自動入力チェック"]
[null,"表2剤に関する活動の目的（６）",null,null,null,null,"CAS番号",null,null,null,null,null,null,null,null,null,null,null,null,null,null,null,null,{"$f":"IF($V1306=\"\",\"未入力\",\"\")","v":"未入力"}]
[null,null,null,null,null,null,"※「CAS番号なし」の場合入力\nCAS番号",null,null,null,null,null,null,null,null,null,null,null,null,null,null,null,null,{"$f":"IF(AND($V1306=STRING_NOCAS, $V1307=\"\"),\"未入力\",\"\")","v":""}]
[null,null,null,null,null,null,"物質名称（英語名）",null,null,null,null,null,null,null,null,null,null,null,null,null,null,null,null,{"$f":"IF($V1308=\"\",\"未入力\",\"\")","v":"未入力"}]
[null,null,null,null,null,null,"一般名又は取引名"]
[null,null,null,null,null,null,"化学構造式"]
[null,null,null,null,null,null,"実績数量(kg)",null,null,null,null,null,null,null,"生産",null,null,null,null,null,null,null,null,{"$f":"IF($V1311=\"\",\"未入力\",\"\")","v":"未入力"}]
[null,null,null,null,null,null,null,null,null,null,null,null,null,null,"加工",null,null,null,null,null,null,null,null,{"$f":"IF($V1312=\"\",\"未入力\",\"\")","v":"未入力"}]
[null,null,null,null,null,null,null,null,null,null,null,null,null,null,"消費",null,null,null,null,null,null,null,null,{"$f":"IF($V1313=\"\",\"未入力\",\"\")","v":"未入力"}]
[null,null,null,null,null,null,null,null,null,null,null,null,null,null,"輸入",null,null,null,null,null,null,null,null,{"$f":"IF($V1314=\"\",\"未入力\",\"\")","v":"未入力"}]
[null,null,null,null,null,null,null,null,null,null,null,null,null,null,"輸出",null,null,null,null,null,null,null,null,{"$f":"IF($V1315=\"\",\"未入力\",\"\")","v":"未入力"}]
[null,null,null,null,null,null,null,null,null,null,null,null,null,null,null,null,null,null,null,null,null,{"$f":"IF(V1317=\"\",\"\",V1317)","v":""},null,{"$f":"IF(AND(V1316=\"\", OR(V1312>0, V1313>0)),\"未入力\",\"\")","v":""}]
[null,null,null,null,null,null,"加工・消費している場合の製品の種類\n（シート保護対策非表示）",null,null,null,null,null,null,null,null,null,null,null,null,null,null,"",null,""]
[null,null,null,null,null,null,null,null,null,null,null,null,null,null,null,null,null,null,null,null,null,null,null,""]
[null,null,null,null,null,null,null,null,null,null,null,null,null,null,null,null,null,null,null,null,null,null,null,""]
[null,null,null,null,null,null,null,null,null,null,null,null,null,null,null,null,null,null,null,null,null,null,null,""]
[null,null,null,null,null,null,"事業所からの表2剤の直接輸出",null,null,null,null,null,null,null,"直接輸出の有無",null,null,null,null,null,null,null,null,{"$f":"IF(AND($V1321=\"\"),\"未入力\",\"\")","v":"未入力"}]
[null,null,null,null,null,null,null,null,null,null,null,null,null,null,"直接輸出先の国",null,null,null,null,null,null,null,null,""]
[null,null,null,null,null,null,null,null,null,null,null,null,null,null,null,null,null,null,null,null,null,null,null,""]
[null,null,null,null,null,null,null,null,null,null,null,null,null,null,null,null,null,null,null,null,null,null,null,""]
[null,null,null,null,null,null,null,null,null,null,null,null,null,null,null,null,null,null,null,null,null,null,null,""]
[null,null,null,null,null,null,null,null,null,null,null,null,null,null,null,null,null,null,null,null,null,null,null,""]
[null,null,null,null,null,null,null,null,null,null,null,null,null,null,null,null,null,null,null,null,null,null,null,""]
[null,null,null,null,null,null,"国内での販売又は移転の有無",null,null,null,null,null,null,null,"他産業:Other  industry",null,null,null,null,null,null,null,null,{"$f":"IF(AND($V1328=\"\"),\"未入力\",\"\")","v":"未入力"}]
[null,null,null,null,null,null,null,null,null,null,null,null,null,null,"流通:Trader",null,null,null,null,null,null,null,null,{"$f":"IF(AND($V1329=\"\"),\"未入力\",\"\")","v":"未入力"}]
[null,null,null,null,null,null,null,null,null,null,null,null,null,null,"その他:Other destination",null,null,null,null,null,null,null,null,{"$f":"IF(AND($V1330=\"\"),\"未入力\",\"\")","v":"未入力"}]
[null,null,null,null,null,null,null,null,null,null,null,null,null,null,null,null,null,null,null,null,null,{"$f":"IF(V1332=\"\",\"\",V1332)","v":""},null,""]
[null,null,null,null,null,null,"把握可能であれば、最終製品の種類\n（シート保護対策非表示）",null,null,null,null,null,null,null,null,null,null,null,null,null,null,"",null,""]
[null,null,null,null,null,null,null,null,null,null,null,null,null,null,null,null,null,null,null,null,null,null,null,""]
[null,null,null,null,null,null,null,null,null,null,null,null,null,null,null,null,null,null,null,null,null,null,null,""]
[null,null,null,null,null,null,null,null,null,null,null,null,null,null,null,null,null,null,null,null,null,null,null,""]
[null,null,null,null,null,null,"上記以外の活動の目的があれば具体的に入力して下さい。(英語で入力）",null,null,null,null,null,null,null,null,null,null,null,null,null,null,null,null,""]
[null,"今後の項目追加に備えての空行"]
[]
[]
[]
[]
[]
[]
[]
[]
[]
[null,null,null,null,null,null,null,null,null,null,null,null,null,null,null,null,null,null,null,null,null,"英語",null,"自動入力チェック"]
[null,"表2剤に関する活動の目的（７）",null,null,null,null,"CAS番号",null,null,null,null,null,null,null,null,null,null,null,null,null,null,null,null,{"$f":"IF($V1348=\"\",\"未入力\",\"\")","v":"未入力"}]
[null,null,null,null,null,null,"※「CAS番号なし」の場合入力\nCAS番号",null,null,null,null,null,null,null,null,null,null,null,null,null,null,null,null,{"$f":"IF(AND($V1348=STRING_NOCAS, $V1349=\"\"),\"未入力\",\"\")","v":""}]
[null,null,null,null,null,null,"物質名称（英語名）",null,null,null,null,null,null,null,null,null,null,null,null,null,null,null,null,{"$f":"IF($V1350=\"\",\"未入力\",\"\")","v":"未入力"}]
[null,null,null,null,null,null,"一般名又は取引名"]
[null,null,null,null,null,null,"化学構造式"]
[null,null,null,null,null,null,"実績数量(kg)",null,null,null,null,null,null,null,"生産",null,null,null,null,null,null,null,null,{"$f":"IF($V1353=\"\",\"未入力\",\"\")","v":"未入力"}]
[null,null,null,null,null,null,null,null,null,null,null,null,null,null,"加工",null,null,null,null,null,null,null,null,{"$f":"IF($V1354=\"\",\"未入力\",\"\")","v":"未入力"}]
[null,null,null,null,null,null,null,null,null,null,null,null,null,null,"消費",null,null,null,null,null,null,null,null,{"$f":"IF($V1355=\"\",\"未入力\",\"\")","v":"未入力"}]
[null,null,null,null,null,null,null,null,null,null,null,null,null,null,"輸入",null,null,null,null,null,null,null,null,{"$f":"IF($V1356=\"\",\"未入力\",\"\")","v":"未入力"}]
[null,null,null,null,null,null,null,null,null,null,null,null,null,null,"輸出",null,null,null,null,null,null,null,null,{"$f":"IF($V1357=\"\",\"未入力\",\"\")","v":"未入力"}]
[null,null,null,null,null,null,null,null,null,null,null,null,null,null,null,null,null,null,null,null,null,{"$f":"IF(V1359=\"\",\"\",V1359)","v":""},null,{"$f":"IF(AND(V1358=\"\", OR(V1354>0, V1355>0)),\"未入力\",\"\")","v":""}]
[null,null,null,null,null,null,"加工・消費している場合の製品の種類\n（シート保護対策非表示）",null,null,null,null,null,null,null,null,null,null,null,null,null,null,"",null,""]
[null,null,null,null,null,null,null,null,null,null,null,null,null,null,null,null,null,null,null,null,null,null,null,""]
[null,null,null,null,null,null,null,null,null,null,null,null,null,null,null,null,null,null,null,null,null,null,null,""]
[null,null,null,null,null,null,null,null,null,null,null,null,null,null,null,null,null,null,null,null,null,null,null,""]
[null,null,null,null,null,null,"事業所からの表2剤の直接輸出",null,null,null,null,null,null,null,"直接輸出の有無",null,null,null,null,null,null,null,null,{"$f":"IF(AND($V1363=\"\"),\"未入力\",\"\")","v":"未入力"}]
[null,null,null,null,null,null,null,null,null,null,null,null,null,null,"直接輸出先の国",null,null,null,null,null,null,null,null,""]
[null,null,null,null,null,null,null,null,null,null,null,null,null,null,null,null,null,null,null,null,null,null,null,""]
[null,null,null,null,null,null,null,null,null,null,null,null,null,null,null,null,null,null,null,null,null,null,null,""]
[null,null,null,null,null,null,null,null,null,null,null,null,null,null,null,null,null,null,null,null,null,null,null,""]
[null,null,null,null,null,null,null,null,null,null,null,null,null,null,null,null,null,null,null,null,null,null,null,""]
[null,null,null,null,null,null,null,null,null,null,null,null,null,null,null,null,null,null,null,null,null,null,null,""]
[null,null,null,null,null,null,"国内での販売又は移転の有無",null,null,null,null,null,null,null,"他産業:Other  industry",null,null,null,null,null,null,null,null,{"$f":"IF(AND($V1370=\"\"),\"未入力\",\"\")","v":"未入力"}]
[null,null,null,null,null,null,null,null,null,null,null,null,null,null,"流通:Trader",null,null,null,null,null,null,null,null,{"$f":"IF(AND($V1371=\"\"),\"未入力\",\"\")","v":"未入力"}]
[null,null,null,null,null,null,null,null,null,null,null,null,null,null,"その他:Other destination",null,null,null,null,null,null,null,null,{"$f":"IF(AND($V1372=\"\"),\"未入力\",\"\")","v":"未入力"}]
[null,null,null,null,null,null,null,null,null,null,null,null,null,null,null,null,null,null,null,null,null,{"$f":"IF(V1374=\"\",\"\",V1374)","v":""},null,""]
[null,null,null,null,null,null,"把握可能であれば、最終製品の種類\n（シート保護対策非表示）",null,null,null,null,null,null,null,null,null,null,null,null,null,null,"",null,""]
[null,null,null,null,null,null,null,null,null,null,null,null,null,null,null,null,null,null,null,null,null,null,null,""]
[null,null,null,null,null,null,null,null,null,null,null,null,null,null,null,null,null,null,null,null,null,null,null,""]
[null,null,null,null,null,null,null,null,null,null,null,null,null,null,null,null,null,null,null,null,null,null,null,""]
[null,null,null,null,null,null,"上記以外の活動の目的があれば具体的に入力して下さい。(英語で入力）",null,null,null,null,null,null,null,null,null,null,null,null,null,null,null,null,""]
[null,"今後の項目追加に備えての空行"]
[]
[]
[]
[]
[]
[]
[]
[]
[]
[null,null,null,null,null,null,null,null,null,null,null,null,null,null,null,null,null,null,null,null,null,"英語",null,"自動入力チェック"]
[null,"表2剤に関する活動の目的（８）",null,null,null,null,"CAS番号",null,null,null,null,null,null,null,null,null,null,null,null,null,null,null,null,{"$f":"IF($V1390=\"\",\"未入力\",\"\")","v":"未入力"}]
[null,null,null,null,null,null,"※「CAS番号なし」の場合入力\nCAS番号",null,null,null,null,null,null,null,null,null,null,null,null,null,null,null,null,{"$f":"IF(AND($V1390=STRING_NOCAS, $V1391=\"\"),\"未入力\",\"\")","v":""}]
[null,null,null,null,null,null,"物質名称（英語名）",null,null,null,null,null,null,null,null,null,null,null,null,null,null,null,null,{"$f":"IF($V1392=\"\",\"未入力\",\"\")","v":"未入力"}]
[null,null,null,null,null,null,"一般名又は取引名"]
[null,null,null,null,null,null,"化学構造式"]
[null,null,null,null,null,null,"実績数量(kg)",null,null,null,null,null,null,null,"生産",null,null,null,null,null,null,null,null,{"$f":"IF($V1395=\"\",\"未入力\",\"\")","v":"未入力"}]
[null,null,null,null,null,null,null,null,null,null,null,null,null,null,"加工",null,null,null,null,null,null,null,null,{"$f":"IF($V1396=\"\",\"未入力\",\"\")","v":"未入力"}]
[null,null,null,null,null,null,null,null,null,null,null,null,null,null,"消費",null,null,null,null,null,null,null,null,{"$f":"IF($V1397=\"\",\"未入力\",\"\")","v":"未入力"}]
[null,null,null,null,null,null,null,null,null,null,null,null,null,null,"輸入",null,null,null,null,null,null,null,null,{"$f":"IF($V1398=\"\",\"未入力\",\"\")","v":"未入力"}]
[null,null,null,null,null,null,null,null,null,null,null,null,null,null,"輸出",null,null,null,null,null,null,null,null,{"$f":"IF($V1399=\"\",\"未入力\",\"\")","v":"未入力"}]
[null,null,null,null,null,null,null,null,null,null,null,null,null,null,null,null,null,null,null,null,null,{"$f":"IF(V1401=\"\",\"\",V1401)","v":""},null,{"$f":"IF(AND(V1400=\"\", OR(V1396>0, V1397>0)),\"未入力\",\"\")","v":""}]
[null,null,null,null,null,null,"加工・消費している場合の製品の種類\n（シート保護対策非表示）",null,null,null,null,null,null,null,null,null,null,null,null,null,null,"",null,""]
[null,null,null,null,null,null,null,null,null,null,null,null,null,null,null,null,null,null,null,null,null,null,null,""]
[null,null,null,null,null,null,null,null,null,null,null,null,null,null,null,null,null,null,null,null,null,null,null,""]
[null,null,null,null,null,null,null,null,null,null,null,null,null,null,null,null,null,null,null,null,null,null,null,""]
[null,null,null,null,null,null,"事業所からの表2剤の直接輸出",null,null,null,null,null,null,null,"直接輸出の有無",null,null,null,null,null,null,null,null,{"$f":"IF(AND($V1405=\"\"),\"未入力\",\"\")","v":"未入力"}]
[null,null,null,null,null,null,null,null,null,null,null,null,null,null,"直接輸出先の国",null,null,null,null,null,null,null,null,""]
[null,null,null,null,null,null,null,null,null,null,null,null,null,null,null,null,null,null,null,null,null,null,null,""]
[null,null,null,null,null,null,null,null,null,null,null,null,null,null,null,null,null,null,null,null,null,null,null,""]
[null,null,null,null,null,null,null,null,null,null,null,null,null,null,null,null,null,null,null,null,null,null,null,""]
[null,null,null,null,null,null,null,null,null,null,null,null,null,null,null,null,null,null,null,null,null,null,null,""]
[null,null,null,null,null,null,null,null,null,null,null,null,null,null,null,null,null,null,null,null,null,null,null,""]
[null,null,null,null,null,null,"国内での販売又は移転の有無",null,null,null,null,null,null,null,"他産業:Other  industry",null,null,null,null,null,null,null,null,{"$f":"IF(AND($V1412=\"\"),\"未入力\",\"\")","v":"未入力"}]
[null,null,null,null,null,null,null,null,null,null,null,null,null,null,"流通:Trader",null,null,null,null,null,null,null,null,{"$f":"IF(AND($V1413=\"\"),\"未入力\",\"\")","v":"未入力"}]
[null,null,null,null,null,null,null,null,null,null,null,null,null,null,"その他:Other destination",null,null,null,null,null,null,null,null,{"$f":"IF(AND($V1414=\"\"),\"未入力\",\"\")","v":"未入力"}]
[null,null,null,null,null,null,null,null,null,null,null,null,null,null,null,null,null,null,null,null,null,{"$f":"IF(V1416=\"\",\"\",V1416)","v":""},null,""]
[null,null,null,null,null,null,"把握可能であれば、最終製品の種類\n（シート保護対策非表示）",null,null,null,null,null,null,null,null,null,null,null,null,null,null,"",null,""]
[null,null,null,null,null,null,null,null,null,null,null,null,null,null,null,null,null,null,null,null,null,null,null,""]
[null,null,null,null,null,null,null,null,null,null,null,null,null,null,null,null,null,null,null,null,null,null,null,""]
[null,null,null,null,null,null,null,null,null,null,null,null,null,null,null,null,null,null,null,null,null,null,null,""]
[null,null,null,null,null,null,"上記以外の活動の目的があれば具体的に入力して下さい。(英語で入力）",null,null,null,null,null,null,null,null,null,null,null,null,null,null,null,null,""]
[null,"今後の項目追加に備えての空行"]
[]
[]
[]
[]
[]
[]
[]
[]
[]
[null,null,null,null,null,null,null,null,null,null,null,null,null,null,null,null,null,null,null,null,null,"英語",null,"自動入力チェック"]
[null,"表2剤に関する活動の目的（９）",null,null,null,null,"CAS番号",null,null,null,null,null,null,null,null,null,null,null,null,null,null,null,null,{"$f":"IF($V1432=\"\",\"未入力\",\"\")","v":"未入力"}]
[null,null,null,null,null,null,"※「CAS番号なし」の場合入力\nCAS番号",null,null,null,null,null,null,null,null,null,null,null,null,null,null,null,null,{"$f":"IF(AND($V1432=STRING_NOCAS, $V1433=\"\"),\"未入力\",\"\")","v":""}]
[null,null,null,null,null,null,"物質名称（英語名）",null,null,null,null,null,null,null,null,null,null,null,null,null,null,null,null,{"$f":"IF($V1434=\"\",\"未入力\",\"\")","v":"未入力"}]
[null,null,null,null,null,null,"一般名又は取引名"]
[null,null,null,null,null,null,"化学構造式"]
[null,null,null,null,null,null,"実績数量(kg)",null,null,null,null,null,null,null,"生産",null,null,null,null,null,null,null,null,{"$f":"IF($V1437=\"\",\"未入力\",\"\")","v":"未入力"}]
[null,null,null,null,null,null,null,null,null,null,null,null,null,null,"加工",null,null,null,null,null,null,null,null,{"$f":"IF($V1438=\"\",\"未入力\",\"\")","v":"未入力"}]
[null,null,null,null,null,null,null,null,null,null,null,null,null,null,"消費",null,null,null,null,null,null,null,null,{"$f":"IF($V1439=\"\",\"未入力\",\"\")","v":"未入力"}]
[null,null,null,null,null,null,null,null,null,null,null,null,null,null,"輸入",null,null,null,null,null,null,null,null,{"$f":"IF($V1440=\"\",\"未入力\",\"\")","v":"未入力"}]
[null,null,null,null,null,null,null,null,null,null,null,null,null,null,"輸出",null,null,null,null,null,null,null,null,{"$f":"IF($V1441=\"\",\"未入力\",\"\")","v":"未入力"}]
[null,null,null,null,null,null,null,null,null,null,null,null,null,null,null,null,null,null,null,null,null,{"$f":"IF(V1443=\"\",\"\",V1443)","v":""},null,{"$f":"IF(AND(V1442=\"\", OR(V1438>0, V1439>0)),\"未入力\",\"\")","v":""}]
[null,null,null,null,null,null,"加工・消費している場合の製品の種類\n（シート保護対策非表示）",null,null,null,null,null,null,null,null,null,null,null,null,null,null,"",null,""]
[null,null,null,null,null,null,null,null,null,null,null,null,null,null,null,null,null,null,null,null,null,null,null,""]
[null,null,null,null,null,null,null,null,null,null,null,null,null,null,null,null,null,null,null,null,null,null,null,""]
[null,null,null,null,null,null,null,null,null,null,null,null,null,null,null,null,null,null,null,null,null,null,null,""]
[null,null,null,null,null,null,"事業所からの表2剤の直接輸出",null,null,null,null,null,null,null,"直接輸出の有無",null,null,null,null,null,null,null,null,{"$f":"IF(AND($V1447=\"\"),\"未入力\",\"\")","v":"未入力"}]
[null,null,null,null,null,null,null,null,null,null,null,null,null,null,"直接輸出先の国",null,null,null,null,null,null,null,null,""]
[null,null,null,null,null,null,null,null,null,null,null,null,null,null,null,null,null,null,null,null,null,null,null,""]
[null,null,null,null,null,null,null,null,null,null,null,null,null,null,null,null,null,null,null,null,null,null,null,""]
[null,null,null,null,null,null,null,null,null,null,null,null,null,null,null,null,null,null,null,null,null,null,null,""]
[null,null,null,null,null,null,null,null,null,null,null,null,null,null,null,null,null,null,null,null,null,null,null,""]
[null,null,null,null,null,null,null,null,null,null,null,null,null,null,null,null,null,null,null,null,null,null,null,""]
[null,null,null,null,null,null,"国内での販売又は移転の有無",null,null,null,null,null,null,null,"他産業:Other  industry",null,null,null,null,null,null,null,null,{"$f":"IF(AND($V1454=\"\"),\"未入力\",\"\")","v":"未入力"}]
[null,null,null,null,null,null,null,null,null,null,null,null,null,null,"流通:Trader",null,null,null,null,null,null,null,null,{"$f":"IF(AND($V1455=\"\"),\"未入力\",\"\")","v":"未入力"}]
[null,null,null,null,null,null,null,null,null,null,null,null,null,null,"その他:Other destination",null,null,null,null,null,null,null,null,{"$f":"IF(AND($V1456=\"\"),\"未入力\",\"\")","v":"未入力"}]
[null,null,null,null,null,null,null,null,null,null,null,null,null,null,null,null,null,null,null,null,null,{"$f":"IF(V1458=\"\",\"\",V1458)","v":""},null,""]
[null,null,null,null,null,null,"把握可能であれば、最終製品の種類\n（シート保護対策非表示）",null,null,null,null,null,null,null,null,null,null,null,null,null,null,"",null,""]
[null,null,null,null,null,null,null,null,null,null,null,null,null,null,null,null,null,null,null,null,null,null,null,""]
[null,null,null,null,null,null,null,null,null,null,null,null,null,null,null,null,null,null,null,null,null,null,null,""]
[null,null,null,null,null,null,null,null,null,null,null,null,null,null,null,null,null,null,null,null,null,null,null,""]
[null,null,null,null,null,null,"上記以外の活動の目的があれば具体的に入力して下さい。(英語で入力）",null,null,null,null,null,null,null,null,null,null,null,null,null,null,null,null,""]
[null,"今後の項目追加に備えての空行"]
[]
[]
[]
[]
[]
[]
[]
[]
[]
[null,null,null,null,null,null,null,null,null,null,null,null,null,null,null,null,null,null,null,null,null,"英語",null,"自動入力チェック"]
[null,"表2剤に関する活動の目的（１０）",null,null,null,null,"CAS番号",null,null,null,null,null,null,null,null,null,null,null,null,null,null,null,null,{"$f":"IF($V1474=\"\",\"未入力\",\"\")","v":"未入力"}]
[null,null,null,null,null,null,"※「CAS番号なし」の場合入力\nCAS番号",null,null,null,null,null,null,null,null,null,null,null,null,null,null,null,null,{"$f":"IF(AND($V1474=STRING_NOCAS, $V1475=\"\"),\"未入力\",\"\")","v":""}]
[null,null,null,null,null,null,"物質名称（英語名）",null,null,null,null,null,null,null,null,null,null,null,null,null,null,null,null,{"$f":"IF($V1476=\"\",\"未入力\",\"\")","v":"未入力"}]
[null,null,null,null,null,null,"一般名又は取引名"]
[null,null,null,null,null,null,"化学構造式"]
[null,null,null,null,null,null,"実績数量(kg)",null,null,null,null,null,null,null,"生産",null,null,null,null,null,null,null,null,{"$f":"IF($V1479=\"\",\"未入力\",\"\")","v":"未入力"}]
[null,null,null,null,null,null,null,null,null,null,null,null,null,null,"加工",null,null,null,null,null,null,null,null,{"$f":"IF($V1480=\"\",\"未入力\",\"\")","v":"未入力"}]
[null,null,null,null,null,null,null,null,null,null,null,null,null,null,"消費",null,null,null,null,null,null,null,null,{"$f":"IF($V1481=\"\",\"未入力\",\"\")","v":"未入力"}]
[null,null,null,null,null,null,null,null,null,null,null,null,null,null,"輸入",null,null,null,null,null,null,null,null,{"$f":"IF($V1482=\"\",\"未入力\",\"\")","v":"未入力"}]
[null,null,null,null,null,null,null,null,null,null,null,null,null,null,"輸出",null,null,null,null,null,null,null,null,{"$f":"IF($V1483=\"\",\"未入力\",\"\")","v":"未入力"}]
[null,null,null,null,null,null,null,null,null,null,null,null,null,null,null,null,null,null,null,null,null,{"$f":"IF(V1485=\"\",\"\",V1485)","v":""},null,{"$f":"IF(AND(V1484=\"\", OR(V1480>0, V1481>0)),\"未入力\",\"\")","v":""}]
[null,null,null,null,null,null,"加工・消費している場合の製品の種類\n（シート保護対策非表示）",null,null,null,null,null,null,null,null,null,null,null,null,null,null,"",null,""]
[null,null,null,null,null,null,null,null,null,null,null,null,null,null,null,null,null,null,null,null,null,null,null,""]
[null,null,null,null,null,null,null,null,null,null,null,null,null,null,null,null,null,null,null,null,null,null,null,""]
[null,null,null,null,null,null,null,null,null,null,null,null,null,null,null,null,null,null,null,null,null,null,null,""]
[null,null,null,null,null,null,"事業所からの表2剤の直接輸出",null,null,null,null,null,null,null,"直接輸出の有無",null,null,null,null,null,null,null,null,{"$f":"IF(AND($V1489=\"\"),\"未入力\",\"\")","v":"未入力"}]
[null,null,null,null,null,null,null,null,null,null,null,null,null,null,"直接輸出先の国",null,null,null,null,null,null,null,null,""]
[null,null,null,null,null,null,null,null,null,null,null,null,null,null,null,null,null,null,null,null,null,null,null,""]
[null,null,null,null,null,null,null,null,null,null,null,null,null,null,null,null,null,null,null,null,null,null,null,""]
[null,null,null,null,null,null,null,null,null,null,null,null,null,null,null,null,null,null,null,null,null,null,null,""]
[null,null,null,null,null,null,null,null,null,null,null,null,null,null,null,null,null,null,null,null,null,null,null,""]
[null,null,null,null,null,null,null,null,null,null,null,null,null,null,null,null,null,null,null,null,null,null,null,""]
[null,null,null,null,null,null,"国内での販売又は移転の有無",null,null,null,null,null,null,null,"他産業:Other  industry",null,null,null,null,null,null,null,null,{"$f":"IF(AND($V1496=\"\"),\"未入力\",\"\")","v":"未入力"}]
[null,null,null,null,null,null,null,null,null,null,null,null,null,null,"流通:Trader",null,null,null,null,null,null,null,null,{"$f":"IF(AND($V1497=\"\"),\"未入力\",\"\")","v":"未入力"}]
[null,null,null,null,null,null,null,null,null,null,null,null,null,null,"その他:Other destination",null,null,null,null,null,null,null,null,{"$f":"IF(AND($V1498=\"\"),\"未入力\",\"\")","v":"未入力"}]
[null,null,null,null,null,null,null,null,null,null,null,null,null,null,null,null,null,null,null,null,null,{"$f":"IF(V1500=\"\",\"\",V1500)","v":""},null,""]
[null,null,null,null,null,null,"把握可能であれば、最終製品の種類\n（シート保護対策非表示）",null,null,null,null,null,null,null,null,null,null,null,null,null,null,"",null,""]
[null,null,null,null,null,null,null,null,null,null,null,null,null,null,null,null,null,null,null,null,null,null,null,""]
[null,null,null,null,null,null,null,null,null,null,null,null,null,null,null,null,null,null,null,null,null,null,null,""]
[null,null,null,null,null,null,null,null,null,null,null,null,null,null,null,null,null,null,null,null,null,null,null,""]
[null,null,null,null,null,null,"上記以外の活動の目的があれば具体的に入力して下さい。(英語で入力）",null,null,null,null,null,null,null,null,null,null,null,null,null,null,null,null,""]
[null,"今後の項目追加に備えての空行"]

{"sheet":"eAppData","index":3,"n_rows":139,"n_cols":52,"rows_kept":139,"cut":false,"hidden":true,"merged":[]}
["事業所マスタ",1,"届出のみ数",{"$f":"COUNTIF($AQ$7:$AQ$16,\"1\")","v":0},"届出のみ判定",{"$f":"$D$1=$B$5","v":false},"配布Version",2,"様式種別",17,"←配布Version、様式種別はR5年改修時追加項目"]
["No","AM018_PlantSiteCode","AM018_PlantSiteName","AM018_ProvinceCode","AM018_Province","AM018_City","AM018_Address","AM018_Report_Post_1","AM018_Report_Address_1","AM018_Report_Department_1","AM018_Report_Position_1","AM018_Report_Person_1","AM018_Report_Tel_1","AM018_Report_Fax_1","AM018_Report_Email_1","AM018_Report_Post_2","AM018_Report_Address_2","AM018_Report_Department_2","AM018_Report_Position_2","AM018_Report_Person_2","AM018_Report_Tel_2","AM018_Report_Fax_2","AM018_Report_Email_2","AM018_Report_Post_3","AM018_Report_Address_3","AM018_Report_Department_3","AM018_Report_Position_3","AM018_Report_Person_3","AM018_Report_Tel_3","AM018_Report_Fax_3","AM018_Report_Email_3","AM018_Inspectiont_Address_1","AM018_Inspectiont_Department_1","AM018_Inspectiont_Position_1","AM018_Inspectiont_Person_1","AM018_Inspectiont_Tel_1","AM018_Inspectiont_Fax_1","AM018_Inspectiont_Email_1","AM018_Inspectiont_Address_2","AM018_Inspectiont_Department_2","AM018_Inspectiont_Position_2","AM018_Inspectiont_Person_2","AM018_Inspectiont_Tel_2","AM018_Inspectiont_Fax_2","AM018_Inspectiont_Email_2","AM018_Inspectiont_Address_3","AM018_Inspectiont_Department_3","AM018_Inspectiont_Position_3","AM018_Inspectiont_Person_3","AM018_Inspectiont_Tel_3","AM018_Inspectiont_Fax_3","AM018_Inspectiont_Email_3"]
[1,{"$f":"ETL!$D$61","v":""},{"$f":"ETL!$D$59","v":""},{"$f":"ETL!$G$62","v":""},{"$f":"ETL!$D$62","v":""},{"$f":"ETL!$D$64","v":""},{"$f":"ETL!$D$66","v":""},{"$f":"ETL!$D$13","v":""},{"$f":"ETL!$D$14","v":""},{"$f":"ETL!$D$15","v":""},{"$f":"ETL!$D$16","v":""},{"$f":"ETL!$D$12","v":""},{"$f":"ETL!$D$17","v":""},{"$f":"ETL!$D$18","v":""},{"$f":"ETL!$D$19","v":""},{"$f":"ETL!$D$21","v":""},{"$f":"ETL!$D$22","v":""},{"$f":"ETL!$D$23","v":""},{"$f":"ETL!$D$24","v":""},{"$f":"ETL!$D$20","v":""},{"$f":"ETL!$D$25","v":""},{"$f":"ETL!$D$26","v":""},{"$f":"ETL!$D$27","v":""},{"$f":"ETL!$D$29","v":""},{"$f":"ETL!$D$30","v":""},{"$f":"ETL!$D$31","v":""},{"$f":"ETL!$D$32","v":""},{"$f":"ETL!$D$28","v":""},{"$f":"ETL!$D$33","v":""},{"$f":"ETL!$D$34","v":""},{"$f":"ETL!$D$35","v":""},{"$f":"IF($D$1=$B$5,\"\",ETL!$D$37)","v":""},{"$f":"IF($D$1=$B$5,\"\",ETL!$D$38)","v":""},{"$f":"IF($D$1=$B$5,\"\",ETL!$D$39)","v":""},{"$f":"IF($D$1=$B$5,\"\",ETL!$D$36)","v":""},{"$f":"IF($D$1=$B$5,\"\",ETL!$D$40)","v":""},{"$f":"IF($D$1=$B$5,\"\",ETL!$D$41)","v":""},{"$f":"IF($D$1=$B$5,\"\",ETL!$D$42)","v":""},{"$f":"IF($D$1=$B$5,\"\",ETL!$D$44)","v":""},{"$f":"IF($D$1=$B$5,\"\",ETL!$D$45)","v":""},{"$f":"IF($D$1=$B$5,\"\",ETL!$D$46)","v":""},{"$f":"IF($D$1=$B$5,\"\",ETL!$D$43)","v":""},{"$f":"IF($D$1=$B$5,\"\",ETL!$D$47)","v":""},{"$f":"IF($D$1=$B$5,\"\",ETL!$D$48)","v":""},{"$f":"IF($D$1=$B$5,\"\",ETL!$D$49)","v":""},{"$f":"IF($D$1=$B$5,\"\",ETL!$D$51)","v":""},{"$f":"IF($D$1=$B$5,\"\",ETL!$D$52)","v":""},{"$f":"IF($D$1=$B$5,\"\",ETL!$D$53)","v":""},{"$f":"IF($D$1=$B$5,\"\",ETL!$D$50)","v":""},{"$f":"IF($D$1=$B$5,\"\",ETL!$D$54)","v":""},{"$f":"IF($D$1=$B$5,\"\",ETL!$D$55)","v":""},{"$f":"IF($D$1=$B$5,\"\",ETL!$D$56)","v":""}]
["↓セルA５はVBAのバージョン管理処理にて使用しているため修正時注意する"]
["様式17の数",{"$f":"ETL!$D$80","v":1},null,null,null,null,null,null,null,null,null,null,null,null,null,null,null,null,null,null,null,null,null,null,null,null,null,null,null,null,null,null,null,null,null,null,null,null,null,null,null,null,null,null,"運用保守時の追加項目"]
["No","AT002_RelatesYear","AT002_ReportDay","AT002_OwnerName","AT002_OwnerAddress","AT002_PlantSiteName","AT002_PlantSiteCode","AT002_PlantSiteLocation","AT002_CASRegistryNumber","AT002_GovOrdinance","AT002_ChemicalId","AT002_HandleType","AT002_Quantity","AT002_QuantityValue","AT002_NumberPlants","AT002_NumberPlantsValue","AT002_PositionAttachmentFlag","AT002_PlantName1","AT002_QuantityPlant1","AT002_QuantityPlantValue1","AT002_CapacityPlant1","AT002_CapacityPlantValue1","AT002_PlantName2","AT002_QuantityPlant2","AT002_QuantityPlantValue2","AT002_CapacityPlant2","AT002_CapacityPlantValue2","AT002_PlantName3","AT002_QuantityPlant3","AT002_QuantityPlantValue3","AT002_CapacityPlant3","AT002_CapacityPlantValue3","AT002_PlantName4","AT002_QuantityPlant4","AT002_QuantityPlantValue4","AT002_CapacityPlant4","AT002_CapacityPlantValue4","AT002_PlantName5","AT002_QuantityPlant5","AT002_QuantityPlantValue5","AT002_CapacityPlant5","AT002_CapacityPlantValue5","AT002_ReportOnlyFlag","AT002_ReportOnlyReason","AT002_QuantityDirectExported","AT002_QuantityDirectExportedValue","AT002_QuantityDirectImported","AT002_QuantityDirectImportedValue"]
[1,{"$f":" IF($B$5 > 0, ETL!$D$6, \"\")","v":0},{"$f":" IF($B$5 > 0, ETL!$G$3, \"\")","v":{"$error":"#NUM!"}},{"$f":" IF($B$5 > 0, ETL!$G$7, \"\")","v":""},{"$f":" IF($B$5 > 0, ETL!$D$11, \"\")","v":""},{"$f":" IF($B$5 > 0, ETL!$D$59, \"\")","v":""},{"$f":" IF($B$5 > 0, ETL!$D$61, \"\")","v":""},{"$f":" IF($B$5 > 0, ETL!$G$63, \"\")","v":""},{"$f":" IF($B$5 > 0, ETL!$G82, \"\")","v":""},{"$f":" IF($B$5 > 0, ETL!$G83&\"\", \"\")","v":""},{"$f":" IF($B$5 > 0, ETL!$G84, \"\")","v":0},{"$f":" IF($B$5 > 0, ETL!$G87, \"\")","v":""},{"$f":" IF($B$5 > 0, ETL!$H90, \"\")","v":"0"},{"$f":" IF($B$5 > 0, ETL!$G90, \"\")","v":0},{"$f":" IF($B$5 > 0, ETL!$G88, \"\")","v":"1"},{"$f":" IF($B$5 > 0, ETL!$D88, \"\")","v":1},{"$f":" IF($B$5 > 0, ETL!$G89, \"\")","v":"1"},{"$f":" IF($B$5 > 0, ETL!$G91, \"\")","v":""},{"$f":" IF($B$5 > 0, ETL!$H92, \"\")","v":"0"},{"$f":" IF($B$5 > 0, ETL!$G92, \"\")","v":0},{"$f":" IF($B$5 > 0, ETL!$H93, \"\")","v":"0"},{"$f":" IF($B$5 > 0, ETL!$G93, \"\")","v":0},{"$f":" IF($B$5 > 0, ETL!$G94, \"\")","v":""},{"$f":" IF($B$5 > 0, ETL!$H95, \"\")","v":""},{"$f":" IF($B$5 > 0, ETL!$G95, \"\")","v":0},{"$f":" IF($B$5 > 0, ETL!$H96, \"\")","v":""},{"$f":" IF($B$5 > 0, ETL!$G96, \"\")","v":0},{"$f":" IF($B$5 > 0, ETL!$G97, \"\")","v":""},{"$f":" IF($B$5 > 0, ETL!$H98, \"\")","v":""},{"$f":" IF($B$5 > 0, ETL!$G98, \"\")","v":0},{"$f":" IF($B$5 > 0, ETL!$H99, \"\")","v":""},{"$f":" IF($B$5 > 0, ETL!$G99, \"\")","v":0},{"$f":" IF($B$5 > 0, ETL!$G100, \"\")","v":""},{"$f":" IF($B$5 > 0, ETL!$H101, \"\")","v":""},{"$f":" IF($B$5 > 0, ETL!$G101, \"\")","v":0},{"$f":" IF($B$5 > 0, ETL!$H102, \"\")","v":""},{"$f":" IF($B$5 > 0, ETL!$G102, \"\")","v":0},{"$f":" IF($B$5 > 0, ETL!$G103, \"\")","v":""},{"$f":" IF($B$5 > 0, ETL!$H104, \"\")","v":""},{"$f":" IF($B$5 > 0, ETL!$G104, \"\")","v":0},{"$f":" IF($B$5 > 0, ETL!$H105, \"\")","v":""},{"$f":" IF($B$5 > 0, ETL!$G105, \"\")","v":0},{"$f":" IF($B$5 > 0, ETL!$G106, \"\")","v":"0"},{"$f":" IF($B$5 > 0, ETL!$G107, \"\")","v":"0"},{"$f":" IF($B$5 > 0, ETL!$H1245, \"\")","v":""},{"$f":" IF($B$5 > 0, ETL!$G1245, \"\")","v":0},{"$f":" IF($B$5 > 0, ETL!$H1246, \"\")","v":""},{"$f":" IF($B$5 > 0, ETL!$G1246, \"\")","v":0}]
[2,{"$f":" IF($B$5 > 1, ETL!$D$6, \"\")","v":""},{"$f":" IF($B$5 > 1, ETL!$G$3, \"\")","v":""},{"$f":" IF($B$5 > 1, ETL!$G$7, \"\")","v":""},{"$f":" IF($B$5 > 1, ETL!$D$11, \"\")","v":""},{"$f":" IF($B$5 > 1, ETL!$D$59, \"\")","v":""},{"$f":" IF($B$5 > 1, ETL!$D$61, \"\")","v":""},{"$f":" IF($B$5 > 1, ETL!$G$63, \"\")","v":""},{"$f":" IF($B$5 > 1, ETL!$G110, \"\")","v":""},{"$f":" IF($B$5 > 1, ETL!$G111&\"\", \"\")","v":""},{"$f":" IF($B$5 > 1, ETL!$G112, \"\")","v":""},{"$f":" IF($B$5 > 1, ETL!$G115, \"\")","v":""},{"$f":" IF($B$5 > 1, ETL!$H118, \"\")","v":""},{"$f":" IF($B$5 > 1, ETL!$G118, \"\")","v":""},{"$f":" IF($B$5 > 1, ETL!$G116, \"\")","v":""},{"$f":" IF($B$5 > 1, ETL!$D116, \"\")","v":""},{"$f":" IF($B$5 > 1, ETL!$G117, \"\")","v":""},{"$f":" IF($B$5 > 0, ETL!$G119, \"\")","v":""},{"$f":" IF($B$5 > 1, ETL!$H120, \"\")","v":""},{"$f":" IF($B$5 > 1, ETL!$G120, \"\")","v":""},{"$f":" IF($B$5 > 1, ETL!$H121, \"\")","v":""},{"$f":" IF($B$5 > 1, ETL!$G121, \"\")","v":""},{"$f":" IF($B$5 > 1, ETL!$G122, \"\")","v":""},{"$f":" IF($B$5 > 1, ETL!$H123, \"\")","v":""},{"$f":" IF($B$5 > 1, ETL!$G123, \"\")","v":""},{"$f":" IF($B$5 > 1, ETL!$H124, \"\")","v":""},{"$f":" IF($B$5 > 1, ETL!$G124, \"\")","v":""},{"$f":" IF($B$5 > 1, ETL!$G125, \"\")","v":""},{"$f":" IF($B$5 > 1, ETL!$H126, \"\")","v":""},{"$f":" IF($B$5 > 1, ETL!$G126, \"\")","v":""},{"$f":" IF($B$5 > 1, ETL!$H127, \"\")","v":""},{"$f":" IF($B$5 > 1, ETL!$G127, \"\")","v":""},{"$f":" IF($B$5 > 1, ETL!$G128, \"\")","v":""},{"$f":" IF($B$5 > 1, ETL!$H129, \"\")","v":""},{"$f":" IF($B$5 > 1, ETL!$G129, \"\")","v":""},{"$f":" IF($B$5 > 1, ETL!$H130, \"\")","v":""},{"$f":" IF($B$5 > 1, ETL!$G130, \"\")","v":""},{"$f":" IF($B$5 > 1, ETL!$G131, \"\")","v":""},{"$f":" IF($B$5 > 1, ETL!$H132, \"\")","v":""},{"$f":" IF($B$5 > 1, ETL!$G132, \"\")","v":""},{"$f":" IF($B$5 > 1, ETL!$H133, \"\")","v":""},{"$f":" IF($B$5 > 1, ETL!$G133, \"\")","v":""},{"$f":" IF($B$5 > 1, ETL!$G134, \"\")","v":""},{"$f":" IF($B$5 > 1, ETL!$G135, \"\")","v":""},{"$f":" IF($B$5 > 1, ETL!$H1248, \"\")","v":""},{"$f":" IF($B$5 > 1, ETL!$G1248, \"\")","v":""},{"$f":" IF($B$5 > 1, ETL!$H1249, \"\")","v":""},{"$f":" IF($B$5 > 1, ETL!$G1249, \"\")","v":""}]
[3,{"$f":" IF($B$5 > 2, ETL!$D$6, \"\")","v":""},{"$f":" IF($B$5 > 2, ETL!$G$3, \"\")","v":""},{"$f":" IF($B$5 > 2, ETL!$G$7, \"\")","v":""},{"$f":" IF($B$5 > 2, ETL!$D$11, \"\")","v":""},{"$f":" IF($B$5 > 2, ETL!$D$59, \"\")","v":""},{"$f":" IF($B$5 > 2, ETL!$D$61, \"\")","v":""},{"$f":" IF($B$5 > 2, ETL!$G$63, \"\")","v":""},{"$f":" IF($B$5 > 2, ETL!$G138, \"\")","v":""},{"$f":" IF($B$5 > 2, ETL!$G139&\"\", \"\")","v":""},{"$f":" IF($B$5 > 2, ETL!$G140, \"\")","v":""},{"$f":" IF($B$5 > 2, ETL!$G143, \"\")","v":""},{"$f":" IF($B$5 > 2, ETL!$H146, \"\")","v":""},{"$f":" IF($B$5 > 2, ETL!$G146, \"\")","v":""},{"$f":" IF($B$5 > 2, ETL!$G144, \"\")","v":""},{"$f":" IF($B$5 > 2, ETL!$D144, \"\")","v":""},{"$f":" IF($B$5 > 2, ETL!$G145, \"\")","v":""},{"$f":" IF($B$5 > 0, ETL!$G147, \"\")","v":""},{"$f":" IF($B$5 > 2, ETL!$H148, \"\")","v":""},{"$f":" IF($B$5 > 2, ETL!$G148, \"\")","v":""},{"$f":" IF($B$5 > 2, ETL!$H149, \"\")","v":""},{"$f":" IF($B$5 > 2, ETL!$G149, \"\")","v":""},{"$f":" IF($B$5 > 2, ETL!$G150, \"\")","v":""},{"$f":" IF($B$5 > 2, ETL!$H151, \"\")","v":""},{"$f":" IF($B$5 > 2, ETL!$G151, \"\")","v":""},{"$f":" IF($B$5 > 2, ETL!$H152, \"\")","v":""},{"$f":" IF($B$5 > 2, ETL!$G152, \"\")","v":""},{"$f":" IF($B$5 > 2, ETL!$G153, \"\")","v":""},{"$f":" IF($B$5 > 2, ETL!$H154, \"\")","v":""},{"$f":" IF($B$5 > 2, ETL!$G154, \"\")","v":""},{"$f":" IF($B$5 > 2, ETL!$H155, \"\")","v":""},{"$f":" IF($B$5 > 2, ETL!$G155, \"\")","v":""},{"$f":" IF($B$5 > 2, ETL!$G156, \"\")","v":""},{"$f":" IF($B$5 > 2, ETL!$H157, \"\")","v":""},{"$f":" IF($B$5 > 2, ETL!$G157, \"\")","v":""},{"$f":" IF($B$5 > 2, ETL!$H158, \"\")","v":""},{"$f":" IF($B$5 > 2, ETL!$G158, \"\")","v":""},{"$f":" IF($B$5 > 2, ETL!$G159, \"\")","v":""},{"$f":" IF($B$5 > 2, ETL!$H160, \"\")","v":""},{"$f":" IF($B$5 > 2, ETL!$G160, \"\")","v":""},{"$f":" IF($B$5 > 2, ETL!$H161, \"\")","v":""},{"$f":" IF($B$5 > 2, ETL!$G161, \"\")","v":""},{"$f":" IF($B$5 > 2, ETL!$G162, \"\")","v":""},{"$f":" IF($B$5 > 2, ETL!$G163, \"\")","v":""},{"$f":" IF($B$5 > 2, ETL!$H1251, \"\")","v":""},{"$f":" IF($B$5 > 2, ETL!$G1251, \"\")","v":""},{"$f":" IF($B$5 > 2, ETL!$H1252, \"\")","v":""},{"$f":" IF($B$5 > 2, ETL!$G1252, \"\")","v":""}]
[4,{"$f":" IF($B$5 > 3, ETL!$D$6, \"\")","v":""},{"$f":" IF($B$5 > 3, ETL!$G$3, \"\")","v":""},{"$f":" IF($B$5 > 3, ETL!$G$7, \"\")","v":""},{"$f":" IF($B$5 > 3, ETL!$D$11, \"\")","v":""},{"$f":" IF($B$5 > 3, ETL!$D$59, \"\")","v":""},{"$f":" IF($B$5 > 3, ETL!$D$61, \"\")","v":""},{"$f":" IF($B$5 > 3, ETL!$G$63, \"\")","v":""},{"$f":" IF($B$5 > 3, ETL!$G166, \"\")","v":""},{"$f":" IF($B$5 > 3, ETL!$G167&\"\", \"\")","v":""},{"$f":" IF($B$5 > 3, ETL!$G168, \"\")","v":""},{"$f":" IF($B$5 > 3, ETL!$G171, \"\")","v":""},{"$f":" IF($B$5 > 3, ETL!$H174, \"\")","v":""},{"$f":" IF($B$5 > 3, ETL!$G174, \"\")","v":""},{"$f":" IF($B$5 > 3, ETL!$G172, \"\")","v":""},{"$f":" IF($B$5 > 3, ETL!$D172, \"\")","v":""},{"$f":" IF($B$5 > 3, ETL!$G173, \"\")","v":""},{"$f":" IF($B$5 > 0, ETL!$G175, \"\")","v":""},{"$f":" IF($B$5 > 3, ETL!$H176, \"\")","v":""},{"$f":" IF($B$5 > 3, ETL!$G176, \"\")","v":""},{"$f":" IF($B$5 > 3, ETL!$H177, \"\")","v":""},{"$f":" IF($B$5 > 3, ETL!$G177, \"\")","v":""},{"$f":" IF($B$5 > 3, ETL!$G178, \"\")","v":""},{"$f":" IF($B$5 > 3, ETL!$H179, \"\")","v":""},{"$f":" IF($B$5 > 3, ETL!$G179, \"\")","v":""},{"$f":" IF($B$5 > 3, ETL!$H180, \"\")","v":""},{"$f":" IF($B$5 > 3, ETL!$G180, \"\")","v":""},{"$f":" IF($B$5 > 3, ETL!$G181, \"\")","v":""},{"$f":" IF($B$5 > 3, ETL!$H182, \"\")","v":""},{"$f":" IF($B$5 > 3, ETL!$G182, \"\")","v":""},{"$f":" IF($B$5 > 3, ETL!$H183, \"\")","v":""},{"$f":" IF($B$5 > 3, ETL!$G183, \"\")","v":""},{"$f":" IF($B$5 > 3, ETL!$G184, \"\")","v":""},{"$f":" IF($B$5 > 3, ETL!$H185, \"\")","v":""},{"$f":" IF($B$5 > 3, ETL!$G185, \"\")","v":""},{"$f":" IF($B$5 > 3, ETL!$H186, \"\")","v":""},{"$f":" IF($B$5 > 3, ETL!$G186, \"\")","v":""},{"$f":" IF($B$5 > 3, ETL!$G187, \"\")","v":""},{"$f":" IF($B$5 > 3, ETL!$H188, \"\")","v":""},{"$f":" IF($B$5 > 3, ETL!$G188, \"\")","v":""},{"$f":" IF($B$5 > 3, ETL!$H189, \"\")","v":""},{"$f":" IF($B$5 > 3, ETL!$G189, \"\")","v":""},{"$f":" IF($B$5 > 3, ETL!$G190, \"\")","v":""},{"$f":" IF($B$5 > 3, ETL!$G191, \"\")","v":""},{"$f":" IF($B$5 > 3, ETL!$H1254, \"\")","v":""},{"$f":" IF($B$5 > 3, ETL!$G1254, \"\")","v":""},{"$f":" IF($B$5 > 3, ETL!$H1255, \"\")","v":""},{"$f":" IF($B$5 > 3, ETL!$G1255, \"\")","v":""}]
[5,{"$f":" IF($B$5 > 4, ETL!$D$6, \"\")","v":""},{"$f":" IF($B$5 > 4, ETL!$G$3, \"\")","v":""},{"$f":" IF($B$5 > 4, ETL!$G$7, \"\")","v":""},{"$f":" IF($B$5 > 4, ETL!$D$11, \"\")","v":""},{"$f":" IF($B$5 > 4, ETL!$D$59, \"\")","v":""},{"$f":" IF($B$5 > 4, ETL!$D$61, \"\")","v":""},{"$f":" IF($B$5 > 4, ETL!$G$63, \"\")","v":""},{"$f":" IF($B$5 > 4, ETL!$G194, \"\")","v":""},{"$f":" IF($B$5 > 4, ETL!$G195 &\"\", \"\")","v":""},{"$f":" IF($B$5 > 4, ETL!$G196, \"\")","v":""},{"$f":" IF($B$5 > 4, ETL!$G199, \"\")","v":""},{"$f":" IF($B$5 > 4, ETL!$H202, \"\")","v":""},{"$f":" IF($B$5 > 4, ETL!$G202, \"\")","v":""},{"$f":" IF($B$5 > 4, ETL!$G200, \"\")","v":""},{"$f":" IF($B$5 > 4, ETL!$D200, \"\")","v":""},{"$f":" IF($B$5 > 4, ETL!$G201, \"\")","v":""},{"$f":" IF($B$5 > 0, ETL!$G203, \"\")","v":""},{"$f":" IF($B$5 > 4, ETL!$H204, \"\")","v":""},{"$f":" IF($B$5 > 4, ETL!$G204, \"\")","v":""},{"$f":" IF($B$5 > 4, ETL!$H205, \"\")","v":""},{"$f":" IF($B$5 > 4, ETL!$G205, \"\")","v":""},{"$f":" IF($B$5 > 4, ETL!$G206, \"\")","v":""},{"$f":" IF($B$5 > 4, ETL!$H207, \"\")","v":""},{"$f":" IF($B$5 > 4, ETL!$G207, \"\")","v":""},{"$f":" IF($B$5 > 4, ETL!$H208, \"\")","v":""},{"$f":" IF($B$5 > 4, ETL!$G208, \"\")","v":""},{"$f":" IF($B$5 > 4, ETL!$G209, \"\")","v":""},{"$f":" IF($B$5 > 4, ETL!$H210, \"\")","v":""},{"$f":" IF($B$5 > 4, ETL!$G210, \"\")","v":""},{"$f":" IF($B$5 > 4, ETL!$H211, \"\")","v":""},{"$f":" IF($B$5 > 4, ETL!$G211, \"\")","v":""},{"$f":" IF($B$5 > 4, ETL!$G212, \"\")","v":""},{"$f":" IF($B$5 > 4, ETL!$H213, \"\")","v":""},{"$f":" IF($B$5 > 4, ETL!$G213, \"\")","v":""},{"$f":" IF($B$5 > 4, ETL!$H214, \"\")","v":""},{"$f":" IF($B$5 > 4, ETL!$G214, \"\")","v":""},{"$f":" IF($B$5 > 4, ETL!$G215, \"\")","v":""},{"$f":" IF($B$5 > 4, ETL!$H216, \"\")","v":""},{"$f":" IF($B$5 > 4, ETL!$G216, \"\")","v":""},{"$f":" IF($B$5 > 4, ETL!$H217, \"\")","v":""},{"$f":" IF($B$5 > 4, ETL!$G217, \"\")","v":""},{"$f":" IF($B$5 > 4, ETL!$G218, \"\")","v":""},{"$f":" IF($B$5 > 4, ETL!$G219, \"\")","v":""},{"$f":" IF($B$5 > 4, ETL!$H1257, \"\")","v":""},{"$f":" IF($B$5 > 4, ETL!$G1257, \"\")","v":""},{"$f":" IF($B$5 > 4, ETL!$H1258, \"\")","v":""},{"$f":" IF($B$5 > 4, ETL!$G1258, \"\")","v":""}]
[6,{"$f":" IF($B$5 > 5, ETL!$D$6, \"\")","v":""},{"$f":" IF($B$5 > 5, ETL!$G$3, \"\")","v":""},{"$f":" IF($B$5 > 5, ETL!$G$7, \"\")","v":""},{"$f":" IF($B$5 > 5, ETL!$D$11, \"\")","v":""},{"$f":" IF($B$5 > 5, ETL!$D$59, \"\")","v":""},{"$f":" IF($B$5 > 5, ETL!$D$61, \"\")","v":""},{"$f":" IF($B$5 > 5, ETL!$G$63, \"\")","v":""},{"$f":" IF($B$5 > 5, ETL!$G222, \"\")","v":""},{"$f":" IF($B$5 > 5, ETL!$G223 &\"\", \"\")","v":""},{"$f":" IF($B$5 > 5, ETL!$G224, \"\")","v":""},{"$f":" IF($B$5 > 5, ETL!$G227, \"\")","v":""},{"$f":" IF($B$5 > 5, ETL!$H230, \"\")","v":""},{"$f":" IF($B$5 > 5, ETL!$G230, \"\")","v":""},{"$f":" IF($B$5 > 5, ETL!$G228, \"\")","v":""},{"$f":" IF($B$5 > 5, ETL!$D228, \"\")","v":""},{"$f":" IF($B$5 > 5, ETL!$G229, \"\")","v":""},{"$f":" IF($B$5 > 0, ETL!$G231, \"\")","v":""},{"$f":" IF($B$5 > 5, ETL!$H232, \"\")","v":""},{"$f":" IF($B$5 > 5, ETL!$G232, \"\")","v":""},{"$f":" IF($B$5 > 5, ETL!$H233, \"\")","v":""},{"$f":" IF($B$5 > 5, ETL!$G233, \"\")","v":""},{"$f":" IF($B$5 > 5, ETL!$G234, \"\")","v":""},{"$f":" IF($B$5 > 5, ETL!$H235, \"\")","v":""},{"$f":" IF($B$5 > 5, ETL!$G235, \"\")","v":""},{"$f":" IF($B$5 > 5, ETL!$H236, \"\")","v":""},{"$f":" IF($B$5 > 5, ETL!$G236, \"\")","v":""},{"$f":" IF($B$5 > 5, ETL!$G237, \"\")","v":""},{"$f":" IF($B$5 > 5, ETL!$H238, \"\")","v":""},{"$f":" IF($B$5 > 5, ETL!$G238, \"\")","v":""},{"$f":" IF($B$5 > 5, ETL!$H239, \"\")","v":""},{"$f":" IF($B$5 > 5, ETL!$G239, \"\")","v":""},{"$f":" IF($B$5 > 5, ETL!$G240, \"\")","v":""},{"$f":" IF($B$5 > 5, ETL!$H241, \"\")","v":""},{"$f":" IF($B$5 > 5, ETL!$G241, \"\")","v":""},{"$f":" IF($B$5 > 5, ETL!$H242, \"\")","v":""},{"$f":" IF($B$5 > 5, ETL!$G242, \"\")","v":""},{"$f":" IF($B$5 > 5, ETL!$G243, \"\")","v":""},{"$f":" IF($B$5 > 5, ETL!$H244, \"\")","v":""},{"$f":" IF($B$5 > 5, ETL!$G244, \"\")","v":""},{"$f":" IF($B$5 > 5, ETL!$H245, \"\")","v":""},{"$f":" IF($B$5 > 5, ETL!$G245, \"\")","v":""},{"$f":" IF($B$5 > 5, ETL!$G246, \"\")","v":""},{"$f":" IF($B$5 > 5, ETL!$G247, \"\")","v":""},{"$f":" IF($B$5 > 5, ETL!$H1260, \"\")","v":""},{"$f":" IF($B$5 > 5, ETL!$G1260, \"\")","v":""},{"$f":" IF($B$5 > 5, ETL!$H1261, \"\")","v":""},{"$f":" IF($B$5 > 5, ETL!$G1261, \"\")","v":""}]
[7,{"$f":" IF($B$5 > 6, ETL!$D$6, \"\")","v":""},{"$f":" IF($B$5 > 6, ETL!$G$3, \"\")","v":""},{"$f":" IF($B$5 > 6, ETL!$G$7, \"\")","v":""},{"$f":" IF($B$5 > 6, ETL!$D$11, \"\")","v":""},{"$f":" IF($B$5 > 6, ETL!$D$59, \"\")","v":""},{"$f":" IF($B$5 > 6, ETL!$D$61, \"\")","v":""},{"$f":" IF($B$5 > 6, ETL!$G$63, \"\")","v":""},{"$f":" IF($B$5 > 6, ETL!$G250, \"\")","v":""},{"$f":" IF($B$5 > 6, ETL!$G251 &\"\", \"\")","v":""},{"$f":" IF($B$5 > 6, ETL!$G252, \"\")","v":""},{"$f":" IF($B$5 > 6, ETL!$G255, \"\")","v":""},{"$f":" IF($B$5 > 6, ETL!$H258, \"\")","v":""},{"$f":" IF($B$5 > 6, ETL!$G258, \"\")","v":""},{"$f":" IF($B$5 > 6, ETL!$G256, \"\")","v":""},{"$f":" IF($B$5 > 6, ETL!$D256, \"\")","v":""},{"$f":" IF($B$5 > 6, ETL!$G257, \"\")","v":""},{"$f":" IF($B$5 > 0, ETL!$G259, \"\")","v":""},{"$f":" IF($B$5 > 6, ETL!$H260, \"\")","v":""},{"$f":" IF($B$5 > 6, ETL!$G260, \"\")","v":""},{"$f":" IF($B$5 > 6, ETL!$H261, \"\")","v":""},{"$f":" IF($B$5 > 6, ETL!$G261, \"\")","v":""},{"$f":" IF($B$5 > 6, ETL!$G262, \"\")","v":""},{"$f":" IF($B$5 > 6, ETL!$H263, \"\")","v":""},{"$f":" IF($B$5 > 6, ETL!$G263, \"\")","v":""},{"$f":" IF($B$5 > 6, ETL!$H264, \"\")","v":""},{"$f":" IF($B$5 > 6, ETL!$G264, \"\")","v":""},{"$f":" IF($B$5 > 6, ETL!$G265, \"\")","v":""},{"$f":" IF($B$5 > 6, ETL!$H266, \"\")","v":""},{"$f":" IF($B$5 > 6, ETL!$G266, \"\")","v":""},{"$f":" IF($B$5 > 6, ETL!$H267, \"\")","v":""},{"$f":" IF($B$5 > 6, ETL!$G267, \"\")","v":""},{"$f":" IF($B$5 > 6, ETL!$G268, \"\")","v":""},{"$f":" IF($B$5 > 6, ETL!$H269, \"\")","v":""},{"$f":" IF($B$5 > 6, ETL!$G269, \"\")","v":""},{"$f":" IF($B$5 > 6, ETL!$H270, \"\")","v":""},{"$f":" IF($B$5 > 6, ETL!$G270, \"\")","v":""},{"$f":" IF($B$5 > 6, ETL!$G271, \"\")","v":""},{"$f":" IF($B$5 > 6, ETL!$H272, \"\")","v":""},{"$f":" IF($B$5 > 6, ETL!$G272, \"\")","v":""},{"$f":" IF($B$5 > 6, ETL!$H273, \"\")","v":""},{"$f":" IF($B$5 > 6, ETL!$G273, \"\")","v":""},{"$f":" IF($B$5 > 6, ETL!$G274, \"\")","v":""},{"$f":" IF($B$5 > 6, ETL!$G275, \"\")","v":""},{"$f":" IF($B$5 > 6, ETL!$H1263, \"\")","v":""},{"$f":" IF($B$5 > 6, ETL!$G1263, \"\")","v":""},{"$f":" IF($B$5 > 6, ETL!$H1264, \"\")","v":""},{"$f":" IF($B$5 > 6, ETL!$G1264, \"\")","v":""}]
[8,{"$f":" IF($B$5 > 7, ETL!$D$6, \"\")","v":""},{"$f":" IF($B$5 > 7, ETL!$G$3, \"\")","v":""},{"$f":" IF($B$5 > 7, ETL!$G$7, \"\")","v":""},{"$f":" IF($B$5 > 7, ETL!$D$11, \"\")","v":""},{"$f":" IF($B$5 > 7, ETL!$D$59, \"\")","v":""},{"$f":" IF($B$5 > 7, ETL!$D$61, \"\")","v":""},{"$f":" IF($B$5 > 7, ETL!$G$63, \"\")","v":""},{"$f":" IF($B$5 > 7, ETL!$G278, \"\")","v":""},{"$f":" IF($B$5 > 7, ETL!$G279 &\"\", \"\")","v":""},{"$f":" IF($B$5 > 7, ETL!$G280, \"\")","v":""},{"$f":" IF($B$5 > 7, ETL!$G283, \"\")","v":""},{"$f":" IF($B$5 > 7, ETL!$H286, \"\")","v":""},{"$f":" IF($B$5 > 7, ETL!$G286, \"\")","v":""},{"$f":" IF($B$5 > 7, ETL!$G284, \"\")","v":""},{"$f":" IF($B$5 > 7, ETL!$D284, \"\")","v":""},{"$f":" IF($B$5 > 7, ETL!$G285, \"\")","v":""},{"$f":" IF($B$5 > 0, ETL!$G287, \"\")","v":""},{"$f":" IF($B$5 > 7, ETL!$H288, \"\")","v":""},{"$f":" IF($B$5 > 7, ETL!$G288, \"\")","v":""},{"$f":" IF($B$5 > 7, ETL!$H289, \"\")","v":""},{"$f":" IF($B$5 > 7, ETL!$G289, \"\")","v":""},{"$f":" IF($B$5 > 7, ETL!$G290, \"\")","v":""},{"$f":" IF($B$5 > 7, ETL!$H291, \"\")","v":""},{"$f":" IF($B$5 > 7, ETL!$G291, \"\")","v":""},{"$f":" IF($B$5 > 7, ETL!$H292, \"\")","v":""},{"$f":" IF($B$5 > 7, ETL!$G292, \"\")","v":""},{"$f":" IF($B$5 > 7, ETL!$G293, \"\")","v":""},{"$f":" IF($B$5 > 7, ETL!$H294, \"\")","v":""},{"$f":" IF($B$5 > 7, ETL!$G294, \"\")","v":""},{"$f":" IF($B$5 > 7, ETL!$H295, \"\")","v":""},{"$f":" IF($B$5 > 7, ETL!$G295, \"\")","v":""},{"$f":" IF($B$5 > 7, ETL!$G296, \"\")","v":""},{"$f":" IF($B$5 > 7, ETL!$H297, \"\")","v":""},{"$f":" IF($B$5 > 7, ETL!$G297, \"\")","v":""},{"$f":" IF($B$5 > 7, ETL!$H298, \"\")","v":""},{"$f":" IF($B$5 > 7, ETL!$G298, \"\")","v":""},{"$f":" IF($B$5 > 7, ETL!$G299, \"\")","v":""},{"$f":" IF($B$5 > 7, ETL!$H300, \"\")","v":""},{"$f":" IF($B$5 > 7, ETL!$G300, \"\")","v":""},{"$f":" IF($B$5 > 7, ETL!$H301, \"\")","v":""},{"$f":" IF($B$5 > 7, ETL!$G301, \"\")","v":""},{"$f":" IF($B$5 > 7, ETL!$G302, \"\")","v":""},{"$f":" IF($B$5 > 7, ETL!$G303, \"\")","v":""},{"$f":" IF($B$5 > 7, ETL!$H1266, \"\")","v":""},{"$f":" IF($B$5 > 7, ETL!$G1266, \"\")","v":""},{"$f":" IF($B$5 > 7, ETL!$H1267, \"\")","v":""},{"$f":" IF($B$5 > 7, ETL!$G1267, \"\")","v":""}]
[9,{"$f":" IF($B$5 > 8, ETL!$D$6, \"\")","v":""},{"$f":" IF($B$5 > 8, ETL!$G$3, \"\")","v":""},{"$f":" IF($B$5 > 8, ETL!$G$7, \"\")","v":""},{"$f":" IF($B$5 > 8, ETL!$D$11, \"\")","v":""},{"$f":" IF($B$5 > 8, ETL!$D$59, \"\")","v":""},{"$f":" IF($B$5 > 8, ETL!$D$61, \"\")","v":""},{"$f":" IF($B$5 > 8, ETL!$G$63, \"\")","v":""},{"$f":" IF($B$5 > 8, ETL!$G306, \"\")","v":""},{"$f":" IF($B$5 > 8, ETL!$G307 &\"\", \"\")","v":""},{"$f":" IF($B$5 > 8, ETL!$G308, \"\")","v":""},{"$f":" IF($B$5 > 8, ETL!$G311, \"\")","v":""},{"$f":" IF($B$5 > 8, ETL!$H314, \"\")","v":""},{"$f":" IF($B$5 > 8, ETL!$G314, \"\")","v":""},{"$f":" IF($B$5 > 8, ETL!$G312, \"\")","v":""},{"$f":" IF($B$5 > 8, ETL!$D312, \"\")","v":""},{"$f":" IF($B$5 > 8, ETL!$G313, \"\")","v":""},{"$f":" IF($B$5 > 0, ETL!$G315, \"\")","v":""},{"$f":" IF($B$5 > 8, ETL!$H316, \"\")","v":""},{"$f":" IF($B$5 > 8, ETL!$G316, \"\")","v":""},{"$f":" IF($B$5 > 8, ETL!$H317, \"\")","v":""},{"$f":" IF($B$5 > 8, ETL!$G317, \"\")","v":""},{"$f":" IF($B$5 > 8, ETL!$G318, \"\")","v":""},{"$f":" IF($B$5 > 8, ETL!$H319, \"\")","v":""},{"$f":" IF($B$5 > 8, ETL!$G319, \"\")","v":""},{"$f":" IF($B$5 > 8, ETL!$H320, \"\")","v":""},{"$f":" IF($B$5 > 8, ETL!$G320, \"\")","v":""},{"$f":" IF($B$5 > 8, ETL!$G321, \"\")","v":""},{"$f":" IF($B$5 > 8, ETL!$H322, \"\")","v":""},{"$f":" IF($B$5 > 8, ETL!$G322, \"\")","v":""},{"$f":" IF($B$5 > 8, ETL!$H323, \"\")","v":""},{"$f":" IF($B$5 > 8, ETL!$G323, \"\")","v":""},{"$f":" IF($B$5 > 8, ETL!$G324, \"\")","v":""},{"$f":" IF($B$5 > 8, ETL!$H325, \"\")","v":""},{"$f":" IF($B$5 > 8, ETL!$G325, \"\")","v":""},{"$f":" IF($B$5 > 8, ETL!$H326, \"\")","v":""},{"$f":" IF($B$5 > 8, ETL!$G326, \"\")","v":""},{"$f":" IF($B$5 > 8, ETL!$G327, \"\")","v":""},{"$f":" IF($B$5 > 8, ETL!$H328, \"\")","v":""},{"$f":" IF($B$5 > 8, ETL!$G328, \"\")","v":""},{"$f":" IF($B$5 > 8, ETL!$H329, \"\")","v":""},{"$f":" IF($B$5 > 8, ETL!$G329, \"\")","v":""},{"$f":" IF($B$5 > 8, ETL!$G330, \"\")","v":""},{"$f":" IF($B$5 > 8, ETL!$G331, \"\")","v":""},{"$f":" IF($B$5 > 8, ETL!$H1269, \"\")","v":""},{"$f":" IF($B$5 > 8, ETL!$G1269, \"\")","v":""},{"$f":" IF($B$5 > 8, ETL!$H1270, \"\")","v":""},{"$f":" IF($B$5 > 8, ETL!$G1270, \"\")","v":""}]
[10,{"$f":" IF($B$5 > 9, ETL!$D$6, \"\")","v":""},{"$f":" IF($B$5 > 9, ETL!$G$3, \"\")","v":""},{"$f":" IF($B$5 > 9, ETL!$G$7, \"\")","v":""},{"$f":" IF($B$5 > 9, ETL!$D$11, \"\")","v":""},{"$f":" IF($B$5 > 9, ETL!$D$59, \"\")","v":""},{"$f":" IF($B$5 > 9, ETL!$D$61, \"\")","v":""},{"$f":" IF($B$5 > 9, ETL!$G$63, \"\")","v":""},{"$f":" IF($B$5 > 9, ETL!$G334, \"\")","v":""},{"$f":" IF($B$5 > 9, ETL!$G335 &\"\", \"\")","v":""},{"$f":" IF($B$5 > 9, ETL!$G336, \"\")","v":""},{"$f":" IF($B$5 > 9, ETL!$G339, \"\")","v":""},{"$f":" IF($B$5 > 9, ETL!$H342, \"\")","v":""},{"$f":" IF($B$5 > 9, ETL!$G342, \"\")","v":""},{"$f":" IF($B$5 > 9, ETL!$G340, \"\")","v":""},{"$f":" IF($B$5 > 9, ETL!$D340, \"\")","v":""},{"$f":" IF($B$5 > 9, ETL!$G341, \"\")","v":""},{"$f":" IF($B$5 > 0, ETL!$G343, \"\")","v":""},{"$f":" IF($B$5 > 9, ETL!$H344, \"\")","v":""},{"$f":" IF($B$5 > 9, ETL!$G344, \"\")","v":""},{"$f":" IF($B$5 > 9, ETL!$H345, \"\")","v":""},{"$f":" IF($B$5 > 9, ETL!$G345, \"\")","v":""},{"$f":" IF($B$5 > 9, ETL!$G346, \"\")","v":""},{"$f":" IF($B$5 > 9, ETL!$H347, \"\")","v":""},{"$f":" IF($B$5 > 9, ETL!$G347, \"\")","v":""},{"$f":" IF($B$5 > 9, ETL!$H348, \"\")","v":""},{"$f":" IF($B$5 > 9, ETL!$G348, \"\")","v":""},{"$f":" IF($B$5 > 9, ETL!$G349, \"\")","v":""},{"$f":" IF($B$5 > 9, ETL!$H350, \"\")","v":""},{"$f":" IF($B$5 > 9, ETL!$G350, \"\")","v":""},{"$f":" IF($B$5 > 9, ETL!$H351, \"\")","v":""},{"$f":" IF($B$5 > 9, ETL!$G351, \"\")","v":""},{"$f":" IF($B$5 > 9, ETL!$G352, \"\")","v":""},{"$f":" IF($B$5 > 9, ETL!$H353, \"\")","v":""},{"$f":" IF($B$5 > 9, ETL!$G353, \"\")","v":""},{"$f":" IF($B$5 > 9, ETL!$H354, \"\")","v":""},{"$f":" IF($B$5 > 9, ETL!$G354, \"\")","v":""},{"$f":" IF($B$5 > 9, ETL!$G355, \"\")","v":""},{"$f":" IF($B$5 > 9, ETL!$H356, \"\")","v":""},{"$f":" IF($B$5 > 9, ETL!$G356, \"\")","v":""},{"$f":" IF($B$5 > 9, ETL!$H357, \"\")","v":""},{"$f":" IF($B$5 > 9, ETL!$G357, \"\")","v":""},{"$f":" IF($B$5 > 9, ETL!$G358, \"\")","v":""},{"$f":" IF($B$5 > 9, ETL!$G359, \"\")","v":""},{"$f":" IF($B$5 > 9, ETL!$H1272, \"\")","v":""},{"$f":" IF($B$5 > 9, ETL!$G1272, \"\")","v":""},{"$f":" IF($B$5 > 9, ETL!$H1273, \"\")","v":""},{"$f":" IF($B$5 > 9, ETL!$G1273, \"\")","v":""}]
[]
["Form2.2の数",{"$f":" IF($B$22 > 0, 1,0 )","v":1}]
["No","AT008_RelatesYear","AT008_PlantSiteCode","AT008_ReportDay","AT008_PlantSiteName","AT008_PlantSiteOwner","AT008_PlantSiteAddress","AT008_PlantSiteCity","AT008_PlantSiteProvince","AT008_PlantSitePreciseLocation","AT008_PlantSiteAttachment","AT008_NumberOfSCH3Plants","AT008_NumberOfSCH3PlantsValue","AT008_Supplement"]
[1,{"$f":" IF($B$18 > 0, ETL!$D$6, \"\")","v":0},{"$f":" IF($B$18 > 0, ETL!$D$61, \"\")","v":""},{"$f":" IF($B$18 > 0, ETL!$G$3, \"\")","v":{"$error":"#NUM!"}},{"$f":" IF($B$18 > 0, ETL!$D$60, \"\")","v":""},{"$f":" IF($B$18 > 0, ETL!$D$8, \"\")","v":""},{"$f":" IF($B$18 > 0, ETL!$D$67, \"\")","v":""},{"$f":" IF($B$18 > 0, ETL!$D$65, \"\")","v":""},{"$f":" IF($B$18 > 0, ETL!$D$63, \"\")","v":""},{"$f":" IF($B$18 > 0, ETL!$G$68, \"\")","v":"0/0/0N 0/0/0E"},{"$f":" IF($B$18 > 0, ETL!$D$74, \"\")","v":""},{"$f":" IF($B$18 > 0, ETL!$G362, \"\")","v":"0"},{"$f":" IF($B$18 > 0, ETL!$D362, \"\")","v":0},{"$f":" IF($B$18 > 0, \"0\"&\"\", \"\")","v":"0"}]
[]
["Form2.3の数",{"$f":"ETL!$D$365","v":1}]
["No","AT009_RelatesYear","AT009_PlantSiteCode","AT009_PlantCode","AT009_ReportDay","AT009_PlantName","AT009_PlantSiteOwner","AT009_PlantPreciseLocation","AT009_Structure","AT009_Building","AT009_Attachment","AT009_ProdGroupCode"]
[1,{"$f":" IF($B$22 > 0, ETL!$D$6, \"\")","v":0},{"$f":" IF($B$22 > 0, ETL!$D$61, \"\")","v":""},{"$f":" IF($B$22 > 0, ETL!$D367, \"\")","v":""},{"$f":" IF($B$22 > 0, ETL!$G$3, \"\")","v":{"$error":"#NUM!"}},{"$f":" IF($B$22 > 0, ETL!$D366, \"\")","v":""},{"$f":" IF($B$22 > 0, ETL!$D$8, \"\")","v":""},{"$f":" IF($B$22 > 0, ETL!$D368, \"\")","v":""},{"$f":" IF($B$22 > 0, ETL!$D369, \"\")","v":""},{"$f":" IF($B$22 > 0, ETL!$D370, \"\")","v":""},{"$f":" IF($B$22 > 0, ETL!$D371, \"\")","v":""},{"$f":" IF($B$22 > 0, ETL!$H402, \"\")","v":""}]
[2,{"$f":" IF($B$22 > 1, ETL!$D$6, \"\")","v":""},{"$f":" IF($B$22 > 1, ETL!$D$61, \"\")","v":""},{"$f":" IF($B$22 > 1, ETL!$D416, \"\")","v":""},{"$f":" IF($B$22 > 1, ETL!$G$3, \"\")","v":""},{"$f":" IF($B$22 > 1, ETL!$D415, \"\")","v":""},{"$f":" IF($B$22 > 1, ETL!$D$8, \"\")","v":""},{"$f":" IF($B$22 > 1, ETL!$D417, \"\")","v":""},{"$f":" IF($B$22 > 1, ETL!$D418, \"\")","v":""},{"$f":" IF($B$22 > 1, ETL!$D419, \"\")","v":""},{"$f":" IF($B$22 > 1, ETL!$D420, \"\")","v":""},{"$f":" IF($B$22 > 1, ETL!$H451, \"\")","v":""}]
[3,{"$f":" IF($B$22 > 2, ETL!$D$6, \"\")","v":""},{"$f":" IF($B$22 > 2, ETL!$D$61, \"\")","v":""},{"$f":" IF($B$22 > 2, ETL!$D465, \"\")","v":""},{"$f":" IF($B$22 > 2, ETL!$G$3, \"\")","v":""},{"$f":" IF($B$22 > 2, ETL!$D464, \"\")","v":""},{"$f":" IF($B$22 > 2, ETL!$D$8, \"\")","v":""},{"$f":" IF($B$22 > 2, ETL!$D466, \"\")","v":""},{"$f":" IF($B$22 > 2, ETL!$D467, \"\")","v":""},{"$f":" IF($B$22 > 2, ETL!$D468, \"\")","v":""},{"$f":" IF($B$22 > 2, ETL!$D469, \"\")","v":""},{"$f":" IF($B$22 > 2, ETL!$H500, \"\")","v":""}]
[4,{"$f":" IF($B$22 > 3, ETL!$D$6, \"\")","v":""},{"$f":" IF($B$22 > 3, ETL!$D$61, \"\")","v":""},{"$f":" IF($B$22 > 3, ETL!$D514, \"\")","v":""},{"$f":" IF($B$22 > 3, ETL!$G$3, \"\")","v":""},{"$f":" IF($B$22 > 3, ETL!$D513, \"\")","v":""},{"$f":" IF($B$22 > 3, ETL!$D$8, \"\")","v":""},{"$f":" IF($B$22 > 3, ETL!$D515, \"\")","v":""},{"$f":" IF($B$22 > 3, ETL!$D516, \"\")","v":""},{"$f":" IF($B$22 > 3, ETL!$D517, \"\")","v":""},{"$f":" IF($B$22 > 3, ETL!$D518, \"\")","v":""},{"$f":" IF($B$22 > 3, ETL!$H549, \"\")","v":""}]
[5,{"$f":" IF($B$22 > 4, ETL!$D$6, \"\")","v":""},{"$f":" IF($B$22 > 4, ETL!$D$61, \"\")","v":""},{"$f":" IF($B$22 > 4, ETL!$D563, \"\")","v":""},{"$f":" IF($B$22 > 4, ETL!$G$3, \"\")","v":""},{"$f":" IF($B$22 > 4, ETL!$D562, \"\")","v":""},{"$f":" IF($B$22 > 4, ETL!$D$8, \"\")","v":""},{"$f":" IF($B$22 > 4, ETL!$D564, \"\")","v":""},{"$f":" IF($B$22 > 4, ETL!$D565, \"\")","v":""},{"$f":" IF($B$22 > 4, ETL!$D566, \"\")","v":""},{"$f":" IF($B$22 > 4, ETL!$D567, \"\")","v":""},{"$f":" IF($B$22 > 4, ETL!$H598, \"\")","v":""}]
[6,{"$f":" IF($B$22 > 5, ETL!$D$6, \"\")","v":""},{"$f":" IF($B$22 > 5, ETL!$D$61, \"\")","v":""},{"$f":" IF($B$22 > 5, ETL!$D612, \"\")","v":""},{"$f":" IF($B$22 > 5, ETL!$G$3, \"\")","v":""},{"$f":" IF($B$22 > 5, ETL!$D611, \"\")","v":""},{"$f":" IF($B$22 > 5, ETL!$D$8, \"\")","v":""},{"$f":" IF($B$22 > 5, ETL!$D613, \"\")","v":""},{"$f":" IF($B$22 > 5, ETL!$D614, \"\")","v":""},{"$f":" IF($B$22 > 5, ETL!$D615, \"\")","v":""},{"$f":" IF($B$22 > 5, ETL!$D616, \"\")","v":""},{"$f":" IF($B$22 > 5, ETL!$H647, \"\")","v":""}]
[7,{"$f":" IF($B$22 > 6, ETL!$D$6, \"\")","v":""},{"$f":" IF($B$22 > 6, ETL!$D$61, \"\")","v":""},{"$f":" IF($B$22 > 6, ETL!$D661, \"\")","v":""},{"$f":" IF($B$22 > 6, ETL!$G$3, \"\")","v":""},{"$f":" IF($B$22 > 6, ETL!$D660, \"\")","v":""},{"$f":" IF($B$22 > 6, ETL!$D$8, \"\")","v":""},{"$f":" IF($B$22 > 6, ETL!$D662, \"\")","v":""},{"$f":" IF($B$22 > 6, ETL!$D663, \"\")","v":""},{"$f":" IF($B$22 > 6, ETL!$D664, \"\")","v":""},{"$f":" IF($B$22 > 6, ETL!$D665, \"\")","v":""},{"$f":" IF($B$22 > 6, ETL!$H696, \"\")","v":""}]
[8,{"$f":" IF($B$22 > 7, ETL!$D$6, \"\")","v":""},{"$f":" IF($B$22 > 7, ETL!$D$61, \"\")","v":""},{"$f":" IF($B$22 > 7, ETL!$D710, \"\")","v":""},{"$f":" IF($B$22 > 7, ETL!$G$3, \"\")","v":""},{"$f":" IF($B$22 > 7, ETL!$D709, \"\")","v":""},{"$f":" IF($B$22 > 7, ETL!$D$8, \"\")","v":""},{"$f":" IF($B$22 > 7, ETL!$D711, \"\")","v":""},{"$f":" IF($B$22 > 7, ETL!$D712, \"\")","v":""},{"$f":" IF($B$22 > 7, ETL!$D713, \"\")","v":""},{"$f":" IF($B$22 > 7, ETL!$D714, \"\")","v":""},{"$f":" IF($B$22 > 7, ETL!$H745, \"\")","v":""}]
[9,{"$f":" IF($B$22 > 8, ETL!$D$6, \"\")","v":""},{"$f":" IF($B$22 > 8, ETL!$D$61, \"\")","v":""},{"$f":" IF($B$22 > 8, ETL!$D759, \"\")","v":""},{"$f":" IF($B$22 > 8, ETL!$G$3, \"\")","v":""},{"$f":" IF($B$22 > 8, ETL!$D758, \"\")","v":""},{"$f":" IF($B$22 > 8, ETL!$D$8, \"\")","v":""},{"$f":" IF($B$22 > 8, ETL!$D760, \"\")","v":""},{"$f":" IF($B$22 > 8, ETL!$D761, \"\")","v":""},{"$f":" IF($B$22 > 8, ETL!$D762, \"\")","v":""},{"$f":" IF($B$22 > 8, ETL!$D763, \"\")","v":""},{"$f":" IF($B$22 > 8, ETL!$H794, \"\")","v":""}]
[10,{"$f":" IF($B$22 > 9, ETL!$D$6, \"\")","v":""},{"$f":" IF($B$22 > 9, ETL!$D$61, \"\")","v":""},{"$f":" IF($B$22 > 9, ETL!$D808, \"\")","v":""},{"$f":" IF($B$22 > 9, ETL!$G$3, \"\")","v":""},{"$f":" IF($B$22 > 9, ETL!$D807, \"\")","v":""},{"$f":" IF($B$22 > 9, ETL!$D$8, \"\")","v":""},{"$f":" IF($B$22 > 9, ETL!$D809, \"\")","v":""},{"$f":" IF($B$22 > 9, ETL!$D810, \"\")","v":""},{"$f":" IF($B$22 > 9, ETL!$D811, \"\")","v":""},{"$f":" IF($B$22 > 9, ETL!$D812, \"\")","v":""},{"$f":" IF($B$22 > 9, ETL!$H843, \"\")","v":""}]
[]
["Form2.3.1の数",{"$f":"ETL!$D$365","v":1}]
["No","AT010_RelatesYear","AT010_PlantSiteCode","AT010_PlantCode","AT010_ReportDay","AT010_Production","AT010_Processing","AT010_Consumption","AT010_Dedication","AT010_ActivityCode"]
[1,{"$f":" IF($B$35 > 0, ETL!$D$6, \"\")","v":0},{"$f":" IF($B$35 > 0, ETL!$D$61, \"\")","v":""},{"$f":" IF($B$35 > 0, ETL!$D367, \"\")","v":""},{"$f":" IF($B$35 > 0, ETL!$G$3, \"\")","v":{"$error":"#NUM!"}},{"$f":" IF($B$35 > 0, ETL!$G407, \"\")","v":""},{"$f":" IF($B$35 > 0, ETL!$G408, \"\")","v":""},{"$f":" IF($B$35 > 0, ETL!$G409, \"\")","v":""},{"$f":" IF($B$35 > 0, ETL!$G410, \"\")","v":""},{"$f":" IF($B$35 > 0, ETL!$I411, \"\")","v":""}]
[2,{"$f":" IF($B$35 > 1, ETL!$D$6, \"\")","v":""},{"$f":" IF($B$35 > 1, ETL!$D$61, \"\")","v":""},{"$f":" IF($B$35 > 1, ETL!$D416, \"\")","v":""},{"$f":" IF($B$35 > 1, ETL!$G$3, \"\")","v":""},{"$f":" IF($B$35 > 1, ETL!$G456, \"\")","v":""},{"$f":" IF($B$35 > 1, ETL!$G457, \"\")","v":""},{"$f":" IF($B$35 > 1, ETL!$G458, \"\")","v":""},{"$f":" IF($B$35 > 1, ETL!$G459, \"\")","v":""},{"$f":" IF($B$35 > 1, ETL!$I460, \"\")","v":""}]
[3,{"$f":" IF($B$35 > 2, ETL!$D$6, \"\")","v":""},{"$f":" IF($B$35 > 2, ETL!$D$61, \"\")","v":""},{"$f":" IF($B$35 > 2, ETL!$D465, \"\")","v":""},{"$f":" IF($B$35 > 2, ETL!$G$3, \"\")","v":""},{"$f":" IF($B$35 > 2, ETL!$G505, \"\")","v":""},{"$f":" IF($B$35 > 2, ETL!$G506, \"\")","v":""},{"$f":" IF($B$35 > 2, ETL!$G507, \"\")","v":""},{"$f":" IF($B$35 > 2, ETL!$G508, \"\")","v":""},{"$f":" IF($B$35 > 2, ETL!$I509, \"\")","v":""}]
[4,{"$f":" IF($B$35 > 3, ETL!$D$6, \"\")","v":""},{"$f":" IF($B$35 > 3, ETL!$D$61, \"\")","v":""},{"$f":" IF($B$35 > 3, ETL!$D514, \"\")","v":""},{"$f":" IF($B$35 > 3, ETL!$G$3, \"\")","v":""},{"$f":" IF($B$35 > 3, ETL!$G554, \"\")","v":""},{"$f":" IF($B$35 > 3, ETL!$G555, \"\")","v":""},{"$f":" IF($B$35 > 3, ETL!$G556, \"\")","v":""},{"$f":" IF($B$35 > 3, ETL!$G557, \"\")","v":""},{"$f":" IF($B$35 > 3, ETL!$I558, \"\")","v":""}]
[5,{"$f":" IF($B$35 > 4, ETL!$D$6, \"\")","v":""},{"$f":" IF($B$35 > 4, ETL!$D$61, \"\")","v":""},{"$f":" IF($B$35 > 4, ETL!$D563, \"\")","v":""},{"$f":" IF($B$35 > 4, ETL!$G$3, \"\")","v":""},{"$f":" IF($B$35 > 4, ETL!$G603, \"\")","v":""},{"$f":" IF($B$35 > 4, ETL!$G604, \"\")","v":""},{"$f":" IF($B$35 > 4, ETL!$G605, \"\")","v":""},{"$f":" IF($B$35 > 4, ETL!$G606, \"\")","v":""},{"$f":" IF($B$35 > 4, ETL!$I607, \"\")","v":""}]
[6,{"$f":" IF($B$35 > 5, ETL!$D$6, \"\")","v":""},{"$f":" IF($B$35 > 5, ETL!$D$61, \"\")","v":""},{"$f":" IF($B$35 > 5, ETL!$D612, \"\")","v":""},{"$f":" IF($B$35 > 5, ETL!$G$3, \"\")","v":""},{"$f":" IF($B$35 > 5, ETL!$G652, \"\")","v":""},{"$f":" IF($B$35 > 5, ETL!$G653, \"\")","v":""},{"$f":" IF($B$35 > 5, ETL!$G654, \"\")","v":""},{"$f":" IF($B$35 > 5, ETL!$G655, \"\")","v":""},{"$f":" IF($B$35 > 5, ETL!$I656, \"\")","v":""}]
[7,{"$f":" IF($B$35 > 6, ETL!$D$6, \"\")","v":""},{"$f":" IF($B$35 > 6, ETL!$D$61, \"\")","v":""},{"$f":" IF($B$35 > 6, ETL!$D661, \"\")","v":""},{"$f":" IF($B$35 > 6, ETL!$G$3, \"\")","v":""},{"$f":" IF($B$35 > 6, ETL!$G701, \"\")","v":""},{"$f":" IF($B$35 > 6, ETL!$G702, \"\")","v":""},{"$f":" IF($B$35 > 6, ETL!$G703, \"\")","v":""},{"$f":" IF($B$35 > 6, ETL!$G704, \"\")","v":""},{"$f":" IF($B$35 > 6, ETL!$I705, \"\")","v":""}]
[8,{"$f":" IF($B$35 > 7, ETL!$D$6, \"\")","v":""},{"$f":" IF($B$35 > 7, ETL!$D$61, \"\")","v":""},{"$f":" IF($B$35 > 7, ETL!$D710, \"\")","v":""},{"$f":" IF($B$35 > 7, ETL!$G$3, \"\")","v":""},{"$f":" IF($B$35 > 7, ETL!$G750, \"\")","v":""},{"$f":" IF($B$35 > 7, ETL!$G751, \"\")","v":""},{"$f":" IF($B$35 > 7, ETL!$G752, \"\")","v":""},{"$f":" IF($B$35 > 7, ETL!$G753, \"\")","v":""},{"$f":" IF($B$35 > 7, ETL!$I754, \"\")","v":""}]
[9,{"$f":" IF($B$35 > 8, ETL!$D$6, \"\")","v":""},{"$f":" IF($B$35 > 8, ETL!$D$61, \"\")","v":""},{"$f":" IF($B$35 > 8, ETL!$D759, \"\")","v":""},{"$f":" IF($B$35 > 8, ETL!$G$3, \"\")","v":""},{"$f":" IF($B$35 > 8, ETL!$G799, \"\")","v":""},{"$f":" IF($B$35 > 8, ETL!$G800, \"\")","v":""},{"$f":" IF($B$35 > 8, ETL!$G801, \"\")","v":""},{"$f":" IF($B$35 > 8, ETL!$G802, \"\")","v":""},{"$f":" IF($B$35 > 8, ETL!$I803, \"\")","v":""}]
[10,{"$f":" IF($B$35 > 9, ETL!$D$6, \"\")","v":""},{"$f":" IF($B$35 > 9, ETL!$D$61, \"\")","v":""},{"$f":" IF($B$35 > 9, ETL!$D808, \"\")","v":""},{"$f":" IF($B$35 > 9, ETL!$G$3, \"\")","v":""},{"$f":" IF($B$35 > 9, ETL!$G848, \"\")","v":""},{"$f":" IF($B$35 > 9, ETL!$G849, \"\")","v":""},{"$f":" IF($B$35 > 9, ETL!$G850, \"\")","v":""},{"$f":" IF($B$35 > 9, ETL!$G851, \"\")","v":""},{"$f":" IF($B$35 > 9, ETL!$I852, \"\")","v":""}]
[]
["Form2.3.2の数",{"$f":"ETL!$D$365","v":1}]
["No","No","AT011_RelatesYear","AT011_PlantSiteCode","AT011_PlantCode","AT011_UnitWeight","AT011_CASRegistryNumber","AT011_ChemicalId","AT011_ReportDay","AT011_IUPACName","AT011_ProductionCapacity","AT011_ProductionCapacityValue","AT011_CalculationMethod"]
[1,1,{"$f":" IF($G50 <> \"\", ETL!$D$6, 0)","v":0},{"$f":" IF($G50 <> \"\", ETL!$D$61, \"\")","v":""},{"$f":" IF($G50 <> \"\", ETL!$D$367, \"\")","v":""},{"$f":" IF($G50 <> \"\", \"Tonne\", \"\")","v":""},{"$f":" IF($B$48 > 0, ETL!$G$372, \"\")","v":""},{"$f":" IF($G50 <> \"\", ETL!$G$373, 0)","v":0},{"$f":" IF($G50 <> \"\", ETL!$G$3, \"\")","v":""},{"$f":" IF($G50 <> \"\", ETL!$D$374, \"\")","v":""},{"$f":" IF($G50 <> \"\", ETL!$H$375, \"\")","v":""},{"$f":" IF($G50 <> \"\", ETL!$G$375, 0)","v":0},{"$f":" IF($G50 <> \"\", ETL!$G$376, \"\")","v":""}]
[1,2,{"$f":" IF($G51 <> \"\", ETL!$D$6, 0)","v":0},{"$f":" IF($G51 <> \"\", ETL!$D$61, \"\")","v":""},{"$f":" IF($G51 <> \"\", ETL!$D$367, \"\")","v":""},"",{"$f":" IF($B$48 > 0, ETL!$G$377, \"\")","v":""},{"$f":" IF($G51 <> \"\", ETL!$G$378, 0)","v":0},{"$f":" IF($G51 <> \"\", ETL!$G$3, \"\")","v":""},{"$f":" IF($G51 <> \"\", ETL!$D$379, \"\")","v":""},{"$f":" IF($G51 <> \"\", ETL!$H$380, \"\")","v":""},{"$f":" IF($G51 <> \"\", ETL!$G$380, 0)","v":0},{"$f":" IF($G51 <> \"\", ETL!$G$381, \"\")","v":""}]
[1,3,{"$f":" IF($G52 <> \"\", ETL!$D$6, 0)","v":0},{"$f":" IF($G52 <> \"\", ETL!$D$61, \"\")","v":""},{"$f":" IF($G52 <> \"\", ETL!$D$367, \"\")","v":""},"",{"$f":" IF($B$48 > 0, ETL!$G$382, \"\")","v":""},{"$f":" IF($G52 <> \"\", ETL!$G$383, 0)","v":0},{"$f":" IF($G52 <> \"\", ETL!$G$3, \"\")","v":""},{"$f":" IF($G52 <> \"\", ETL!$D$384, \"\")","v":""},{"$f":" IF($G52 <> \"\", ETL!$H$385, \"\")","v":""},{"$f":" IF($G52 <> \"\", ETL!$G$385, 0)","v":0},{"$f":" IF($G52 <> \"\", ETL!$G$386, \"\")","v":""}]
[1,4,{"$f":" IF($G53 <> \"\", ETL!$D$6, 0)","v":0},{"$f":" IF($G53 <> \"\", ETL!$D$61, \"\")","v":""},{"$f":" IF($G53 <> \"\", ETL!$D$367, \"\")","v":""},"",{"$f":" IF($B$48 > 0, ETL!$G$387, \"\")","v":""},{"$f":" IF($G53 <> \"\", ETL!$G$388, 0)","v":0},{"$f":" IF($G53 <> \"\", ETL!$G$3, \"\")","v":""},{"$f":" IF($G53 <> \"\", ETL!$D$389, \"\")","v":""},{"$f":" IF($G53 <> \"\", ETL!$H$390, \"\")","v":""},{"$f":" IF($G53 <> \"\", ETL!$G$390, 0)","v":0},{"$f":" IF($G53 <> \"\", ETL!$G$391, \"\")","v":""}]
[1,5,{"$f":" IF($G54 <> \"\", ETL!$D$6, 0)","v":0},{"$f":" IF($G54 <> \"\", ETL!$D$61, \"\")","v":""},{"$f":" IF($G54 <> \"\", ETL!$D$367, \"\")","v":""},"",{"$f":" IF($B$48 > 0, ETL!$G$392, \"\")","v":""},{"$f":" IF($G54 <> \"\", ETL!$G$393, 0)","v":0},{"$f":" IF($G54 <> \"\", ETL!$G$3, \"\")","v":""},{"$f":" IF($G54 <> \"\", ETL!$D$394, \"\")","v":""},{"$f":" IF($G54 <> \"\", ETL!$H$395, \"\")","v":""},{"$f":" IF($G54 <> \"\", ETL!$G$395, 0)","v":0},{"$f":" IF($G54 <> \"\", ETL!$G$396, \"\")","v":""}]
[1,6,{"$f":" IF($G55 <> \"\", ETL!$D$6, 0)","v":0},{"$f":" IF($G55 <> \"\", ETL!$D$61, \"\")","v":""},{"$f":" IF($G55 <> \"\", ETL!$D$367, \"\")","v":""},"",{"$f":" IF($B$48 > 0, ETL!$G$397, \"\")","v":""},{"$f":" IF($G55 <> \"\", ETL!$G$398, 0)","v":0},{"$f":" IF($G55 <> \"\", ETL!$G$3, \"\")","v":""},{"$f":" IF($G55 <> \"\", ETL!$D$399, \"\")","v":""},{"$f":" IF($G55 <> \"\", ETL!$H$400, \"\")","v":""},{"$f":" IF($G55 <> \"\", ETL!$G$400, 0)","v":0},{"$f":" IF($G55 <> \"\", ETL!$G$401, \"\")","v":""}]
[2,1,{"$f":" IF($G56 <> \"\", ETL!$D$6, 0)","v":0},{"$f":" IF($G56 <> \"\", ETL!$D$61, \"\")","v":""},{"$f":" IF($G56 <> \"\", ETL!$D$416, \"\")","v":""},"",{"$f":" IF($B$48 > 1, ETL!$G$421, \"\")","v":""},{"$f":" IF($G56 <> \"\", ETL!$G$422, 0)","v":0},{"$f":" IF($G56 <> \"\", ETL!$G$3, \"\")","v":""},{"$f":" IF($G56 <> \"\", ETL!$D$423, \"\")","v":""},{"$f":" IF($G56 <> \"\", ETL!$H$424, \"\")","v":""},{"$f":" IF($G56 <> \"\", ETL!$G$424, 0)","v":0},{"$f":" IF($G56 <> \"\", ETL!$G$425, \"\")","v":""}]
[2,2,{"$f":" IF($G57 <> \"\", ETL!$D$6, 0)","v":0},{"$f":" IF($G57 <> \"\", ETL!$D$61, \"\")","v":""},{"$f":" IF($G57 <> \"\", ETL!$D$416, \"\")","v":""},"",{"$f":" IF($B$48 > 1, ETL!$G$426, \"\")","v":""},{"$f":" IF($G57 <> \"\", ETL!$G$427, 0)","v":0},{"$f":" IF($G57 <> \"\", ETL!$G$3, \"\")","v":""},{"$f":" IF($G57 <> \"\", ETL!$D$428, \"\")","v":""},{"$f":" IF($G57 <> \"\", ETL!$H$429, \"\")","v":""},{"$f":" IF($G57 <> \"\", ETL!$G$429, 0)","v":0},{"$f":" IF($G57 <> \"\", ETL!$G$430, \"\")","v":""}]
[2,3,{"$f":" IF($G58 <> \"\", ETL!$D$6, 0)","v":0},{"$f":" IF($G58 <> \"\", ETL!$D$61, \"\")","v":""},{"$f":" IF($G58 <> \"\", ETL!$D$416, \"\")","v":""},"",{"$f":" IF($B$48 > 1, ETL!$G$431, \"\")","v":""},{"$f":" IF($G58 <> \"\", ETL!$G$432, 0)","v":0},{"$f":" IF($G58 <> \"\", ETL!$G$3, \"\")","v":""},{"$f":" IF($G58 <> \"\", ETL!$D$433, \"\")","v":""},{"$f":" IF($G58 <> \"\", ETL!$H$434, \"\")","v":""},{"$f":" IF($G58 <> \"\", ETL!$G$434, 0)","v":0},{"$f":" IF($G58 <> \"\", ETL!$G$435, \"\")","v":""}]
[2,4,{"$f":" IF($G59 <> \"\", ETL!$D$6, 0)","v":0},{"$f":" IF($G59 <> \"\", ETL!$D$61, \"\")","v":""},{"$f":" IF($G59 <> \"\", ETL!$D$416, \"\")","v":""},"",{"$f":" IF($B$48 > 1, ETL!$G$436, \"\")","v":""},{"$f":" IF($G59 <> \"\", ETL!$G$437, 0)","v":0},{"$f":" IF($G59 <> \"\", ETL!$G$3, \"\")","v":""},{"$f":" IF($G59 <> \"\", ETL!$D$438, \"\")","v":""},{"$f":" IF($G59 <> \"\", ETL!$H$439, \"\")","v":""},{"$f":" IF($G59 <> \"\", ETL!$G$439, 0)","v":0},{"$f":" IF($G59 <> \"\", ETL!$G$440, \"\")","v":""}]
[2,5,{"$f":" IF($G60 <> \"\", ETL!$D$6, 0)","v":0},{"$f":" IF($G60 <> \"\", ETL!$D$61, \"\")","v":""},{"$f":" IF($G60 <> \"\", ETL!$D$416, \"\")","v":""},"",{"$f":" IF($B$48 > 1, ETL!$G$441, \"\")","v":""},{"$f":" IF($G60 <> \"\", ETL!$G$442, 0)","v":0},{"$f":" IF($G60 <> \"\", ETL!$G$3, \"\")","v":""},{"$f":" IF($G60 <> \"\", ETL!$D$443, \"\")","v":""},{"$f":" IF($G60 <> \"\", ETL!$H$444, \"\")","v":""},{"$f":" IF($G60 <> \"\", ETL!$G$444, 0)","v":0},{"$f":" IF($G60 <> \"\", ETL!$G$445, \"\")","v":""}]
[2,6,{"$f":" IF($G61 <> \"\", ETL!$D$6, 0)","v":0},{"$f":" IF($G61 <> \"\", ETL!$D$61, \"\")","v":""},{"$f":" IF($G61 <> \"\", ETL!$D$416, \"\")","v":""},"",{"$f":" IF($B$48 > 1, ETL!$G$446, \"\")","v":""},{"$f":" IF($G61 <> \"\", ETL!$G$447, 0)","v":0},{"$f":" IF($G61 <> \"\", ETL!$G$3, \"\")","v":""},{"$f":" IF($G61 <> \"\", ETL!$D$448, \"\")","v":""},{"$f":" IF($G61 <> \"\", ETL!$H$449, \"\")","v":""},{"$f":" IF($G61 <> \"\", ETL!$G$449, 0)","v":0},{"$f":" IF($G61 <> \"\", ETL!$G$450, \"\")","v":""}]
[3,1,{"$f":" IF($G62 <> \"\", ETL!$D$6, 0)","v":0},{"$f":" IF($G62 <> \"\", ETL!$D$61, \"\")","v":""},{"$f":" IF($G62 <> \"\", ETL!$D$465, \"\")","v":""},"",{"$f":" IF($B$48 > 2, ETL!$G$470, \"\")","v":""},{"$f":" IF($G62 <> \"\", ETL!$G$471, 0)","v":0},{"$f":" IF($G62 <> \"\", ETL!$G$3, \"\")","v":""},{"$f":" IF($G62 <> \"\", ETL!$D$472, \"\")","v":""},{"$f":" IF($G62 <> \"\", ETL!$H$473, \"\")","v":""},{"$f":" IF($G62 <> \"\", ETL!$G$473, 0)","v":0},{"$f":" IF($G62 <> \"\", ETL!$G$474, \"\")","v":""}]
[3,2,{"$f":" IF($G63 <> \"\", ETL!$D$6, 0)","v":0},{"$f":" IF($G63 <> \"\", ETL!$D$61, \"\")","v":""},{"$f":" IF($G63 <> \"\", ETL!$D$465, \"\")","v":""},"",{"$f":" IF($B$48 > 2, ETL!$G$475, \"\")","v":""},{"$f":" IF($G63 <> \"\", ETL!$G$476, 0)","v":0},{"$f":" IF($G63 <> \"\", ETL!$G$3, \"\")","v":""},{"$f":" IF($G63 <> \"\", ETL!$D$477, \"\")","v":""},{"$f":" IF($G63 <> \"\", ETL!$H$478, \"\")","v":""},{"$f":" IF($G63 <> \"\", ETL!$G$478, 0)","v":0},{"$f":" IF($G63 <> \"\", ETL!$G$479, \"\")","v":""}]
[3,3,{"$f":" IF($G64 <> \"\", ETL!$D$6, 0)","v":0},{"$f":" IF($G64 <> \"\", ETL!$D$61, \"\")","v":""},{"$f":" IF($G64 <> \"\", ETL!$D$465, \"\")","v":""},"",{"$f":" IF($B$48 > 2, ETL!$G$480, \"\")","v":""},{"$f":" IF($G64 <> \"\", ETL!$G$481, 0)","v":0},{"$f":" IF($G64 <> \"\", ETL!$G$3, \"\")","v":""},{"$f":" IF($G64 <> \"\", ETL!$D$482, \"\")","v":""},{"$f":" IF($G64 <> \"\", ETL!$H$483, \"\")","v":""},{"$f":" IF($G64 <> \"\", ETL!$G$483, 0)","v":0},{"$f":" IF($G64 <> \"\", ETL!$G$484, \"\")","v":""}]
[3,4,{"$f":" IF($G65 <> \"\", ETL!$D$6, 0)","v":0},{"$f":" IF($G65 <> \"\", ETL!$D$61, \"\")","v":""},{"$f":" IF($G65 <> \"\", ETL!$D$465, \"\")","v":""},"",{"$f":" IF($B$48 > 2, ETL!$G$485, \"\")","v":""},{"$f":" IF($G65 <> \"\", ETL!$G$486, 0)","v":0},{"$f":" IF($G65 <> \"\", ETL!$G$3, \"\")","v":""},{"$f":" IF($G65 <> \"\", ETL!$D$487, \"\")","v":""},{"$f":" IF($G65 <> \"\", ETL!$H$488, \"\")","v":""},{"$f":" IF($G65 <> \"\", ETL!$G$488, 0)","v":0},{"$f":" IF($G65 <> \"\", ETL!$G$489, \"\")","v":""}]
[3,5,{"$f":" IF($G66 <> \"\", ETL!$D$6, 0)","v":0},{"$f":" IF($G66 <> \"\", ETL!$D$61, \"\")","v":""},{"$f":" IF($G66 <> \"\", ETL!$D$465, \"\")","v":""},"",{"$f":" IF($B$48 > 2, ETL!$G$490, \"\")","v":""},{"$f":" IF($G66 <> \"\", ETL!$G$491, 0)","v":0},{"$f":" IF($G66 <> \"\", ETL!$G$3, \"\")","v":""},{"$f":" IF($G66 <> \"\", ETL!$D$492, \"\")","v":""},{"$f":" IF($G66 <> \"\", ETL!$H$493, \"\")","v":""},{"$f":" IF($G66 <> \"\", ETL!$G$493, 0)","v":0},{"$f":" IF($G66 <> \"\", ETL!$G$494, \"\")","v":""}]
[3,6,{"$f":" IF($G67 <> \"\", ETL!$D$6, 0)","v":0},{"$f":" IF($G67 <> \"\", ETL!$D$61, \"\")","v":""},{"$f":" IF($G67 <> \"\", ETL!$D$465, \"\")","v":""},"",{"$f":" IF($B$48 > 2, ETL!$G$495, \"\")","v":""},{"$f":" IF($G67 <> \"\", ETL!$G$496, 0)","v":0},{"$f":" IF($G67 <> \"\", ETL!$G$3, \"\")","v":""},{"$f":" IF($G67 <> \"\", ETL!$D$497, \"\")","v":""},{"$f":" IF($G67 <> \"\", ETL!$H$498, \"\")","v":""},{"$f":" IF($G67 <> \"\", ETL!$G$498, 0)","v":0},{"$f":" IF($G67 <> \"\", ETL!$G$499, \"\")","v":""}]
[4,1,{"$f":" IF($G68 <> \"\", ETL!$D$6, 0)","v":0},{"$f":" IF($G68 <> \"\", ETL!$D$61, \"\")","v":""},{"$f":" IF($G68 <> \"\", ETL!$D$514, \"\")","v":""},"",{"$f":" IF($B$48 > 3, ETL!$G$519, \"\")","v":""},{"$f":" IF($G68 <> \"\", ETL!$G$520, 0)","v":0},{"$f":" IF($G68 <> \"\", ETL!$G$3, \"\")","v":""},{"$f":" IF($G68 <> \"\", ETL!$D$521, \"\")","v":""},{"$f":" IF($G68 <> \"\", ETL!$H$522, \"\")","v":""},{"$f":" IF($G68 <> \"\", ETL!$G$522, 0)","v":0},{"$f":" IF($G68 <> \"\", ETL!$G$523, \"\")","v":""}]
[4,2,{"$f":" IF($G69 <> \"\", ETL!$D$6, 0)","v":0},{"$f":" IF($G69 <> \"\", ETL!$D$61, \"\")","v":""},{"$f":" IF($G69 <> \"\", ETL!$D$514, \"\")","v":""},"",{"$f":" IF($B$48 > 3, ETL!$G$524, \"\")","v":""},{"$f":" IF($G69 <> \"\", ETL!$G$525, 0)","v":0},{"$f":" IF($G69 <> \"\", ETL!$G$3, \"\")","v":""},{"$f":" IF($G69 <> \"\", ETL!$D$526, \"\")","v":""},{"$f":" IF($G69 <> \"\", ETL!$H$527, \"\")","v":""},{"$f":" IF($G69 <> \"\", ETL!$G$527, 0)","v":0},{"$f":" IF($G69 <> \"\", ETL!$G$528, \"\")","v":""}]
[4,3,{"$f":" IF($G70 <> \"\", ETL!$D$6, 0)","v":0},{"$f":" IF($G70 <> \"\", ETL!$D$61, \"\")","v":""},{"$f":" IF($G70 <> \"\", ETL!$D$514, \"\")","v":""},"",{"$f":" IF($B$48 > 3, ETL!$G$529, \"\")","v":""},{"$f":" IF($G70 <> \"\", ETL!$G$530, 0)","v":0},{"$f":" IF($G70 <> \"\", ETL!$G$3, \"\")","v":""},{"$f":" IF($G70 <> \"\", ETL!$D$531, \"\")","v":""},{"$f":" IF($G70 <> \"\", ETL!$H$532, \"\")","v":""},{"$f":" IF($G70 <> \"\", ETL!$G$532, 0)","v":0},{"$f":" IF($G70 <> \"\", ETL!$G$533, \"\")","v":""}]
[4,4,{"$f":" IF($G71 <> \"\", ETL!$D$6, 0)","v":0},{"$f":" IF($G71 <> \"\", ETL!$D$61, \"\")","v":""},{"$f":" IF($G71 <> \"\", ETL!$D$514, \"\")","v":""},"",{"$f":" IF($B$48 > 3, ETL!$G$534, \"\")","v":""},{"$f":" IF($G71 <> \"\", ETL!$G$535, 0)","v":0},{"$f":" IF($G71 <> \"\", ETL!$G$3, \"\")","v":""},{"$f":" IF($G71 <> \"\", ETL!$D$536, \"\")","v":""},{"$f":" IF($G71 <> \"\", ETL!$H$537, \"\")","v":""},{"$f":" IF($G71 <> \"\", ETL!$G$537, 0)","v":0},{"$f":" IF($G71 <> \"\", ETL!$G$538, \"\")","v":""}]
[4,5,{"$f":" IF($G72 <> \"\", ETL!$D$6, 0)","v":0},{"$f":" IF($G72 <> \"\", ETL!$D$61, \"\")","v":""},{"$f":" IF($G72 <> \"\", ETL!$D$514, \"\")","v":""},"",{"$f":" IF($B$48 > 3, ETL!$G$539, \"\")","v":""},{"$f":" IF($G72 <> \"\", ETL!$G$540, 0)","v":0},{"$f":" IF($G72 <> \"\", ETL!$G$3, \"\")","v":""},{"$f":" IF($G72 <> \"\", ETL!$D$541, \"\")","v":""},{"$f":" IF($G72 <> \"\", ETL!$H$542, \"\")","v":""},{"$f":" IF($G72 <> \"\", ETL!$G$542, 0)","v":0},{"$f":" IF($G72 <> \"\", ETL!$G$543, \"\")","v":""}]
[4,6,{"$f":" IF($G73 <> \"\", ETL!$D$6, 0)","v":0},{"$f":" IF($G73 <> \"\", ETL!$D$61, \"\")","v":""},{"$f":" IF($G73 <> \"\", ETL!$D$514, \"\")","v":""},"",{"$f":" IF($B$48 > 3, ETL!$G$544, \"\")","v":""},{"$f":" IF($G73 <> \"\", ETL!$G$545, 0)","v":0},{"$f":" IF($G73 <> \"\", ETL!$G$3, \"\")","v":""},{"$f":" IF($G73 <> \"\", ETL!$D$546, \"\")","v":""},{"$f":" IF($G73 <> \"\", ETL!$H$547, \"\")","v":""},{"$f":" IF($G73 <> \"\", ETL!$G$547, 0)","v":0},{"$f":" IF($G73 <> \"\", ETL!$G$548, \"\")","v":""}]
[5,1,{"$f":" IF($G74 <> \"\", ETL!$D$6, 0)","v":0},{"$f":" IF($G74 <> \"\", ETL!$D$61, \"\")","v":""},{"$f":" IF($G74 <> \"\", ETL!$D$563, \"\")","v":""},"",{"$f":" IF($B$48 > 4, ETL!$G$568, \"\")","v":""},{"$f":" IF($G74 <> \"\", ETL!$G$569, 0)","v":0},{"$f":" IF($G74 <> \"\", ETL!$G$3, \"\")","v":""},{"$f":" IF($G74 <> \"\", ETL!$D$570, \"\")","v":""},{"$f":" IF($G74 <> \"\", ETL!$H$571, \"\")","v":""},{"$f":" IF($G74 <> \"\", ETL!$G$571, 0)","v":0},{"$f":" IF($G74 <> \"\", ETL!$G$572, \"\")","v":""}]
[5,2,{"$f":" IF($G75 <> \"\", ETL!$D$6, 0)","v":0},{"$f":" IF($G75 <> \"\", ETL!$D$61, \"\")","v":""},{"$f":" IF($G75 <> \"\", ETL!$D$563, \"\")","v":""},"",{"$f":" IF($B$48 > 4, ETL!$G$573, \"\")","v":""},{"$f":" IF($G75 <> \"\", ETL!$G$574, 0)","v":0},{"$f":" IF($G75 <> \"\", ETL!$G$3, \"\")","v":""},{"$f":" IF($G75 <> \"\", ETL!$D$575, \"\")","v":""},{"$f":" IF($G75 <> \"\", ETL!$H$576, \"\")","v":""},{"$f":" IF($G75 <> \"\", ETL!$G$576, 0)","v":0},{"$f":" IF($G75 <> \"\", ETL!$G$577, \"\")","v":""}]
[5,3,{"$f":" IF($G76 <> \"\", ETL!$D$6, 0)","v":0},{"$f":" IF($G76 <> \"\", ETL!$D$61, \"\")","v":""},{"$f":" IF($G76 <> \"\", ETL!$D$563, \"\")","v":""},"",{"$f":" IF($B$48 > 4, ETL!$G$578, \"\")","v":""},{"$f":" IF($G76 <> \"\", ETL!$G$579, 0)","v":0},{"$f":" IF($G76 <> \"\", ETL!$G$3, \"\")","v":""},{"$f":" IF($G76 <> \"\", ETL!$D$580, \"\")","v":""},{"$f":" IF($G76 <> \"\", ETL!$H$581, \"\")","v":""},{"$f":" IF($G76 <> \"\", ETL!$G$581, 0)","v":0},{"$f":" IF($G76 <> \"\", ETL!$G$582, \"\")","v":""}]
[5,4,{"$f":" IF($G77 <> \"\", ETL!$D$6, 0)","v":0},{"$f":" IF($G77 <> \"\", ETL!$D$61, \"\")","v":""},{"$f":" IF($G77 <> \"\", ETL!$D$563, \"\")","v":""},"",{"$f":" IF($B$48 > 4, ETL!$G$583, \"\")","v":""},{"$f":" IF($G77 <> \"\", ETL!$G$584, 0)","v":0},{"$f":" IF($G77 <> \"\", ETL!$G$3, \"\")","v":""},{"$f":" IF($G77 <> \"\", ETL!$D$585, \"\")","v":""},{"$f":" IF($G77 <> \"\", ETL!$H$586, \"\")","v":""},{"$f":" IF($G77 <> \"\", ETL!$G$586, 0)","v":0},{"$f":" IF($G77 <> \"\", ETL!$G$587, \"\")","v":""}]
[5,5,{"$f":" IF($G78 <> \"\", ETL!$D$6, 0)","v":0},{"$f":" IF($G78 <> \"\", ETL!$D$61, \"\")","v":""},{"$f":" IF($G78 <> \"\", ETL!$D$563, \"\")","v":""},"",{"$f":" IF($B$48 > 4, ETL!$G$588, \"\")","v":""},{"$f":" IF($G78 <> \"\", ETL!$G$589, 0)","v":0},{"$f":" IF($G78 <> \"\", ETL!$G$3, \"\")","v":""},{"$f":" IF($G78 <> \"\", ETL!$D$590, \"\")","v":""},{"$f":" IF($G78 <> \"\", ETL!$H$591, \"\")","v":""},{"$f":" IF($G78 <> \"\", ETL!$G$591, 0)","v":0},{"$f":" IF($G78 <> \"\", ETL!$G$592, \"\")","v":""}]
[5,6,{"$f":" IF($G79 <> \"\", ETL!$D$6, 0)","v":0},{"$f":" IF($G79 <> \"\", ETL!$D$61, \"\")","v":""},{"$f":" IF($G79 <> \"\", ETL!$D$563, \"\")","v":""},"",{"$f":" IF($B$48 > 4, ETL!$G$593, \"\")","v":""},{"$f":" IF($G79 <> \"\", ETL!$G$594, 0)","v":0},{"$f":" IF($G79 <> \"\", ETL!$G$3, \"\")","v":""},{"$f":" IF($G79 <> \"\", ETL!$D$595, \"\")","v":""},{"$f":" IF($G79 <> \"\", ETL!$H$596, \"\")","v":""},{"$f":" IF($G79 <> \"\", ETL!$G$596, 0)","v":0},{"$f":" IF($G79 <> \"\", ETL!$G$597, \"\")","v":""}]
[6,1,{"$f":" IF($G80 <> \"\", ETL!$D$6, 0)","v":0},{"$f":" IF($G80 <> \"\", ETL!$D$61, \"\")","v":""},{"$f":" IF($G80 <> \"\", ETL!$D$612, \"\")","v":""},"",{"$f":" IF($B$48 > 5, ETL!$G$617, \"\")","v":""},{"$f":" IF($G80 <> \"\", ETL!$G$618, 0)","v":0},{"$f":" IF($G80 <> \"\", ETL!$G$3, \"\")","v":""},{"$f":" IF($G80 <> \"\", ETL!$D$619, \"\")","v":""},{"$f":" IF($G80 <> \"\", ETL!$H$620, \"\")","v":""},{"$f":" IF($G80 <> \"\", ETL!$G$620, 0)","v":0},{"$f":" IF($G80 <> \"\", ETL!$G$621, \"\")","v":""}]
[6,2,{"$f":" IF($G81 <> \"\", ETL!$D$6, 0)","v":0},{"$f":" IF($G81 <> \"\", ETL!$D$61, \"\")","v":""},{"$f":" IF($G81 <> \"\", ETL!$D$612, \"\")","v":""},"",{"$f":" IF($B$48 > 5, ETL!$G$622, \"\")","v":""},{"$f":" IF($G81 <> \"\", ETL!$G$623, 0)","v":0},{"$f":" IF($G81 <> \"\", ETL!$G$3, \"\")","v":""},{"$f":" IF($G81 <> \"\", ETL!$D$624, \"\")","v":""},{"$f":" IF($G81 <> \"\", ETL!$H$625, \"\")","v":""},{"$f":" IF($G81 <> \"\", ETL!$G$625, 0)","v":0},{"$f":" IF($G81 <> \"\", ETL!$G$626, \"\")","v":""}]
[6,3,{"$f":" IF($G82 <> \"\", ETL!$D$6, 0)","v":0},{"$f":" IF($G82 <> \"\", ETL!$D$61, \"\")","v":""},{"$f":" IF($G82 <> \"\", ETL!$D$612, \"\")","v":""},{"$f":" IF($G82 <> \"\", \"Tonne\", \"\")","v":""},{"$f":" IF($B$48 > 5, ETL!$G$627, \"\")","v":""},{"$f":" IF($G82 <> \"\", ETL!$G$628, 0)","v":0},{"$f":" IF($G82 <> \"\", ETL!$G$3, \"\")","v":""},{"$f":" IF($G82 <> \"\", ETL!$D$629, \"\")","v":""},{"$f":" IF($G82 <> \"\", ETL!$H$630, \"\")","v":""},{"$f":" IF($G82 <> \"\", ETL!$G$630, 0)","v":0},{"$f":" IF($G82 <> \"\", ETL!$G$631, \"\")","v":""}]
[6,4,{"$f":" IF($G83 <> \"\", ETL!$D$6, 0)","v":0},{"$f":" IF($G83 <> \"\", ETL!$D$61, \"\")","v":""},{"$f":" IF($G83 <> \"\", ETL!$D$612, \"\")","v":""},"",{"$f":" IF($B$48 > 5, ETL!$G$632, \"\")","v":""},{"$f":" IF($G83 <> \"\", ETL!$G$633, 0)","v":0},{"$f":" IF($G83 <> \"\", ETL!$G$3, \"\")","v":""},{"$f":" IF($G83 <> \"\", ETL!$D$634, \"\")","v":""},{"$f":" IF($G83 <> \"\", ETL!$H$635, \"\")","v":""},{"$f":" IF($G83 <> \"\", ETL!$G$635, 0)","v":0},{"$f":" IF($G83 <> \"\", ETL!$G$636, \"\")","v":""}]
[6,5,{"$f":" IF($G84 <> \"\", ETL!$D$6, 0)","v":0},{"$f":" IF($G84 <> \"\", ETL!$D$61, \"\")","v":""},{"$f":" IF($G84 <> \"\", ETL!$D$612, \"\")","v":""},"",{"$f":" IF($B$48 > 5, ETL!$G$637, \"\")","v":""},{"$f":" IF($G84 <> \"\", ETL!$G$638, 0)","v":0},{"$f":" IF($G84 <> \"\", ETL!$G$3, \"\")","v":""},{"$f":" IF($G84 <> \"\", ETL!$D$639, \"\")","v":""},{"$f":" IF($G84 <> \"\", ETL!$H$640, \"\")","v":""},{"$f":" IF($G84 <> \"\", ETL!$G$640, 0)","v":0},{"$f":" IF($G84 <> \"\", ETL!$G$641, \"\")","v":""}]
[6,6,{"$f":" IF($G85 <> \"\", ETL!$D$6, 0)","v":0},{"$f":" IF($G85 <> \"\", ETL!$D$61, \"\")","v":""},{"$f":" IF($G85 <> \"\", ETL!$D$612, \"\")","v":""},"",{"$f":" IF($B$48 > 5, ETL!$G$642, \"\")","v":""},{"$f":" IF($G85 <> \"\", ETL!$G$643, 0)","v":0},{"$f":" IF($G85 <> \"\", ETL!$G$3, \"\")","v":""},{"$f":" IF($G85 <> \"\", ETL!$D$644, \"\")","v":""},{"$f":" IF($G85 <> \"\", ETL!$H$645, \"\")","v":""},{"$f":" IF($G85 <> \"\", ETL!$G$645, 0)","v":0},{"$f":" IF($G85 <> \"\", ETL!$G$646, \"\")","v":""}]
[7,1,{"$f":" IF($G86 <> \"\", ETL!$D$6, 0)","v":0},{"$f":" IF($G86 <> \"\", ETL!$D$61, \"\")","v":""},{"$f":" IF($G86 <> \"\", ETL!$D$661, \"\")","v":""},"",{"$f":" IF($B$48 > 6, ETL!$G$666, \"\")","v":""},{"$f":" IF($G86 <> \"\", ETL!$G$667, 0)","v":0},{"$f":" IF($G86 <> \"\", ETL!$G$3, \"\")","v":""},{"$f":" IF($G86 <> \"\", ETL!$D$668, \"\")","v":""},{"$f":" IF($G86 <> \"\", ETL!$H$669, \"\")","v":""},{"$f":" IF($G86 <> \"\", ETL!$G$669, 0)","v":0},{"$f":" IF($G86 <> \"\", ETL!$G$670, \"\")","v":""}]
[7,2,{"$f":" IF($G87 <> \"\", ETL!$D$6, 0)","v":0},{"$f":" IF($G87 <> \"\", ETL!$D$61, \"\")","v":""},{"$f":" IF($G87 <> \"\", ETL!$D$661, \"\")","v":""},"",{"$f":" IF($B$48 > 6, ETL!$G$671, \"\")","v":""},{"$f":" IF($G87 <> \"\", ETL!$G$672, 0)","v":0},{"$f":" IF($G87 <> \"\", ETL!$G$3, \"\")","v":""},{"$f":" IF($G87 <> \"\", ETL!$D$673, \"\")","v":""},{"$f":" IF($G87 <> \"\", ETL!$H$674, \"\")","v":""},{"$f":" IF($G87 <> \"\", ETL!$G$674, 0)","v":0},{"$f":" IF($G87 <> \"\", ETL!$G$675, \"\")","v":""}]
[7,3,{"$f":" IF($G88 <> \"\", ETL!$D$6, 0)","v":0},{"$f":" IF($G88 <> \"\", ETL!$D$61, \"\")","v":""},{"$f":" IF($G88 <> \"\", ETL!$D$661, \"\")","v":""},"",{"$f":" IF($B$48 > 6, ETL!$G$676, \"\")","v":""},{"$f":" IF($G88 <> \"\", ETL!$G$677, 0)","v":0},{"$f":" IF($G88 <> \"\", ETL!$G$3, \"\")","v":""},{"$f":" IF($G88 <> \"\", ETL!$D$678, \"\")","v":""},{"$f":" IF($G88 <> \"\", ETL!$H$679, \"\")","v":""},{"$f":" IF($G88 <> \"\", ETL!$G$679, 0)","v":0},{"$f":" IF($G88 <> \"\", ETL!$G$680, \"\")","v":""}]
[7,4,{"$f":" IF($G89 <> \"\", ETL!$D$6, 0)","v":0},{"$f":" IF($G89 <> \"\", ETL!$D$61, \"\")","v":""},{"$f":" IF($G89 <> \"\", ETL!$D$661, \"\")","v":""},"",{"$f":" IF($B$48 > 6, ETL!$G$681, \"\")","v":""},{"$f":" IF($G89 <> \"\", ETL!$G$682, 0)","v":0},{"$f":" IF($G89 <> \"\", ETL!$G$3, \"\")","v":""},{"$f":" IF($G89 <> \"\", ETL!$D$683, \"\")","v":""},{"$f":" IF($G89 <> \"\", ETL!$H$684, \"\")","v":""},{"$f":" IF($G89 <> \"\", ETL!$G$684, 0)","v":0},{"$f":" IF($G89 <> \"\", ETL!$G$685, \"\")","v":""}]
[7,5,{"$f":" IF($G90 <> \"\", ETL!$D$6, 0)","v":0},{"$f":" IF($G90 <> \"\", ETL!$D$61, \"\")","v":""},{"$f":" IF($G90 <> \"\", ETL!$D$661, \"\")","v":""},"",{"$f":" IF($B$48 > 6, ETL!$G$686, \"\")","v":""},{"$f":" IF($G90 <> \"\", ETL!$G$687, 0)","v":0},{"$f":" IF($G90 <> \"\", ETL!$G$3, \"\")","v":""},{"$f":" IF($G90 <> \"\", ETL!$D$688, \"\")","v":""},{"$f":" IF($G90 <> \"\", ETL!$H$689, \"\")","v":""},{"$f":" IF($G90 <> \"\", ETL!$G$689, 0)","v":0},{"$f":" IF($G90 <> \"\", ETL!$G$690, \"\")","v":""}]
[7,6,{"$f":" IF($G91 <> \"\", ETL!$D$6, 0)","v":0},{"$f":" IF($G91 <> \"\", ETL!$D$61, \"\")","v":""},{"$f":" IF($G91 <> \"\", ETL!$D$661, \"\")","v":""},"",{"$f":" IF($B$48 > 6, ETL!$G$691, \"\")","v":""},{"$f":" IF($G91 <> \"\", ETL!$G$692, 0)","v":0},{"$f":" IF($G91 <> \"\", ETL!$G$3, \"\")","v":""},{"$f":" IF($G91 <> \"\", ETL!$D$693, \"\")","v":""},{"$f":" IF($G91 <> \"\", ETL!$H$694, \"\")","v":""},{"$f":" IF($G91 <> \"\", ETL!$G$694, 0)","v":0},{"$f":" IF($G91 <> \"\", ETL!$G$695, \"\")","v":""}]
[8,1,{"$f":" IF($G92 <> \"\", ETL!$D$6, 0)","v":0},{"$f":" IF($G92 <> \"\", ETL!$D$61, \"\")","v":""},{"$f":" IF($G92 <> \"\", ETL!$D$710, \"\")","v":""},"",{"$f":" IF($B$48 > 7, ETL!$G$715, \"\")","v":""},{"$f":" IF($G92 <> \"\", ETL!$G$716, 0)","v":0},{"$f":" IF($G92 <> \"\", ETL!$G$3, \"\")","v":""},{"$f":" IF($G92 <> \"\", ETL!$D$717, \"\")","v":""},{"$f":" IF($G92 <> \"\", ETL!$H$718, \"\")","v":""},{"$f":" IF($G92 <> \"\", ETL!$G$718, 0)","v":0},{"$f":" IF($G92 <> \"\", ETL!$G$719, \"\")","v":""}]
[8,2,{"$f":" IF($G93 <> \"\", ETL!$D$6, 0)","v":0},{"$f":" IF($G93 <> \"\", ETL!$D$61, \"\")","v":""},{"$f":" IF($G93 <> \"\", ETL!$D$710, \"\")","v":""},"",{"$f":" IF($B$48 > 7, ETL!$G$720, \"\")","v":""},{"$f":" IF($G93 <> \"\", ETL!$G$721, 0)","v":0},{"$f":" IF($G93 <> \"\", ETL!$G$3, \"\")","v":""},{"$f":" IF($G93 <> \"\", ETL!$D$722, \"\")","v":""},{"$f":" IF($G93 <> \"\", ETL!$H$723, \"\")","v":""},{"$f":" IF($G93 <> \"\", ETL!$G$723, 0)","v":0},{"$f":" IF($G93 <> \"\", ETL!$G$724, \"\")","v":""}]
[8,3,{"$f":" IF($G94 <> \"\", ETL!$D$6, 0)","v":0},{"$f":" IF($G94 <> \"\", ETL!$D$61, \"\")","v":""},{"$f":" IF($G94 <> \"\", ETL!$D$710, \"\")","v":""},"",{"$f":" IF($B$48 > 7, ETL!$G$725, \"\")","v":""},{"$f":" IF($G94 <> \"\", ETL!$G$726, 0)","v":0},{"$f":" IF($G94 <> \"\", ETL!$G$3, \"\")","v":""},{"$f":" IF($G94 <> \"\", ETL!$D$727, \"\")","v":""},{"$f":" IF($G94 <> \"\", ETL!$H$728, \"\")","v":""},{"$f":" IF($G94 <> \"\", ETL!$G$728, 0)","v":0},{"$f":" IF($G94 <> \"\", ETL!$G$729, \"\")","v":""}]
[8,4,{"$f":" IF($G95 <> \"\", ETL!$D$6, 0)","v":0},{"$f":" IF($G95 <> \"\", ETL!$D$61, \"\")","v":""},{"$f":" IF($G95 <> \"\", ETL!$D$710, \"\")","v":""},"",{"$f":" IF($B$48 > 7, ETL!$G$730, \"\")","v":""},{"$f":" IF($G95 <> \"\", ETL!$G$731, 0)","v":0},{"$f":" IF($G95 <> \"\", ETL!$G$3, \"\")","v":""},{"$f":" IF($G95 <> \"\", ETL!$D$732, \"\")","v":""},{"$f":" IF($G95 <> \"\", ETL!$H$733, \"\")","v":""},{"$f":" IF($G95 <> \"\", ETL!$G$733, 0)","v":0},{"$f":" IF($G95 <> \"\", ETL!$G$734, \"\")","v":""}]
[8,5,{"$f":" IF($G96 <> \"\", ETL!$D$6, 0)","v":0},{"$f":" IF($G96 <> \"\", ETL!$D$61, \"\")","v":""},{"$f":" IF($G96 <> \"\", ETL!$D$710, \"\")","v":""},"",{"$f":" IF($B$48 > 7, ETL!$G$735, \"\")","v":""},{"$f":" IF($G96 <> \"\", ETL!$G$736, 0)","v":0},{"$f":" IF($G96 <> \"\", ETL!$G$3, \"\")","v":""},{"$f":" IF($G96 <> \"\", ETL!$D$737, \"\")","v":""},{"$f":" IF($G96 <> \"\", ETL!$H$738, \"\")","v":""},{"$f":" IF($G96 <> \"\", ETL!$G$738, 0)","v":0},{"$f":" IF($G96 <> \"\", ETL!$G$739, \"\")","v":""}]
[8,6,{"$f":" IF($G97 <> \"\", ETL!$D$6, 0)","v":0},{"$f":" IF($G97 <> \"\", ETL!$D$61, \"\")","v":""},{"$f":" IF($G97 <> \"\", ETL!$D$710, \"\")","v":""},"",{"$f":" IF($B$48 > 7, ETL!$G$740, \"\")","v":""},{"$f":" IF($G97 <> \"\", ETL!$G$741, 0)","v":0},{"$f":" IF($G97 <> \"\", ETL!$G$3, \"\")","v":""},{"$f":" IF($G97 <> \"\", ETL!$D$742, \"\")","v":""},{"$f":" IF($G97 <> \"\", ETL!$H$743, \"\")","v":""},{"$f":" IF($G97 <> \"\", ETL!$G$743, 0)","v":0},{"$f":" IF($G97 <> \"\", ETL!$G$744, \"\")","v":""}]
[9,1,{"$f":" IF($G98 <> \"\", ETL!$D$6, 0)","v":0},{"$f":" IF($G98 <> \"\", ETL!$D$61, \"\")","v":""},{"$f":" IF($G98 <> \"\", ETL!$D$759, \"\")","v":""},"",{"$f":" IF($B$48 > 8, ETL!$G$764, \"\")","v":""},{"$f":" IF($G98 <> \"\", ETL!$G$765, 0)","v":0},{"$f":" IF($G98 <> \"\", ETL!$G$3, \"\")","v":""},{"$f":" IF($G98 <> \"\", ETL!$D$766, \"\")","v":""},{"$f":" IF($G98 <> \"\", ETL!$H$767, \"\")","v":""},{"$f":" IF($G98 <> \"\", ETL!$G$767, 0)","v":0},{"$f":" IF($G98 <> \"\", ETL!$G$768, \"\")","v":""}]
[9,2,{"$f":" IF($G99 <> \"\", ETL!$D$6, 0)","v":0},{"$f":" IF($G99 <> \"\", ETL!$D$61, \"\")","v":""},{"$f":" IF($G99 <> \"\", ETL!$D$759, \"\")","v":""},"",{"$f":" IF($B$48 > 8, ETL!$G$769, \"\")","v":""},{"$f":" IF($G99 <> \"\", ETL!$G$770, 0)","v":0},{"$f":" IF($G99 <> \"\", ETL!$G$3, \"\")","v":""},{"$f":" IF($G99 <> \"\", ETL!$D$771, \"\")","v":""},{"$f":" IF($G99 <> \"\", ETL!$H$772, \"\")","v":""},{"$f":" IF($G99 <> \"\", ETL!$G$772, 0)","v":0},{"$f":" IF($G99 <> \"\", ETL!$G$773, \"\")","v":""}]
[9,3,{"$f":" IF($G100 <> \"\", ETL!$D$6, 0)","v":0},{"$f":" IF($G100 <> \"\", ETL!$D$61, \"\")","v":""},{"$f":" IF($G100 <> \"\", ETL!$D$759, \"\")","v":""},"",{"$f":" IF($B$48 > 8, ETL!$G$774, \"\")","v":""},{"$f":" IF($G100 <> \"\", ETL!$G$775, 0)","v":0},{"$f":" IF($G100 <> \"\", ETL!$G$3, \"\")","v":""},{"$f":" IF($G100 <> \"\", ETL!$D$776, \"\")","v":""},{"$f":" IF($G100 <> \"\", ETL!$H$777, \"\")","v":""},{"$f":" IF($G100 <> \"\", ETL!$G$777, 0)","v":0},{"$f":" IF($G100 <> \"\", ETL!$G$778, \"\")","v":""}]
[9,4,{"$f":" IF($G101 <> \"\", ETL!$D$6, 0)","v":0},{"$f":" IF($G101 <> \"\", ETL!$D$61, \"\")","v":""},{"$f":" IF($G101 <> \"\", ETL!$D$759, \"\")","v":""},"",{"$f":" IF($B$48 > 8, ETL!$G$779, \"\")","v":""},{"$f":" IF($G101 <> \"\", ETL!$G$780, 0)","v":0},{"$f":" IF($G101 <> \"\", ETL!$G$3, \"\")","v":""},{"$f":" IF($G101 <> \"\", ETL!$D$781, \"\")","v":""},{"$f":" IF($G101 <> \"\", ETL!$H$782, \"\")","v":""},{"$f":" IF($G101 <> \"\", ETL!$G$782, 0)","v":0},{"$f":" IF($G101 <> \"\", ETL!$G$783, \"\")","v":""}]
[9,5,{"$f":" IF($G102 <> \"\", ETL!$D$6, 0)","v":0},{"$f":" IF($G102 <> \"\", ETL!$D$61, \"\")","v":""},{"$f":" IF($G102 <> \"\", ETL!$D$759, \"\")","v":""},"",{"$f":" IF($B$48 > 8, ETL!$G$784, \"\")","v":""},{"$f":" IF($G102 <> \"\", ETL!$G$785, 0)","v":0},{"$f":" IF($G102 <> \"\", ETL!$G$3, \"\")","v":""},{"$f":" IF($G102 <> \"\", ETL!$D$786, \"\")","v":""},{"$f":" IF($G102 <> \"\", ETL!$H$787, \"\")","v":""},{"$f":" IF($G102 <> \"\", ETL!$G$787, 0)","v":0},{"$f":" IF($G102 <> \"\", ETL!$G$788, \"\")","v":""}]
[9,6,{"$f":" IF($G103 <> \"\", ETL!$D$6, 0)","v":0},{"$f":" IF($G103 <> \"\", ETL!$D$61, \"\")","v":""},{"$f":" IF($G103 <> \"\", ETL!$D$759, \"\")","v":""},"",{"$f":" IF($B$48 > 8, ETL!$G$789, \"\")","v":""},{"$f":" IF($G103 <> \"\", ETL!$G$790, 0)","v":0},{"$f":" IF($G103 <> \"\", ETL!$G$3, \"\")","v":""},{"$f":" IF($G103 <> \"\", ETL!$D$791, \"\")","v":""},{"$f":" IF($G103 <> \"\", ETL!$H$792, \"\")","v":""},{"$f":" IF($G103 <> \"\", ETL!$G$792, 0)","v":0},{"$f":" IF($G103 <> \"\", ETL!$G$793, \"\")","v":""}]
[10,1,{"$f":" IF($G104 <> \"\", ETL!$D$6, 0)","v":0},{"$f":" IF($G104 <> \"\", ETL!$D$61, \"\")","v":""},{"$f":" IF($G104 <> \"\", ETL!$D$808, \"\")","v":""},"",{"$f":" IF($B$48 > 9, ETL!$G$813, \"\")","v":""},{"$f":" IF($G104 <> \"\", ETL!$G$814, 0)","v":0},{"$f":" IF($G104 <> \"\", ETL!$G$3, \"\")","v":""},{"$f":" IF($G104 <> \"\", ETL!$D$815, \"\")","v":""},{"$f":" IF($G104 <> \"\", ETL!$H$816, \"\")","v":""},{"$f":" IF($G104 <> \"\", ETL!$G$816, 0)","v":0},{"$f":" IF($G104 <> \"\", ETL!$G$817, \"\")","v":""}]
[10,2,{"$f":" IF($G105 <> \"\", ETL!$D$6, 0)","v":0},{"$f":" IF($G105 <> \"\", ETL!$D$61, \"\")","v":""},{"$f":" IF($G105 <> \"\", ETL!$D$808, \"\")","v":""},"",{"$f":" IF($B$48 > 9, ETL!$G$818, \"\")","v":""},{"$f":" IF($G105 <> \"\", ETL!$G$819, 0)","v":0},{"$f":" IF($G105 <> \"\", ETL!$G$3, \"\")","v":""},{"$f":" IF($G105 <> \"\", ETL!$D$820, \"\")","v":""},{"$f":" IF($G105 <> \"\", ETL!$H$821, \"\")","v":""},{"$f":" IF($G105 <> \"\", ETL!$G$821, 0)","v":0},{"$f":" IF($G105 <> \"\", ETL!$G$822, \"\")","v":""}]
[10,3,{"$f":" IF($G106 <> \"\", ETL!$D$6, 0)","v":0},{"$f":" IF($G106 <> \"\", ETL!$D$61, \"\")","v":""},{"$f":" IF($G106 <> \"\", ETL!$D$808, \"\")","v":""},"",{"$f":" IF($B$48 > 9, ETL!$G$823, \"\")","v":""},{"$f":" IF($G106 <> \"\", ETL!$G$824, 0)","v":0},{"$f":" IF($G106 <> \"\", ETL!$G$3, \"\")","v":""},{"$f":" IF($G106 <> \"\", ETL!$D$825, \"\")","v":""},{"$f":" IF($G106 <> \"\", ETL!$H$826, \"\")","v":""},{"$f":" IF($G106 <> \"\", ETL!$G$826, 0)","v":0},{"$f":" IF($G106 <> \"\", ETL!$G$827, \"\")","v":""}]
[10,4,{"$f":" IF($G107 <> \"\", ETL!$D$6, 0)","v":0},{"$f":" IF($G107 <> \"\", ETL!$D$61, \"\")","v":""},{"$f":" IF($G107 <> \"\", ETL!$D$808, \"\")","v":""},"",{"$f":" IF($B$48 > 9, ETL!$G$828, \"\")","v":""},{"$f":" IF($G107 <> \"\", ETL!$G$829, 0)","v":0},{"$f":" IF($G107 <> \"\", ETL!$G$3, \"\")","v":""},{"$f":" IF($G107 <> \"\", ETL!$D$830, \"\")","v":""},{"$f":" IF($G107 <> \"\", ETL!$H$831, \"\")","v":""},{"$f":" IF($G107 <> \"\", ETL!$G$831, 0)","v":0},{"$f":" IF($G107 <> \"\", ETL!$G$832, \"\")","v":""}]
[10,5,{"$f":" IF($G108 <> \"\", ETL!$D$6, 0)","v":0},{"$f":" IF($G108 <> \"\", ETL!$D$61, \"\")","v":""},{"$f":" IF($G108 <> \"\", ETL!$D$808, \"\")","v":""},"",{"$f":" IF($B$48 > 9, ETL!$G$833, \"\")","v":""},{"$f":" IF($G108 <> \"\", ETL!$G$834, 0)","v":0},{"$f":" IF($G108 <> \"\", ETL!$G$3, \"\")","v":""},{"$f":" IF($G108 <> \"\", ETL!$D$835, \"\")","v":""},{"$f":" IF($G108 <> \"\", ETL!$H$836, \"\")","v":""},{"$f":" IF($G108 <> \"\", ETL!$G$836, 0)","v":0},{"$f":" IF($G108 <> \"\", ETL!$G$837, \"\")","v":""}]
[10,6,{"$f":" IF($G109 <> \"\", ETL!$D$6, 0)","v":0},{"$f":" IF($G109 <> \"\", ETL!$D$61, \"\")","v":""},{"$f":" IF($G109 <> \"\", ETL!$D$808, \"\")","v":""},"",{"$f":" IF($B$48 > 9, ETL!$G$838, \"\")","v":""},{"$f":" IF($G109 <> \"\", ETL!$G$839, 0)","v":0},{"$f":" IF($G109 <> \"\", ETL!$G$3, \"\")","v":""},{"$f":" IF($G109 <> \"\", ETL!$D$840, \"\")","v":""},{"$f":" IF($G109 <> \"\", ETL!$H$841, \"\")","v":""},{"$f":" IF($G109 <> \"\", ETL!$G$841, 0)","v":0},{"$f":" IF($G109 <> \"\", ETL!$G$842, \"\")","v":""}]
[]
["Form2.4の数",{"$f":"ETL!$D$857","v":1}]
["No","AT012_RelatesYear","AT012_ReportDay","AT012_PlantSiteCode","AT012_TargetYear","AT012_CASRegistryNumber","AT012_ChemicalId","AT012_IUPACName","AT012_CommonName","AT012_Attachment","AT012_UnitWeight","AT012_QuantityProduced","AT012_QuantityProducedValue","AT012_QuantityProcessed","AT012_QuantityProcessedValue","AT012_QuantityConsumed","AT012_QuantityConsumedValue","AT012_QuantityImported","AT012_QuantityImportedValue","AT012_QuantityExported","AT012_QuantityExportedValue","AT012_ProcessingConsumption","AT012_DirectExport","AT012_CountryCode","AT012_OtherIndustry","AT012_Trader","AT012_OtherDestination","AT012_SoldTransferred","AT012_OtherPurpose"]
[1,{"$f":" IF($B$111 > 0, ETL!$D$6, \"\")","v":0},{"$f":" IF($B$111 > 0, ETL!$G$3, \"\")","v":{"$error":"#NUM!"}},{"$f":" IF($B$111 > 0, ETL!$D$61, \"\")","v":""},{"$f":" IF($B$111 > 0, ETL!$D$6, \"\")","v":0},{"$f":" IF($B$111 > 0, ETL!$G$858, \"\")","v":""},{"$f":" IF($B$111 > 0, ETL!$G$859, \"\")","v":0},{"$f":" IF($B$111 > 0, ETL!$D$860, \"\")","v":""},{"$f":" IF($B$111 > 0, ETL!$D$861, \"\")","v":""},{"$f":" IF($B$111 > 0, ETL!$D$862, \"\")","v":""},{"$f":" IF($B$111 > 0, \"Tonne\", \"\")","v":"Tonne"},{"$f":" IF($B$111 > 0, ETL!$H$863, \"\")","v":"0"},{"$f":" IF($B$111 > 0, ETL!$G$863, \"\")","v":0},{"$f":" IF($B$111 > 0, ETL!$H$864, \"\")","v":"0"},{"$f":" IF($B$111 > 0, ETL!$G$864, \"\")","v":0},{"$f":" IF($B$111 > 0, ETL!$H$865, \"\")","v":"0"},{"$f":" IF($B$111 > 0, ETL!$G$865, \"\")","v":0},{"$f":" IF($B$111 > 0, ETL!$H$866, \"\")","v":"0"},{"$f":" IF($B$111 > 0, ETL!$G$866, \"\")","v":0},{"$f":" IF($B$111 > 0, ETL!$H$867, \"\")","v":"0"},{"$f":" IF($B$111 > 0, ETL!$G$867, \"\")","v":0},{"$f":" IF($B$111 > 0, ETL!$H$868, \"\")","v":""},{"$f":" IF($B$111 > 0, ETL!$G$873, \"\")","v":""},{"$f":" IF($B$111 > 0, ETL!$H$874, \"\")","v":""},{"$f":" IF($B$111 > 0, ETL!$G$880, \"\")","v":""},{"$f":" IF($B$111 > 0, ETL!$G$881, \"\")","v":""},{"$f":" IF($B$111 > 0, ETL!$G$882, \"\")","v":""},{"$f":" IF($B$111 > 0, ETL!$H$883, \"\")","v":""},{"$f":" IF($B$111 > 0, ETL!$D$888, \"\")","v":""}]
[2,{"$f":" IF($B$111 > 1, ETL!$D$6, \"\")","v":""},{"$f":" IF($B$111 > 1, ETL!$G$3, \"\")","v":""},{"$f":" IF($B$111 > 1, ETL!$D$61, \"\")","v":""},{"$f":" IF($B$111 > 1, ETL!$D$6, \"\")","v":""},{"$f":" IF($B$111 > 1, ETL!$G$890, \"\")","v":""},{"$f":" IF($B$111 > 1, ETL!$G$891, \"\")","v":""},{"$f":" IF($B$111 > 1, ETL!$D$892, \"\")","v":""},{"$f":" IF($B$111 > 1, ETL!$D$893, \"\")","v":""},{"$f":" IF($B$111 > 1, ETL!$D$894, \"\")","v":""},{"$f":" IF($B$111 > 1, \"Tonne\", \"\")","v":""},{"$f":" IF($B$111 > 1, ETL!$H$895, \"\")","v":""},{"$f":" IF($B$111 > 1, ETL!$G$895, \"\")","v":""},{"$f":" IF($B$111 > 1, ETL!$H$896, \"\")","v":""},{"$f":" IF($B$111 > 1, ETL!$G$896, \"\")","v":""},{"$f":" IF($B$111 > 1, ETL!$H$897, \"\")","v":""},{"$f":" IF($B$111 > 1, ETL!$G$897, \"\")","v":""},{"$f":" IF($B$111 > 1, ETL!$H$898, \"\")","v":""},{"$f":" IF($B$111 > 1, ETL!$G$898, \"\")","v":""},{"$f":" IF($B$111 > 1, ETL!$H$899, \"\")","v":""},{"$f":" IF($B$111 > 1, ETL!$G$899, \"\")","v":""},{"$f":" IF($B$111 > 1, ETL!$H$900, \"\")","v":""},{"$f":" IF($B$111 > 1, ETL!$G$905, \"\")","v":""},{"$f":" IF($B$111 > 1, ETL!$H$906, \"\")","v":""},{"$f":" IF($B$111 > 1, ETL!$G$912, \"\")","v":""},{"$f":" IF($B$111 > 1, ETL!$G$913, \"\")","v":""},{"$f":" IF($B$111 > 1, ETL!$G$914, \"\")","v":""},{"$f":" IF($B$111 > 1, ETL!$H$915, \"\")","v":""},{"$f":" IF($B$111 > 1, ETL!$D$920, \"\")","v":""}]
[3,{"$f":" IF($B$111 > 2, ETL!$D$6, \"\")","v":""},{"$f":" IF($B$111 > 2, ETL!$G$3, \"\")","v":""},{"$f":" IF($B$111 > 2, ETL!$D$61, \"\")","v":""},{"$f":" IF($B$111 > 2, ETL!$D$6, \"\")","v":""},{"$f":" IF($B$111 > 2, ETL!$G$922, \"\")","v":""},{"$f":" IF($B$111 > 2, ETL!$G$923, \"\")","v":""},{"$f":" IF($B$111 > 2, ETL!$D$924, \"\")","v":""},{"$f":" IF($B$111 > 2, ETL!$D$925, \"\")","v":""},{"$f":" IF($B$111 > 2, ETL!$D$926, \"\")","v":""},{"$f":" IF($B$111 > 2, \"Tonne\", \"\")","v":""},{"$f":" IF($B$111 > 2, ETL!$H$927, \"\")","v":""},{"$f":" IF($B$111 > 2, ETL!$G$927, \"\")","v":""},{"$f":" IF($B$111 > 2, ETL!$H$928, \"\")","v":""},{"$f":" IF($B$111 > 2, ETL!$G$928, \"\")","v":""},{"$f":" IF($B$111 > 2, ETL!$H$929, \"\")","v":""},{"$f":" IF($B$111 > 2, ETL!$G$929, \"\")","v":""},{"$f":" IF($B$111 > 2, ETL!$H$930, \"\")","v":""},{"$f":" IF($B$111 > 2, ETL!$G$930, \"\")","v":""},{"$f":" IF($B$111 > 2, ETL!$H$931, \"\")","v":""},{"$f":" IF($B$111 > 2, ETL!$G$931, \"\")","v":""},{"$f":" IF($B$111 > 2, ETL!$H$932, \"\")","v":""},{"$f":" IF($B$111 > 2, ETL!$G$937, \"\")","v":""},{"$f":" IF($B$111 > 2, ETL!$H$938, \"\")","v":""},{"$f":" IF($B$111 > 2, ETL!$G$944, \"\")","v":""},{"$f":" IF($B$111 > 2, ETL!$G$945, \"\")","v":""},{"$f":" IF($B$111 > 2, ETL!$G$946, \"\")","v":""},{"$f":" IF($B$111 > 2, ETL!$H$947, \"\")","v":""},{"$f":" IF($B$111 > 2, ETL!$D$952, \"\")","v":""}]
[4,{"$f":" IF($B$111 > 3, ETL!$D$6, \"\")","v":""},{"$f":" IF($B$111 > 3, ETL!$G$3, \"\")","v":""},{"$f":" IF($B$111 > 3, ETL!$D$61, \"\")","v":""},{"$f":" IF($B$111 > 3, ETL!$D$6, \"\")","v":""},{"$f":" IF($B$111 > 3, ETL!$G$954, \"\")","v":""},{"$f":" IF($B$111 > 3, ETL!$G$955, \"\")","v":""},{"$f":" IF($B$111 > 3, ETL!$D$956, \"\")","v":""},{"$f":" IF($B$111 > 3, ETL!$D$957, \"\")","v":""},{"$f":" IF($B$111 > 3, ETL!$D$958, \"\")","v":""},{"$f":" IF($B$111 > 3, \"Tonne\", \"\")","v":""},{"$f":" IF($B$111 > 3, ETL!$H$959, \"\")","v":""},{"$f":" IF($B$111 > 3, ETL!$G$959, \"\")","v":""},{"$f":" IF($B$111 > 3, ETL!$H$960, \"\")","v":""},{"$f":" IF($B$111 > 3, ETL!$G$960, \"\")","v":""},{"$f":" IF($B$111 > 3, ETL!$H$961, \"\")","v":""},{"$f":" IF($B$111 > 3, ETL!$G$961, \"\")","v":""},{"$f":" IF($B$111 > 3, ETL!$H$962, \"\")","v":""},{"$f":" IF($B$111 > 3, ETL!$G$962, \"\")","v":""},{"$f":" IF($B$111 > 3, ETL!$H$963, \"\")","v":""},{"$f":" IF($B$111 > 3, ETL!$G$963, \"\")","v":""},{"$f":" IF($B$111 > 3, ETL!$H$964, \"\")","v":""},{"$f":" IF($B$111 > 3, ETL!$G$969, \"\")","v":""},{"$f":" IF($B$111 > 3, ETL!$H$970, \"\")","v":""},{"$f":" IF($B$111 > 3, ETL!$G$976, \"\")","v":""},{"$f":" IF($B$111 > 3, ETL!$G$977, \"\")","v":""},{"$f":" IF($B$111 > 3, ETL!$G$978, \"\")","v":""},{"$f":" IF($B$111 > 3, ETL!$H$979, \"\")","v":""},{"$f":" IF($B$111 > 3, ETL!$D$984, \"\")","v":""}]
[5,{"$f":" IF($B$111 > 4, ETL!$D$6, \"\")","v":""},{"$f":" IF($B$111 > 4, ETL!$G$3, \"\")","v":""},{"$f":" IF($B$111 > 4, ETL!$D$61, \"\")","v":""},{"$f":" IF($B$111 > 4, ETL!$D$6, \"\")","v":""},{"$f":" IF($B$111 > 4, ETL!$G$986, \"\")","v":""},{"$f":" IF($B$111 > 4, ETL!$G$987, \"\")","v":""},{"$f":" IF($B$111 > 4, ETL!$D$988, \"\")","v":""},{"$f":" IF($B$111 > 4, ETL!$D$989, \"\")","v":""},{"$f":" IF($B$111 > 4, ETL!$D$990, \"\")","v":""},{"$f":" IF($B$111 > 4, \"Tonne\", \"\")","v":""},{"$f":" IF($B$111 > 4, ETL!$H$991, \"\")","v":""},{"$f":" IF($B$111 > 4, ETL!$G$991, \"\")","v":""},{"$f":" IF($B$111 > 4, ETL!$H$992, \"\")","v":""},{"$f":" IF($B$111 > 4, ETL!$G$992, \"\")","v":""},{"$f":" IF($B$111 > 4, ETL!$H$993, \"\")","v":""},{"$f":" IF($B$111 > 4, ETL!$G$993, \"\")","v":""},{"$f":" IF($B$111 > 4, ETL!$H$994, \"\")","v":""},{"$f":" IF($B$111 > 4, ETL!$G$994, \"\")","v":""},{"$f":" IF($B$111 > 4, ETL!$H$995, \"\")","v":""},{"$f":" IF($B$111 > 4, ETL!$G$995, \"\")","v":""},{"$f":" IF($B$111 > 4, ETL!$H$996, \"\")","v":""},{"$f":" IF($B$111 > 4, ETL!$G$1001, \"\")","v":""},{"$f":" IF($B$111 > 4, ETL!$H$1002, \"\")","v":""},{"$f":" IF($B$111 > 4, ETL!$G$1008, \"\")","v":""},{"$f":" IF($B$111 > 4, ETL!$G$1009, \"\")","v":""},{"$f":" IF($B$111 > 4, ETL!$G$1010, \"\")","v":""},{"$f":" IF($B$111 > 4, ETL!$H$1011, \"\")","v":""},{"$f":" IF($B$111 > 4, ETL!$D$1016, \"\")","v":""}]
[6,{"$f":" IF($B$111 > 5, ETL!$D$6, \"\")","v":""},{"$f":" IF($B$111 > 5, ETL!$G$3, \"\")","v":""},{"$f":" IF($B$111 > 5, ETL!$D$61, \"\")","v":""},{"$f":" IF($B$111 > 5, ETL!$D$6, \"\")","v":""},{"$f":" IF($B$111 > 5, ETL!$G$1018, \"\")","v":""},{"$f":" IF($B$111 > 5, ETL!$G$1019, \"\")","v":""},{"$f":" IF($B$111 > 5, ETL!$D$1020, \"\")","v":""},{"$f":" IF($B$111 > 5, ETL!$D$1021, \"\")","v":""},{"$f":" IF($B$111 > 5, ETL!$D$1022, \"\")","v":""},{"$f":" IF($B$111 > 5, \"Tonne\", \"\")","v":""},{"$f":" IF($B$111 > 5, ETL!$H$1023, \"\")","v":""},{"$f":" IF($B$111 > 5, ETL!$G$1023, \"\")","v":""},{"$f":" IF($B$111 > 5, ETL!$H$1024, \"\")","v":""},{"$f":" IF($B$111 > 5, ETL!$G$1024, \"\")","v":""},{"$f":" IF($B$111 > 5, ETL!$H$1025, \"\")","v":""},{"$f":" IF($B$111 > 5, ETL!$G$1025, \"\")","v":""},{"$f":" IF($B$111 > 5, ETL!$H$1026, \"\")","v":""},{"$f":" IF($B$111 > 5, ETL!$G$1026, \"\")","v":""},{"$f":" IF($B$111 > 5, ETL!$H$1027, \"\")","v":""},{"$f":" IF($B$111 > 5, ETL!$G$1027, \"\")","v":""},{"$f":" IF($B$111 > 5, ETL!$H$1028, \"\")","v":""},{"$f":" IF($B$111 > 5, ETL!$G$1033, \"\")","v":""},{"$f":" IF($B$111 > 5, ETL!$H$1034, \"\")","v":""},{"$f":" IF($B$111 > 5, ETL!$G$1040, \"\")","v":""},{"$f":" IF($B$111 > 5, ETL!$G$1041, \"\")","v":""},{"$f":" IF($B$111 > 5, ETL!$G$1042, \"\")","v":""},{"$f":" IF($B$111 > 5, ETL!$H$1043, \"\")","v":""},{"$f":" IF($B$111 > 5, ETL!$D$1048, \"\")","v":""}]
[7,{"$f":" IF($B$111 > 6, ETL!$D$6, \"\")","v":""},{"$f":" IF($B$111 > 6, ETL!$G$3, \"\")","v":""},{"$f":" IF($B$111 > 6, ETL!$D$61, \"\")","v":""},{"$f":" IF($B$111 > 6, ETL!$D$6, \"\")","v":""},{"$f":" IF($B$111 > 6, ETL!$G$1050, \"\")","v":""},{"$f":" IF($B$111 > 6, ETL!$G$1051, \"\")","v":""},{"$f":" IF($B$111 > 6, ETL!$D$1052, \"\")","v":""},{"$f":" IF($B$111 > 6, ETL!$D$1053, \"\")","v":""},{"$f":" IF($B$111 > 6, ETL!$D$1054, \"\")","v":""},{"$f":" IF($B$111 > 6, \"Tonne\", \"\")","v":""},{"$f":" IF($B$111 > 6, ETL!$H$1055, \"\")","v":""},{"$f":" IF($B$111 > 6, ETL!$G$1055, \"\")","v":""},{"$f":" IF($B$111 > 6, ETL!$H$1056, \"\")","v":""},{"$f":" IF($B$111 > 6, ETL!$G$1056, \"\")","v":""},{"$f":" IF($B$111 > 6, ETL!$H$1057, \"\")","v":""},{"$f":" IF($B$111 > 6, ETL!$G$1057, \"\")","v":""},{"$f":" IF($B$111 > 6, ETL!$H$1058, \"\")","v":""},{"$f":" IF($B$111 > 6, ETL!$G$1058, \"\")","v":""},{"$f":" IF($B$111 > 6, ETL!$H$1059, \"\")","v":""},{"$f":" IF($B$111 > 6, ETL!$G$1059, \"\")","v":""},{"$f":" IF($B$111 > 6, ETL!$H$1060, \"\")","v":""},{"$f":" IF($B$111 > 6, ETL!$G$1065, \"\")","v":""},{"$f":" IF($B$111 > 6, ETL!$H$1066, \"\")","v":""},{"$f":" IF($B$111 > 6, ETL!$G$1072, \"\")","v":""},{"$f":" IF($B$111 > 6, ETL!$G$1073, \"\")","v":""},{"$f":" IF($B$111 > 6, ETL!$G$1074, \"\")","v":""},{"$f":" IF($B$111 > 6, ETL!$H$1075, \"\")","v":""},{"$f":" IF($B$111 > 6, ETL!$D$1080, \"\")","v":""}]
[8,{"$f":" IF($B$111 > 7, ETL!$D$6, \"\")","v":""},{"$f":" IF($B$111 > 7, ETL!$G$3, \"\")","v":""},{"$f":" IF($B$111 > 7, ETL!$D$61, \"\")","v":""},{"$f":" IF($B$111 > 7, ETL!$D$6, \"\")","v":""},{"$f":" IF($B$111 > 7, ETL!$G$1082, \"\")","v":""},{"$f":" IF($B$111 > 7, ETL!$G$1083, \"\")","v":""},{"$f":" IF($B$111 > 7, ETL!$D$1084, \"\")","v":""},{"$f":" IF($B$111 > 7, ETL!$D$1085, \"\")","v":""},{"$f":" IF($B$111 > 7, ETL!$D$1086, \"\")","v":""},{"$f":" IF($B$111 > 7, \"Tonne\", \"\")","v":""},{"$f":" IF($B$111 > 7, ETL!$H$1087, \"\")","v":""},{"$f":" IF($B$111 > 7, ETL!$G$1087, \"\")","v":""},{"$f":" IF($B$111 > 7, ETL!$H$1088, \"\")","v":""},{"$f":" IF($B$111 > 7, ETL!$G$1088, \"\")","v":""},{"$f":" IF($B$111 > 7, ETL!$H$1089, \"\")","v":""},{"$f":" IF($B$111 > 7, ETL!$G$1089, \"\")","v":""},{"$f":" IF($B$111 > 7, ETL!$H$1090, \"\")","v":""},{"$f":" IF($B$111 > 7, ETL!$G$1090, \"\")","v":""},{"$f":" IF($B$111 > 7, ETL!$H$1091, \"\")","v":""},{"$f":" IF($B$111 > 7, ETL!$G$1091, \"\")","v":""},{"$f":" IF($B$111 > 7, ETL!$H$1092, \"\")","v":""},{"$f":" IF($B$111 > 7, ETL!$G$1097, \"\")","v":""},{"$f":" IF($B$111 > 7, ETL!$H$1098, \"\")","v":""},{"$f":" IF($B$111 > 7, ETL!$G$1104, \"\")","v":""},{"$f":" IF($B$111 > 7, ETL!$G$1105, \"\")","v":""},{"$f":" IF($B$111 > 7, ETL!$G$1106, \"\")","v":""},{"$f":" IF($B$111 > 7, ETL!$H$1107, \"\")","v":""},{"$f":" IF($B$111 > 7, ETL!$D$1112, \"\")","v":""}]
[9,{"$f":" IF($B$111 > 8, ETL!$D$6, \"\")","v":""},{"$f":" IF($B$111 > 8, ETL!$G$3, \"\")","v":""},{"$f":" IF($B$111 > 8, ETL!$D$61, \"\")","v":""},{"$f":" IF($B$111 > 8, ETL!$D$6, \"\")","v":""},{"$f":" IF($B$111 > 8, ETL!$G$1114, \"\")","v":""},{"$f":" IF($B$111 > 8, ETL!$G$1115, \"\")","v":""},{"$f":" IF($B$111 > 8, ETL!$D$1116, \"\")","v":""},{"$f":" IF($B$111 > 8, ETL!$D$1117, \"\")","v":""},{"$f":" IF($B$111 > 8, ETL!$D$1118, \"\")","v":""},{"$f":" IF($B$111 > 8, \"Tonne\", \"\")","v":""},{"$f":" IF($B$111 > 8, ETL!$H$1119, \"\")","v":""},{"$f":" IF($B$111 > 8, ETL!$G$1119, \"\")","v":""},{"$f":" IF($B$111 > 8, ETL!$H$1120, \"\")","v":""},{"$f":" IF($B$111 > 8, ETL!$G$1120, \"\")","v":""},{"$f":" IF($B$111 > 8, ETL!$H$1121, \"\")","v":""},{"$f":" IF($B$111 > 8, ETL!$G$1121, \"\")","v":""},{"$f":" IF($B$111 > 8, ETL!$H$1122, \"\")","v":""},{"$f":" IF($B$111 > 8, ETL!$G$1122, \"\")","v":""},{"$f":" IF($B$111 > 8, ETL!$H$1123, \"\")","v":""},{"$f":" IF($B$111 > 8, ETL!$G$1123, \"\")","v":""},{"$f":" IF($B$111 > 8, ETL!$H$1124, \"\")","v":""},{"$f":" IF($B$111 > 8, ETL!$G$1129, \"\")","v":""},{"$f":" IF($B$111 > 8, ETL!$H$1130, \"\")","v":""},{"$f":" IF($B$111 > 8, ETL!$G$1136, \"\")","v":""},{"$f":" IF($B$111 > 8, ETL!$G$1137, \"\")","v":""},{"$f":" IF($B$111 > 8, ETL!$G$1138, \"\")","v":""},{"$f":" IF($B$111 > 8, ETL!$H$1139, \"\")","v":""},{"$f":" IF($B$111 > 8, ETL!$D$1144, \"\")","v":""}]
[10,{"$f":" IF($B$111 > 9, ETL!$D$6, \"\")","v":""},{"$f":" IF($B$111 > 9, ETL!$G$3, \"\")","v":""},{"$f":" IF($B$111 > 9, ETL!$D$61, \"\")","v":""},{"$f":" IF($B$111 > 9, ETL!$D$6, \"\")","v":""},{"$f":" IF($B$111 > 9, ETL!$G$1146, \"\")","v":""},{"$f":" IF($B$111 > 9, ETL!$G$1147, \"\")","v":""},{"$f":" IF($B$111 > 9, ETL!$D$1148, \"\")","v":""},{"$f":" IF($B$111 > 9, ETL!$D$1149, \"\")","v":""},{"$f":" IF($B$111 > 9, ETL!$D$1150, \"\")","v":""},{"$f":" IF($B$111 > 9, \"Tonne\", \"\")","v":""},{"$f":" IF($B$111 > 9, ETL!$H$1151, \"\")","v":""},{"$f":" IF($B$111 > 9, ETL!$G$1151, \"\")","v":""},{"$f":" IF($B$111 > 9, ETL!$H$1152, \"\")","v":""},{"$f":" IF($B$111 > 9, ETL!$G$1152, \"\")","v":""},{"$f":" IF($B$111 > 9, ETL!$H$1153, \"\")","v":""},{"$f":" IF($B$111 > 9, ETL!$G$1153, \"\")","v":""},{"$f":" IF($B$111 > 9, ETL!$H$1154, \"\")","v":""},{"$f":" IF($B$111 > 9, ETL!$G$1154, \"\")","v":""},{"$f":" IF($B$111 > 9, ETL!$H$1155, \"\")","v":""},{"$f":" IF($B$111 > 9, ETL!$G$1155, \"\")","v":""},{"$f":" IF($B$111 > 9, ETL!$H$1156, \"\")","v":""},{"$f":" IF($B$111 > 9, ETL!$G$1161, \"\")","v":""},{"$f":" IF($B$111 > 9, ETL!$H$1162, \"\")","v":""},{"$f":" IF($B$111 > 9, ETL!$G$1168, \"\")","v":""},{"$f":" IF($B$111 > 9, ETL!$G$1169, \"\")","v":""},{"$f":" IF($B$111 > 9, ETL!$G$1170, \"\")","v":""},{"$f":" IF($B$111 > 9, ETL!$H$1171, \"\")","v":""},{"$f":" IF($B$111 > 9, ETL!$D$1176, \"\")","v":""}]
[]
["物質マスタ",{"$f":"ETL!$D$80","v":1},"←様式17の数と同じ↓CAS番号なしが選択された行のみ出力（ほかは空欄）"]
["No","AM019_CASRegistryNumber","AM019_GovOrdinance","AM019_ScheduleId","AM019_IUPACName","AM019_JapaneseChemicalName","AM019_SelectFlag"]
[1,{"$f":"IF(ETL!$D$82=STRING_NOCAS,ETL!$G$82,\"\")","v":""},{"$f":"IF($B126 <> \"\",ETL!$G$83,\"\")","v":""},{"$f":"IF($B126 <> \"\",ETL!$G$85,\"\")","v":""},{"$f":"IF($B126 <> \"\",ETL!$I$86,\"\")","v":""},{"$f":"IF($B126 <> \"\",ETL!$G$86,\"\")","v":""},{"$f":"IF($B126 <> \"\",\"1\",\"\")","v":""}]
[2,{"$f":"IF(AND($B$124 >1, ETL!$D$110=STRING_NOCAS),ETL!$G$110,\"\")","v":""},{"$f":"IF($B127 <> \"\",ETL!$G$111,\"\")","v":""},{"$f":"IF($B127 <> \"\",ETL!$G$113,\"\")","v":""},{"$f":"IF($B127 <> \"\",ETL!$I$114,\"\")","v":""},{"$f":"IF($B127 <> \"\",ETL!$G$114,\"\")","v":""},""]
[3,{"$f":"IF(AND($B$124 >2, ETL!$D$138=STRING_NOCAS),ETL!$G$138,\"\")","v":""},{"$f":"IF($B128 <> \"\",ETL!$G$139,\"\")","v":""},{"$f":"IF($B128 <> \"\",ETL!$G$141,\"\")","v":""},{"$f":"IF($B128 <> \"\",ETL!$I$142,\"\")","v":""},{"$f":"IF($B128 <> \"\",ETL!$G$142,\"\")","v":""},""]
[4,{"$f":"IF(AND($B$124 >3, ETL!$D$166=STRING_NOCAS),ETL!$G$166,\"\")","v":""},{"$f":"IF($B129 <> \"\",ETL!$G$167,\"\")","v":""},{"$f":"IF($B129 <> \"\",ETL!$G$169,\"\")","v":""},{"$f":"IF($B129 <> \"\",ETL!$I$170,\"\")","v":""},{"$f":"IF($B129 <> \"\",ETL!$G$170,\"\")","v":""},""]
[5,{"$f":"IF(AND($B$124 >4, ETL!$D$194=STRING_NOCAS),ETL!$G$194,\"\")","v":""},{"$f":"IF($B130 <> \"\",ETL!$G$195,\"\")","v":""},{"$f":"IF($B130 <> \"\",ETL!$G$197,\"\")","v":""},{"$f":"IF($B130 <> \"\",ETL!$I$198,\"\")","v":""},{"$f":"IF($B130 <> \"\",ETL!$G$198,\"\")","v":""},""]
[6,{"$f":"IF(AND($B$124 >5, ETL!$D$222=STRING_NOCAS),ETL!$G$222,\"\")","v":""},{"$f":"IF($B131 <> \"\",ETL!$G$223,\"\")","v":""},{"$f":"IF($B131 <> \"\",ETL!$G$225,\"\")","v":""},{"$f":"IF($B131 <> \"\",ETL!$I$226,\"\")","v":""},{"$f":"IF($B131 <> \"\",ETL!$G$226,\"\")","v":""},""]
[7,{"$f":"IF(AND($B$124 >6, ETL!$D$250=STRING_NOCAS),ETL!$G$250,\"\")","v":""},{"$f":"IF($B132 <> \"\",ETL!$G$251,\"\")","v":""},{"$f":"IF($B132 <> \"\",ETL!$G$253,\"\")","v":""},{"$f":"IF($B132 <> \"\",ETL!$I$254,\"\")","v":""},{"$f":"IF($B132 <> \"\",ETL!$G$254,\"\")","v":""},""]
[8,{"$f":"IF(AND($B$124 >7, ETL!$D$278=STRING_NOCAS),ETL!$G$278,\"\")","v":""},{"$f":"IF($B133 <> \"\",ETL!$G$279,\"\")","v":""},{"$f":"IF($B133 <> \"\",ETL!$G$281,\"\")","v":""},{"$f":"IF($B133 <> \"\",ETL!$I$282,\"\")","v":""},{"$f":"IF($B133 <> \"\",ETL!$G$282,\"\")","v":""},""]
[9,{"$f":"IF(AND($B$124 >8, ETL!$D$306=STRING_NOCAS),ETL!$G$306,\"\")","v":""},{"$f":"IF($B134 <> \"\",ETL!$G$307,\"\")","v":""},{"$f":"IF(B134 <> \"\",ETL!$G$309,\"\")","v":""},{"$f":"IF(B134 <> \"\",ETL!$I$310,\"\")","v":""},{"$f":"IF(B134 <> \"\",ETL!$G$310,\"\")","v":""},{"$f":"IF(B134 <> \"\",\"1\",\"\")","v":""}]
[10,{"$f":"IF(AND($B$124 >9, ETL!$D$334=STRING_NOCAS),ETL!$G$334,\"\")","v":""},{"$f":"IF(B135 <> \"\",ETL!$G$335,\"\")","v":""},{"$f":"IF(B135 <> \"\",ETL!$G$337,\"\")","v":""},{"$f":"IF(B135 <> \"\",ETL!$I$338,\"\")","v":""},{"$f":"IF(B135 <> \"\",ETL!$G$338,\"\")","v":""},{"$f":"IF(B135 <> \"\",\"1\",\"\")","v":""}]
[]
["2剤備考情報",1]
["No","AT022_RelatesYear","AT022_PlantSiteCode","AT022_Remark"]
[1,{"$f":" IF($B$137 > 0, ETL!$D$6, \"\")","v":0},{"$f":" IF($B$137 > 0, ETL!$D$61, \"\")","v":""},{"$f":" IF($B$137 > 0, ETL!D77, \"\")","v":""}]

{"sheet":"ETL","index":4,"n_rows":1273,"n_cols":13,"rows_kept":1273,"cut":false,"hidden":true,"merged":[[1268,0,1269,0],[1268,1,1269,1],[1271,0,1272,0],[1271,1,1272,1],[1262,0,1263,0],[1262,1,1263,1],[1259,0,1260,0],[1259,1,1260,1],[1265,0,1266,0],[1265,1,1266,1],[1244,0,1245,0],[1244,1,1245,1],[1247,0,1248,0],[1247,1,1248,1],[1250,0,1251,0],[1250,1,1251,1],[1253,0,1254,0],[1253,1,1254,1],[1256,0,1257,0],[1256,1,1257,1],[1243,0,1243,2],[1,0,1,2],[11,0,18,0],[19,0,26,0],[27,0,34,0],[35,0,41,0],[42,0,48,0],[49,0,55,0],[57,0,57,2],[61,0,72,0],[78,0,78,2],[75,0,75,2],[80,0,106,0],[81,1,86,1],[87,1,87,2],[88,1,88,2],[108,0,134,0],[109,1,114,1],[115,1,115,2],[116,1,116,2],[136,0,162,0],[137,1,142,1],[143,1,143,2],[144,1,144,2],[164,0,190,0],[165,1,170,1],[171,1,171,2],[172,1,172,2],[192,0,218,0],[193,1,198,1],[199,1,199,2],[200,1,200,2],[220,0,246,0],[221,1,226,1],[227,1,227,2],[228,1,228,2],[248,0,274,0],[249,1,254,1],[255,1,255,2],[256,1,256,2],[276,0,302,0],[277,1,282,1],[283,1,283,2],[284,1,284,2],[855,0,855,2],[360,0,360,2],[363,0,363,2],[304,0,330,0],[305,1,310,1],[311,1,311,2],[312,1,312,2],[332,0,358,0],[333,1,338,1],[339,1,339,2],[340,1,340,2]]}
["基本情報"]
["項目",null,null,"値",null,"データ変換","値"]
["届出日","年",null,{"$f":"基本情報・事業所情報の作成!$D$41","v":0},null,"届出年月日",{"$f":"DATE(D3, D4, D5)","v":{"$error":"#NUM!"}}]
[null,"月",null,{"$f":"基本情報・事業所情報の作成!$I$41","v":0},null,null,{"$f":"CONCATENATE(TEXT($G$3,\"ggge年\"), \"(\", $D$3, ,\"年)\",$D$4,\"月\",$D$5,\"日\")","v":{"$error":"#NUM!"}}]
[null,"日",null,{"$f":"基本情報・事業所情報の作成!$L$41","v":0}]
["届出対象年",null,null,{"$f":"基本情報・事業所情報の作成!$D$44","v":0}]
["氏名または名称",null,null,{"$f":"基本情報・事業所情報の作成!$V$47&\"\"","v":""},null,"氏名、役職など結合",{"$f":"CONCATENATE(D7,IF(D9=\"\",\"\",CONCATENATE(\" \",D9)),IF(D10=\"\",\"\",CONCATENATE(\" \",D10)))","v":""}]
["氏名または名称（英語）",null,null,{"$f":"基本情報・事業所情報の作成!$W$47&\"\"","v":""},null,"役職など結合",{"$f":"CONCATENATE($D$9,IF($D$10=\"\",\"\",CONCATENATE(\"　\",$D$10)))","v":""}]
["法人にあっては、\nその代表者の役職",null,null,{"$f":"基本情報・事業所情報の作成!$V$48&\"\"","v":""}]
["法人にあっては、\nその代表者の氏名",null,null,{"$f":"基本情報・事業所情報の作成!$V$49&\"\"","v":""}]
["住所",null,null,{"$f":"基本情報・事業所情報の作成!$V$50&\"\"","v":""}]
["届出書関係担当者の情報①","氏名",null,{"$f":"基本情報・事業所情報の作成!$V$54&\"\"","v":""}]
[null,"郵便番号",null,{"$f":"基本情報・事業所情報の作成!$V$55&\"\"","v":""}]
[null,"住所",null,{"$f":"基本情報・事業所情報の作成!$V$56&\"\"","v":""}]
[null,"部署名",null,{"$f":"基本情報・事業所情報の作成!$V$57&\"\"","v":""}]
[null,"役職",null,{"$f":"基本情報・事業所情報の作成!$V$58&\"\"","v":""}]
[null,"電話番号",null,{"$f":"基本情報・事業所情報の作成!$V$59&\"\"","v":""}]
[null,"FAX番号",null,{"$f":"基本情報・事業所情報の作成!$V$60&\"\"&\"\"","v":""}]
[null,"メールアドレス",null,{"$f":"基本情報・事業所情報の作成!$V$61&\"\"","v":""}]
["届出書関係担当者の情報②","氏名",null,{"$f":"基本情報・事業所情報の作成!$V$62&\"\"","v":""}]
[null,"郵便番号",null,{"$f":"基本情報・事業所情報の作成!$V$63&\"\"","v":""}]
[null,"住所",null,{"$f":"基本情報・事業所情報の作成!$V$64&\"\"","v":""}]
[null,"部署名",null,{"$f":"基本情報・事業所情報の作成!$V$65&\"\"","v":""}]
[null,"役職",null,{"$f":"基本情報・事業所情報の作成!$V$66&\"\"","v":""}]
[null,"電話番号",null,{"$f":"基本情報・事業所情報の作成!$V$67&\"\"","v":""}]
[null,"FAX番号",null,{"$f":"基本情報・事業所情報の作成!$V$68&\"\"&\"\"","v":""}]
[null,"メールアドレス",null,{"$f":"基本情報・事業所情報の作成!$V$69&\"\"","v":""}]
["届出書関係担当者の情報③","氏名",null,{"$f":"基本情報・事業所情報の作成!$V$70&\"\"","v":""}]
[null,"郵便番号",null,{"$f":"基本情報・事業所情報の作成!$V$71&\"\"","v":""}]
[null,"住所",null,{"$f":"基本情報・事業所情報の作成!$V$72&\"\"","v":""}]
[null,"部署名",null,{"$f":"基本情報・事業所情報の作成!$V$73&\"\"","v":""}]
[null,"役職",null,{"$f":"基本情報・事業所情報の作成!$V$74&\"\"","v":""}]
[null,"電話番号",null,{"$f":"基本情報・事業所情報の作成!$V$75&\"\"","v":""}]
[null,"FAX番号",null,{"$f":"基本情報・事業所情報の作成!$V$76&\"\"&\"\"","v":""}]
[null,"メールアドレス",null,{"$f":"基本情報・事業所情報の作成!$V$77&\"\"","v":""}]
["国際検査通告書関係担当者の情報①","氏名",null,{"$f":"基本情報・事業所情報の作成!$V$81&\"\"","v":""}]
[null,"住所",null,{"$f":"基本情報・事業所情報の作成!$V$82&\"\"","v":""}]
[null,"部署名",null,{"$f":"基本情報・事業所情報の作成!$V$83&\"\"","v":""}]
[null,"役職",null,{"$f":"基本情報・事業所情報の作成!$V$84&\"\"","v":""}]
[null,"電話番号",null,{"$f":"基本情報・事業所情報の作成!$V$85&\"\"","v":""}]
[null,"FAX番号",null,{"$f":"基本情報・事業所情報の作成!$V$86&\"\"","v":""}]
[null,"メールアドレス",null,{"$f":"基本情報・事業所情報の作成!$V$87&\"\"","v":""}]
["国際検査通告書関係担当者の情報②","氏名",null,{"$f":"基本情報・事業所情報の作成!$V$88&\"\"","v":""}]
[null,"住所",null,{"$f":"基本情報・事業所情報の作成!$V$89&\"\"","v":""}]
[null,"部署名",null,{"$f":"基本情報・事業所情報の作成!$V$90&\"\"","v":""}]
[null,"役職",null,{"$f":"基本情報・事業所情報の作成!$V$91&\"\"","v":""}]
[null,"電話番号",null,{"$f":"基本情報・事業所情報の作成!$V$92&\"\"","v":""}]
[null,"FAX番号",null,{"$f":"基本情報・事業所情報の作成!$V$93&\"\"","v":""}]
[null,"メールアドレス",null,{"$f":"基本情報・事業所情報の作成!$V$94&\"\"","v":""}]
["国際検査通告書関係担当者の情報③","氏名",null,{"$f":"基本情報・事業所情報の作成!$V$95&\"\"","v":""}]
[null,"住所",null,{"$f":"基本情報・事業所情報の作成!$V$96&\"\"","v":""}]
[null,"部署名",null,{"$f":"基本情報・事業所情報の作成!$V$97&\"\"","v":""}]
[null,"役職",null,{"$f":"基本情報・事業所情報の作成!$V$98&\"\"","v":""}]
[null,"電話番号",null,{"$f":"基本情報・事業所情報の作成!$V$99&\"\"","v":""}]
[null,"FAX番号",null,{"$f":"基本情報・事業所情報の作成!$V$100&\"\"","v":""}]
[null,"メールアドレス",null,{"$f":"基本情報・事業所情報の作成!$V$101&\"\"","v":""}]
["事業所情報"]
["項目",null,null,"値",null,"データ変換","値"]
["事業所の名称",null,null,{"$f":"基本情報・事業所情報の作成!$V$109&\"\"","v":""}]
["事業所の名称（英語）",null,null,{"$f":"基本情報・事業所情報の作成!$W$109&\"\"","v":""}]
["事業所コード",null,null,{"$f":"基本情報・事業所情報の作成!$V$110&\"\"","v":""}]
["所在地","都道府県",null,{"$f":"基本情報・事業所情報の作成!$V$111&\"\"","v":""},null,"都道府県コード",{"$f":"TEXT(IF(D62=\"\", \"\", (VLOOKUP(D62, LIST!B5:C51, 2, FALSE))), \"@\")","v":""}]
[null,"都道府県（英語）",null,{"$f":"基本情報・事業所情報の作成!$W$111&\"\"","v":""},null,"事業所所在地",{"$f":"CONCATENATE(D62, D64, D66)","v":""}]
[null,"市／区／郡",null,{"$f":"基本情報・事業所情報の作成!$V$112&\"\"","v":""}]
[null,"市／区／郡（英語）",null,{"$f":"基本情報・事業所情報の作成!$W$112&\"\"","v":""}]
[null,"町村および番地",null,{"$f":"基本情報・事業所情報の作成!$V$113&\"\"","v":""}]
[null,"町村および番地（英語）",null,{"$f":"基本情報・事業所情報の作成!$W$113&\"\"","v":""}]
[null,"緯度（度）",null,{"$f":"基本情報・事業所情報の作成!$V$114","v":0},null,"緯度経度",{"$f":"CONCATENATE(D68, \"/\", D69, \"/\", D70, \"N \", D71, \"/\", D72, \"/\", D73, \"E\")","v":"0/0/0N 0/0/0E"}]
[null,"緯度（分）",null,{"$f":"基本情報・事業所情報の作成!$V$115","v":0}]
[null,"緯度（秒）",null,{"$f":"基本情報・事業所情報の作成!$V$116","v":0}]
[null,"経度（度）",null,{"$f":"基本情報・事業所情報の作成!$V$117","v":0}]
[null,"経度（分）",null,{"$f":"基本情報・事業所情報の作成!$V$118","v":0}]
[null,"経度（秒）",null,{"$f":"基本情報・事業所情報の作成!$V$119","v":0}]
["事業所についての追加的情報（英語で記入）",null,null,{"$f":"基本情報・事業所情報の作成!$V$120&\"\"","v":""}]
["変更点"]
["項目",null,null,"値"]
["変更点",null,null,{"$f":"届出・申告書の作成!$V$18&\"\"","v":""}]
["様式17の数"]
["項目",null,null,"値",null,"データ変換","値"]
["様式17の数",null,null,{"$f":"届出・申告書の作成!$D$33","v":1}]
["製造等（使用）しようとする第一種指定物質の情報（１）","製造等または使用の別",null,{"$f":"届出・申告書の作成!$V45&\"\"","v":""}]
[null,"製造等（使用）しようとする第一種指定物質","CAS番号",{"$f":"届出・申告書の作成!V46&\"\"","v":""},null,"CAS番号",{"$f":"IF($D82=STRING_NOCAS, $D85, $D82)","v":""}]
[null,null,"条約表剤番号",{"$f":"届出・申告書の作成!V47&\"\"","v":""},null,"政令番号",{"$f":"IF($D82=STRING_NOCAS, TEXT(IFERROR(VLOOKUP($D83,LIST!$AV$5:$AZ$100,4,FALSE)&\"\", \"\"), \"@\"), TEXT(IFERROR(VLOOKUP($D82,LIST!$BB$6:$BG$500,3,FALSE)&\"\", \"\"), \"@\"))","v":""}]
[null,null,"物質名称（日本語名）",{"$f":"届出・申告書の作成!V48&\"\"","v":""},null,"物質ID",{"$f":"IF($D82=STRING_NOCAS, 0, IFERROR(VLOOKUP($D82,LIST!$BB$6:$BG$500,2,FALSE), 0))","v":0}]
[null,null,"CASなし CAS番号",{"$f":"届出・申告書の作成!V49&\"\"","v":""},null,"表区分ID",{"$f":"IF($D82=STRING_NOCAS, TEXT(IFERROR(VLOOKUP($D83,LIST!$AV$5:$AZ$100,2,FALSE)&\"\", \"\"), \"@\"), TEXT(IFERROR(VLOOKUP($D82,LIST!$BB$6:$BG$500,4,FALSE)&\"\", \"\"), \"@\"))","v":""}]
[null,null,"CASなし 物質名称",{"$f":"届出・申告書の作成!V50&\"\"","v":""},null,"物質名称",{"$f":" IF($D82 = STRING_NOCAS, $D86, $D84)","v":""},"物質名称(英)(CASなし)",{"$f":"IF($D82=STRING_NOCAS, TEXT(IFERROR(VLOOKUP($D85,$B$1180:$C$1239,2,FALSE)&\"\", \"\"), \"@\"), \"\")","v":""}]
[null,null,"区分",{"$f":"届出・申告書の作成!V51&\"\"","v":""},null,"区分（コード）",{"$f":"IFERROR(VLOOKUP($D87,LIST!$Q$5:$R$100,2,FALSE), \"\")","v":""}]
[null,"事業所内の当該第一種指定物質の製造等（使用）施設の数",null,{"$f":"届出・申告書の作成!$V54","v":1},null,"施設数(文字列)",{"$f":"TEXT(D88, \"@\")","v":"1"}]
[null,"事業所内の当該第一種指定物質の製造等（使用）施設の位置",null,{"$f":"届出・申告書の作成!$V55&\"\"","v":"別添資料のとおり"},null,"施設の位置（コード）",{"$f":"TEXT(IFERROR(VLOOKUP($D89,LIST!$T$5:$U$100,2,FALSE), 0), \"@\")","v":"1"},"文字列（DB)","文字列（帳票）"]
[null,"合計数量",null,{"$f":"ROUND(G92+G95+G98+G101+G104,1)","v":0},null,"合計数量",{"$f":"IF(D90 > 999999.9, 999999.9, D90)","v":0},{"$f":"IF(RIGHT(TEXT(G90, \"0.#\"),1)=\".\",TEXT(G90, \"#0\"), TEXT(G90, \"#0.#\"))","v":"0"},{"$f":"IF(RIGHT(TEXT(G90, \"0.#\"),1)=\".\",TEXT(G90, \"#,##0\"), TEXT(G90, \"#,##0.#\"))","v":"0"}]
[null,"施設（１）","施設名称",{"$f":"届出・申告書の作成!$V56&\"\"","v":""},null,"施設名称",{"$f":"$D91","v":""}]
[null,null,"数量\n(kg)",{"$f":"ROUND(届出・申告書の作成!$V57,1)","v":0},null,"数量\n(kg)",0,{"$f":"IF(RIGHT(TEXT(G92,\"0.#\"),1)=\".\",TEXT(G92,\"#0\"),TEXT(G92,\"#0.#\"))","v":"0"},{"$f":"IF(RIGHT(TEXT(G92,\"0.#\"),1)=\".\",TEXT(G92,\"#,##0\"),TEXT(G92,\"#,##0.#\"))","v":"0"}]
[null,null,"能力\n(kg／年）",{"$f":"IF(OR($G$87= \"1\", $G$87= \"\"), 届出・申告書の作成!$V58,IF(OR($G$87= \"2\", $G$87= \"3\"), IF(届出・申告書の作成!$V58 = \"\", \"\", 届出・申告書の作成!$V58), \"\"))","v":0},null,"能力\n(kg／年）",{"$f":"IF($D93=\"\",0,$D93)","v":0},{"$f":"IF(RIGHT(TEXT(D93,\"0.#\"),1)=\".\",TEXT(D93,\"#0\"),TEXT(D93,\"#0.#\"))","v":"0"},{"$f":"IF(RIGHT(TEXT(D93,\"0.#\"),1)=\".\",TEXT(D93,\"#,##0\"),TEXT(D93,\"#,##0.#\"))","v":"0"}]
[null,"施設（２）","施設名称",{"$f":"届出・申告書の作成!$V59&\"\"","v":""},null,"施設名称",{"$f":"IF($D88>1,$D94,\"\")","v":""}]
[null,null,"数量\n(kg)",{"$f":"ROUND(届出・申告書の作成!$V60, 1)","v":0},null,"数量\n(kg)",{"$f":"IF($D88>1,$D95,0)","v":0},{"$f":"IF($D88>1,IF(RIGHT(TEXT(G95,\"0.#\"),1)=\".\",TEXT(G95,\"#0\"),TEXT(G95,\"#0.#\")),\"\")","v":""},{"$f":"IF($D88>1,IF(RIGHT(TEXT(G95,\"0.#\"),1)=\".\",TEXT(G95,\"#,##0\"),TEXT(G95,\"#,##0.#\")),\"\")","v":""}]
[null,null,"能力\n(kg／年）",{"$f":"IF(OR($G$87= \"1\", $G$87= \"\"), 届出・申告書の作成!$V61,IF(OR($G$87= \"2\", $G$87= \"3\"), IF(届出・申告書の作成!$V61 = \"\", \"\", 届出・申告書の作成!$V61), \"\"))","v":0},null,"能力\n(kg／年）",{"$f":"IF($D88>1,IF($D96=\"\",0,$D96),0)","v":0},{"$f":"IF($D88>1,IF(RIGHT(TEXT(D96,\"0.#\"),1)=\".\",TEXT(D96,\"#0\"),TEXT(D96,\"#0.#\")),\"\")","v":""},{"$f":"IF($D88>1,IF(RIGHT(TEXT(D96,\"0.#\"),1)=\".\",TEXT(D96,\"#,##0\"),TEXT(D96,\"#,##0.#\")),\"\")","v":""}]
[null,"施設（３）","施設名称",{"$f":"届出・申告書の作成!$V62&\"\"","v":""},null,"施設名称",{"$f":"IF($D88>2,$D97,\"\")","v":""}]
[null,null,"数量\n(kg)",{"$f":"ROUND(届出・申告書の作成!$V63, 1)","v":0},null,"数量\n(kg)",{"$f":"IF($D88>2,$D98,0)","v":0},{"$f":"IF($D88>2,IF(RIGHT(TEXT(G98,\"0.#\"),1)=\".\",TEXT(G98,\"#0\"),TEXT(G98,\"#0.#\")),\"\")","v":""},{"$f":"IF($D88>2,IF(RIGHT(TEXT(G98,\"0.#\"),1)=\".\",TEXT(G98,\"#,##0\"),TEXT(G98,\"#,##0.#\")),\"\")","v":""}]
[null,null,"能力\n(kg／年）",{"$f":"IF(OR($G$87= \"1\", $G$87= \"\"), 届出・申告書の作成!$V64,IF(OR($G$87= \"2\", $G$87= \"3\"), IF(届出・申告書の作成!$V64 = \"\", \"\", 届出・申告書の作成!$V64), \"\"))","v":0},null,"能力\n(kg／年）",{"$f":"IF($D88>2,IF($D99=\"\",0,$D99),0)","v":0},{"$f":"IF($D88>2,IF(RIGHT(TEXT(D99,\"0.#\"),1)=\".\",TEXT(D99,\"#0\"),TEXT(D99,\"#0.#\")),\"\")","v":""},{"$f":"IF($D88>2,IF(RIGHT(TEXT(D99,\"0.#\"),1)=\".\",TEXT(D99,\"#,##0\"),TEXT(D99,\"#,##0.#\")),\"\")","v":""}]
[null,"施設（４）","施設名称",{"$f":"届出・申告書の作成!$V65&\"\"","v":""},null,"施設名称",{"$f":"IF($D88>3,$D100,\"\")","v":""}]
[null,null,"数量\n(kg)",{"$f":"ROUND(届出・申告書の作成!$V66, 1)","v":0},null,"数量\n(kg)",{"$f":"IF($D88>3,$D101,0)","v":0},{"$f":"IF($D88>3,IF(RIGHT(TEXT(G101,\"0.#\"),1)=\".\",TEXT(G101,\"#0\"),TEXT(G101,\"#0.#\")),\"\")","v":""},{"$f":"IF($D88>3,IF(RIGHT(TEXT(G101,\"0.#\"),1)=\".\",TEXT(G101,\"#,##0\"),TEXT(G101,\"#,##0.#\")),\"\")","v":""}]
[null,null,"能力\n(kg／年）",{"$f":"IF(OR($G$87= \"1\", $G$87= \"\"), 届出・申告書の作成!$V67,IF(OR($G$87= \"2\", $G$87= \"3\"), IF(届出・申告書の作成!$V67 = \"\", \"\", 届出・申告書の作成!$V67), \"\"))","v":0},null,"能力\n(kg／年）",{"$f":"IF($D88>3,IF($D102=\"\",0,$D102),0)","v":0},{"$f":"IF($D88>3,IF(RIGHT(TEXT(D102,\"0.#\"),1)=\".\",TEXT(D102,\"#0\"),TEXT(D102,\"#0.#\")),\"\")","v":""},{"$f":"IF($D88>3,IF(RIGHT(TEXT(D102,\"0.#\"),1)=\".\",TEXT(D102,\"#,##0\"),TEXT(D102,\"#,##0.#\")),\"\")","v":""}]
[null,"施設（5）","施設名称",{"$f":"届出・申告書の作成!$V68&\"\"","v":""},null,"施設名称",{"$f":"IF($D88>4,$D103,\"\")","v":""}]
[null,null,"数量\n(kg)",{"$f":"ROUND(届出・申告書の作成!$V69, 1)","v":0},null,"数量\n(kg)",{"$f":"IF($D88>4,$D104,0)","v":0},{"$f":"IF($D88>4,IF(RIGHT(TEXT(G104,\"0.#\"),1)=\".\",TEXT(G104,\"#0\"),TEXT(G104,\"#0.#\")),\"\")","v":""},{"$f":"IF($D88>4,IF(RIGHT(TEXT(G104,\"0.#\"),1)=\".\",TEXT(G104,\"#,##0\"),TEXT(G104,\"#,##0.#\")),\"\")","v":""}]
[null,null,"能力\n(kg／年）",{"$f":"IF(OR($G$87= \"1\", $G$87= \"\"), 届出・申告書の作成!$V70,IF(OR($G$87= \"2\", $G$87= \"3\"), IF(届出・申告書の作成!$V70 = \"\", \"\", 届出・申告書の作成!$V70), \"\"))","v":0},null,"能力\n(kg／年）",{"$f":"IF($D88>4,IF($D105=\"\",0,$D105),0)","v":0},{"$f":"IF($D88>4,IF(RIGHT(TEXT(D105,\"0.#\"),1)=\".\",TEXT(D105,\"#0\"),TEXT(D105,\"#0.#\")),\"\")","v":""},{"$f":"IF($D88>4,IF(RIGHT(TEXT(D105,\"0.#\"),1)=\".\",TEXT(D105,\"#,##0\"),TEXT(D105,\"#,##0.#\")),\"\")","v":""}]
[null,"届出のみ",null,{"$f":"届出・申告書の作成!$V71&\"\"","v":"いいえ"},null,"届出のみ",{"$f":"TEXT(IFERROR(VLOOKUP($D106,LIST!$V$5:$W$100,2,FALSE), 0), \"@\")","v":"0"}]
[null,"届出のみ理由",null,{"$f":"届出・申告書の作成!$V72&\"\"","v":"－"},null,"届出のみ理由",{"$f":"TEXT(IF($G106=0,\"\",IFERROR(VLOOKUP($D107,LIST!$X$5:$Y$100,2,FALSE),0)), \"@\")","v":"0"}]
[]
["製造等（使用）しようとする第一種指定物質の情報（2）","製造等または使用の別",null,{"$f":"届出・申告書の作成!$V84&\"\"","v":""}]
[null,"製造等（使用）しようとする第一種指定物質","CAS番号",{"$f":"届出・申告書の作成!V85&\"\"","v":""},null,"CAS番号",{"$f":"IF($D110=STRING_NOCAS, $D113, $D110)","v":""}]
[null,null,"条約表剤番号",{"$f":"届出・申告書の作成!V86&\"\"","v":""},null,"政令番号",{"$f":"IF($D110=STRING_NOCAS, TEXT(IFERROR(VLOOKUP($D111,LIST!$AV$5:$AZ$100,4,FALSE)&\"\", \"\"), \"@\"), TEXT(IFERROR(VLOOKUP($D110,LIST!$BB$6:$BG$500,3,FALSE)&\"\", \"\"), \"@\"))","v":""}]
[null,null,"物質名称（日本語名）",{"$f":"届出・申告書の作成!V87&\"\"","v":""},null,"物質ID",{"$f":"IF($D110=STRING_NOCAS, 0, IFERROR(VLOOKUP($D110,LIST!$BB$6:$BG$500,2,FALSE), 0))","v":0}]
[null,null,"CASなし CAS番号",{"$f":"届出・申告書の作成!V88&\"\"","v":""},null,"表区分ID",{"$f":"IF($D110=STRING_NOCAS, TEXT(IFERROR(VLOOKUP($D111,LIST!$AV$5:$AZ$100,2,FALSE)&\"\", \"\"), \"@\"), TEXT(IFERROR(VLOOKUP($D110,LIST!$BB$6:$BG$500,4,FALSE)&\"\", \"\"), \"@\"))","v":""}]
[null,null,"CASなし 物質名称",{"$f":"届出・申告書の作成!V89&\"\"","v":""},null,"物質名称",{"$f":" IF($D110 = STRING_NOCAS, $D114, $D112)","v":""},"物質名称(英)(CASなし)",{"$f":"IF($D110=STRING_NOCAS, TEXT(IFERROR(VLOOKUP($D113,$B$1180:$C$1239,2,FALSE)&\"\", \"\"), \"@\"), \"\")","v":""}]
[null,null,"区分",{"$f":"届出・申告書の作成!V90&\"\"","v":""},null,"区分（コード）",{"$f":"IFERROR(VLOOKUP($D115,LIST!$Q$5:$R$100,2,FALSE), \"\")","v":""}]
[null,"事業所内の当該第一種指定物質の製造等（使用）施設の数",null,{"$f":"届出・申告書の作成!$V93","v":1},null,"施設数(文字列)",{"$f":"TEXT(D116, \"@\")","v":"1"}]
[null,"事業所内の当該第一種指定物質の製造等（使用）施設の位置",null,{"$f":"届出・申告書の作成!$V94&\"\"","v":"別添資料のとおり"},null,"施設の位置（コード）",{"$f":"TEXT(IFERROR(VLOOKUP($D117,LIST!$T$5:$U$100,2,FALSE), 0), \"@\")","v":"1"},"文字列（DB)","文字列（帳票）"]
[null,"合計数量",null,{"$f":"ROUND(G120+G123+G126+G129+G132,1)","v":0},null,"合計数量",{"$f":"IF(D118 > 999999.9, 999999.9, D118)","v":0},{"$f":"IF(RIGHT(TEXT(G118, \"0.#\"),1)=\".\",TEXT(G118, \"#0\"), TEXT(G118, \"#0.#\"))","v":"0"},{"$f":"IF(RIGHT(TEXT(G118, \"0.#\"),1)=\".\",TEXT(G118, \"#,##0\"), TEXT(G118, \"#,##0.#\"))","v":"0"}]
[null,"施設（１）","施設名称",{"$f":"届出・申告書の作成!$V95&\"\"","v":""},null,"施設名称",{"$f":"$D119","v":""}]
[null,null,"数量\n(kg)",{"$f":"ROUND(届出・申告書の作成!$V96,1)","v":0},null,"数量\n(kg)",0,{"$f":"IF(RIGHT(TEXT(G120,\"0.#\"),1)=\".\",TEXT(G120,\"#0\"),TEXT(G120,\"#0.#\"))","v":"0"},{"$f":"IF(RIGHT(TEXT(G120,\"0.#\"),1)=\".\",TEXT(G120,\"#,##0\"),TEXT(G120,\"#,##0.#\"))","v":"0"}]
[null,null,"能力\n(kg／年）",{"$f":"IF(OR($G115= \"1\", $G115= \"\"), 届出・申告書の作成!$V97,IF(OR($G115= \"2\", $G115= \"3\"), IF(届出・申告書の作成!$V97 = \"\", \"\", 届出・申告書の作成!$V97), \"\"))","v":0},null,"能力\n(kg／年）",{"$f":"IF($D121=\"\",0,$D121)","v":0},{"$f":"IF(RIGHT(TEXT(D121,\"0.#\"),1)=\".\",TEXT(D121,\"#0\"),TEXT(D121,\"#0.#\"))","v":"0"},{"$f":"IF(RIGHT(TEXT(D121,\"0.#\"),1)=\".\",TEXT(D121,\"#,##0\"),TEXT(D121,\"#,##0.#\"))","v":"0"}]
[null,"施設（２）","施設名称",{"$f":"届出・申告書の作成!$V98&\"\"","v":""},null,"施設名称",{"$f":"IF($D116>1,$D122,\"\")","v":""}]
[null,null,"数量\n(kg)",{"$f":"ROUND(届出・申告書の作成!$V99, 1)","v":0},null,"数量\n(kg)",{"$f":"IF($D116>1,$D123,0)","v":0},{"$f":"IF($D116>1,IF(RIGHT(TEXT(G123,\"0.#\"),1)=\".\",TEXT(G123,\"#0\"),TEXT(G123,\"#0.#\")),\"\")","v":""},{"$f":"IF($D116>1,IF(RIGHT(TEXT(G123,\"0.#\"),1)=\".\",TEXT(G123,\"#,##0\"),TEXT(G123,\"#,##0.#\")),\"\")","v":""}]
[null,null,"能力\n(kg／年）",{"$f":"IF(OR($G115= \"1\", $G115= \"\"), 届出・申告書の作成!$V100,IF(OR($G115= \"2\", $G115= \"3\"), IF(届出・申告書の作成!$V100 = \"\", \"\", 届出・申告書の作成!$V100), \"\"))","v":0},null,"能力\n(kg／年）",{"$f":"IF($D116>1,IF($D124=\"\",0,$D124),0)","v":0},{"$f":"IF($D116>1,IF(RIGHT(TEXT(D124,\"0.#\"),1)=\".\",TEXT(D124,\"#0\"),TEXT(D124,\"#0.#\")),\"\")","v":""},{"$f":"IF($D116>1,IF(RIGHT(TEXT(D124,\"0.#\"),1)=\".\",TEXT(D124,\"#,##0\"),TEXT(D124,\"#,##0.#\")),\"\")","v":""}]
[null,"施設（３）","施設名称",{"$f":"届出・申告書の作成!$V101&\"\"","v":""},null,"施設名称",{"$f":"IF($D116>2,$D125,\"\")","v":""}]
[null,null,"数量\n(kg)",{"$f":"ROUND(届出・申告書の作成!$V102, 1)","v":0},null,"数量\n(kg)",{"$f":"IF($D116>2,$D126,0)","v":0},{"$f":"IF($D116>2,IF(RIGHT(TEXT(G126,\"0.#\"),1)=\".\",TEXT(G126,\"#0\"),TEXT(G126,\"#0.#\")),\"\")","v":""},{"$f":"IF($D116>2,IF(RIGHT(TEXT(G126,\"0.#\"),1)=\".\",TEXT(G126,\"#,##0\"),TEXT(G126,\"#,##0.#\")),\"\")","v":""}]
[null,null,"能力\n(kg／年）",{"$f":"IF(OR($G115= \"1\", $G115= \"\"), 届出・申告書の作成!$V103,IF(OR($G115= \"2\", $G115= \"3\"), IF(届出・申告書の作成!$V103 = \"\", \"\", 届出・申告書の作成!$V103), \"\"))","v":0},null,"能力\n(kg／年）",{"$f":"IF($D116>2,IF($D127=\"\",0,$D127),0)","v":0},{"$f":"IF($D116>2,IF(RIGHT(TEXT(D127,\"0.#\"),1)=\".\",TEXT(D127,\"#0\"),TEXT(D127,\"#0.#\")),\"\")","v":""},{"$f":"IF($D116>2,IF(RIGHT(TEXT(D127,\"0.#\"),1)=\".\",TEXT(D127,\"#,##0\"),TEXT(D127,\"#,##0.#\")),\"\")","v":""}]
[null,"施設（４）","施設名称",{"$f":"届出・申告書の作成!$V104&\"\"","v":""},null,"施設名称",{"$f":"IF($D116>3,$D128,\"\")","v":""}]
[null,null,"数量\n(kg)",{"$f":"ROUND(届出・申告書の作成!$V105, 1)","v":0},null,"数量\n(kg)",{"$f":"IF($D116>3,$D129,0)","v":0},{"$f":"IF($D116>3,IF(RIGHT(TEXT(G129,\"0.#\"),1)=\".\",TEXT(G129,\"#0\"),TEXT(G129,\"#0.#\")),\"\")","v":""},{"$f":"IF($D116>3,IF(RIGHT(TEXT(G129,\"0.#\"),1)=\".\",TEXT(G129,\"#,##0\"),TEXT(G129,\"#,##0.#\")),\"\")","v":""}]
[null,null,"能力\n(kg／年）",{"$f":"IF(OR($G115= \"1\", $G115= \"\"), 届出・申告書の作成!$V106,IF(OR($G115= \"2\", $G115= \"3\"), IF(届出・申告書の作成!$V106 = \"\", \"\", 届出・申告書の作成!$V106), \"\"))","v":0},null,"能力\n(kg／年）",{"$f":"IF($D116>3,IF($D130=\"\",0,$D130),0)","v":0},{"$f":"IF($D116>3,IF(RIGHT(TEXT(D130,\"0.#\"),1)=\".\",TEXT(D130,\"#0\"),TEXT(D130,\"#0.#\")),\"\")","v":""},{"$f":"IF($D116>3,IF(RIGHT(TEXT(D130,\"0.#\"),1)=\".\",TEXT(D130,\"#,##0\"),TEXT(D130,\"#,##0.#\")),\"\")","v":""}]
[null,"施設（5）","施設名称",{"$f":"届出・申告書の作成!$V107&\"\"","v":""},null,"施設名称",{"$f":"IF($D116>4,$D131,\"\")","v":""}]
[null,null,"数量\n(kg)",{"$f":"ROUND(届出・申告書の作成!$V108, 1)","v":0},null,"数量\n(kg)",{"$f":"IF($D116>4,$D132,0)","v":0},{"$f":"IF($D116>4,IF(RIGHT(TEXT(G132,\"0.#\"),1)=\".\",TEXT(G132,\"#0\"),TEXT(G132,\"#0.#\")),\"\")","v":""},{"$f":"IF($D116>4,IF(RIGHT(TEXT(G132,\"0.#\"),1)=\".\",TEXT(G132,\"#,##0\"),TEXT(G132,\"#,##0.#\")),\"\")","v":""}]
[null,null,"能力\n(kg／年）",{"$f":"IF(OR($G115= \"1\", $G115= \"\"), 届出・申告書の作成!$V109,IF(OR($G115= \"2\", $G115= \"3\"), IF(届出・申告書の作成!$V109 = \"\", \"\", 届出・申告書の作成!$V109), \"\"))","v":0},null,"能力\n(kg／年）",{"$f":"IF($D116>4,IF($D133=\"\",0,$D133),0)","v":0},{"$f":"IF($D116>4,IF(RIGHT(TEXT(D133,\"0.#\"),1)=\".\",TEXT(D133,\"#0\"),TEXT(D133,\"#0.#\")),\"\")","v":""},{"$f":"IF($D116>4,IF(RIGHT(TEXT(D133,\"0.#\"),1)=\".\",TEXT(D133,\"#,##0\"),TEXT(D133,\"#,##0.#\")),\"\")","v":""}]
[null,"届出のみ",null,{"$f":"届出・申告書の作成!$V110&\"\"","v":"いいえ"},null,"届出のみ",{"$f":"TEXT(IFERROR(VLOOKUP($D134,LIST!$V$5:$W$100,2,FALSE), 0), \"@\")","v":"0"}]
[null,"届出のみ理由",null,{"$f":"届出・申告書の作成!$V111&\"\"","v":"－"},null,"届出のみ理由",{"$f":"TEXT(IF($G134=0,\"\",IFERROR(VLOOKUP($D135,LIST!$X$5:$Y$100,2,FALSE),0)), \"@\")","v":"0"}]
[]
["製造等（使用）しようとする第一種指定物質の情報（3）","製造等または使用の別",null,{"$f":"届出・申告書の作成!$V123&\"\"","v":""}]
[null,"製造等（使用）しようとする第一種指定物質","CAS番号",{"$f":"届出・申告書の作成!V124&\"\"","v":""},null,"CAS番号",{"$f":"IF($D138=STRING_NOCAS, $D141, $D138)","v":""}]
[null,null,"条約表剤番号",{"$f":"届出・申告書の作成!V125&\"\"","v":""},null,"政令番号",{"$f":"IF($D138=STRING_NOCAS, TEXT(IFERROR(VLOOKUP($D139,LIST!$AV$5:$AZ$100,4,FALSE)&\"\", \"\"), \"@\"), TEXT(IFERROR(VLOOKUP($D138,LIST!$BB$6:$BG$500,3,FALSE)&\"\", \"\"), \"@\"))","v":""}]
[null,null,"物質名称（日本語名）",{"$f":"届出・申告書の作成!V126&\"\"","v":""},null,"物質ID",{"$f":"IF($D138=STRING_NOCAS, 0, IFERROR(VLOOKUP($D138,LIST!$BB$6:$BG$500,2,FALSE), 0))","v":0}]
[null,null,"CASなし CAS番号",{"$f":"届出・申告書の作成!V127&\"\"","v":""},null,"表区分ID",{"$f":"IF($D138=STRING_NOCAS, TEXT(IFERROR(VLOOKUP($D139,LIST!$AV$5:$AZ$100,2,FALSE)&\"\", \"\"), \"@\"), TEXT(IFERROR(VLOOKUP($D138,LIST!$BB$6:$BG$500,4,FALSE)&\"\", \"\"), \"@\"))","v":""}]
[null,null,"CASなし 物質名称",{"$f":"届出・申告書の作成!V128&\"\"","v":""},null,"物質名称",{"$f":" IF($D138 = STRING_NOCAS, $D142, $D140)","v":""},"物質名称(英)(CASなし)",{"$f":"IF($D138=STRING_NOCAS, TEXT(IFERROR(VLOOKUP($D141,$B$1180:$C$1239,2,FALSE)&\"\", \"\"), \"@\"), \"\")","v":""}]
[null,null,"区分",{"$f":"届出・申告書の作成!V129&\"\"","v":""},null,"区分（コード）",{"$f":"IFERROR(VLOOKUP($D143,LIST!$Q$5:$R$100,2,FALSE), \"\")","v":""}]
[null,"事業所内の当該第一種指定物質の製造等（使用）施設の数",null,{"$f":"届出・申告書の作成!$V132","v":1},null,"施設数(文字列)",{"$f":"TEXT(D144, \"@\")","v":"1"}]
[null,"事業所内の当該第一種指定物質の製造等（使用）施設の位置",null,{"$f":"届出・申告書の作成!$V133&\"\"","v":"別添資料のとおり"},null,"施設の位置（コード）",{"$f":"TEXT(IFERROR(VLOOKUP($D145,LIST!$T$5:$U$100,2,FALSE), 0), \"@\")","v":"1"},"文字列（DB)","文字列（帳票）"]
[null,"合計数量",null,{"$f":"ROUND(G148+G151+G154+G157+G160,1)","v":0},null,"合計数量",{"$f":"IF(D146 > 999999.9, 999999.9, D146)","v":0},{"$f":"IF(RIGHT(TEXT(G146, \"0.#\"),1)=\".\",TEXT(G146, \"#0\"), TEXT(G146, \"#0.#\"))","v":"0"},{"$f":"IF(RIGHT(TEXT(G146, \"0.#\"),1)=\".\",TEXT(G146, \"#,##0\"), TEXT(G146, \"#,##0.#\"))","v":"0"}]
[null,"施設（１）","施設名称",{"$f":"届出・申告書の作成!$V134&\"\"","v":""},null,"施設名称",{"$f":"$D147","v":""}]
[null,null,"数量\n(kg)",{"$f":"ROUND(届出・申告書の作成!$V135, 1)","v":0},null,"数量\n(kg)",0,{"$f":"IF(RIGHT(TEXT(G148,\"0.#\"),1)=\".\",TEXT(G148,\"#0\"),TEXT(G148,\"#0.#\"))","v":"0"},{"$f":"IF(RIGHT(TEXT(G148,\"0.#\"),1)=\".\",TEXT(G148,\"#,##0\"),TEXT(G148,\"#,##0.#\"))","v":"0"}]
[null,null,"能力\n(kg／年）",{"$f":"IF(OR($G143= \"1\", $G143= \"\"), 届出・申告書の作成!$V136,IF(OR($G143= \"2\", $G143= \"3\"), IF(届出・申告書の作成!$V136 = \"\", \"\", 届出・申告書の作成!$V136), \"\"))","v":0},null,"能力\n(kg／年）",{"$f":"IF($D149=\"\",0,$D149)","v":0},{"$f":"IF(RIGHT(TEXT(D149,\"0.#\"),1)=\".\",TEXT(D149,\"#0\"),TEXT(D149,\"#0.#\"))","v":"0"},{"$f":"IF(RIGHT(TEXT(D149,\"0.#\"),1)=\".\",TEXT(D149,\"#,##0\"),TEXT(D149,\"#,##0.#\"))","v":"0"}]
[null,"施設（２）","施設名称",{"$f":"届出・申告書の作成!$V137&\"\"","v":""},null,"施設名称",{"$f":"IF($D144>1,$D150,\"\")","v":""}]
[null,null,"数量\n(kg)",{"$f":"ROUND(届出・申告書の作成!$V138,1)","v":0},null,"数量\n(kg)",{"$f":"IF($D144>1,$D151,0)","v":0},{"$f":"IF($D144>1,IF(RIGHT(TEXT(G151,\"0.#\"),1)=\".\",TEXT(G151,\"#0\"),TEXT(G151,\"#0.#\")),\"\")","v":""},{"$f":"IF($D144>1,IF(RIGHT(TEXT(G151,\"0.#\"),1)=\".\",TEXT(G151,\"#,##0\"),TEXT(G151,\"#,##0.#\")),\"\")","v":""}]
[null,null,"能力\n(kg／年）",{"$f":"IF(OR($G143= \"1\", $G143= \"\"), 届出・申告書の作成!$V139,IF(OR($G143= \"2\", $G143= \"3\"), IF(届出・申告書の作成!$V139 = \"\", \"\", 届出・申告書の作成!$V139), \"\"))","v":0},null,"能力\n(kg／年）",{"$f":"IF($D144>1,IF($D152=\"\",0,$D152),0)","v":0},{"$f":"IF($D144>1,IF(RIGHT(TEXT(D152,\"0.#\"),1)=\".\",TEXT(D152,\"#0\"),TEXT(D152,\"#0.#\")),\"\")","v":""},{"$f":"IF($D144>1,IF(RIGHT(TEXT(D152,\"0.#\"),1)=\".\",TEXT(D152,\"#,##0\"),TEXT(D152,\"#,##0.#\")),\"\")","v":""}]
[null,"施設（３）","施設名称",{"$f":"届出・申告書の作成!$V140&\"\"","v":""},null,"施設名称",{"$f":"IF($D144>2,$D153,\"\")","v":""}]
[null,null,"数量\n(kg)",{"$f":"ROUND(届出・申告書の作成!$V141,1)","v":0},null,"数量\n(kg)",{"$f":"IF($D144>2,$D154,0)","v":0},{"$f":"IF($D144>2,IF(RIGHT(TEXT(G154,\"0.#\"),1)=\".\",TEXT(G154,\"#0\"),TEXT(G154,\"#0.#\")),\"\")","v":""},{"$f":"IF($D144>2,IF(RIGHT(TEXT(G154,\"0.#\"),1)=\".\",TEXT(G154,\"#,##0\"),TEXT(G154,\"#,##0.#\")),\"\")","v":""}]
[null,null,"能力\n(kg／年）",{"$f":"IF(OR($G143= \"1\", $G143= \"\"), 届出・申告書の作成!$V142,IF(OR($G143= \"2\", $G143= \"3\"), IF(届出・申告書の作成!$V142 = \"\", \"\", 届出・申告書の作成!$V142), \"\"))","v":0},null,"能力\n(kg／年）",{"$f":"IF($D144>2,IF($D155=\"\",0,$D155),0)","v":0},{"$f":"IF($D144>2,IF(RIGHT(TEXT(D155,\"0.#\"),1)=\".\",TEXT(D155,\"#0\"),TEXT(D155,\"#0.#\")),\"\")","v":""},{"$f":"IF($D144>2,IF(RIGHT(TEXT(D155,\"0.#\"),1)=\".\",TEXT(D155,\"#,##0\"),TEXT(D155,\"#,##0.#\")),\"\")","v":""}]
[null,"施設（４）","施設名称",{"$f":"届出・申告書の作成!$V143&\"\"","v":""},null,"施設名称",{"$f":"IF($D144>3,$D156,\"\")","v":""}]
[null,null,"数量\n(kg)",{"$f":"ROUND(届出・申告書の作成!$V144,1)","v":0},null,"数量\n(kg)",{"$f":"IF($D144>3,$D157,0)","v":0},{"$f":"IF($D144>3,IF(RIGHT(TEXT(G157,\"0.#\"),1)=\".\",TEXT(G157,\"#0\"),TEXT(G157,\"#0.#\")),\"\")","v":""},{"$f":"IF($D144>3,IF(RIGHT(TEXT(G157,\"0.#\"),1)=\".\",TEXT(G157,\"#,##0\"),TEXT(G157,\"#,##0.#\")),\"\")","v":""}]
[null,null,"能力\n(kg／年）",{"$f":"IF(OR($G143= \"1\", $G143= \"\"), 届出・申告書の作成!$V145,IF(OR($G143= \"2\", $G143= \"3\"), IF(届出・申告書の作成!$V145 = \"\", \"\", 届出・申告書の作成!$V145), \"\"))","v":0},null,"能力\n(kg／年）",{"$f":"IF($D144>3,IF($D158=\"\",0,$D158),0)","v":0},{"$f":"IF($D144>3,IF(RIGHT(TEXT(D158,\"0.#\"),1)=\".\",TEXT(D158,\"#0\"),TEXT(D158,\"#0.#\")),\"\")","v":""},{"$f":"IF($D144>3,IF(RIGHT(TEXT(D158,\"0.#\"),1)=\".\",TEXT(D158,\"#,##0\"),TEXT(D158,\"#,##0.#\")),\"\")","v":""}]
[null,"施設（5）","施設名称",{"$f":"届出・申告書の作成!$V146&\"\"","v":""},null,"施設名称",{"$f":"IF($D144>4,$D159,\"\")","v":""}]
[null,null,"数量\n(kg)",{"$f":"ROUND(届出・申告書の作成!$V147,1)","v":0},null,"数量\n(kg)",{"$f":"IF($D144>4,$D160,0)","v":0},{"$f":"IF($D144>4,IF(RIGHT(TEXT(G160,\"0.#\"),1)=\".\",TEXT(G160,\"#0\"),TEXT(G160,\"#0.#\")),\"\")","v":""},{"$f":"IF($D144>4,IF(RIGHT(TEXT(G160,\"0.#\"),1)=\".\",TEXT(G160,\"#,##0\"),TEXT(G160,\"#,##0.#\")),\"\")","v":""}]
[null,null,"能力\n(kg／年）",{"$f":"IF(OR($G143= \"1\", $G143= \"\"), 届出・申告書の作成!$V148,IF(OR($G143= \"2\", $G143= \"3\"), IF(届出・申告書の作成!$V148 = \"\", \"\", 届出・申告書の作成!$V148), \"\"))","v":0},null,"能力\n(kg／年）",{"$f":"IF($D144>4,IF($D161=\"\",0,$D161),0)","v":0},{"$f":"IF($D144>4,IF(RIGHT(TEXT(D161,\"0.#\"),1)=\".\",TEXT(D161,\"#0\"),TEXT(D161,\"#0.#\")),\"\")","v":""},{"$f":"IF($D144>4,IF(RIGHT(TEXT(D161,\"0.#\"),1)=\".\",TEXT(D161,\"#,##0\"),TEXT(D161,\"#,##0.#\")),\"\")","v":""}]
[null,"届出のみ",null,{"$f":"届出・申告書の作成!$V149&\"\"","v":"いいえ"},null,"届出のみ",{"$f":"TEXT(IFERROR(VLOOKUP($D162,LIST!$V$5:$W$100,2,FALSE), 0), \"@\")","v":"0"}]
[null,"届出のみ理由",null,{"$f":"届出・申告書の作成!$V150&\"\"","v":"－"},null,"届出のみ理由",{"$f":"TEXT(IF($G162=0,\"\",IFERROR(VLOOKUP($D163,LIST!$X$5:$Y$100,2,FALSE),0)), \"@\")","v":"0"}]
[]
["製造等（使用）しようとする第一種指定物質の情報（4）","製造等または使用の別",null,{"$f":"届出・申告書の作成!$V162&\"\"","v":""}]
[null,"製造等（使用）しようとする第一種指定物質","CAS番号",{"$f":"届出・申告書の作成!V163&\"\"","v":""},null,"CAS番号",{"$f":"IF($D166=STRING_NOCAS, $D169, $D166)","v":""}]
[null,null,"条約表剤番号",{"$f":"届出・申告書の作成!V164&\"\"","v":""},null,"政令番号",{"$f":"IF($D166=STRING_NOCAS, TEXT(IFERROR(VLOOKUP($D167,LIST!$AV$5:$AZ$100,4,FALSE)&\"\", \"\"), \"@\"), TEXT(IFERROR(VLOOKUP($D166,LIST!$BB$6:$BG$500,3,FALSE)&\"\", \"\"), \"@\"))","v":""}]
[null,null,"物質名称（日本語名）",{"$f":"届出・申告書の作成!V165&\"\"","v":""},null,"物質ID",{"$f":"IF($D166=STRING_NOCAS, 0, IFERROR(VLOOKUP($D166,LIST!$BB$6:$BG$500,2,FALSE), 0))","v":0}]
[null,null,"CASなし CAS番号",{"$f":"届出・申告書の作成!V166&\"\"","v":""},null,"表区分ID",{"$f":"IF($D166=STRING_NOCAS, TEXT(IFERROR(VLOOKUP($D167,LIST!$AV$5:$AZ$100,2,FALSE)&\"\", \"\"), \"@\"), TEXT(IFERROR(VLOOKUP($D166,LIST!$BB$6:$BG$500,4,FALSE)&\"\", \"\"), \"@\"))","v":""}]
[null,null,"CASなし 物質名称",{"$f":"届出・申告書の作成!V167&\"\"","v":""},null,"物質名称",{"$f":" IF($D166 = STRING_NOCAS, $D170, $D168)","v":""},"物質名称(英)(CASなし)",{"$f":"IF($D166=STRING_NOCAS, TEXT(IFERROR(VLOOKUP($D169,$B$1180:$C$1239,2,FALSE)&\"\", \"\"), \"@\"), \"\")","v":""}]
[null,null,"区分",{"$f":"届出・申告書の作成!V168&\"\"","v":""},null,"区分（コード）",{"$f":"IFERROR(VLOOKUP($D171,LIST!$Q$5:$R$100,2,FALSE), \"\")","v":""}]
[null,"事業所内の当該第一種指定物質の製造等（使用）施設の数",null,{"$f":"届出・申告書の作成!$V171","v":1},null,"施設数(文字列)",{"$f":"TEXT(D172, \"@\")","v":"1"}]
[null,"事業所内の当該第一種指定物質の製造等（使用）施設の位置",null,{"$f":"届出・申告書の作成!$V172&\"\"","v":"別添資料のとおり"},null,"施設の位置（コード）",{"$f":"TEXT(IFERROR(VLOOKUP($D173,LIST!$T$5:$U$100,2,FALSE), 0), \"@\")","v":"1"},"文字列（DB)","文字列（帳票）"]
[null,"合計数量",null,{"$f":"ROUND(G176+G179+G182+G185+G188,1)","v":0},null,"合計数量",{"$f":"IF(D174 > 999999.9, 999999.9, D174)","v":0},{"$f":"IF(RIGHT(TEXT(G174, \"0.#\"),1)=\".\",TEXT(G174, \"#0\"), TEXT(G174, \"#0.#\"))","v":"0"},{"$f":"IF(RIGHT(TEXT(G174, \"0.#\"),1)=\".\",TEXT(G174, \"#,##0\"), TEXT(G174, \"#,##0.#\"))","v":"0"}]
[null,"施設（１）","施設名称",{"$f":"届出・申告書の作成!$V173&\"\"","v":""},null,"施設名称",{"$f":"$D175","v":""}]
[null,null,"数量\n(kg)",{"$f":"ROUND(届出・申告書の作成!$V174,1)","v":0},null,"数量\n(kg)",0,{"$f":"IF(RIGHT(TEXT(G176,\"0.#\"),1)=\".\",TEXT(G176,\"#0\"),TEXT(G176,\"#0.#\"))","v":"0"},{"$f":"IF(RIGHT(TEXT(G176,\"0.#\"),1)=\".\",TEXT(G176,\"#,##0\"),TEXT(G176,\"#,##0.#\"))","v":"0"}]
[null,null,"能力\n(kg／年）",{"$f":"IF(OR($G171= \"1\", $G171= \"\"), 届出・申告書の作成!$V175,IF(OR($G171= \"2\", $G171= \"3\"), IF(届出・申告書の作成!$V175 = \"\", \"\", 届出・申告書の作成!$V175), \"\"))","v":0},null,"能力\n(kg／年）",{"$f":"IF($D177=\"\",0,$D177)","v":0},{"$f":"IF(RIGHT(TEXT(D177,\"0.#\"),1)=\".\",TEXT(D177,\"#0\"),TEXT(D177,\"#0.#\"))","v":"0"},{"$f":"IF(RIGHT(TEXT(D177,\"0.#\"),1)=\".\",TEXT(D177,\"#,##0\"),TEXT(D177,\"#,##0.#\"))","v":"0"}]
[null,"施設（２）","施設名称",{"$f":"届出・申告書の作成!$V176&\"\"","v":""},null,"施設名称",{"$f":"IF($D172>1,$D178,\"\")","v":""}]
[null,null,"数量\n(kg)",{"$f":"ROUND(届出・申告書の作成!$V177,1)","v":0},null,"数量\n(kg)",{"$f":"IF($D172>1,$D179,0)","v":0},{"$f":"IF($D172>1,IF(RIGHT(TEXT(G179,\"0.#\"),1)=\".\",TEXT(G179,\"#0\"),TEXT(G179,\"#0.#\")),\"\")","v":""},{"$f":"IF($D172>1,IF(RIGHT(TEXT(G179,\"0.#\"),1)=\".\",TEXT(G179,\"#,##0\"),TEXT(G179,\"#,##0.#\")),\"\")","v":""}]
[null,null,"能力\n(kg／年）",{"$f":"IF(OR($G171= \"1\", $G171= \"\"), 届出・申告書の作成!$V178,IF(OR($G171= \"2\", $G171= \"3\"), IF(届出・申告書の作成!$V178 = \"\", \"\", 届出・申告書の作成!$V178), \"\"))","v":0},null,"能力\n(kg／年）",{"$f":"IF($D172>1,IF($D180=\"\",0,$D180),0)","v":0},{"$f":"IF($D172>1,IF(RIGHT(TEXT(D180,\"0.#\"),1)=\".\",TEXT(D180,\"#0\"),TEXT(D180,\"#0.#\")),\"\")","v":""},{"$f":"IF($D172>1,IF(RIGHT(TEXT(D180,\"0.#\"),1)=\".\",TEXT(D180,\"#,##0\"),TEXT(D180,\"#,##0.#\")),\"\")","v":""}]
[null,"施設（３）","施設名称",{"$f":"届出・申告書の作成!$V179&\"\"","v":""},null,"施設名称",{"$f":"IF($D172>2,$D181,\"\")","v":""}]
[null,null,"数量\n(kg)",{"$f":"ROUND(届出・申告書の作成!$V180,1)","v":0},null,"数量\n(kg)",{"$f":"IF($D172>2,$D182,0)","v":0},{"$f":"IF($D172>2,IF(RIGHT(TEXT(G182,\"0.#\"),1)=\".\",TEXT(G182,\"#0\"),TEXT(G182,\"#0.#\")),\"\")","v":""},{"$f":"IF($D172>2,IF(RIGHT(TEXT(G182,\"0.#\"),1)=\".\",TEXT(G182,\"#,##0\"),TEXT(G182,\"#,##0.#\")),\"\")","v":""}]
[null,null,"能力\n(kg／年）",{"$f":"IF(OR($G171= \"1\", $G171= \"\"), 届出・申告書の作成!$V181,IF(OR($G171= \"2\", $G171= \"3\"), IF(届出・申告書の作成!$V181 = \"\", \"\", 届出・申告書の作成!$V181), \"\"))","v":0},null,"能力\n(kg／年）",{"$f":"IF($D172>2,IF($D183=\"\",0,$D183),0)","v":0},{"$f":"IF($D172>2,IF(RIGHT(TEXT(D183,\"0.#\"),1)=\".\",TEXT(D183,\"#0\"),TEXT(D183,\"#0.#\")),\"\")","v":""},{"$f":"IF($D172>2,IF(RIGHT(TEXT(D183,\"0.#\"),1)=\".\",TEXT(D183,\"#,##0\"),TEXT(D183,\"#,##0.#\")),\"\")","v":""}]
[null,"施設（４）","施設名称",{"$f":"届出・申告書の作成!$V182&\"\"","v":""},null,"施設名称",{"$f":"IF($D172>3,$D184,\"\")","v":""}]
[null,null,"数量\n(kg)",{"$f":"ROUND(届出・申告書の作成!$V183,1)","v":0},null,"数量\n(kg)",{"$f":"IF($D172>3,$D185,0)","v":0},{"$f":"IF($D172>3,IF(RIGHT(TEXT(G185,\"0.#\"),1)=\".\",TEXT(G185,\"#0\"),TEXT(G185,\"#0.#\")),\"\")","v":""},{"$f":"IF($D172>3,IF(RIGHT(TEXT(G185,\"0.#\"),1)=\".\",TEXT(G185,\"#,##0\"),TEXT(G185,\"#,##0.#\")),\"\")","v":""}]
[null,null,"能力\n(kg／年）",{"$f":"IF(OR($G171= \"1\", $G171= \"\"), 届出・申告書の作成!$V184,IF(OR($G171= \"2\", $G171= \"3\"), IF(届出・申告書の作成!$V184 = \"\", \"\", 届出・申告書の作成!$V184), \"\"))","v":0},null,"能力\n(kg／年）",{"$f":"IF($D172>3,IF($D186=\"\",0,$D186),0)","v":0},{"$f":"IF($D172>3,IF(RIGHT(TEXT(D186,\"0.#\"),1)=\".\",TEXT(D186,\"#0\"),TEXT(D186,\"#0.#\")),\"\")","v":""},{"$f":"IF($D172>3,IF(RIGHT(TEXT(D186,\"0.#\"),1)=\".\",TEXT(D186,\"#,##0\"),TEXT(D186,\"#,##0.#\")),\"\")","v":""}]
[null,"施設（5）","施設名称",{"$f":"届出・申告書の作成!$V185&\"\"","v":""},null,"施設名称",{"$f":"IF($D172>4,$D187,\"\")","v":""}]
[null,null,"数量\n(kg)",{"$f":"ROUND(届出・申告書の作成!$V186,1)","v":0},null,"数量\n(kg)",{"$f":"IF($D172>4,$D188,0)","v":0},{"$f":"IF($D172>4,IF(RIGHT(TEXT(G188,\"0.#\"),1)=\".\",TEXT(G188,\"#0\"),TEXT(G188,\"#0.#\")),\"\")","v":""},{"$f":"IF($D172>4,IF(RIGHT(TEXT(G188,\"0.#\"),1)=\".\",TEXT(G188,\"#,##0\"),TEXT(G188,\"#,##0.#\")),\"\")","v":""}]
[null,null,"能力\n(kg／年）",{"$f":"IF(OR($G171= \"1\", $G171= \"\"), 届出・申告書の作成!$V187,IF(OR($G171= \"2\", $G171= \"3\"), IF(届出・申告書の作成!$V187 = \"\", \"\", 届出・申告書の作成!$V187), \"\"))","v":0},null,"能力\n(kg／年）",{"$f":"IF($D172>4,IF($D189=\"\",0,$D189),0)","v":0},{"$f":"IF($D172>4,IF(RIGHT(TEXT(D189,\"0.#\"),1)=\".\",TEXT(D189,\"#0\"),TEXT(D189,\"#0.#\")),\"\")","v":""},{"$f":"IF($D172>4,IF(RIGHT(TEXT(D189,\"0.#\"),1)=\".\",TEXT(D189,\"#,##0\"),TEXT(D189,\"#,##0.#\")),\"\")","v":""}]
[null,"届出のみ",null,{"$f":"届出・申告書の作成!$V188&\"\"","v":"いいえ"},null,"届出のみ",{"$f":"TEXT(IFERROR(VLOOKUP($D190,LIST!$V$5:$W$100,2,FALSE), 0), \"@\")","v":"0"}]
[null,"届出のみ理由",null,{"$f":"届出・申告書の作成!$V189&\"\"","v":"－"},null,"届出のみ理由",{"$f":"TEXT(IF($G190=0,\"\",IFERROR(VLOOKUP($D191,LIST!$X$5:$Y$100,2,FALSE),0)), \"@\")","v":"0"}]
[]
["製造等（使用）しようとする第一種指定物質の情報（5）","製造等または使用の別",null,{"$f":"届出・申告書の作成!$V201&\"\"","v":""}]
[null,"製造等（使用）しようとする第一種指定物質","CAS番号",{"$f":"届出・申告書の作成!V202&\"\"","v":""},null,"CAS番号",{"$f":"IF($D194=STRING_NOCAS, $D197, $D194)","v":""}]
[null,null,"条約表剤番号",{"$f":"届出・申告書の作成!V203&\"\"","v":""},null,"政令番号",{"$f":"IF($D194=STRING_NOCAS, TEXT(IFERROR(VLOOKUP($D195,LIST!$AV$5:$AZ$100,4,FALSE)&\"\", \"\"), \"@\"), TEXT(IFERROR(VLOOKUP($D194,LIST!$BB$6:$BG$500,3,FALSE)&\"\", \"\"), \"@\"))","v":""}]
[null,null,"物質名称（日本語名）",{"$f":"届出・申告書の作成!V204&\"\"","v":""},null,"物質ID",{"$f":"IF($D194=STRING_NOCAS, 0, IFERROR(VLOOKUP($D194,LIST!$BB$6:$BG$500,2,FALSE), 0))","v":0}]
[null,null,"CASなし CAS番号",{"$f":"届出・申告書の作成!V205&\"\"","v":""},null,"表区分ID",{"$f":"IF($D194=STRING_NOCAS, TEXT(IFERROR(VLOOKUP($D195,LIST!$AV$5:$AZ$100,2,FALSE)&\"\", \"\"), \"@\"), TEXT(IFERROR(VLOOKUP($D194,LIST!$BB$6:$BG$500,4,FALSE)&\"\", \"\"), \"@\"))","v":""}]
[null,null,"CASなし 物質名称",{"$f":"届出・申告書の作成!V206&\"\"","v":""},null,"物質名称",{"$f":" IF($D194 = STRING_NOCAS, $D198, $D196)","v":""},"物質名称(英)(CASなし)",{"$f":"IF($D194=STRING_NOCAS, TEXT(IFERROR(VLOOKUP($D197,$B$1180:$C$1239,2,FALSE)&\"\", \"\"), \"@\"), \"\")","v":""}]
[null,null,"区分",{"$f":"届出・申告書の作成!V207&\"\"","v":""},null,"区分（コード）",{"$f":"IFERROR(VLOOKUP($D199,LIST!$Q$5:$R$100,2,FALSE), \"\")","v":""}]
[null,"事業所内の当該第一種指定物質の製造等（使用）施設の数",null,{"$f":"届出・申告書の作成!$V210","v":1},null,"施設数(文字列)",{"$f":"TEXT(D200, \"@\")","v":"1"}]
[null,"事業所内の当該第一種指定物質の製造等（使用）施設の位置",null,{"$f":"届出・申告書の作成!$V211&\"\"","v":"別添資料のとおり"},null,"施設の位置（コード）",{"$f":"TEXT(IFERROR(VLOOKUP($D201,LIST!$T$5:$U$100,2,FALSE), 0), \"@\")","v":"1"},"文字列（DB)","文字列（帳票）"]
[null,"合計数量",null,{"$f":"ROUND(G204+G207+G210+G213+G216,1)","v":0},null,"合計数量",{"$f":"IF(D202 > 999999.9, 999999.9, D202)","v":0},{"$f":"IF(RIGHT(TEXT(G202, \"0.#\"),1)=\".\",TEXT(G202, \"#0\"), TEXT(G202, \"#0.#\"))","v":"0"},{"$f":"IF(RIGHT(TEXT(G202, \"0.#\"),1)=\".\",TEXT(G202, \"#,##0\"), TEXT(G202, \"#,##0.#\"))","v":"0"}]
[null,"施設（１）","施設名称",{"$f":"届出・申告書の作成!$V212&\"\"","v":""},null,"施設名称",{"$f":"$D203","v":""}]
[null,null,"数量\n(kg)",{"$f":"ROUND(届出・申告書の作成!$V213,1)","v":0},null,"数量\n(kg)",0,{"$f":"IF(RIGHT(TEXT(G204,\"0.#\"),1)=\".\",TEXT(G204,\"#0\"),TEXT(G204,\"#0.#\"))","v":"0"},{"$f":"IF(RIGHT(TEXT(G204,\"0.#\"),1)=\".\",TEXT(G204,\"#,##0\"),TEXT(G204,\"#,##0.#\"))","v":"0"}]
[null,null,"能力\n(kg／年）",{"$f":"IF(OR($G199= \"1\", $G199= \"\"), 届出・申告書の作成!$V214,IF(OR($G199= \"2\", $G199= \"3\"), IF(届出・申告書の作成!$V214 = \"\", \"\", 届出・申告書の作成!$V214), \"\"))","v":0},null,"能力\n(kg／年）",{"$f":"IF($D205=\"\",0,$D205)","v":0},{"$f":"IF(RIGHT(TEXT(D205,\"0.#\"),1)=\".\",TEXT(D205,\"#0\"),TEXT(D205,\"#0.#\"))","v":"0"},{"$f":"IF(RIGHT(TEXT(D205,\"0.#\"),1)=\".\",TEXT(D205,\"#,##0\"),TEXT(D205,\"#,##0.#\"))","v":"0"}]
[null,"施設（２）","施設名称",{"$f":"届出・申告書の作成!$V215&\"\"","v":""},null,"施設名称",{"$f":"IF($D200>1,$D206,\"\")","v":""}]
[null,null,"数量\n(kg)",{"$f":"ROUND(届出・申告書の作成!$V216,1)","v":0},null,"数量\n(kg)",{"$f":"IF($D200>1,$D207,0)","v":0},{"$f":"IF($D200>1,IF(RIGHT(TEXT(G207,\"0.#\"),1)=\".\",TEXT(G207,\"#0\"),TEXT(G207,\"#0.#\")),\"\")","v":""},{"$f":"IF($D200>1,IF(RIGHT(TEXT(G207,\"0.#\"),1)=\".\",TEXT(G207,\"#,##0\"),TEXT(G207,\"#,##0.#\")),\"\")","v":""}]
[null,null,"能力\n(kg／年）",{"$f":"IF(OR($G199= \"1\", $G199= \"\"), 届出・申告書の作成!$V217,IF(OR($G199= \"2\", $G199= \"3\"), IF(届出・申告書の作成!$V217 = \"\", \"\", 届出・申告書の作成!$V217), \"\"))","v":0},null,"能力\n(kg／年）",{"$f":"IF($D200>1,IF($D208=\"\",0,$D208),0)","v":0},{"$f":"IF($D200>1,IF(RIGHT(TEXT(D208,\"0.#\"),1)=\".\",TEXT(D208,\"#0\"),TEXT(D208,\"#0.#\")),\"\")","v":""},{"$f":"IF($D200>1,IF(RIGHT(TEXT(D208,\"0.#\"),1)=\".\",TEXT(D208,\"#,##0\"),TEXT(D208,\"#,##0.#\")),\"\")","v":""}]
[null,"施設（３）","施設名称",{"$f":"届出・申告書の作成!$V218&\"\"","v":""},null,"施設名称",{"$f":"IF($D200>2,$D209,\"\")","v":""}]
[null,null,"数量\n(kg)",{"$f":"ROUND(届出・申告書の作成!$V219,1)","v":0},null,"数量\n(kg)",{"$f":"IF($D200>2,$D210,0)","v":0},{"$f":"IF($D200>2,IF(RIGHT(TEXT(G210,\"0.#\"),1)=\".\",TEXT(G210,\"#0\"),TEXT(G210,\"#0.#\")),\"\")","v":""},{"$f":"IF($D200>2,IF(RIGHT(TEXT(G210,\"0.#\"),1)=\".\",TEXT(G210,\"#,##0\"),TEXT(G210,\"#,##0.#\")),\"\")","v":""}]
[null,null,"能力\n(kg／年）",{"$f":"IF(OR($G199= \"1\", $G199= \"\"), 届出・申告書の作成!$V220,IF(OR($G199= \"2\", $G199= \"3\"), IF(届出・申告書の作成!$V220 = \"\", \"\", 届出・申告書の作成!$V220), \"\"))","v":0},null,"能力\n(kg／年）",{"$f":"IF($D200>2,IF($D211=\"\",0,$D211),0)","v":0},{"$f":"IF($D200>2,IF(RIGHT(TEXT(D211,\"0.#\"),1)=\".\",TEXT(D211,\"#0\"),TEXT(D211,\"#0.#\")),\"\")","v":""},{"$f":"IF($D200>2,IF(RIGHT(TEXT(D211,\"0.#\"),1)=\".\",TEXT(D211,\"#,##0\"),TEXT(D211,\"#,##0.#\")),\"\")","v":""}]
[null,"施設（４）","施設名称",{"$f":"届出・申告書の作成!$V221&\"\"","v":""},null,"施設名称",{"$f":"IF($D200>3,$D212,\"\")","v":""}]
[null,null,"数量\n(kg)",{"$f":"ROUND(届出・申告書の作成!$V222,1)","v":0},null,"数量\n(kg)",{"$f":"IF($D200>3,$D213,0)","v":0},{"$f":"IF($D200>3,IF(RIGHT(TEXT(G213,\"0.#\"),1)=\".\",TEXT(G213,\"#0\"),TEXT(G213,\"#0.#\")),\"\")","v":""},{"$f":"IF($D200>3,IF(RIGHT(TEXT(G213,\"0.#\"),1)=\".\",TEXT(G213,\"#,##0\"),TEXT(G213,\"#,##0.#\")),\"\")","v":""}]
[null,null,"能力\n(kg／年）",{"$f":"IF(OR($G199= \"1\", $G199= \"\"), 届出・申告書の作成!$V223,IF(OR($G199= \"2\", $G199= \"3\"), IF(届出・申告書の作成!$V223 = \"\", \"\", 届出・申告書の作成!$V223), \"\"))","v":0},null,"能力\n(kg／年）",{"$f":"IF($D200>3,IF($D214=\"\",0,$D214),0)","v":0},{"$f":"IF($D200>3,IF(RIGHT(TEXT(D214,\"0.#\"),1)=\".\",TEXT(D214,\"#0\"),TEXT(D214,\"#0.#\")),\"\")","v":""},{"$f":"IF($D200>3,IF(RIGHT(TEXT(D214,\"0.#\"),1)=\".\",TEXT(D214,\"#,##0\"),TEXT(D214,\"#,##0.#\")),\"\")","v":""}]
[null,"施設（5）","施設名称",{"$f":"届出・申告書の作成!$V224&\"\"","v":""},null,"施設名称",{"$f":"IF($D200>4,$D215,\"\")","v":""}]
[null,null,"数量\n(kg)",{"$f":"ROUND(届出・申告書の作成!$V225,1)","v":0},null,"数量\n(kg)",{"$f":"IF($D200>4,$D216,0)","v":0},{"$f":"IF($D200>4,IF(RIGHT(TEXT(G216,\"0.#\"),1)=\".\",TEXT(G216,\"#0\"),TEXT(G216,\"#0.#\")),\"\")","v":""},{"$f":"IF($D200>4,IF(RIGHT(TEXT(G216,\"0.#\"),1)=\".\",TEXT(G216,\"#,##0\"),TEXT(G216,\"#,##0.#\")),\"\")","v":""}]
[null,null,"能力\n(kg／年）",{"$f":"IF(OR($G199= \"1\", $G199= \"\"), 届出・申告書の作成!$V226,IF(OR($G199= \"2\", $G199= \"3\"), IF(届出・申告書の作成!$V226 = \"\", \"\", 届出・申告書の作成!$V226), \"\"))","v":0},null,"能力\n(kg／年）",{"$f":"IF($D200>4,IF($D217=\"\",0,$D217),0)","v":0},{"$f":"IF($D200>4,IF(RIGHT(TEXT(D217,\"0.#\"),1)=\".\",TEXT(D217,\"#0\"),TEXT(D217,\"#0.#\")),\"\")","v":""},{"$f":"IF($D200>4,IF(RIGHT(TEXT(D217,\"0.#\"),1)=\".\",TEXT(D217,\"#,##0\"),TEXT(D217,\"#,##0.#\")),\"\")","v":""}]
[null,"届出のみ",null,{"$f":"届出・申告書の作成!$V227&\"\"","v":"いいえ"},null,"届出のみ",{"$f":"TEXT(IFERROR(VLOOKUP($D218,LIST!$V$5:$W$100,2,FALSE), 0), \"@\")","v":"0"}]
[null,"届出のみ理由",null,{"$f":"届出・申告書の作成!$V228&\"\"","v":"－"},null,"届出のみ理由",{"$f":"TEXT(IF($G218=0,\"\",IFERROR(VLOOKUP($D219,LIST!$X$5:$Y$100,2,FALSE),0)), \"@\")","v":"0"}]
[]
["製造等（使用）しようとする第一種指定物質の情報（6）","製造等または使用の別",null,{"$f":"届出・申告書の作成!$V240&\"\"","v":""}]
[null,"製造等（使用）しようとする第一種指定物質","CAS番号",{"$f":"届出・申告書の作成!V241&\"\"","v":""},null,"CAS番号",{"$f":"IF($D222=STRING_NOCAS, $D225, $D222)","v":""}]
[null,null,"条約表剤番号",{"$f":"届出・申告書の作成!V242&\"\"","v":""},null,"政令番号",{"$f":"IF($D222=STRING_NOCAS, TEXT(IFERROR(VLOOKUP($D223,LIST!$AV$5:$AZ$100,4,FALSE)&\"\", \"\"), \"@\"), TEXT(IFERROR(VLOOKUP($D222,LIST!$BB$6:$BG$500,3,FALSE)&\"\", \"\"), \"@\"))","v":""}]
[null,null,"物質名称（日本語名）",{"$f":"届出・申告書の作成!V243&\"\"","v":""},null,"物質ID",{"$f":"IF($D222=STRING_NOCAS, 0, IFERROR(VLOOKUP($D222,LIST!$BB$6:$BG$500,2,FALSE), 0))","v":0}]
[null,null,"CASなし CAS番号",{"$f":"届出・申告書の作成!V244&\"\"","v":""},null,"表区分ID",{"$f":"IF($D222=STRING_NOCAS, TEXT(IFERROR(VLOOKUP($D223,LIST!$AV$5:$AZ$100,2,FALSE)&\"\", \"\"), \"@\"), TEXT(IFERROR(VLOOKUP($D222,LIST!$BB$6:$BG$500,4,FALSE)&\"\", \"\"), \"@\"))","v":""}]
[null,null,"CASなし 物質名称",{"$f":"届出・申告書の作成!V245&\"\"","v":""},null,"物質名称",{"$f":" IF($D222 = STRING_NOCAS, $D226, $D224)","v":""},"物質名称(英)(CASなし)",{"$f":"IF($D222=STRING_NOCAS, TEXT(IFERROR(VLOOKUP($D225,$B$1180:$C$1239,2,FALSE)&\"\", \"\"), \"@\"), \"\")","v":""}]
[null,null,"区分",{"$f":"届出・申告書の作成!V246&\"\"","v":""},null,"区分（コード）",{"$f":"IFERROR(VLOOKUP($D227,LIST!$Q$5:$R$100,2,FALSE), \"\")","v":""}]
[null,"事業所内の当該第一種指定物質の製造等（使用）施設の数",null,{"$f":"届出・申告書の作成!$V249","v":1},null,"施設数(文字列)",{"$f":"TEXT(D228, \"@\")","v":"1"}]
[null,"事業所内の当該第一種指定物質の製造等（使用）施設の位置",null,{"$f":"届出・申告書の作成!$V250&\"\"","v":"別添資料のとおり"},null,"施設の位置（コード）",{"$f":"TEXT(IFERROR(VLOOKUP($D229,LIST!$T$5:$U$100,2,FALSE), 0), \"@\")","v":"1"},"文字列（DB)","文字列（帳票）"]
[null,"合計数量",null,{"$f":"ROUND(G232+G235+G238+G241+G244,1)","v":0},null,"合計数量",{"$f":"IF(D230 > 999999.9, 999999.9, D230)","v":0},{"$f":"IF(RIGHT(TEXT(G230, \"0.#\"),1)=\".\",TEXT(G230, \"#0\"), TEXT(G230, \"#0.#\"))","v":"0"},{"$f":"IF(RIGHT(TEXT(G230, \"0.#\"),1)=\".\",TEXT(G230, \"#,##0\"), TEXT(G230, \"#,##0.#\"))","v":"0"}]
[null,"施設（１）","施設名称",{"$f":"届出・申告書の作成!$V251&\"\"","v":""},null,"施設名称",{"$f":"$D231","v":""}]
[null,null,"数量\n(kg)",{"$f":"ROUND(届出・申告書の作成!$V252,1)","v":0},null,"数量\n(kg)",0,{"$f":"IF(RIGHT(TEXT(G232,\"0.#\"),1)=\".\",TEXT(G232,\"#0\"),TEXT(G232,\"#0.#\"))","v":"0"},{"$f":"IF(RIGHT(TEXT(G232,\"0.#\"),1)=\".\",TEXT(G232,\"#,##0\"),TEXT(G232,\"#,##0.#\"))","v":"0"}]
[null,null,"能力\n(kg／年）",{"$f":"IF(OR($G227= \"1\", $G227= \"\"), 届出・申告書の作成!$V253,IF(OR($G227= \"2\", $G227= \"3\"), IF(届出・申告書の作成!$V253 = \"\", \"\", 届出・申告書の作成!$V253), \"\"))","v":0},null,"能力\n(kg／年）",{"$f":"IF($D233=\"\",0,$D233)","v":0},{"$f":"IF(RIGHT(TEXT(D233,\"0.#\"),1)=\".\",TEXT(D233,\"#0\"),TEXT(D233,\"#0.#\"))","v":"0"},{"$f":"IF(RIGHT(TEXT(D233,\"0.#\"),1)=\".\",TEXT(D233,\"#,##0\"),TEXT(D233,\"#,##0.#\"))","v":"0"}]
[null,"施設（２）","施設名称",{"$f":"届出・申告書の作成!$V254&\"\"","v":""},null,"施設名称",{"$f":"IF($D228>1,$D234,\"\")","v":""}]
[null,null,"数量\n(kg)",{"$f":"ROUND(届出・申告書の作成!$V255,1)","v":0},null,"数量\n(kg)",{"$f":"IF($D228>1,$D235,0)","v":0},{"$f":"IF($D228>1,IF(RIGHT(TEXT(G235,\"0.#\"),1)=\".\",TEXT(G235,\"#0\"),TEXT(G235,\"#0.#\")),\"\")","v":""},{"$f":"IF($D228>1,IF(RIGHT(TEXT(G235,\"0.#\"),1)=\".\",TEXT(G235,\"#,##0\"),TEXT(G235,\"#,##0.#\")),\"\")","v":""}]
[null,null,"能力\n(kg／年）",{"$f":"IF(OR($G227= \"1\", $G227= \"\"), 届出・申告書の作成!$V256,IF(OR($G227= \"2\", $G227= \"3\"), IF(届出・申告書の作成!$V256 = \"\", \"\", 届出・申告書の作成!$V256), \"\"))","v":0},null,"能力\n(kg／年）",{"$f":"IF($D228>1,IF($D236=\"\",0,$D236),0)","v":0},{"$f":"IF($D228>1,IF(RIGHT(TEXT(D236,\"0.#\"),1)=\".\",TEXT(D236,\"#0\"),TEXT(D236,\"#0.#\")),\"\")","v":""},{"$f":"IF($D228>1,IF(RIGHT(TEXT(D236,\"0.#\"),1)=\".\",TEXT(D236,\"#,##0\"),TEXT(D236,\"#,##0.#\")),\"\")","v":""}]
[null,"施設（３）","施設名称",{"$f":"届出・申告書の作成!$V257&\"\"","v":""},null,"施設名称",{"$f":"IF($D228>2,$D237,\"\")","v":""}]
[null,null,"数量\n(kg)",{"$f":"ROUND(届出・申告書の作成!$V258,1)","v":0},null,"数量\n(kg)",{"$f":"IF($D228>2,$D238,0)","v":0},{"$f":"IF($D228>2,IF(RIGHT(TEXT(G238,\"0.#\"),1)=\".\",TEXT(G238,\"#0\"),TEXT(G238,\"#0.#\")),\"\")","v":""},{"$f":"IF($D228>2,IF(RIGHT(TEXT(G238,\"0.#\"),1)=\".\",TEXT(G238,\"#,##0\"),TEXT(G238,\"#,##0.#\")),\"\")","v":""}]
[null,null,"能力\n(kg／年）",{"$f":"IF(OR($G227= \"1\", $G227= \"\"), 届出・申告書の作成!$V259,IF(OR($G227= \"2\", $G227= \"3\"), IF(届出・申告書の作成!$V259 = \"\", \"\", 届出・申告書の作成!$V259), \"\"))","v":0},null,"能力\n(kg／年）",{"$f":"IF($D228>2,IF($D239=\"\",0,$D239),0)","v":0},{"$f":"IF($D228>2,IF(RIGHT(TEXT(D239,\"0.#\"),1)=\".\",TEXT(D239,\"#0\"),TEXT(D239,\"#0.#\")),\"\")","v":""},{"$f":"IF($D228>2,IF(RIGHT(TEXT(D239,\"0.#\"),1)=\".\",TEXT(D239,\"#,##0\"),TEXT(D239,\"#,##0.#\")),\"\")","v":""}]
[null,"施設（４）","施設名称",{"$f":"届出・申告書の作成!$V260&\"\"","v":""},null,"施設名称",{"$f":"IF($D228>3,$D240,\"\")","v":""}]
[null,null,"数量\n(kg)",{"$f":"ROUND(届出・申告書の作成!$V261,1)","v":0},null,"数量\n(kg)",{"$f":"IF($D228>3,$D241,0)","v":0},{"$f":"IF($D228>3,IF(RIGHT(TEXT(G241,\"0.#\"),1)=\".\",TEXT(G241,\"#0\"),TEXT(G241,\"#0.#\")),\"\")","v":""},{"$f":"IF($D228>3,IF(RIGHT(TEXT(G241,\"0.#\"),1)=\".\",TEXT(G241,\"#,##0\"),TEXT(G241,\"#,##0.#\")),\"\")","v":""}]
[null,null,"能力\n(kg／年）",{"$f":"IF(OR($G227= \"1\", $G227= \"\"), 届出・申告書の作成!$V262,IF(OR($G227= \"2\", $G227= \"3\"), IF(届出・申告書の作成!$V262 = \"\", \"\", 届出・申告書の作成!$V262), \"\"))","v":0},null,"能力\n(kg／年）",{"$f":"IF($D228>3,IF($D242=\"\",0,$D242),0)","v":0},{"$f":"IF($D228>3,IF(RIGHT(TEXT(D242,\"0.#\"),1)=\".\",TEXT(D242,\"#0\"),TEXT(D242,\"#0.#\")),\"\")","v":""},{"$f":"IF($D228>3,IF(RIGHT(TEXT(D242,\"0.#\"),1)=\".\",TEXT(D242,\"#,##0\"),TEXT(D242,\"#,##0.#\")),\"\")","v":""}]
[null,"施設（5）","施設名称",{"$f":"届出・申告書の作成!$V263&\"\"","v":""},null,"施設名称",{"$f":"IF($D228>4,$D243,\"\")","v":""}]
[null,null,"数量\n(kg)",{"$f":"ROUND(届出・申告書の作成!$V264,1)","v":0},null,"数量\n(kg)",{"$f":"IF($D228>4,$D244,0)","v":0},{"$f":"IF($D228>4,IF(RIGHT(TEXT(G244,\"0.#\"),1)=\".\",TEXT(G244,\"#0\"),TEXT(G244,\"#0.#\")),\"\")","v":""},{"$f":"IF($D228>4,IF(RIGHT(TEXT(G244,\"0.#\"),1)=\".\",TEXT(G244,\"#,##0\"),TEXT(G244,\"#,##0.#\")),\"\")","v":""}]
[null,null,"能力\n(kg／年）",{"$f":"IF(OR($G227= \"1\", $G227= \"\"), 届出・申告書の作成!$V265,IF(OR($G227= \"2\", $G227= \"3\"), IF(届出・申告書の作成!$V265 = \"\", \"\", 届出・申告書の作成!$V265), \"\"))","v":0},null,"能力\n(kg／年）",{"$f":"IF($D228>4,IF($D245=\"\",0,$D245),0)","v":0},{"$f":"IF($D228>4,IF(RIGHT(TEXT(D245,\"0.#\"),1)=\".\",TEXT(D245,\"#0\"),TEXT(D245,\"#0.#\")),\"\")","v":""},{"$f":"IF($D228>4,IF(RIGHT(TEXT(D245,\"0.#\"),1)=\".\",TEXT(D245,\"#,##0\"),TEXT(D245,\"#,##0.#\")),\"\")","v":""}]
[null,"届出のみ",null,{"$f":"届出・申告書の作成!$V266&\"\"","v":"いいえ"},null,"届出のみ",{"$f":"TEXT(IFERROR(VLOOKUP($D246,LIST!$V$5:$W$100,2,FALSE), 0), \"@\")","v":"0"}]
[null,"届出のみ理由",null,{"$f":"届出・申告書の作成!$V267&\"\"","v":"－"},null,"届出のみ理由",{"$f":"TEXT(IF($G246=0,\"\",IFERROR(VLOOKUP($D247,LIST!$X$5:$Y$100,2,FALSE),0)), \"@\")","v":"0"}]
[]
["製造等（使用）しようとする第一種指定物質の情報（７）","製造等または使用の別",null,{"$f":"届出・申告書の作成!$V279&\"\"","v":""}]
[null,"製造等（使用）しようとする第一種指定物質","CAS番号",{"$f":"届出・申告書の作成!V280&\"\"","v":""},null,"CAS番号",{"$f":"IF($D250=STRING_NOCAS, $D253, $D250)","v":""}]
[null,null,"条約表剤番号",{"$f":"届出・申告書の作成!V281&\"\"","v":""},null,"政令番号",{"$f":"IF($D250=STRING_NOCAS, TEXT(IFERROR(VLOOKUP($D251,LIST!$AV$5:$AZ$100,4,FALSE)&\"\", \"\"), \"@\"), TEXT(IFERROR(VLOOKUP($D250,LIST!$BB$6:$BG$500,3,FALSE)&\"\", \"\"), \"@\"))","v":""}]
[null,null,"物質名称（日本語名）",{"$f":"届出・申告書の作成!V282&\"\"","v":""},null,"物質ID",{"$f":"IF($D250=STRING_NOCAS, 0, IFERROR(VLOOKUP($D250,LIST!$BB$6:$BG$500,2,FALSE), 0))","v":0}]
[null,null,"CASなし CAS番号",{"$f":"届出・申告書の作成!V283&\"\"","v":""},null,"表区分ID",{"$f":"IF($D250=STRING_NOCAS, TEXT(IFERROR(VLOOKUP($D251,LIST!$AV$5:$AZ$100,2,FALSE)&\"\", \"\"), \"@\"), TEXT(IFERROR(VLOOKUP($D250,LIST!$BB$6:$BG$500,4,FALSE)&\"\", \"\"), \"@\"))","v":""}]
[null,null,"CASなし 物質名称",{"$f":"届出・申告書の作成!V284&\"\"","v":""},null,"物質名称",{"$f":" IF($D250 = STRING_NOCAS, $D254, $D252)","v":""},"物質名称(英)(CASなし)",{"$f":"IF($D250=STRING_NOCAS, TEXT(IFERROR(VLOOKUP($D253,$B$1180:$C$1239,2,FALSE)&\"\", \"\"), \"@\"), \"\")","v":""}]
[null,null,"区分",{"$f":"届出・申告書の作成!V285&\"\"","v":""},null,"区分（コード）",{"$f":"IFERROR(VLOOKUP($D255,LIST!$Q$5:$R$100,2,FALSE), \"\")","v":""}]
[null,"事業所内の当該第一種指定物質の製造等（使用）施設の数",null,{"$f":"届出・申告書の作成!$V288","v":1},null,"施設数(文字列)",{"$f":"TEXT(D256, \"@\")","v":"1"}]
[null,"事業所内の当該第一種指定物質の製造等（使用）施設の位置",null,{"$f":"届出・申告書の作成!$V289&\"\"","v":"別添資料のとおり"},null,"施設の位置（コード）",{"$f":"TEXT(IFERROR(VLOOKUP($D257,LIST!$T$5:$U$100,2,FALSE), 0), \"@\")","v":"1"},"文字列（DB)","文字列（帳票）"]
[null,"合計数量",null,{"$f":"ROUND(G260+G263+G266+G269+G272,1)","v":0},null,"合計数量",{"$f":"IF(D258 > 999999.9, 999999.9, D258)","v":0},{"$f":"IF(RIGHT(TEXT(G258, \"0.#\"),1)=\".\",TEXT(G258, \"#0\"), TEXT(G258, \"#0.#\"))","v":"0"},{"$f":"IF(RIGHT(TEXT(G258, \"0.#\"),1)=\".\",TEXT(G258, \"#,##0\"), TEXT(G258, \"#,##0.#\"))","v":"0"}]
[null,"施設（１）","施設名称",{"$f":"届出・申告書の作成!$V290&\"\"","v":""},null,"施設名称",{"$f":"$D259","v":""}]
[null,null,"数量\n(kg)",{"$f":"ROUND(届出・申告書の作成!$V291,1)","v":0},null,"数量\n(kg)",0,{"$f":"IF(RIGHT(TEXT(G260,\"0.#\"),1)=\".\",TEXT(G260,\"#0\"),TEXT(G260,\"#0.#\"))","v":"0"},{"$f":"IF(RIGHT(TEXT(G260,\"0.#\"),1)=\".\",TEXT(G260,\"#,##0\"),TEXT(G260,\"#,##0.#\"))","v":"0"}]
[null,null,"能力\n(kg／年）",{"$f":"IF(OR($G255= \"1\", $G255= \"\"), 届出・申告書の作成!$V292,IF(OR($G255= \"2\", $G255= \"3\"), IF(届出・申告書の作成!$V292 = \"\", \"\", 届出・申告書の作成!$V292), \"\"))","v":0},null,"能力\n(kg／年）",{"$f":"IF($D261=\"\",0,$D261)","v":0},{"$f":"IF(RIGHT(TEXT(D261,\"0.#\"),1)=\".\",TEXT(D261,\"#0\"),TEXT(D261,\"#0.#\"))","v":"0"},{"$f":"IF(RIGHT(TEXT(D261,\"0.#\"),1)=\".\",TEXT(D261,\"#,##0\"),TEXT(D261,\"#,##0.#\"))","v":"0"}]
[null,"施設（２）","施設名称",{"$f":"届出・申告書の作成!$V293&\"\"","v":""},null,"施設名称",{"$f":"IF($D256>1,$D262,\"\")","v":""}]
[null,null,"数量\n(kg)",{"$f":"ROUND(届出・申告書の作成!$V294,1)","v":0},null,"数量\n(kg)",{"$f":"IF($D256>1,$D263,0)","v":0},{"$f":"IF($D256>1,IF(RIGHT(TEXT(G263,\"0.#\"),1)=\".\",TEXT(G263,\"#0\"),TEXT(G263,\"#0.#\")),\"\")","v":""},{"$f":"IF($D256>1,IF(RIGHT(TEXT(G263,\"0.#\"),1)=\".\",TEXT(G263,\"#,##0\"),TEXT(G263,\"#,##0.#\")),\"\")","v":""}]
[null,null,"能力\n(kg／年）",{"$f":"IF(OR($G255= \"1\", $G255= \"\"), 届出・申告書の作成!$V295,IF(OR($G255= \"2\", $G255= \"3\"), IF(届出・申告書の作成!$V295 = \"\", \"\", 届出・申告書の作成!$V295), \"\"))","v":0},null,"能力\n(kg／年）",{"$f":"IF($D256>1,IF($D264=\"\",0,$D264),0)","v":0},{"$f":"IF($D256>1,IF(RIGHT(TEXT(D264,\"0.#\"),1)=\".\",TEXT(D264,\"#0\"),TEXT(D264,\"#0.#\")),\"\")","v":""},{"$f":"IF($D256>1,IF(RIGHT(TEXT(D264,\"0.#\"),1)=\".\",TEXT(D264,\"#,##0\"),TEXT(D264,\"#,##0.#\")),\"\")","v":""}]
[null,"施設（３）","施設名称",{"$f":"届出・申告書の作成!$V296&\"\"","v":""},null,"施設名称",{"$f":"IF($D256>2,$D265,\"\")","v":""}]
[null,null,"数量\n(kg)",{"$f":"ROUND(届出・申告書の作成!$V297,1)","v":0},null,"数量\n(kg)",{"$f":"IF($D256>2,$D266,0)","v":0},{"$f":"IF($D256>2,IF(RIGHT(TEXT(G266,\"0.#\"),1)=\".\",TEXT(G266,\"#0\"),TEXT(G266,\"#0.#\")),\"\")","v":""},{"$f":"IF($D256>2,IF(RIGHT(TEXT(G266,\"0.#\"),1)=\".\",TEXT(G266,\"#,##0\"),TEXT(G266,\"#,##0.#\")),\"\")","v":""}]
[null,null,"能力\n(kg／年）",{"$f":"IF(OR($G255= \"1\", $G255= \"\"), 届出・申告書の作成!$V298,IF(OR($G255= \"2\", $G255= \"3\"), IF(届出・申告書の作成!$V298 = \"\", \"\", 届出・申告書の作成!$V298), \"\"))","v":0},null,"能力\n(kg／年）",{"$f":"IF($D256>2,IF($D267=\"\",0,$D267),0)","v":0},{"$f":"IF($D256>2,IF(RIGHT(TEXT(D267,\"0.#\"),1)=\".\",TEXT(D267,\"#0\"),TEXT(D267,\"#0.#\")),\"\")","v":""},{"$f":"IF($D256>2,IF(RIGHT(TEXT(D267,\"0.#\"),1)=\".\",TEXT(D267,\"#,##0\"),TEXT(D267,\"#,##0.#\")),\"\")","v":""}]
[null,"施設（４）","施設名称",{"$f":"届出・申告書の作成!$V299&\"\"","v":""},null,"施設名称",{"$f":"IF($D256>3,$D268,\"\")","v":""}]
[null,null,"数量\n(kg)",{"$f":"ROUND(届出・申告書の作成!$V300,1)","v":0},null,"数量\n(kg)",{"$f":"IF($D256>3,$D269,0)","v":0},{"$f":"IF($D256>3,IF(RIGHT(TEXT(G269,\"0.#\"),1)=\".\",TEXT(G269,\"#0\"),TEXT(G269,\"#0.#\")),\"\")","v":""},{"$f":"IF($D256>3,IF(RIGHT(TEXT(G269,\"0.#\"),1)=\".\",TEXT(G269,\"#,##0\"),TEXT(G269,\"#,##0.#\")),\"\")","v":""}]
[null,null,"能力\n(kg／年）",{"$f":"IF(OR($G255= \"1\", $G255= \"\"), 届出・申告書の作成!$V301,IF(OR($G255= \"2\", $G255= \"3\"), IF(届出・申告書の作成!$V301 = \"\", \"\", 届出・申告書の作成!$V301), \"\"))","v":0},null,"能力\n(kg／年）",{"$f":"IF($D256>3,IF($D270=\"\",0,$D270),0)","v":0},{"$f":"IF($D256>3,IF(RIGHT(TEXT(D270,\"0.#\"),1)=\".\",TEXT(D270,\"#0\"),TEXT(D270,\"#0.#\")),\"\")","v":""},{"$f":"IF($D256>3,IF(RIGHT(TEXT(D270,\"0.#\"),1)=\".\",TEXT(D270,\"#,##0\"),TEXT(D270,\"#,##0.#\")),\"\")","v":""}]
[null,"施設（5）","施設名称",{"$f":"届出・申告書の作成!$V302&\"\"","v":""},null,"施設名称",{"$f":"IF($D256>4,$D271,\"\")","v":""}]
[null,null,"数量\n(kg)",{"$f":"ROUND(届出・申告書の作成!$V303,1)","v":0},null,"数量\n(kg)",{"$f":"IF($D256>4,$D272,0)","v":0},{"$f":"IF($D256>4,IF(RIGHT(TEXT(G272,\"0.#\"),1)=\".\",TEXT(G272,\"#0\"),TEXT(G272,\"#0.#\")),\"\")","v":""},{"$f":"IF($D256>4,IF(RIGHT(TEXT(G272,\"0.#\"),1)=\".\",TEXT(G272,\"#,##0\"),TEXT(G272,\"#,##0.#\")),\"\")","v":""}]
[null,null,"能力\n(kg／年）",{"$f":"IF(OR($G255= \"1\", $G255= \"\"), 届出・申告書の作成!$V304,IF(OR($G255= \"2\", $G255= \"3\"), IF(届出・申告書の作成!$V304 = \"\", \"\", 届出・申告書の作成!$V304), \"\"))","v":0},null,"能力\n(kg／年）",{"$f":"IF($D256>4,IF($D273=\"\",0,$D273),0)","v":0},{"$f":"IF($D256>4,IF(RIGHT(TEXT(D273,\"0.#\"),1)=\".\",TEXT(D273,\"#0\"),TEXT(D273,\"#0.#\")),\"\")","v":""},{"$f":"IF($D256>4,IF(RIGHT(TEXT(D273,\"0.#\"),1)=\".\",TEXT(D273,\"#,##0\"),TEXT(D273,\"#,##0.#\")),\"\")","v":""}]
[null,"届出のみ",null,{"$f":"届出・申告書の作成!$V305&\"\"","v":"いいえ"},null,"届出のみ",{"$f":"TEXT(IFERROR(VLOOKUP($D274,LIST!$V$5:$W$100,2,FALSE), 0), \"@\")","v":"0"}]
[null,"届出のみ理由",null,{"$f":"届出・申告書の作成!$V306&\"\"","v":"－"},null,"届出のみ理由",{"$f":"TEXT(IF($G274=0,\"\",IFERROR(VLOOKUP($D275,LIST!$X$5:$Y$100,2,FALSE),0)), \"@\")","v":"0"}]
[]
["製造等（使用）しようとする第一種指定物質の情報（８）","製造等または使用の別",null,{"$f":"届出・申告書の作成!$V318&\"\"","v":""}]
[null,"製造等（使用）しようとする第一種指定物質","CAS番号",{"$f":"届出・申告書の作成!V319&\"\"","v":""},null,"CAS番号",{"$f":"IF($D278=STRING_NOCAS, $D281, $D278)","v":""}]
[null,null,"条約表剤番号",{"$f":"届出・申告書の作成!V320&\"\"","v":""},null,"政令番号",{"$f":"IF($D278=STRING_NOCAS, TEXT(IFERROR(VLOOKUP($D279,LIST!$AV$5:$AZ$100,4,FALSE)&\"\", \"\"), \"@\"), TEXT(IFERROR(VLOOKUP($D278,LIST!$BB$6:$BG$500,3,FALSE)&\"\", \"\"), \"@\"))","v":""}]
[null,null,"物質名称（日本語名）",{"$f":"届出・申告書の作成!V321&\"\"","v":""},null,"物質ID",{"$f":"IF($D278=STRING_NOCAS, 0, IFERROR(VLOOKUP($D278,LIST!$BB$6:$BG$500,2,FALSE), 0))","v":0}]
[null,null,"CASなし CAS番号",{"$f":"届出・申告書の作成!V322&\"\"","v":""},null,"表区分ID",{"$f":"IF($D278=STRING_NOCAS, TEXT(IFERROR(VLOOKUP($D279,LIST!$AV$5:$AZ$100,2,FALSE)&\"\", \"\"), \"@\"), TEXT(IFERROR(VLOOKUP($D278,LIST!$BB$6:$BG$500,4,FALSE)&\"\", \"\"), \"@\"))","v":""}]
[null,null,"CASなし 物質名称",{"$f":"届出・申告書の作成!V323&\"\"","v":""},null,"物質名称",{"$f":" IF($D278 = STRING_NOCAS, $D282, $D280)","v":""},"物質名称(英)(CASなし)",{"$f":"IF($D278=STRING_NOCAS, TEXT(IFERROR(VLOOKUP($D281,$B$1180:$C$1239,2,FALSE)&\"\", \"\"), \"@\"), \"\")","v":""}]
[null,null,"区分",{"$f":"届出・申告書の作成!V324&\"\"","v":""},null,"区分（コード）",{"$f":"IFERROR(VLOOKUP($D283,LIST!$Q$5:$R$100,2,FALSE), \"\")","v":""}]
[null,"事業所内の当該第一種指定物質の製造等（使用）施設の数",null,{"$f":"届出・申告書の作成!$V327","v":1},null,"施設数(文字列)",{"$f":"TEXT(D284, \"@\")","v":"1"}]
[null,"事業所内の当該第一種指定物質の製造等（使用）施設の位置",null,{"$f":"届出・申告書の作成!$V328&\"\"","v":"別添資料のとおり"},null,"施設の位置（コード）",{"$f":"TEXT(IFERROR(VLOOKUP($D285,LIST!$T$5:$U$100,2,FALSE), 0), \"@\")","v":"1"},"文字列（DB)","文字列（帳票）"]
[null,"合計数量",null,{"$f":"ROUND(G288+G291+G294+G297+G300,1)","v":0},null,"合計数量",{"$f":"IF(D286 > 999999.9, 999999.9, D286)","v":0},{"$f":"IF(RIGHT(TEXT(G286, \"0.#\"),1)=\".\",TEXT(G286, \"#0\"), TEXT(G286, \"#0.#\"))","v":"0"},{"$f":"IF(RIGHT(TEXT(G286, \"0.#\"),1)=\".\",TEXT(G286, \"#,##0\"), TEXT(G286, \"#,##0.#\"))","v":"0"}]
[null,"施設（１）","施設名称",{"$f":"届出・申告書の作成!$V329&\"\"","v":""},null,"施設名称",{"$f":"$D287","v":""}]
[null,null,"数量\n(kg)",{"$f":"ROUND(届出・申告書の作成!$V330,1)","v":0},null,"数量\n(kg)",0,{"$f":"IF(RIGHT(TEXT(G288,\"0.#\"),1)=\".\",TEXT(G288,\"#0\"),TEXT(G288,\"#0.#\"))","v":"0"},{"$f":"IF(RIGHT(TEXT(G288,\"0.#\"),1)=\".\",TEXT(G288,\"#,##0\"),TEXT(G288,\"#,##0.#\"))","v":"0"}]
[null,null,"能力\n(kg／年）",{"$f":"IF(OR($G283= \"1\", $G283= \"\"), 届出・申告書の作成!$V331,IF(OR($G283= \"2\", $G283= \"3\"), IF(届出・申告書の作成!$V331 = \"\", \"\", 届出・申告書の作成!$V331), \"\"))","v":0},null,"能力\n(kg／年）",{"$f":"IF($D289=\"\",0,$D289)","v":0},{"$f":"IF(RIGHT(TEXT(D289,\"0.#\"),1)=\".\",TEXT(D289,\"#0\"),TEXT(D289,\"#0.#\"))","v":"0"},{"$f":"IF(RIGHT(TEXT(D289,\"0.#\"),1)=\".\",TEXT(D289,\"#,##0\"),TEXT(D289,\"#,##0.#\"))","v":"0"}]
[null,"施設（２）","施設名称",{"$f":"届出・申告書の作成!$V332&\"\"","v":""},null,"施設名称",{"$f":"IF($D284>1,$D290,\"\")","v":""}]
[null,null,"数量\n(kg)",{"$f":"ROUND(届出・申告書の作成!$V333,1)","v":0},null,"数量\n(kg)",{"$f":"IF($D284>1,$D291,0)","v":0},{"$f":"IF($D284>1,IF(RIGHT(TEXT(G291,\"0.#\"),1)=\".\",TEXT(G291,\"#0\"),TEXT(G291,\"#0.#\")),\"\")","v":""},{"$f":"IF($D284>1,IF(RIGHT(TEXT(G291,\"0.#\"),1)=\".\",TEXT(G291,\"#,##0\"),TEXT(G291,\"#,##0.#\")),\"\")","v":""}]
[null,null,"能力\n(kg／年）",{"$f":"IF(OR($G283= \"1\", $G283= \"\"), 届出・申告書の作成!$V334,IF(OR($G283= \"2\", $G283= \"3\"), IF(届出・申告書の作成!$V334 = \"\", \"\", 届出・申告書の作成!$V334), \"\"))","v":0},null,"能力\n(kg／年）",{"$f":"IF($D284>1,IF($D292=\"\",0,$D292),0)","v":0},{"$f":"IF($D284>1,IF(RIGHT(TEXT(D292,\"0.#\"),1)=\".\",TEXT(D292,\"#0\"),TEXT(D292,\"#0.#\")),\"\")","v":""},{"$f":"IF($D284>1,IF(RIGHT(TEXT(D292,\"0.#\"),1)=\".\",TEXT(D292,\"#,##0\"),TEXT(D292,\"#,##0.#\")),\"\")","v":""}]
[null,"施設（３）","施設名称",{"$f":"届出・申告書の作成!$V335&\"\"","v":""},null,"施設名称",{"$f":"IF($D284>2,$D293,\"\")","v":""}]
[null,null,"数量\n(kg)",{"$f":"ROUND(届出・申告書の作成!$V336,1)","v":0},null,"数量\n(kg)",{"$f":"IF($D284>2,$D294,0)","v":0},{"$f":"IF($D284>2,IF(RIGHT(TEXT(G294,\"0.#\"),1)=\".\",TEXT(G294,\"#0\"),TEXT(G294,\"#0.#\")),\"\")","v":""},{"$f":"IF($D284>2,IF(RIGHT(TEXT(G294,\"0.#\"),1)=\".\",TEXT(G294,\"#,##0\"),TEXT(G294,\"#,##0.#\")),\"\")","v":""}]
[null,null,"能力\n(kg／年）",{"$f":"IF(OR($G283= \"1\", $G283= \"\"), 届出・申告書の作成!$V337,IF(OR($G283= \"2\", $G283= \"3\"), IF(届出・申告書の作成!$V337 = \"\", \"\", 届出・申告書の作成!$V337), \"\"))","v":0},null,"能力\n(kg／年）",{"$f":"IF($D284>2,IF($D295=\"\",0,$D295),0)","v":0},{"$f":"IF($D284>2,IF(RIGHT(TEXT(D295,\"0.#\"),1)=\".\",TEXT(D295,\"#0\"),TEXT(D295,\"#0.#\")),\"\")","v":""},{"$f":"IF($D284>2,IF(RIGHT(TEXT(D295,\"0.#\"),1)=\".\",TEXT(D295,\"#,##0\"),TEXT(D295,\"#,##0.#\")),\"\")","v":""}]
[null,"施設（４）","施設名称",{"$f":"届出・申告書の作成!$V338&\"\"","v":""},null,"施設名称",{"$f":"IF($D284>3,$D296,\"\")","v":""}]
[null,null,"数量\n(kg)",{"$f":"ROUND(届出・申告書の作成!$V339,1)","v":0},null,"数量\n(kg)",{"$f":"IF($D284>3,$D297,0)","v":0},{"$f":"IF($D284>3,IF(RIGHT(TEXT(G297,\"0.#\"),1)=\".\",TEXT(G297,\"#0\"),TEXT(G297,\"#0.#\")),\"\")","v":""},{"$f":"IF($D284>3,IF(RIGHT(TEXT(G297,\"0.#\"),1)=\".\",TEXT(G297,\"#,##0\"),TEXT(G297,\"#,##0.#\")),\"\")","v":""}]
[null,null,"能力\n(kg／年）",{"$f":"IF(OR($G283= \"1\", $G283= \"\"), 届出・申告書の作成!$V340,IF(OR($G283= \"2\", $G283= \"3\"), IF(届出・申告書の作成!$V340 = \"\", \"\", 届出・申告書の作成!$V340), \"\"))","v":0},null,"能力\n(kg／年）",{"$f":"IF($D284>3,IF($D298=\"\",0,$D298),0)","v":0},{"$f":"IF($D284>3,IF(RIGHT(TEXT(D298,\"0.#\"),1)=\".\",TEXT(D298,\"#0\"),TEXT(D298,\"#0.#\")),\"\")","v":""},{"$f":"IF($D284>3,IF(RIGHT(TEXT(D298,\"0.#\"),1)=\".\",TEXT(D298,\"#,##0\"),TEXT(D298,\"#,##0.#\")),\"\")","v":""}]
[null,"施設（5）","施設名称",{"$f":"届出・申告書の作成!$V341&\"\"","v":""},null,"施設名称",{"$f":"IF($D284>4,$D299,\"\")","v":""}]
[null,null,"数量\n(kg)",{"$f":"ROUND(届出・申告書の作成!$V342,1)","v":0},null,"数量\n(kg)",{"$f":"IF($D284>4,$D300,0)","v":0},{"$f":"IF($D284>4,IF(RIGHT(TEXT(G300,\"0.#\"),1)=\".\",TEXT(G300,\"#0\"),TEXT(G300,\"#0.#\")),\"\")","v":""},{"$f":"IF($D284>4,IF(RIGHT(TEXT(G300,\"0.#\"),1)=\".\",TEXT(G300,\"#,##0\"),TEXT(G300,\"#,##0.#\")),\"\")","v":""}]
[null,null,"能力\n(kg／年）",{"$f":"IF(OR($G283= \"1\", $G283= \"\"), 届出・申告書の作成!$V343,IF(OR($G283= \"2\", $G283= \"3\"), IF(届出・申告書の作成!$V343 = \"\", \"\", 届出・申告書の作成!$V343), \"\"))","v":0},null,"能力\n(kg／年）",{"$f":"IF($D284>4,IF($D301=\"\",0,$D301),0)","v":0},{"$f":"IF($D284>4,IF(RIGHT(TEXT(D301,\"0.#\"),1)=\".\",TEXT(D301,\"#0\"),TEXT(D301,\"#0.#\")),\"\")","v":""},{"$f":"IF($D284>4,IF(RIGHT(TEXT(D301,\"0.#\"),1)=\".\",TEXT(D301,\"#,##0\"),TEXT(D301,\"#,##0.#\")),\"\")","v":""}]
[null,"届出のみ",null,{"$f":"届出・申告書の作成!$V344&\"\"","v":"いいえ"},null,"届出のみ",{"$f":"TEXT(IFERROR(VLOOKUP($D302,LIST!$V$5:$W$100,2,FALSE), 0), \"@\")","v":"0"}]
[null,"届出のみ理由",null,{"$f":"届出・申告書の作成!$V345&\"\"","v":"－"},null,"届出のみ理由",{"$f":"TEXT(IF($G302=0,\"\",IFERROR(VLOOKUP($D303,LIST!$X$5:$Y$100,2,FALSE),0)), \"@\")","v":"0"}]
[]
["製造等（使用）しようとする第一種指定物質の情報（９）","製造等または使用の別",null,{"$f":"届出・申告書の作成!$V357&\"\"","v":""}]
[null,"製造等（使用）しようとする第一種指定物質","CAS番号",{"$f":"届出・申告書の作成!V358&\"\"","v":""},null,"CAS番号",{"$f":"IF($D306=STRING_NOCAS, $D309, $D306)","v":""}]
[null,null,"条約表剤番号",{"$f":"届出・申告書の作成!V359&\"\"","v":""},null,"政令番号",{"$f":"IF($D306=STRING_NOCAS, TEXT(IFERROR(VLOOKUP($D307,LIST!$AV$5:$AZ$100,4,FALSE)&\"\", \"\"), \"@\"), TEXT(IFERROR(VLOOKUP($D306,LIST!$BB$6:$BG$500,3,FALSE)&\"\", \"\"), \"@\"))","v":""}]
[null,null,"物質名称（日本語名）",{"$f":"届出・申告書の作成!V360&\"\"","v":""},null,"物質ID",{"$f":"IF($D306=STRING_NOCAS, 0, IFERROR(VLOOKUP($D306,LIST!$BB$6:$BG$500,2,FALSE), 0))","v":0}]
[null,null,"CASなし CAS番号",{"$f":"届出・申告書の作成!V361&\"\"","v":""},null,"表区分ID",{"$f":"IF($D306=STRING_NOCAS, TEXT(IFERROR(VLOOKUP($D307,LIST!$AV$5:$AZ$100,2,FALSE)&\"\", \"\"), \"@\"), TEXT(IFERROR(VLOOKUP($D306,LIST!$BB$6:$BG$500,4,FALSE)&\"\", \"\"), \"@\"))","v":""}]
[null,null,"CASなし 物質名称",{"$f":"届出・申告書の作成!V362&\"\"","v":""},null,"物質名称",{"$f":" IF($D306 = STRING_NOCAS, $D310, $D308)","v":""},"物質名称(英)(CASなし)",{"$f":"IF($D306=STRING_NOCAS, TEXT(IFERROR(VLOOKUP($D309,$B$1180:$C$1239,2,FALSE)&\"\", \"\"), \"@\"), \"\")","v":""}]
[null,null,"区分",{"$f":"届出・申告書の作成!V363&\"\"","v":""},null,"区分（コード）",{"$f":"IFERROR(VLOOKUP($D311,LIST!$Q$5:$R$100,2,FALSE), \"\")","v":""}]
[null,"事業所内の当該第一種指定物質の製造等（使用）施設の数",null,{"$f":"届出・申告書の作成!$V366","v":1},null,"施設数(文字列)",{"$f":"TEXT(D312, \"@\")","v":"1"}]
[null,"事業所内の当該第一種指定物質の製造等（使用）施設の位置",null,{"$f":"届出・申告書の作成!$V367&\"\"","v":"別添資料のとおり"},null,"施設の位置（コード）",{"$f":"TEXT(IFERROR(VLOOKUP($D313,LIST!$T$5:$U$100,2,FALSE), 0), \"@\")","v":"1"},"文字列（DB)","文字列（帳票）"]
[null,"合計数量",null,{"$f":"ROUND(G316+G319+G322+G325+G328,1)","v":0},null,"合計数量",{"$f":"IF(D314 > 999999.9, 999999.9, D314)","v":0},{"$f":"IF(RIGHT(TEXT(G314, \"0.#\"),1)=\".\",TEXT(G314, \"#0\"), TEXT(G314, \"#0.#\"))","v":"0"},{"$f":"IF(RIGHT(TEXT(G314, \"0.#\"),1)=\".\",TEXT(G314, \"#,##0\"), TEXT(G314, \"#,##0.#\"))","v":"0"}]
[null,"施設（１）","施設名称",{"$f":"届出・申告書の作成!$V368&\"\"","v":""},null,"施設名称",{"$f":"$D315","v":""}]
[null,null,"数量\n(kg)",{"$f":"ROUND(届出・申告書の作成!$V369,1)","v":0},null,"数量\n(kg)",0,{"$f":"IF(RIGHT(TEXT(G316,\"0.#\"),1)=\".\",TEXT(G316,\"#0\"),TEXT(G316,\"#0.#\"))","v":"0"},{"$f":"IF(RIGHT(TEXT(G316,\"0.#\"),1)=\".\",TEXT(G316,\"#,##0\"),TEXT(G316,\"#,##0.#\"))","v":"0"}]
[null,null,"能力\n(kg／年）",{"$f":"IF(OR($G311= \"1\", $G311= \"\"), 届出・申告書の作成!$V370,IF(OR($G311= \"2\", $G311= \"3\"), IF(届出・申告書の作成!$V370 = \"\", \"\", 届出・申告書の作成!$V370), \"\"))","v":0},null,"能力\n(kg／年）",{"$f":"IF($D317=\"\",0,$D317)","v":0},{"$f":"IF(RIGHT(TEXT(D317,\"0.#\"),1)=\".\",TEXT(D317,\"#0\"),TEXT(D317,\"#0.#\"))","v":"0"},{"$f":"IF(RIGHT(TEXT(D317,\"0.#\"),1)=\".\",TEXT(D317,\"#,##0\"),TEXT(D317,\"#,##0.#\"))","v":"0"}]
[null,"施設（２）","施設名称",{"$f":"届出・申告書の作成!$V371&\"\"","v":""},null,"施設名称",{"$f":"IF($D312>1,$D318,\"\")","v":""}]
[null,null,"数量\n(kg)",{"$f":"ROUND(届出・申告書の作成!$V372,1)","v":0},null,"数量\n(kg)",{"$f":"IF($D312>1,$D319,0)","v":0},{"$f":"IF($D312>1,IF(RIGHT(TEXT(G319,\"0.#\"),1)=\".\",TEXT(G319,\"#0\"),TEXT(G319,\"#0.#\")),\"\")","v":""},{"$f":"IF($D312>1,IF(RIGHT(TEXT(G319,\"0.#\"),1)=\".\",TEXT(G319,\"#,##0\"),TEXT(G319,\"#,##0.#\")),\"\")","v":""}]
[null,null,"能力\n(kg／年）",{"$f":"IF(OR($G311= \"1\", $G311= \"\"), 届出・申告書の作成!$V373,IF(OR($G311= \"2\", $G311= \"3\"), IF(届出・申告書の作成!$V373 = \"\", \"\", 届出・申告書の作成!$V373), \"\"))","v":0},null,"能力\n(kg／年）",{"$f":"IF($D312>1,IF($D320=\"\",0,$D320),0)","v":0},{"$f":"IF($D312>1,IF(RIGHT(TEXT(D320,\"0.#\"),1)=\".\",TEXT(D320,\"#0\"),TEXT(D320,\"#0.#\")),\"\")","v":""},{"$f":"IF($D312>1,IF(RIGHT(TEXT(D320,\"0.#\"),1)=\".\",TEXT(D320,\"#,##0\"),TEXT(D320,\"#,##0.#\")),\"\")","v":""}]
[null,"施設（３）","施設名称",{"$f":"届出・申告書の作成!$V374&\"\"","v":""},null,"施設名称",{"$f":"IF($D312>2,$D321,\"\")","v":""}]
[null,null,"数量\n(kg)",{"$f":"ROUND(届出・申告書の作成!$V375,1)","v":0},null,"数量\n(kg)",{"$f":"IF($D312>2,$D322,0)","v":0},{"$f":"IF($D312>2,IF(RIGHT(TEXT(G322,\"0.#\"),1)=\".\",TEXT(G322,\"#0\"),TEXT(G322,\"#0.#\")),\"\")","v":""},{"$f":"IF($D312>2,IF(RIGHT(TEXT(G322,\"0.#\"),1)=\".\",TEXT(G322,\"#,##0\"),TEXT(G322,\"#,##0.#\")),\"\")","v":""}]
[null,null,"能力\n(kg／年）",{"$f":"IF(OR($G311= \"1\", $G311= \"\"), 届出・申告書の作成!$V376,IF(OR($G311= \"2\", $G311= \"3\"), IF(届出・申告書の作成!$V376 = \"\", \"\", 届出・申告書の作成!$V376), \"\"))","v":0},null,"能力\n(kg／年）",{"$f":"IF($D312>2,IF($D323=\"\",0,$D323),0)","v":0},{"$f":"IF($D312>2,IF(RIGHT(TEXT(D323,\"0.#\"),1)=\".\",TEXT(D323,\"#0\"),TEXT(D323,\"#0.#\")),\"\")","v":""},{"$f":"IF($D312>2,IF(RIGHT(TEXT(D323,\"0.#\"),1)=\".\",TEXT(D323,\"#,##0\"),TEXT(D323,\"#,##0.#\")),\"\")","v":""}]
[null,"施設（４）","施設名称",{"$f":"届出・申告書の作成!$V377&\"\"","v":""},null,"施設名称",{"$f":"IF($D312>3,$D324,\"\")","v":""}]
[null,null,"数量\n(kg)",{"$f":"ROUND(届出・申告書の作成!$V378,1)","v":0},null,"数量\n(kg)",{"$f":"IF($D312>3,$D325,0)","v":0},{"$f":"IF($D312>3,IF(RIGHT(TEXT(G325,\"0.#\"),1)=\".\",TEXT(G325,\"#0\"),TEXT(G325,\"#0.#\")),\"\")","v":""},{"$f":"IF($D312>3,IF(RIGHT(TEXT(G325,\"0.#\"),1)=\".\",TEXT(G325,\"#,##0\"),TEXT(G325,\"#,##0.#\")),\"\")","v":""}]
[null,null,"能力\n(kg／年）",{"$f":"IF(OR($G311= \"1\", $G311= \"\"), 届出・申告書の作成!$V379,IF(OR($G311= \"2\", $G311= \"3\"), IF(届出・申告書の作成!$V379 = \"\", \"\", 届出・申告書の作成!$V379), \"\"))","v":0},null,"能力\n(kg／年）",{"$f":"IF($D312>3,IF($D326=\"\",0,$D326),0)","v":0},{"$f":"IF($D312>3,IF(RIGHT(TEXT(D326,\"0.#\"),1)=\".\",TEXT(D326,\"#0\"),TEXT(D326,\"#0.#\")),\"\")","v":""},{"$f":"IF($D312>3,IF(RIGHT(TEXT(D326,\"0.#\"),1)=\".\",TEXT(D326,\"#,##0\"),TEXT(D326,\"#,##0.#\")),\"\")","v":""}]
[null,"施設（5）","施設名称",{"$f":"届出・申告書の作成!$V380&\"\"","v":""},null,"施設名称",{"$f":"IF($D312>4,$D327,\"\")","v":""}]
[null,null,"数量\n(kg)",{"$f":"ROUND(届出・申告書の作成!$V381,1)","v":0},null,"数量\n(kg)",{"$f":"IF($D312>4,$D328,0)","v":0},{"$f":"IF($D312>4,IF(RIGHT(TEXT(G328,\"0.#\"),1)=\".\",TEXT(G328,\"#0\"),TEXT(G328,\"#0.#\")),\"\")","v":""},{"$f":"IF($D312>4,IF(RIGHT(TEXT(G328,\"0.#\"),1)=\".\",TEXT(G328,\"#,##0\"),TEXT(G328,\"#,##0.#\")),\"\")","v":""}]
[null,null,"能力\n(kg／年）",{"$f":"IF(OR($G311= \"1\", $G311= \"\"), 届出・申告書の作成!$V382,IF(OR($G311= \"2\", $G311= \"3\"), IF(届出・申告書の作成!$V382 = \"\", \"\", 届出・申告書の作成!$V382), \"\"))","v":0},null,"能力\n(kg／年）",{"$f":"IF($D312>4,IF($D329=\"\",0,$D329),0)","v":0},{"$f":"IF($D312>4,IF(RIGHT(TEXT(D329,\"0.#\"),1)=\".\",TEXT(D329,\"#0\"),TEXT(D329,\"#0.#\")),\"\")","v":""},{"$f":"IF($D312>4,IF(RIGHT(TEXT(D329,\"0.#\"),1)=\".\",TEXT(D329,\"#,##0\"),TEXT(D329,\"#,##0.#\")),\"\")","v":""}]
[null,"届出のみ",null,{"$f":"届出・申告書の作成!$V383&\"\"","v":"いいえ"},null,"届出のみ",{"$f":"TEXT(IFERROR(VLOOKUP($D330,LIST!$V$5:$W$100,2,FALSE), 0), \"@\")","v":"0"}]
[null,"届出のみ理由",null,{"$f":"届出・申告書の作成!$V384&\"\"","v":"－"},null,"届出のみ理由",{"$f":"TEXT(IF($G330=0,\"\",IFERROR(VLOOKUP($D331,LIST!$X$5:$Y$100,2,FALSE),0)), \"@\")","v":"0"}]
[]
["製造等（使用）しようとする第一種指定物質の情報（１０）","製造等または使用の別",null,{"$f":"届出・申告書の作成!$V396&\"\"","v":""}]
[null,"製造等（使用）しようとする第一種指定物質","CAS番号",{"$f":"届出・申告書の作成!V397&\"\"","v":""},null,"CAS番号",{"$f":"IF($D334=STRING_NOCAS, $D337, $D334)","v":""}]
[null,null,"条約表剤番号",{"$f":"届出・申告書の作成!V398&\"\"","v":""},null,"政令番号",{"$f":"IF($D334=STRING_NOCAS, TEXT(IFERROR(VLOOKUP($D335,LIST!$AV$5:$AZ$100,4,FALSE)&\"\", \"\"), \"@\"), TEXT(IFERROR(VLOOKUP($D334,LIST!$BB$6:$BG$500,3,FALSE)&\"\", \"\"), \"@\"))","v":""}]
[null,null,"物質名称（日本語名）",{"$f":"届出・申告書の作成!V399&\"\"","v":""},null,"物質ID",{"$f":"IF($D334=STRING_NOCAS, 0, IFERROR(VLOOKUP($D334,LIST!$BB$6:$BG$500,2,FALSE), 0))","v":0}]
[null,null,"CASなし CAS番号",{"$f":"届出・申告書の作成!V400&\"\"","v":""},null,"表区分ID",{"$f":"IF($D334=STRING_NOCAS, TEXT(IFERROR(VLOOKUP($D335,LIST!$AV$5:$AZ$100,2,FALSE)&\"\", \"\"), \"@\"), TEXT(IFERROR(VLOOKUP($D334,LIST!$BB$6:$BG$500,4,FALSE)&\"\", \"\"), \"@\"))","v":""}]
[null,null,"CASなし 物質名称",{"$f":"届出・申告書の作成!V401&\"\"","v":""},null,"物質名称",{"$f":" IF($D334 = STRING_NOCAS, $D338, $D336)","v":""},"物質名称(英)(CASなし)",{"$f":"IF($D334=STRING_NOCAS, TEXT(IFERROR(VLOOKUP($D337,$B$1180:$C$1239,2,FALSE)&\"\", \"\"), \"@\"), \"\")","v":""}]
[null,null,"区分",{"$f":"届出・申告書の作成!V402&\"\"","v":""},null,"区分（コード）",{"$f":"IFERROR(VLOOKUP($D339,LIST!$Q$5:$R$100,2,FALSE), \"\")","v":""}]
[null,"事業所内の当該第一種指定物質の製造等（使用）施設の数",null,{"$f":"届出・申告書の作成!$V405","v":1},null,"施設数(文字列)",{"$f":"TEXT(D340, \"@\")","v":"1"}]
[null,"事業所内の当該第一種指定物質の製造等（使用）施設の位置",null,{"$f":"届出・申告書の作成!$V406&\"\"","v":"別添資料のとおり"},null,"施設の位置（コード）",{"$f":"TEXT(IFERROR(VLOOKUP($D341,LIST!$T$5:$U$100,2,FALSE), 0), \"@\")","v":"1"},"文字列（DB)","文字列（帳票）"]
[null,"合計数量",null,{"$f":"ROUND(G344+G347+G350+G353+G356,1)","v":0},null,"合計数量",{"$f":"IF(D342 > 999999.9, 999999.9, D342)","v":0},{"$f":"IF(RIGHT(TEXT(G342, \"0.#\"),1)=\".\",TEXT(G342, \"#0\"), TEXT(G342, \"#0.#\"))","v":"0"},{"$f":"IF(RIGHT(TEXT(G342, \"0.#\"),1)=\".\",TEXT(G342, \"#,##0\"), TEXT(G342, \"#,##0.#\"))","v":"0"}]
[null,"施設（１）","施設名称",{"$f":"届出・申告書の作成!$V407&\"\"","v":""},null,"施設名称",{"$f":"$D343","v":""}]
[null,null,"数量\n(kg)",{"$f":"ROUND(届出・申告書の作成!$V408,1)","v":0},null,"数量\n(kg)",0,{"$f":"IF(RIGHT(TEXT(G344,\"0.#\"),1)=\".\",TEXT(G344,\"#0\"),TEXT(G344,\"#0.#\"))","v":"0"},{"$f":"IF(RIGHT(TEXT(G344,\"0.#\"),1)=\".\",TEXT(G344,\"#,##0\"),TEXT(G344,\"#,##0.#\"))","v":"0"}]
[null,null,"能力\n(kg／年）",{"$f":"IF(OR($G339= \"1\", $G339= \"\"), 届出・申告書の作成!$V409,IF(OR($G339= \"2\", $G339= \"3\"), IF(届出・申告書の作成!$V409 = \"\", \"\", 届出・申告書の作成!$V409), \"\"))","v":0},null,"能力\n(kg／年）",{"$f":"IF($D345=\"\",0,$D345)","v":0},{"$f":"IF(RIGHT(TEXT(D345,\"0.#\"),1)=\".\",TEXT(D345,\"#0\"),TEXT(D345,\"#0.#\"))","v":"0"},{"$f":"IF(RIGHT(TEXT(D345,\"0.#\"),1)=\".\",TEXT(D345,\"#,##0\"),TEXT(D345,\"#,##0.#\"))","v":"0"}]
[null,"施設（２）","施設名称",{"$f":"届出・申告書の作成!$V410&\"\"","v":""},null,"施設名称",{"$f":"IF($D340>1,$D346,\"\")","v":""}]
[null,null,"数量\n(kg)",{"$f":"ROUND(届出・申告書の作成!$V411,1)","v":0},null,"数量\n(kg)",{"$f":"IF($D340>1,$D347,0)","v":0},{"$f":"IF($D340>1,IF(RIGHT(TEXT(G347,\"0.#\"),1)=\".\",TEXT(G347,\"#0\"),TEXT(G347,\"#0.#\")),\"\")","v":""},{"$f":"IF($D340>1,IF(RIGHT(TEXT(G347,\"0.#\"),1)=\".\",TEXT(G347,\"#,##0\"),TEXT(G347,\"#,##0.#\")),\"\")","v":""}]
[null,null,"能力\n(kg／年）",{"$f":"IF(OR($G339= \"1\", $G339= \"\"), 届出・申告書の作成!$V412,IF(OR($G339= \"2\", $G339= \"3\"), IF(届出・申告書の作成!$V412 = \"\", \"\", 届出・申告書の作成!$V412), \"\"))","v":0},null,"能力\n(kg／年）",{"$f":"IF($D340>1,IF($D348=\"\",0,$D348),0)","v":0},{"$f":"IF($D340>1,IF(RIGHT(TEXT(D348,\"0.#\"),1)=\".\",TEXT(D348,\"#0\"),TEXT(D348,\"#0.#\")),\"\")","v":""},{"$f":"IF($D340>1,IF(RIGHT(TEXT(D348,\"0.#\"),1)=\".\",TEXT(D348,\"#,##0\"),TEXT(D348,\"#,##0.#\")),\"\")","v":""}]
[null,"施設（３）","施設名称",{"$f":"届出・申告書の作成!$V413&\"\"","v":""},null,"施設名称",{"$f":"IF($D340>2,$D349,\"\")","v":""}]
[null,null,"数量\n(kg)",{"$f":"ROUND(届出・申告書の作成!$V414,1)","v":0},null,"数量\n(kg)",{"$f":"IF($D340>2,$D350,0)","v":0},{"$f":"IF($D340>2,IF(RIGHT(TEXT(G350,\"0.#\"),1)=\".\",TEXT(G350,\"#0\"),TEXT(G350,\"#0.#\")),\"\")","v":""},{"$f":"IF($D340>2,IF(RIGHT(TEXT(G350,\"0.#\"),1)=\".\",TEXT(G350,\"#,##0\"),TEXT(G350,\"#,##0.#\")),\"\")","v":""}]
[null,null,"能力\n(kg／年）",{"$f":"IF(OR($G339= \"1\", $G339= \"\"), 届出・申告書の作成!$V415,IF(OR($G339= \"2\", $G339= \"3\"), IF(届出・申告書の作成!$V415 = \"\", \"\", 届出・申告書の作成!$V415), \"\"))","v":0},null,"能力\n(kg／年）",{"$f":"IF($D340>2,IF($D351=\"\",0,$D351),0)","v":0},{"$f":"IF($D340>2,IF(RIGHT(TEXT(D351,\"0.#\"),1)=\".\",TEXT(D351,\"#0\"),TEXT(D351,\"#0.#\")),\"\")","v":""},{"$f":"IF($D340>2,IF(RIGHT(TEXT(D351,\"0.#\"),1)=\".\",TEXT(D351,\"#,##0\"),TEXT(D351,\"#,##0.#\")),\"\")","v":""}]
[null,"施設（４）","施設名称",{"$f":"届出・申告書の作成!$V416&\"\"","v":""},null,"施設名称",{"$f":"IF($D340>3,$D352,\"\")","v":""}]
[null,null,"数量\n(kg)",{"$f":"ROUND(届出・申告書の作成!$V417,1)","v":0},null,"数量\n(kg)",{"$f":"IF($D340>3,$D353,0)","v":0},{"$f":"IF($D340>3,IF(RIGHT(TEXT(G353,\"0.#\"),1)=\".\",TEXT(G353,\"#0\"),TEXT(G353,\"#0.#\")),\"\")","v":""},{"$f":"IF($D340>3,IF(RIGHT(TEXT(G353,\"0.#\"),1)=\".\",TEXT(G353,\"#,##0\"),TEXT(G353,\"#,##0.#\")),\"\")","v":""}]
[null,null,"能力\n(kg／年）",{"$f":"IF(OR($G339= \"1\", $G339= \"\"), 届出・申告書の作成!$V418,IF(OR($G339= \"2\", $G339= \"3\"), IF(届出・申告書の作成!$V418 = \"\", \"\", 届出・申告書の作成!$V418), \"\"))","v":0},null,"能力\n(kg／年）",{"$f":"IF($D340>3,IF($D354=\"\",0,$D354),0)","v":0},{"$f":"IF($D340>3,IF(RIGHT(TEXT(D354,\"0.#\"),1)=\".\",TEXT(D354,\"#0\"),TEXT(D354,\"#0.#\")),\"\")","v":""},{"$f":"IF($D340>3,IF(RIGHT(TEXT(D354,\"0.#\"),1)=\".\",TEXT(D354,\"#,##0\"),TEXT(D354,\"#,##0.#\")),\"\")","v":""}]
[null,"施設（5）","施設名称",{"$f":"届出・申告書の作成!$V419&\"\"","v":""},null,"施設名称",{"$f":"IF($D340>4,$D355,\"\")","v":""}]
[null,null,"数量\n(kg)",{"$f":"ROUND(届出・申告書の作成!$V420,1)","v":0},null,"数量\n(kg)",{"$f":"IF($D340>4,$D356,0)","v":0},{"$f":"IF($D340>4,IF(RIGHT(TEXT(G356,\"0.#\"),1)=\".\",TEXT(G356,\"#0\"),TEXT(G356,\"#0.#\")),\"\")","v":""},{"$f":"IF($D340>4,IF(RIGHT(TEXT(G356,\"0.#\"),1)=\".\",TEXT(G356,\"#,##0\"),TEXT(G356,\"#,##0.#\")),\"\")","v":""}]
[null,null,"能力\n(kg／年）",{"$f":"IF(OR($G339= \"1\", $G339= \"\"), 届出・申告書の作成!$V421,IF(OR($G339= \"2\", $G339= \"3\"), IF(届出・申告書の作成!$V421 = \"\", \"\", 届出・申告書の作成!$V421), \"\"))","v":0},null,"能力\n(kg／年）",{"$f":"IF($D340>4,IF($D357=\"\",0,$D357),0)","v":0},{"$f":"IF($D340>4,IF(RIGHT(TEXT(D357,\"0.#\"),1)=\".\",TEXT(D357,\"#0\"),TEXT(D357,\"#0.#\")),\"\")","v":""},{"$f":"IF($D340>4,IF(RIGHT(TEXT(D357,\"0.#\"),1)=\".\",TEXT(D357,\"#,##0\"),TEXT(D357,\"#,##0.#\")),\"\")","v":""}]
[null,"届出のみ",null,{"$f":"届出・申告書の作成!$V422&\"\"","v":"いいえ"},null,"届出のみ",{"$f":"TEXT(IFERROR(VLOOKUP($D358,LIST!$V$5:$W$100,2,FALSE), 0), \"@\")","v":"0"}]
[null,"届出のみ理由",null,{"$f":"届出・申告書の作成!$V423&\"\"","v":"－"},null,"届出のみ理由",{"$f":"TEXT(IF($G358=0,\"\",IFERROR(VLOOKUP($D359,LIST!$X$5:$Y$100,2,FALSE),0)), \"@\")","v":"0"}]
["Form2.2"]
["項目",null,null,"値"]
["表３剤（第二種指定物質）施設の数",null,null,{"$f":"届出・申告書の作成!$V439","v":0},null,"施設の数（文字列）",{"$f":"TEXT(D362, \"@\")","v":"0"}]
["Form2.3、Form2.3.1、Form2.3.2"]
["項目",null,null,"値"]
["プラント数",null,null,{"$f":"届出・申告書の作成!$D454","v":1}]
["施設１","施設名称",null,{"$f":"届出・申告書の作成!$V466&\"\"","v":""}]
[null,"プラントコード",null,{"$f":"届出・申告書の作成!$V467&\"\"","v":""}]
[null,"事業所内の施設の正確な場所",null,{"$f":"届出・申告書の作成!$V468&\"\"","v":""}]
[null,"施設を特定する構造物番号",null,{"$f":"届出・申告書の作成!$V469&\"\"","v":""}]
[null,"施設を特定する建物番号",null,{"$f":"届出・申告書の作成!$V470&\"\"","v":""}]
[null,"施設についての追加的情報",null,{"$f":"届出・申告書の作成!$V471&\"\"","v":""}]
[null,"製造能力１","CAS番号",{"$f":"IF($D407=\"有り\",届出・申告書の作成!$V484&\"\",\"\")","v":""},null,"CAS番号",{"$f":"IF($D372=STRING_NOCAS, $D373, $D372)","v":""},{"$f":"BSPLIT($G372,\"-\")","v":{"$error":"#VALUE!"}},{"$error":"#VALUE!"},{"$error":"#VALUE!"},{"$f":"IFERROR($H372,\"\")","v":""},{"$f":"IFERROR($I372,\"\")","v":""},{"$f":"IFERROR($J372,\"\")","v":""}]
[null,null,"CASなし　CAS番号",{"$f":"IF($D407=\"有り\",届出・申告書の作成!$V485&\"\",\"\")","v":""},null,"物質ID",{"$f":"IF($D372=STRING_NOCAS, 0, IFERROR(VLOOKUP($D372,LIST!$BB$6:$BG$500,2,FALSE), 0))","v":0}]
[null,null,"物質名称",{"$f":"IF($D407=\"有り\",届出・申告書の作成!$V486&\"\",\"\")","v":""},null,null,null,"文字列(DB decimal(6,2))","文字列(帳票)"]
[null,null,"能力\n(kg／年）",{"$f":"IF($D407=\"有り\",届出・申告書の作成!$V487,0)","v":0},null,"トン換算・有効3桁",{"$f":"IF($G372 = \"\", \"\", IF($D375=0,0,ROUND(ROUND($D375/1000,2-INT(LOG(ABS($D375/1000)))), 2)))","v":""},{"$f":"IF($G375=\"\",\"\",IF($G375=0,\"0\"&\"\",TEXT($G375,VLOOKUP(INT(LOG10($G375)),LIST!$I$5:$M$100,2))))","v":""},{"$f":"IF($G375=\"\",\"\",IF($G375=0,\"0\"&\"\",TEXT($G375,VLOOKUP(INT(LOG10($G375)),LIST!$I$5:$M$100,5))))","v":""}]
[null,null,"生産能力の計算方法",{"$f":"IF($D407=\"有り\",届出・申告書の作成!$V488&\"\",\"\")","v":""},null,"生産能力の計算方法",{"$f":"TEXT(IFERROR(VLOOKUP($D376,LIST!$AB$5:$AC$100,2,FALSE), \"\"), \"@\")","v":""}]
[null,"製造能力２","CAS番号",{"$f":"IF($D407=\"有り\",届出・申告書の作成!$V489&\"\",\"\")","v":""},null,"CAS番号",{"$f":"IF($D377=STRING_NOCAS, $D378, $D377)","v":""},{"$f":"BSPLIT($G377,\"-\")","v":{"$error":"#VALUE!"}},{"$error":"#VALUE!"},{"$error":"#VALUE!"},{"$f":"IFERROR($H377,\"\")","v":""},{"$f":"IFERROR($I377,\"\")","v":""},{"$f":"IFERROR($J377,\"\")","v":""}]
[null,null,"CASなし　CAS番号",{"$f":"IF($D407=\"有り\",届出・申告書の作成!$V490&\"\",\"\")","v":""},null,"物質ID",{"$f":"IF($D377=STRING_NOCAS, 0, IFERROR(VLOOKUP($D377,LIST!$BB$6:$BG$500,2,FALSE), 0))","v":0}]
[null,null,"物質名称",{"$f":"IF($D407=\"有り\",届出・申告書の作成!$V491&\"\",\"\")","v":""},null,null,null,"文字列(DB decimal(6,2))","文字列(帳票)"]
[null,null,"能力\n(kg／年）",{"$f":"IF($D407=\"有り\",届出・申告書の作成!$V492,0)","v":0},null,"トン換算・有効3桁",{"$f":"IF($G377 = \"\", \"\", IF($D380=0,0,ROUND(ROUND($D380/1000,2-INT(LOG(ABS($D380/1000)))), 2)))","v":""},{"$f":"IF($G380=\"\",\"\",IF($G380=0,\"0\"&\"\",TEXT($G380,VLOOKUP(INT(LOG10($G380)),LIST!$I$5:$M$100,2))))","v":""},{"$f":"IF($G380=\"\",\"\",IF($G380=0,\"0\"&\"\",TEXT($G380,VLOOKUP(INT(LOG10($G380)),LIST!$I$5:$M$100,5))))","v":""}]
[null,null,"生産能力の計算方法",{"$f":"IF($D407=\"有り\",届出・申告書の作成!$V493&\"\",\"\")","v":""},null,"生産能力の計算方法",{"$f":"TEXT(IFERROR(VLOOKUP($D381,LIST!$AB$5:$AC$100,2,FALSE), \"\"), \"@\")","v":""}]
[null,"製造能力３","CAS番号",{"$f":"IF($D407=\"有り\",届出・申告書の作成!$V494&\"\",\"\")","v":""},null,"CAS番号",{"$f":"IF($D382=STRING_NOCAS, $D383, $D382)","v":""},{"$f":"BSPLIT($G382,\"-\")","v":{"$error":"#VALUE!"}},{"$error":"#VALUE!"},{"$error":"#VALUE!"},{"$f":"IFERROR($H382,\"\")","v":""},{"$f":"IFERROR($I382,\"\")","v":""},{"$f":"IFERROR($J382,\"\")","v":""}]
[null,null,"CASなし　CAS番号",{"$f":"IF($D407=\"有り\",届出・申告書の作成!$V495&\"\",\"\")","v":""},null,"物質ID",{"$f":"IF($D382=STRING_NOCAS, 0, IFERROR(VLOOKUP($D382,LIST!$BB$6:$BG$500,2,FALSE), 0))","v":0}]
[null,null,"物質名称",{"$f":"IF($D407=\"有り\",届出・申告書の作成!$V496&\"\",\"\")","v":""},null,null,null,"文字列(DB decimal(6,2))","文字列(帳票)"]
[null,null,"能力\n(kg／年）",{"$f":"IF($D407=\"有り\",届出・申告書の作成!$V497,0)","v":0},null,"トン換算・有効3桁",{"$f":"IF($G382 = \"\", \"\", IF($D385=0,0,ROUND(ROUND($D385/1000,2-INT(LOG(ABS($D385/1000)))), 2)))","v":""},{"$f":"IF($G385=\"\",\"\",IF($G385=0,\"0\"&\"\",TEXT($G385,VLOOKUP(INT(LOG10($G385)),LIST!$I$5:$M$100,2))))","v":""},{"$f":"IF($G385=\"\",\"\",IF($G385=0,\"0\"&\"\",TEXT($G385,VLOOKUP(INT(LOG10($G385)),LIST!$I$5:$M$100,5))))","v":""}]
[null,null,"生産能力の計算方法",{"$f":"IF($D407=\"有り\",届出・申告書の作成!$V498&\"\",\"\")","v":""},null,"生産能力の計算方法",{"$f":"TEXT(IFERROR(VLOOKUP($D386,LIST!$AB$5:$AC$100,2,FALSE), \"\"), \"@\")","v":""}]
[null,"製造能力４","CAS番号",{"$f":"IF($D407=\"有り\",届出・申告書の作成!$V499&\"\",\"\")","v":""},null,"CAS番号",{"$f":"IF($D387=STRING_NOCAS, $D388, $D387)","v":""},{"$f":"BSPLIT($G387,\"-\")","v":{"$error":"#VALUE!"}},{"$error":"#VALUE!"},{"$error":"#VALUE!"},{"$f":"IFERROR($H387,\"\")","v":""},{"$f":"IFERROR($I387,\"\")","v":""},{"$f":"IFERROR($J387,\"\")","v":""}]
[null,null,"CASなし　CAS番号",{"$f":"IF($D407=\"有り\",届出・申告書の作成!$V500&\"\",\"\")","v":""},null,"物質ID",{"$f":"IF($D387=STRING_NOCAS, 0, IFERROR(VLOOKUP($D387,LIST!$BB$6:$BG$500,2,FALSE), 0))","v":0}]
[null,null,"物質名称",{"$f":"IF($D407=\"有り\",届出・申告書の作成!$V501&\"\",\"\")","v":""},null,null,null,"文字列(DB decimal(6,2))","文字列(帳票)"]
[null,null,"能力\n(kg／年）",{"$f":"IF($D407=\"有り\",届出・申告書の作成!$V502,0)","v":0},null,"トン換算・有効3桁",{"$f":"IF($G387 = \"\", \"\", IF($D390=0,0,ROUND(ROUND($D390/1000,2-INT(LOG(ABS($D390/1000)))), 2)))","v":""},{"$f":"IF($G390=\"\",\"\",IF($G390=0,\"0\"&\"\",TEXT($G390,VLOOKUP(INT(LOG10($G390)),LIST!$I$5:$M$100,2))))","v":""},{"$f":"IF($G390=\"\",\"\",IF($G390=0,\"0\"&\"\",TEXT($G390,VLOOKUP(INT(LOG10($G390)),LIST!$I$5:$M$100,5))))","v":""}]
[null,null,"生産能力の計算方法",{"$f":"IF($D407=\"有り\",届出・申告書の作成!$V503&\"\",\"\")","v":""},null,"生産能力の計算方法",{"$f":"TEXT(IFERROR(VLOOKUP($D391,LIST!$AB$5:$AC$100,2,FALSE), \"\"), \"@\")","v":""}]
[null,"製造能力５","CAS番号",{"$f":"IF($D407=\"有り\",届出・申告書の作成!$V504&\"\",\"\")","v":""},null,"CAS番号",{"$f":"IF($D392=STRING_NOCAS, $D393, $D392)","v":""},{"$f":"BSPLIT($G392,\"-\")","v":{"$error":"#VALUE!"}},{"$error":"#VALUE!"},{"$error":"#VALUE!"},{"$f":"IFERROR($H392,\"\")","v":""},{"$f":"IFERROR($I392,\"\")","v":""},{"$f":"IFERROR($J392,\"\")","v":""}]
[null,null,"CASなし　CAS番号",{"$f":"IF($D407=\"有り\",届出・申告書の作成!$V505&\"\",\"\")","v":""},null,"物質ID",{"$f":"IF($D392=STRING_NOCAS, 0, IFERROR(VLOOKUP($D392,LIST!$BB$6:$BG$500,2,FALSE), 0))","v":0}]
[null,null,"物質名称",{"$f":"IF($D407=\"有り\",届出・申告書の作成!$V506&\"\",\"\")","v":""},null,null,null,"文字列(DB decimal(6,2))","文字列(帳票)"]
[null,null,"能力\n(kg／年）",{"$f":"IF($D407=\"有り\",届出・申告書の作成!$V507,0)","v":0},null,"トン換算・有効3桁",{"$f":"IF($G392 = \"\", \"\", IF($D395=0,0,ROUND(ROUND($D395/1000,2-INT(LOG(ABS($D395/1000)))), 2)))","v":""},{"$f":"IF($G395=\"\",\"\",IF($G395=0,\"0\"&\"\",TEXT($G395,VLOOKUP(INT(LOG10($G395)),LIST!$I$5:$M$100,2))))","v":""},{"$f":"IF($G395=\"\",\"\",IF($G395=0,\"0\"&\"\",TEXT($G395,VLOOKUP(INT(LOG10($G395)),LIST!$I$5:$M$100,5))))","v":""}]
[null,null,"生産能力の計算方法",{"$f":"IF($D407=\"有り\",届出・申告書の作成!$V508&\"\",\"\")","v":""},null,"生産能力の計算方法",{"$f":"TEXT(IFERROR(VLOOKUP($D396,LIST!$AB$5:$AC$100,2,FALSE), \"\"), \"@\")","v":""}]
[null,"製造能力６","CAS番号",{"$f":"IF($D407=\"有り\",届出・申告書の作成!$V509&\"\",\"\")","v":""},null,"CAS番号",{"$f":"IF($D397=STRING_NOCAS, $D398, $D397)","v":""},{"$f":"BSPLIT($G397,\"-\")","v":{"$error":"#VALUE!"}},{"$error":"#VALUE!"},{"$error":"#VALUE!"},{"$f":"IFERROR($H397,\"\")","v":""},{"$f":"IFERROR($I397,\"\")","v":""},{"$f":"IFERROR($J397,\"\")","v":""}]
[null,null,"CASなし　CAS番号",{"$f":"IF($D407=\"有り\",届出・申告書の作成!$V510&\"\",\"\")","v":""},null,"物質ID",{"$f":"IF($D397=STRING_NOCAS, 0, IFERROR(VLOOKUP($D397,LIST!$BB$6:$BG$500,2,FALSE), 0))","v":0}]
[null,null,"物質名称",{"$f":"IF($D407=\"有り\",届出・申告書の作成!$V511&\"\",\"\")","v":""},null,null,null,"文字列(DB decimal(6,2))","文字列(帳票)"]
[null,null,"能力\n(kg／年）",{"$f":"IF($D407=\"有り\",届出・申告書の作成!$V512,0)","v":0},null,"トン換算・有効3桁",{"$f":"IF($G397 = \"\", \"\", IF($D400=0,0,ROUND(ROUND($D400/1000,2-INT(LOG(ABS($D400/1000)))), 2)))","v":""},{"$f":"IF($G400=\"\",\"\",IF($G400=0,\"0\"&\"\",TEXT($G400,VLOOKUP(INT(LOG10($G400)),LIST!$I$5:$M$100,2))))","v":""},{"$f":"IF($G400=\"\",\"\",IF($G400=0,\"0\"&\"\",TEXT($G400,VLOOKUP(INT(LOG10($G400)),LIST!$I$5:$M$100,5))))","v":""}]
[null,null,"生産能力の計算方法",{"$f":"IF($D407=\"有り\",届出・申告書の作成!$V513&\"\",\"\")","v":""},null,"生産能力の計算方法",{"$f":"TEXT(IFERROR(VLOOKUP($D401,LIST!$AB$5:$AC$100,2,FALSE), \"\"), \"@\")","v":""}]
[null,"施設の主要な活動",1,{"$f":"届出・申告書の作成!$V472&\"\"","v":""},null,1,{"$f":"$D402","v":""},{"$f":"TRIM($G402)","v":""}]
[]
[]
[]
[]
[null,"プラントの活動内容","生産",{"$f":"届出・申告書の作成!$V477&\"\"","v":""},null,"生産（コード）",{"$f":"TEXT(IFERROR(VLOOKUP($D407,LIST!$AD$5:$AE$100,2,FALSE), \"\"), \"@\")","v":""}]
[null,null,"加工",{"$f":"届出・申告書の作成!$V478&\"\"","v":""},null,"加工（コード）",{"$f":"TEXT(IFERROR(VLOOKUP($D408,LIST!$AD$5:$AE$100,2,FALSE), \"\"), \"@\")","v":""}]
[null,null,"消費",{"$f":"届出・申告書の作成!$V479&\"\"","v":""},null,"消費（コード）",{"$f":"TEXT(IFERROR(VLOOKUP($D409,LIST!$AD$5:$AE$100,2,FALSE), \"\"), \"@\")","v":""}]
[null,null,"施設の専用／多目的の別",{"$f":"届出・申告書の作成!$V480&\"\"","v":""},null,"施設の専用／多目的の別",{"$f":"TEXT(IFERROR(VLOOKUP($D410,LIST!$AF$5:$AG$100,2,FALSE), \"\"), \"@\")","v":""}]
[null,null,"その他の活動(1)",{"$f":"届出・申告書の作成!$V481&\"\"","v":""},null,"その他の活動(1)",{"$f":"TEXT(IFERROR(VLOOKUP($D411,LIST!$AH$5:$AI$100,2,FALSE), \"\"), \"@\")","v":""},{"$f":"DBCS(MID($G411, 2,2))","v":""},{"$f":"TRIM(CONCATENATE($G411, IF($G412=\"\", \"\", CONCATENATE(\" \", $G412)), IF($G413=\"\", \"\", CONCATENATE(\" \", $G413))))","v":""}]
[null,null,"その他の活動(2)",{"$f":"届出・申告書の作成!$V482&\"\"","v":""},null,"その他の活動(2)",{"$f":"TEXT(IFERROR(VLOOKUP($D412,LIST!$AH$5:$AI$100,2,FALSE), \"\"), \"@\")","v":""},{"$f":"DBCS(MID($G412, 2,2))","v":""}]
[null,null,"その他の活動(３)",{"$f":"届出・申告書の作成!$V483&\"\"","v":""},null,"その他の活動(３)",{"$f":"TEXT(IFERROR(VLOOKUP($D413,LIST!$AH$5:$AI$100,2,FALSE), \"\"), \"@\")","v":""},""]
[]
["施設２","施設名称",null,{"$f":"届出・申告書の作成!$V525&\"\"","v":""}]
[null,"プラントコード",null,{"$f":"届出・申告書の作成!$V526&\"\"","v":""}]
[null,"事業所内の施設の正確な場所",null,{"$f":"届出・申告書の作成!$V527&\"\"","v":""}]
[null,"施設を特定する構造物番号",null,{"$f":"届出・申告書の作成!$V528&\"\"","v":""}]
[null,"施設を特定する建物番号",null,{"$f":"届出・申告書の作成!$V529&\"\"","v":""}]
[null,"施設についての追加的情報",null,{"$f":"届出・申告書の作成!$V530&\"\"","v":""}]
[null,"製造能力１","CAS番号",{"$f":"IF($D456=\"有り\",届出・申告書の作成!$V543&\"\",\"\")","v":""},null,"CAS番号",{"$f":"IF($D421=STRING_NOCAS, $D422, $D421)","v":""},{"$f":"BSPLIT($G421,\"-\")","v":{"$error":"#VALUE!"}},{"$error":"#VALUE!"},{"$error":"#VALUE!"},{"$f":"IFERROR($H421,\"\")","v":""},{"$f":"IFERROR($I421,\"\")","v":""},{"$f":"IFERROR($J421,\"\")","v":""}]
[null,null,"CASなし　CAS番号",{"$f":"IF($D456=\"有り\",届出・申告書の作成!$V544&\"\",\"\")","v":""},null,"物質ID",{"$f":"IF($D421=STRING_NOCAS, 0, IFERROR(VLOOKUP($D421,LIST!$BB$6:$BG$500,2,FALSE), 0))","v":0}]
[null,null,"物質名称",{"$f":"IF($D456=\"有り\",届出・申告書の作成!$V545&\"\",\"\")","v":""},null,null,null,"文字列(DB decimal(6,2))","文字列(帳票)"]
[null,null,"能力\n(kg／年）",{"$f":"IF($D456=\"有り\",届出・申告書の作成!$V546,0)","v":0},null,"トン換算・有効3桁",{"$f":"IF($G421 = \"\", \"\", IF($D424=0,0,ROUND(ROUND($D424/1000,2-INT(LOG(ABS($D424/1000)))), 2)))","v":""},{"$f":"IF($G424=\"\",\"\",IF($G424=0,\"0\"&\"\",TEXT($G424,VLOOKUP(INT(LOG10($G424)),LIST!$I$5:$M$100,2))))","v":""},{"$f":"IF($G424=\"\",\"\",IF($G424=0,\"0\"&\"\",TEXT($G424,VLOOKUP(INT(LOG10($G424)),LIST!$I$5:$M$100,5))))","v":""}]
[null,null,"生産能力の計算方法",{"$f":"IF($D456=\"有り\",届出・申告書の作成!$V547&\"\",\"\")","v":""},null,"生産能力の計算方法",{"$f":"TEXT(IFERROR(VLOOKUP($D425,LIST!$AB$5:$AC$100,2,FALSE), \"\"), \"@\")","v":""}]
[null,"製造能力２","CAS番号",{"$f":"IF($D456=\"有り\",届出・申告書の作成!$V548&\"\",\"\")","v":""},null,"CAS番号",{"$f":"IF($D426=STRING_NOCAS, $D427, $D426)","v":""},{"$f":"BSPLIT($G426,\"-\")","v":{"$error":"#VALUE!"}},{"$error":"#VALUE!"},{"$error":"#VALUE!"},{"$f":"IFERROR($H426,\"\")","v":""},{"$f":"IFERROR($I426,\"\")","v":""},{"$f":"IFERROR($J426,\"\")","v":""}]
[null,null,"CASなし　CAS番号",{"$f":"IF($D456=\"有り\",届出・申告書の作成!$V549&\"\",\"\")","v":""},null,"物質ID",{"$f":"IF($D426=STRING_NOCAS, 0, IFERROR(VLOOKUP($D426,LIST!$BB$6:$BG$500,2,FALSE), 0))","v":0}]
[null,null,"物質名称",{"$f":"IF($D456=\"有り\",届出・申告書の作成!$V550&\"\",\"\")","v":""},null,null,null,"文字列(DB decimal(6,2))","文字列(帳票)"]
[null,null,"能力\n(kg／年）",{"$f":"IF($D456=\"有り\",届出・申告書の作成!$V551,0)","v":0},null,"トン換算・有効3桁",{"$f":"IF($G426 = \"\", \"\", IF($D429=0,0,ROUND(ROUND($D429/1000,2-INT(LOG(ABS($D429/1000)))), 2)))","v":""},{"$f":"IF($G429=\"\",\"\",IF($G429=0,\"0\"&\"\",TEXT($G429,VLOOKUP(INT(LOG10($G429)),LIST!$I$5:$M$100,2))))","v":""},{"$f":"IF($G429=\"\",\"\",IF($G429=0,\"0\"&\"\",TEXT($G429,VLOOKUP(INT(LOG10($G429)),LIST!$I$5:$M$100,5))))","v":""}]
[null,null,"生産能力の計算方法",{"$f":"IF($D456=\"有り\",届出・申告書の作成!$V552&\"\",\"\")","v":""},null,"生産能力の計算方法",{"$f":"TEXT(IFERROR(VLOOKUP($D430,LIST!$AB$5:$AC$100,2,FALSE), \"\"), \"@\")","v":""}]
[null,"製造能力３","CAS番号",{"$f":"IF($D456=\"有り\",届出・申告書の作成!$V553&\"\",\"\")","v":""},null,"CAS番号",{"$f":"IF($D431=STRING_NOCAS, $D432, $D431)","v":""},{"$f":"BSPLIT($G431,\"-\")","v":{"$error":"#VALUE!"}},{"$error":"#VALUE!"},{"$error":"#VALUE!"},{"$f":"IFERROR($H431,\"\")","v":""},{"$f":"IFERROR($I431,\"\")","v":""},{"$f":"IFERROR($J431,\"\")","v":""}]
[null,null,"CASなし　CAS番号",{"$f":"IF($D456=\"有り\",届出・申告書の作成!$V554&\"\",\"\")","v":""},null,"物質ID",{"$f":"IF($D431=STRING_NOCAS, 0, IFERROR(VLOOKUP($D431,LIST!$BB$6:$BG$500,2,FALSE), 0))","v":0}]
[null,null,"物質名称",{"$f":"IF($D456=\"有り\",届出・申告書の作成!$V555&\"\",\"\")","v":""},null,null,null,"文字列(DB decimal(6,2))","文字列(帳票)"]
[null,null,"能力\n(kg／年）",{"$f":"IF($D456=\"有り\",届出・申告書の作成!$V556,0)","v":0},null,"トン換算・有効3桁",{"$f":"IF($G431 = \"\", \"\", IF($D434=0,0,ROUND(ROUND($D434/1000,2-INT(LOG(ABS($D434/1000)))), 2)))","v":""},{"$f":"IF($G434=\"\",\"\",IF($G434=0,\"0\"&\"\",TEXT($G434,VLOOKUP(INT(LOG10($G434)),LIST!$I$5:$M$100,2))))","v":""},{"$f":"IF($G434=\"\",\"\",IF($G434=0,\"0\"&\"\",TEXT($G434,VLOOKUP(INT(LOG10($G434)),LIST!$I$5:$M$100,5))))","v":""}]
[null,null,"生産能力の計算方法",{"$f":"IF($D456=\"有り\",届出・申告書の作成!$V557&\"\",\"\")","v":""},null,"生産能力の計算方法",{"$f":"TEXT(IFERROR(VLOOKUP($D435,LIST!$AB$5:$AC$100,2,FALSE), \"\"), \"@\")","v":""}]
[null,"製造能力４","CAS番号",{"$f":"IF($D456=\"有り\",届出・申告書の作成!$V558&\"\",\"\")","v":""},null,"CAS番号",{"$f":"IF($D436=STRING_NOCAS, $D437, $D436)","v":""},{"$f":"BSPLIT($G436,\"-\")","v":{"$error":"#VALUE!"}},{"$error":"#VALUE!"},{"$error":"#VALUE!"},{"$f":"IFERROR($H436,\"\")","v":""},{"$f":"IFERROR($I436,\"\")","v":""},{"$f":"IFERROR($J436,\"\")","v":""}]
[null,null,"CASなし　CAS番号",{"$f":"IF($D456=\"有り\",届出・申告書の作成!$V559&\"\",\"\")","v":""},null,"物質ID",{"$f":"IF($D436=STRING_NOCAS, 0, IFERROR(VLOOKUP($D436,LIST!$BB$6:$BG$500,2,FALSE), 0))","v":0}]
[null,null,"物質名称",{"$f":"IF($D456=\"有り\",届出・申告書の作成!$V560&\"\",\"\")","v":""},null,null,null,"文字列(DB decimal(6,2))","文字列(帳票)"]
[null,null,"能力\n(kg／年）",{"$f":"IF($D456=\"有り\",届出・申告書の作成!$V561,0)","v":0},null,"トン換算・有効3桁",{"$f":"IF($G436 = \"\", \"\", IF($D439=0,0,ROUND(ROUND($D439/1000,2-INT(LOG(ABS($D439/1000)))), 2)))","v":""},{"$f":"IF($G439=\"\",\"\",IF($G439=0,\"0\"&\"\",TEXT($G439,VLOOKUP(INT(LOG10($G439)),LIST!$I$5:$M$100,2))))","v":""},{"$f":"IF($G439=\"\",\"\",IF($G439=0,\"0\"&\"\",TEXT($G439,VLOOKUP(INT(LOG10($G439)),LIST!$I$5:$M$100,5))))","v":""}]
[null,null,"生産能力の計算方法",{"$f":"IF($D456=\"有り\",届出・申告書の作成!$V562&\"\",\"\")","v":""},null,"生産能力の計算方法",{"$f":"TEXT(IFERROR(VLOOKUP($D440,LIST!$AB$5:$AC$100,2,FALSE), \"\"), \"@\")","v":""}]
[null,"製造能力５","CAS番号",{"$f":"IF($D456=\"有り\",届出・申告書の作成!$V563&\"\",\"\")","v":""},null,"CAS番号",{"$f":"IF($D441=STRING_NOCAS, $D442, $D441)","v":""},{"$f":"BSPLIT($G441,\"-\")","v":{"$error":"#VALUE!"}},{"$error":"#VALUE!"},{"$error":"#VALUE!"},{"$f":"IFERROR($H441,\"\")","v":""},{"$f":"IFERROR($I441,\"\")","v":""},{"$f":"IFERROR($J441,\"\")","v":""}]
[null,null,"CASなし　CAS番号",{"$f":"IF($D456=\"有り\",届出・申告書の作成!$V564&\"\",\"\")","v":""},null,"物質ID",{"$f":"IF($D441=STRING_NOCAS, 0, IFERROR(VLOOKUP($D441,LIST!$BB$6:$BG$500,2,FALSE), 0))","v":0}]
[null,null,"物質名称",{"$f":"IF($D456=\"有り\",届出・申告書の作成!$V565&\"\",\"\")","v":""},null,null,null,"文字列(DB decimal(6,2))","文字列(帳票)"]
[null,null,"能力\n(kg／年）",{"$f":"IF($D456=\"有り\",届出・申告書の作成!$V566,0)","v":0},null,"トン換算・有効3桁",{"$f":"IF($G441 = \"\", \"\", IF($D444=0,0,ROUND(ROUND($D444/1000,2-INT(LOG(ABS($D444/1000)))), 2)))","v":""},{"$f":"IF($G444=\"\",\"\",IF($G444=0,\"0\"&\"\",TEXT($G444,VLOOKUP(INT(LOG10($G444)),LIST!$I$5:$M$100,2))))","v":""},{"$f":"IF($G444=\"\",\"\",IF($G444=0,\"0\"&\"\",TEXT($G444,VLOOKUP(INT(LOG10($G444)),LIST!$I$5:$M$100,5))))","v":""}]
[null,null,"生産能力の計算方法",{"$f":"IF($D456=\"有り\",届出・申告書の作成!$V567&\"\",\"\")","v":""},null,"生産能力の計算方法",{"$f":"TEXT(IFERROR(VLOOKUP($D445,LIST!$AB$5:$AC$100,2,FALSE), \"\"), \"@\")","v":""}]
[null,"製造能力６","CAS番号",{"$f":"IF($D456=\"有り\",届出・申告書の作成!$V568&\"\",\"\")","v":""},null,"CAS番号",{"$f":"IF($D446=STRING_NOCAS, $D447, $D446)","v":""},{"$f":"BSPLIT($G446,\"-\")","v":{"$error":"#VALUE!"}},{"$error":"#VALUE!"},{"$error":"#VALUE!"},{"$f":"IFERROR($H446,\"\")","v":""},{"$f":"IFERROR($I446,\"\")","v":""},{"$f":"IFERROR($J446,\"\")","v":""}]
[null,null,"CASなし　CAS番号",{"$f":"IF($D456=\"有り\",届出・申告書の作成!$V569&\"\",\"\")","v":""},null,"物質ID",{"$f":"IF($D446=STRING_NOCAS, 0, IFERROR(VLOOKUP($D446,LIST!$BB$6:$BG$500,2,FALSE), 0))","v":0}]
[null,null,"物質名称",{"$f":"IF($D456=\"有り\",届出・申告書の作成!$V570&\"\",\"\")","v":""},null,null,null,"文字列(DB decimal(6,2))","文字列(帳票)"]
[null,null,"能力\n(kg／年）",{"$f":"IF($D456=\"有り\",届出・申告書の作成!$V571,0)","v":0},null,"トン換算・有効3桁",{"$f":"IF($G446 = \"\", \"\", IF($D449=0,0,ROUND(ROUND($D449/1000,2-INT(LOG(ABS($D449/1000)))), 2)))","v":""},{"$f":"IF($G449=\"\",\"\",IF($G449=0,\"0\"&\"\",TEXT($G449,VLOOKUP(INT(LOG10($G449)),LIST!$I$5:$M$100,2))))","v":""},{"$f":"IF($G449=\"\",\"\",IF($G449=0,\"0\"&\"\",TEXT($G449,VLOOKUP(INT(LOG10($G449)),LIST!$I$5:$M$100,5))))","v":""}]
[null,null,"生産能力の計算方法",{"$f":"IF($D456=\"有り\",届出・申告書の作成!$V572&\"\",\"\")","v":""},null,"生産能力の計算方法",{"$f":"TEXT(IFERROR(VLOOKUP($D450,LIST!$AB$5:$AC$100,2,FALSE), \"\"), \"@\")","v":""}]
[null,"施設の主要な活動",1,{"$f":"届出・申告書の作成!$V531&\"\"","v":""},null,1,{"$f":"$D451","v":""},{"$f":"TRIM($G451)","v":""}]
[]
[]
[]
[]
[null,"プラントの活動内容","生産",{"$f":"届出・申告書の作成!$V536&\"\"","v":""},null,"生産（コード）",{"$f":"TEXT(IFERROR(VLOOKUP($D456,LIST!$AD$5:$AE$100,2,FALSE), \"\"), \"@\")","v":""}]
[null,null,"加工",{"$f":"届出・申告書の作成!$V537&\"\"","v":""},null,"加工（コード）",{"$f":"TEXT(IFERROR(VLOOKUP($D457,LIST!$AD$5:$AE$100,2,FALSE), \"\"), \"@\")","v":""}]
[null,null,"消費",{"$f":"届出・申告書の作成!$V538&\"\"","v":""},null,"消費（コード）",{"$f":"TEXT(IFERROR(VLOOKUP($D458,LIST!$AD$5:$AE$100,2,FALSE), \"\"), \"@\")","v":""}]
[null,null,"施設の専用／多目的の別",{"$f":"届出・申告書の作成!$V539&\"\"","v":""},null,"施設の専用／多目的の別",{"$f":"TEXT(IFERROR(VLOOKUP($D459,LIST!$AF$5:$AG$100,2,FALSE), \"\"), \"@\")","v":""}]
[null,null,"その他の活動(1)",{"$f":"届出・申告書の作成!$V540&\"\"","v":""},null,"その他の活動(1)",{"$f":"TEXT(IFERROR(VLOOKUP($D460,LIST!$AH$5:$AI$100,2,FALSE), \"\"), \"@\")","v":""},{"$f":"DBCS(MID($G460, 2,2))","v":""},{"$f":"TRIM(CONCATENATE($G460, IF($G461=\"\", \"\", CONCATENATE(\" \", $G461)), IF($G462=\"\", \"\", CONCATENATE(\" \", $G462))))","v":""}]
[null,null,"その他の活動(2)",{"$f":"届出・申告書の作成!$V541&\"\"","v":""},null,"その他の活動(2)",{"$f":"TEXT(IFERROR(VLOOKUP($D461,LIST!$AH$5:$AI$100,2,FALSE), \"\"), \"@\")","v":""},{"$f":"DBCS(MID($G461, 2,2))","v":""}]
[null,null,"その他の活動(３)",{"$f":"届出・申告書の作成!$V542&\"\"","v":""},null,"その他の活動(３)",{"$f":"TEXT(IFERROR(VLOOKUP($D462,LIST!$AH$5:$AI$100,2,FALSE), \"\"), \"@\")","v":""},""]
[]
["施設３","施設名称",null,{"$f":"届出・申告書の作成!$V584&\"\"","v":""}]
[null,"プラントコード",null,{"$f":"届出・申告書の作成!$V585&\"\"","v":""}]
[null,"事業所内の施設の正確な場所",null,{"$f":"届出・申告書の作成!$V586&\"\"","v":""}]
[null,"施設を特定する構造物番号",null,{"$f":"届出・申告書の作成!$V587&\"\"","v":""}]
[null,"施設を特定する建物番号",null,{"$f":"届出・申告書の作成!$V588&\"\"","v":""}]
[null,"施設についての追加的情報",null,{"$f":"届出・申告書の作成!$V589&\"\"","v":""}]
[null,"製造能力１","CAS番号",{"$f":"IF($D505=\"有り\",届出・申告書の作成!$V602&\"\",\"\")","v":""},null,"CAS番号",{"$f":"IF($D470=STRING_NOCAS, $D471, $D470)","v":""},{"$f":"BSPLIT($G470,\"-\")","v":{"$error":"#VALUE!"}},{"$error":"#VALUE!"},{"$error":"#VALUE!"},{"$f":"IFERROR($H470,\"\")","v":""},{"$f":"IFERROR($I470,\"\")","v":""},{"$f":"IFERROR($J470,\"\")","v":""}]
[null,null,"CASなし　CAS番号",{"$f":"IF($D505=\"有り\",届出・申告書の作成!$V603&\"\",\"\")","v":""},null,"物質ID",{"$f":"IF($D470=STRING_NOCAS, 0, IFERROR(VLOOKUP($D470,LIST!$BB$6:$BG$500,2,FALSE), 0))","v":0}]
[null,null,"物質名称",{"$f":"IF($D505=\"有り\",届出・申告書の作成!$V604&\"\",\"\")","v":""},null,null,null,"文字列(DB decimal(6,2))","文字列(帳票)"]
[null,null,"能力\n(kg／年）",{"$f":"IF($D505=\"有り\",届出・申告書の作成!$V605,0)","v":0},null,"トン換算・有効3桁",{"$f":"IF($G470 = \"\", \"\", IF($D473=0,0,ROUND(ROUND($D473/1000,2-INT(LOG(ABS($D473/1000)))), 2)))","v":""},{"$f":"IF($G473=\"\",\"\",IF($G473=0,\"0\"&\"\",TEXT($G473,VLOOKUP(INT(LOG10($G473)),LIST!$I$5:$M$100,2))))","v":""},{"$f":"IF($G473=\"\",\"\",IF($G473=0,\"0\"&\"\",TEXT($G473,VLOOKUP(INT(LOG10($G473)),LIST!$I$5:$M$100,5))))","v":""}]
[null,null,"生産能力の計算方法",{"$f":"IF($D505=\"有り\",届出・申告書の作成!$V606&\"\",\"\")","v":""},null,"生産能力の計算方法",{"$f":"TEXT(IFERROR(VLOOKUP($D474,LIST!$AB$5:$AC$100,2,FALSE), \"\"), \"@\")","v":""}]
[null,"製造能力２","CAS番号",{"$f":"IF($D505=\"有り\",届出・申告書の作成!$V607&\"\",\"\")","v":""},null,"CAS番号",{"$f":"IF($D475=STRING_NOCAS, $D476, $D475)","v":""},{"$f":"BSPLIT($G475,\"-\")","v":{"$error":"#VALUE!"}},{"$error":"#VALUE!"},{"$error":"#VALUE!"},{"$f":"IFERROR($H475,\"\")","v":""},{"$f":"IFERROR($I475,\"\")","v":""},{"$f":"IFERROR($J475,\"\")","v":""}]
[null,null,"CASなし　CAS番号",{"$f":"IF($D505=\"有り\",届出・申告書の作成!$V608&\"\",\"\")","v":""},null,"物質ID",{"$f":"IF($D475=STRING_NOCAS, 0, IFERROR(VLOOKUP($D475,LIST!$BB$6:$BG$500,2,FALSE), 0))","v":0}]
[null,null,"物質名称",{"$f":"IF($D505=\"有り\",届出・申告書の作成!$V609&\"\",\"\")","v":""},null,null,null,"文字列(DB decimal(6,2))","文字列(帳票)"]
[null,null,"能力\n(kg／年）",{"$f":"IF($D505=\"有り\",届出・申告書の作成!$V610,0)","v":0},null,"トン換算・有効3桁",{"$f":"IF($G475 = \"\", \"\", IF($D478=0,0,ROUND(ROUND($D478/1000,2-INT(LOG(ABS($D478/1000)))), 2)))","v":""},{"$f":"IF($G478=\"\",\"\",IF($G478=0,\"0\"&\"\",TEXT($G478,VLOOKUP(INT(LOG10($G478)),LIST!$I$5:$M$100,2))))","v":""},{"$f":"IF($G478=\"\",\"\",IF($G478=0,\"0\"&\"\",TEXT($G478,VLOOKUP(INT(LOG10($G478)),LIST!$I$5:$M$100,5))))","v":""}]
[null,null,"生産能力の計算方法",{"$f":"IF($D505=\"有り\",届出・申告書の作成!$V611&\"\",\"\")","v":""},null,"生産能力の計算方法",{"$f":"TEXT(IFERROR(VLOOKUP($D479,LIST!$AB$5:$AC$100,2,FALSE), \"\"), \"@\")","v":""}]
[null,"製造能力３","CAS番号",{"$f":"IF($D505=\"有り\",届出・申告書の作成!$V612&\"\",\"\")","v":""},null,"CAS番号",{"$f":"IF($D480=STRING_NOCAS, $D481, $D480)","v":""},{"$f":"BSPLIT($G480,\"-\")","v":{"$error":"#VALUE!"}},{"$error":"#VALUE!"},{"$error":"#VALUE!"},{"$f":"IFERROR($H480,\"\")","v":""},{"$f":"IFERROR($I480,\"\")","v":""},{"$f":"IFERROR($J480,\"\")","v":""}]
[null,null,"CASなし　CAS番号",{"$f":"IF($D505=\"有り\",届出・申告書の作成!$V613&\"\",\"\")","v":""},null,"物質ID",{"$f":"IF($D480=STRING_NOCAS, 0, IFERROR(VLOOKUP($D480,LIST!$BB$6:$BG$500,2,FALSE), 0))","v":0}]
[null,null,"物質名称",{"$f":"IF($D505=\"有り\",届出・申告書の作成!$V614&\"\",\"\")","v":""},null,null,null,"文字列(DB decimal(6,2))","文字列(帳票)"]
[null,null,"能力\n(kg／年）",{"$f":"IF($D505=\"有り\",届出・申告書の作成!$V615,0)","v":0},null,"トン換算・有効3桁",{"$f":"IF($G480 = \"\", \"\", IF($D483=0,0,ROUND(ROUND($D483/1000,2-INT(LOG(ABS($D483/1000)))), 2)))","v":""},{"$f":"IF($G483=\"\",\"\",IF($G483=0,\"0\"&\"\",TEXT($G483,VLOOKUP(INT(LOG10($G483)),LIST!$I$5:$M$100,2))))","v":""},{"$f":"IF($G483=\"\",\"\",IF($G483=0,\"0\"&\"\",TEXT($G483,VLOOKUP(INT(LOG10($G483)),LIST!$I$5:$M$100,5))))","v":""}]
[null,null,"生産能力の計算方法",{"$f":"IF($D505=\"有り\",届出・申告書の作成!$V616&\"\",\"\")","v":""},null,"生産能力の計算方法",{"$f":"TEXT(IFERROR(VLOOKUP($D484,LIST!$AB$5:$AC$100,2,FALSE), \"\"), \"@\")","v":""}]
[null,"製造能力４","CAS番号",{"$f":"IF($D505=\"有り\",届出・申告書の作成!$V617&\"\",\"\")","v":""},null,"CAS番号",{"$f":"IF($D485=STRING_NOCAS, $D486, $D485)","v":""},{"$f":"BSPLIT($G485,\"-\")","v":{"$error":"#VALUE!"}},{"$error":"#VALUE!"},{"$error":"#VALUE!"},{"$f":"IFERROR($H485,\"\")","v":""},{"$f":"IFERROR($I485,\"\")","v":""},{"$f":"IFERROR($J485,\"\")","v":""}]
[null,null,"CASなし　CAS番号",{"$f":"IF($D505=\"有り\",届出・申告書の作成!$V618&\"\",\"\")","v":""},null,"物質ID",{"$f":"IF($D485=STRING_NOCAS, 0, IFERROR(VLOOKUP($D485,LIST!$BB$6:$BG$500,2,FALSE), 0))","v":0}]
[null,null,"物質名称",{"$f":"IF($D505=\"有り\",届出・申告書の作成!$V619&\"\",\"\")","v":""},null,null,null,"文字列(DB decimal(6,2))","文字列(帳票)"]
[null,null,"能力\n(kg／年）",{"$f":"IF($D505=\"有り\",届出・申告書の作成!$V620,0)","v":0},null,"トン換算・有効3桁",{"$f":"IF($G485 = \"\", \"\", IF($D488=0,0,ROUND(ROUND($D488/1000,2-INT(LOG(ABS($D488/1000)))), 2)))","v":""},{"$f":"IF($G488=\"\",\"\",IF($G488=0,\"0\"&\"\",TEXT($G488,VLOOKUP(INT(LOG10($G488)),LIST!$I$5:$M$100,2))))","v":""},{"$f":"IF($G488=\"\",\"\",IF($G488=0,\"0\"&\"\",TEXT($G488,VLOOKUP(INT(LOG10($G488)),LIST!$I$5:$M$100,5))))","v":""}]
[null,null,"生産能力の計算方法",{"$f":"IF($D505=\"有り\",届出・申告書の作成!$V621&\"\",\"\")","v":""},null,"生産能力の計算方法",{"$f":"TEXT(IFERROR(VLOOKUP($D489,LIST!$AB$5:$AC$100,2,FALSE), \"\"), \"@\")","v":""}]
[null,"製造能力５","CAS番号",{"$f":"IF($D505=\"有り\",届出・申告書の作成!$V622&\"\",\"\")","v":""},null,"CAS番号",{"$f":"IF($D490=STRING_NOCAS, $D491, $D490)","v":""},{"$f":"BSPLIT($G490,\"-\")","v":{"$error":"#VALUE!"}},{"$error":"#VALUE!"},{"$error":"#VALUE!"},{"$f":"IFERROR($H490,\"\")","v":""},{"$f":"IFERROR($I490,\"\")","v":""},{"$f":"IFERROR($J490,\"\")","v":""}]
[null,null,"CASなし　CAS番号",{"$f":"IF($D505=\"有り\",届出・申告書の作成!$V623&\"\",\"\")","v":""},null,"物質ID",{"$f":"IF($D490=STRING_NOCAS, 0, IFERROR(VLOOKUP($D490,LIST!$BB$6:$BG$500,2,FALSE), 0))","v":0}]
[null,null,"物質名称",{"$f":"IF($D505=\"有り\",届出・申告書の作成!$V624&\"\",\"\")","v":""},null,null,null,"文字列(DB decimal(6,2))","文字列(帳票)"]
[null,null,"能力\n(kg／年）",{"$f":"IF($D505=\"有り\",届出・申告書の作成!$V625,0)","v":0},null,"トン換算・有効3桁",{"$f":"IF($G490 = \"\", \"\", IF($D493=0,0,ROUND(ROUND($D493/1000,2-INT(LOG(ABS($D493/1000)))), 2)))","v":""},{"$f":"IF($G493=\"\",\"\",IF($G493=0,\"0\"&\"\",TEXT($G493,VLOOKUP(INT(LOG10($G493)),LIST!$I$5:$M$100,2))))","v":""},{"$f":"IF($G493=\"\",\"\",IF($G493=0,\"0\"&\"\",TEXT($G493,VLOOKUP(INT(LOG10($G493)),LIST!$I$5:$M$100,5))))","v":""}]
[null,null,"生産能力の計算方法",{"$f":"IF($D505=\"有り\",届出・申告書の作成!$V626&\"\",\"\")","v":""},null,"生産能力の計算方法",{"$f":"TEXT(IFERROR(VLOOKUP($D494,LIST!$AB$5:$AC$100,2,FALSE), \"\"), \"@\")","v":""}]
[null,"製造能力６","CAS番号",{"$f":"IF($D505=\"有り\",届出・申告書の作成!$V627&\"\",\"\")","v":""},null,"CAS番号",{"$f":"IF($D495=STRING_NOCAS, $D496, $D495)","v":""},{"$f":"BSPLIT($G495,\"-\")","v":{"$error":"#VALUE!"}},{"$error":"#VALUE!"},{"$error":"#VALUE!"},{"$f":"IFERROR($H495,\"\")","v":""},{"$f":"IFERROR($I495,\"\")","v":""},{"$f":"IFERROR($J495,\"\")","v":""}]
[null,null,"CASなし　CAS番号",{"$f":"IF($D505=\"有り\",届出・申告書の作成!$V628&\"\",\"\")","v":""},null,"物質ID",{"$f":"IF($D495=STRING_NOCAS, 0, IFERROR(VLOOKUP($D495,LIST!$BB$6:$BG$500,2,FALSE), 0))","v":0}]
[null,null,"物質名称",{"$f":"IF($D505=\"有り\",届出・申告書の作成!$V629&\"\",\"\")","v":""},null,null,null,"文字列(DB decimal(6,2))","文字列(帳票)"]
[null,null,"能力\n(kg／年）",{"$f":"IF($D505=\"有り\",届出・申告書の作成!$V630,0)","v":0},null,"トン換算・有効3桁",{"$f":"IF($G495 = \"\", \"\", IF($D498=0,0,ROUND(ROUND($D498/1000,2-INT(LOG(ABS($D498/1000)))), 2)))","v":""},{"$f":"IF($G498=\"\",\"\",IF($G498=0,\"0\"&\"\",TEXT($G498,VLOOKUP(INT(LOG10($G498)),LIST!$I$5:$M$100,2))))","v":""},{"$f":"IF($G498=\"\",\"\",IF($G498=0,\"0\"&\"\",TEXT($G498,VLOOKUP(INT(LOG10($G498)),LIST!$I$5:$M$100,5))))","v":""}]
[null,null,"生産能力の計算方法",{"$f":"IF($D505=\"有り\",届出・申告書の作成!$V631&\"\",\"\")","v":""},null,"生産能力の計算方法",{"$f":"TEXT(IFERROR(VLOOKUP($D499,LIST!$AB$5:$AC$100,2,FALSE), \"\"), \"@\")","v":""}]
[null,"施設の主要な活動",1,{"$f":"届出・申告書の作成!$V590&\"\"","v":""},null,1,{"$f":"$D500","v":""},{"$f":"TRIM($G500)","v":""}]
[]
[]
[]
[]
[null,"プラントの活動内容","生産",{"$f":"届出・申告書の作成!$V595&\"\"","v":""},null,"生産（コード）",{"$f":"TEXT(IFERROR(VLOOKUP($D505,LIST!$AD$5:$AE$100,2,FALSE), \"\"), \"@\")","v":""}]
[null,null,"加工",{"$f":"届出・申告書の作成!$V596&\"\"","v":""},null,"加工（コード）",{"$f":"TEXT(IFERROR(VLOOKUP($D506,LIST!$AD$5:$AE$100,2,FALSE), \"\"), \"@\")","v":""}]
[null,null,"消費",{"$f":"届出・申告書の作成!$V597&\"\"","v":""},null,"消費（コード）",{"$f":"TEXT(IFERROR(VLOOKUP($D507,LIST!$AD$5:$AE$100,2,FALSE), \"\"), \"@\")","v":""}]
[null,null,"施設の専用／多目的の別",{"$f":"届出・申告書の作成!$V598&\"\"","v":""},null,"施設の専用／多目的の別",{"$f":"TEXT(IFERROR(VLOOKUP($D508,LIST!$AF$5:$AG$100,2,FALSE), \"\"), \"@\")","v":""}]
[null,null,"その他の活動(1)",{"$f":"届出・申告書の作成!$V599&\"\"","v":""},null,"その他の活動(1)",{"$f":"TEXT(IFERROR(VLOOKUP($D509,LIST!$AH$5:$AI$100,2,FALSE), \"\"), \"@\")","v":""},{"$f":"DBCS(MID($G509, 2,2))","v":""},{"$f":"TRIM(CONCATENATE($G509, IF($G510=\"\", \"\", CONCATENATE(\" \", $G510)), IF($G511=\"\", \"\", CONCATENATE(\" \", $G511))))","v":""}]
[null,null,"その他の活動(2)",{"$f":"届出・申告書の作成!$V600&\"\"","v":""},null,"その他の活動(2)",{"$f":"TEXT(IFERROR(VLOOKUP($D510,LIST!$AH$5:$AI$100,2,FALSE), \"\"), \"@\")","v":""},{"$f":"DBCS(MID($G510, 2,2))","v":""}]
[null,null,"その他の活動(３)",{"$f":"届出・申告書の作成!$V601&\"\"","v":""},null,"その他の活動(３)",{"$f":"TEXT(IFERROR(VLOOKUP($D511,LIST!$AH$5:$AI$100,2,FALSE), \"\"), \"@\")","v":""},""]
[]
["施設４","施設名称",null,{"$f":"届出・申告書の作成!$V643&\"\"","v":""}]
[null,"プラントコード",null,{"$f":"届出・申告書の作成!$V644&\"\"","v":""}]
[null,"事業所内の施設の正確な場所",null,{"$f":"届出・申告書の作成!$V645&\"\"","v":""}]
[null,"施設を特定する構造物番号",null,{"$f":"届出・申告書の作成!$V646&\"\"","v":""}]
[null,"施設を特定する建物番号",null,{"$f":"届出・申告書の作成!$V647&\"\"","v":""}]
[null,"施設についての追加的情報",null,{"$f":"届出・申告書の作成!$V648&\"\"","v":""}]
[null,"製造能力１","CAS番号",{"$f":"IF($D554=\"有り\",届出・申告書の作成!$V661&\"\",\"\")","v":""},null,"CAS番号",{"$f":"IF($D519=STRING_NOCAS, $D520, $D519)","v":""},{"$f":"BSPLIT($G519,\"-\")","v":{"$error":"#VALUE!"}},{"$error":"#VALUE!"},{"$error":"#VALUE!"},{"$f":"IFERROR($H519,\"\")","v":""},{"$f":"IFERROR($I519,\"\")","v":""},{"$f":"IFERROR($J519,\"\")","v":""}]
[null,null,"CASなし　CAS番号",{"$f":"IF($D554=\"有り\",届出・申告書の作成!$V662&\"\",\"\")","v":""},null,"物質ID",{"$f":"IF($D519=STRING_NOCAS, 0, IFERROR(VLOOKUP($D519,LIST!$BB$6:$BG$500,2,FALSE), 0))","v":0}]
[null,null,"物質名称",{"$f":"IF($D554=\"有り\",届出・申告書の作成!$V663&\"\",\"\")","v":""},null,null,null,"文字列(DB decimal(6,2))","文字列(帳票)"]
[null,null,"能力\n(kg／年）",{"$f":"IF($D554=\"有り\",届出・申告書の作成!$V664,0)","v":0},null,"トン換算・有効3桁",{"$f":"IF($G519 = \"\", \"\", IF($D522=0,0,ROUND(ROUND($D522/1000,2-INT(LOG(ABS($D522/1000)))), 2)))","v":""},{"$f":"IF($G522=\"\",\"\",IF($G522=0,\"0\"&\"\",TEXT($G522,VLOOKUP(INT(LOG10($G522)),LIST!$I$5:$M$100,2))))","v":""},{"$f":"IF($G522=\"\",\"\",IF($G522=0,\"0\"&\"\",TEXT($G522,VLOOKUP(INT(LOG10($G522)),LIST!$I$5:$M$100,5))))","v":""}]
[null,null,"生産能力の計算方法",{"$f":"IF($D554=\"有り\",届出・申告書の作成!$V665&\"\",\"\")","v":""},null,"生産能力の計算方法",{"$f":"TEXT(IFERROR(VLOOKUP($D523,LIST!$AB$5:$AC$100,2,FALSE), \"\"), \"@\")","v":""}]
[null,"製造能力２","CAS番号",{"$f":"IF($D554=\"有り\",届出・申告書の作成!$V666&\"\",\"\")","v":""},null,"CAS番号",{"$f":"IF($D524=STRING_NOCAS, $D525, $D524)","v":""},{"$f":"BSPLIT($G524,\"-\")","v":{"$error":"#VALUE!"}},{"$error":"#VALUE!"},{"$error":"#VALUE!"},{"$f":"IFERROR($H524,\"\")","v":""},{"$f":"IFERROR($I524,\"\")","v":""},{"$f":"IFERROR($J524,\"\")","v":""}]
[null,null,"CASなし　CAS番号",{"$f":"IF($D554=\"有り\",届出・申告書の作成!$V667&\"\",\"\")","v":""},null,"物質ID",{"$f":"IF($D524=STRING_NOCAS, 0, IFERROR(VLOOKUP($D524,LIST!$BB$6:$BG$500,2,FALSE), 0))","v":0}]
[null,null,"物質名称",{"$f":"IF($D554=\"有り\",届出・申告書の作成!$V668&\"\",\"\")","v":""},null,null,null,"文字列(DB decimal(6,2))","文字列(帳票)"]
[null,null,"能力\n(kg／年）",{"$f":"IF($D554=\"有り\",届出・申告書の作成!$V669,0)","v":0},null,"トン換算・有効3桁",{"$f":"IF($G524 = \"\", \"\", IF($D527=0,0,ROUND(ROUND($D527/1000,2-INT(LOG(ABS($D527/1000)))), 2)))","v":""},{"$f":"IF($G527=\"\",\"\",IF($G527=0,\"0\"&\"\",TEXT($G527,VLOOKUP(INT(LOG10($G527)),LIST!$I$5:$M$100,2))))","v":""},{"$f":"IF($G527=\"\",\"\",IF($G527=0,\"0\"&\"\",TEXT($G527,VLOOKUP(INT(LOG10($G527)),LIST!$I$5:$M$100,5))))","v":""}]
[null,null,"生産能力の計算方法",{"$f":"IF($D554=\"有り\",届出・申告書の作成!$V670&\"\",\"\")","v":""},null,"生産能力の計算方法",{"$f":"TEXT(IFERROR(VLOOKUP($D528,LIST!$AB$5:$AC$100,2,FALSE), \"\"), \"@\")","v":""}]
[null,"製造能力３","CAS番号",{"$f":"IF($D554=\"有り\",届出・申告書の作成!$V671&\"\",\"\")","v":""},null,"CAS番号",{"$f":"IF($D529=STRING_NOCAS, $D530, $D529)","v":""},{"$f":"BSPLIT($G529,\"-\")","v":{"$error":"#VALUE!"}},{"$error":"#VALUE!"},{"$error":"#VALUE!"},{"$f":"IFERROR($H529,\"\")","v":""},{"$f":"IFERROR($I529,\"\")","v":""},{"$f":"IFERROR($J529,\"\")","v":""}]
[null,null,"CASなし　CAS番号",{"$f":"IF($D554=\"有り\",届出・申告書の作成!$V672&\"\",\"\")","v":""},null,"物質ID",{"$f":"IF($D529=STRING_NOCAS, 0, IFERROR(VLOOKUP($D529,LIST!$BB$6:$BG$500,2,FALSE), 0))","v":0}]
[null,null,"物質名称",{"$f":"IF($D554=\"有り\",届出・申告書の作成!$V673&\"\",\"\")","v":""},null,null,null,"文字列(DB decimal(6,2))","文字列(帳票)"]
[null,null,"能力\n(kg／年）",{"$f":"IF($D554=\"有り\",届出・申告書の作成!$V674,0)","v":0},null,"トン換算・有効3桁",{"$f":"IF($G529 = \"\", \"\", IF($D532=0,0,ROUND(ROUND($D532/1000,2-INT(LOG(ABS($D532/1000)))), 2)))","v":""},{"$f":"IF($G532=\"\",\"\",IF($G532=0,\"0\"&\"\",TEXT($G532,VLOOKUP(INT(LOG10($G532)),LIST!$I$5:$M$100,2))))","v":""},{"$f":"IF($G532=\"\",\"\",IF($G532=0,\"0\"&\"\",TEXT($G532,VLOOKUP(INT(LOG10($G532)),LIST!$I$5:$M$100,5))))","v":""}]
[null,null,"生産能力の計算方法",{"$f":"IF($D554=\"有り\",届出・申告書の作成!$V675&\"\",\"\")","v":""},null,"生産能力の計算方法",{"$f":"TEXT(IFERROR(VLOOKUP($D533,LIST!$AB$5:$AC$100,2,FALSE), \"\"), \"@\")","v":""}]
[null,"製造能力４","CAS番号",{"$f":"IF($D554=\"有り\",届出・申告書の作成!$V676&\"\",\"\")","v":""},null,"CAS番号",{"$f":"IF($D534=STRING_NOCAS, $D535, $D534)","v":""},{"$f":"BSPLIT($G534,\"-\")","v":{"$error":"#VALUE!"}},{"$error":"#VALUE!"},{"$error":"#VALUE!"},{"$f":"IFERROR($H534,\"\")","v":""},{"$f":"IFERROR($I534,\"\")","v":""},{"$f":"IFERROR($J534,\"\")","v":""}]
[null,null,"CASなし　CAS番号",{"$f":"IF($D554=\"有り\",届出・申告書の作成!$V677&\"\",\"\")","v":""},null,"物質ID",{"$f":"IF($D534=STRING_NOCAS, 0, IFERROR(VLOOKUP($D534,LIST!$BB$6:$BG$500,2,FALSE), 0))","v":0}]
[null,null,"物質名称",{"$f":"IF($D554=\"有り\",届出・申告書の作成!$V678&\"\",\"\")","v":""},null,null,null,"文字列(DB decimal(6,2))","文字列(帳票)"]
[null,null,"能力\n(kg／年）",{"$f":"IF($D554=\"有り\",届出・申告書の作成!$V679,0)","v":0},null,"トン換算・有効3桁",{"$f":"IF($G534 = \"\", \"\", IF($D537=0,0,ROUND(ROUND($D537/1000,2-INT(LOG(ABS($D537/1000)))), 2)))","v":""},{"$f":"IF($G537=\"\",\"\",IF($G537=0,\"0\"&\"\",TEXT($G537,VLOOKUP(INT(LOG10($G537)),LIST!$I$5:$M$100,2))))","v":""},{"$f":"IF($G537=\"\",\"\",IF($G537=0,\"0\"&\"\",TEXT($G537,VLOOKUP(INT(LOG10($G537)),LIST!$I$5:$M$100,5))))","v":""}]
[null,null,"生産能力の計算方法",{"$f":"IF($D554=\"有り\",届出・申告書の作成!$V680&\"\",\"\")","v":""},null,"生産能力の計算方法",{"$f":"TEXT(IFERROR(VLOOKUP($D538,LIST!$AB$5:$AC$100,2,FALSE), \"\"), \"@\")","v":""}]
[null,"製造能力５","CAS番号",{"$f":"IF($D554=\"有り\",届出・申告書の作成!$V681&\"\",\"\")","v":""},null,"CAS番号",{"$f":"IF($D539=STRING_NOCAS, $D540, $D539)","v":""},{"$f":"BSPLIT($G539,\"-\")","v":{"$error":"#VALUE!"}},{"$error":"#VALUE!"},{"$error":"#VALUE!"},{"$f":"IFERROR($H539,\"\")","v":""},{"$f":"IFERROR($I539,\"\")","v":""},{"$f":"IFERROR($J539,\"\")","v":""}]
[null,null,"CASなし　CAS番号",{"$f":"IF($D554=\"有り\",届出・申告書の作成!$V682&\"\",\"\")","v":""},null,"物質ID",{"$f":"IF($D539=STRING_NOCAS, 0, IFERROR(VLOOKUP($D539,LIST!$BB$6:$BG$500,2,FALSE), 0))","v":0}]
[null,null,"物質名称",{"$f":"IF($D554=\"有り\",届出・申告書の作成!$V683&\"\",\"\")","v":""},null,null,null,"文字列(DB decimal(6,2))","文字列(帳票)"]
[null,null,"能力\n(kg／年）",{"$f":"IF($D554=\"有り\",届出・申告書の作成!$V684,0)","v":0},null,"トン換算・有効3桁",{"$f":"IF($G539 = \"\", \"\", IF($D542=0,0,ROUND(ROUND($D542/1000,2-INT(LOG(ABS($D542/1000)))), 2)))","v":""},{"$f":"IF($G542=\"\",\"\",IF($G542=0,\"0\"&\"\",TEXT($G542,VLOOKUP(INT(LOG10($G542)),LIST!$I$5:$M$100,2))))","v":""},{"$f":"IF($G542=\"\",\"\",IF($G542=0,\"0\"&\"\",TEXT($G542,VLOOKUP(INT(LOG10($G542)),LIST!$I$5:$M$100,5))))","v":""}]
[null,null,"生産能力の計算方法",{"$f":"IF($D554=\"有り\",届出・申告書の作成!$V685&\"\",\"\")","v":""},null,"生産能力の計算方法",{"$f":"TEXT(IFERROR(VLOOKUP($D543,LIST!$AB$5:$AC$100,2,FALSE), \"\"), \"@\")","v":""}]
[null,"製造能力６","CAS番号",{"$f":"IF($D554=\"有り\",届出・申告書の作成!$V686&\"\",\"\")","v":""},null,"CAS番号",{"$f":"IF($D544=STRING_NOCAS, $D545, $D544)","v":""},{"$f":"BSPLIT($G544,\"-\")","v":{"$error":"#VALUE!"}},{"$error":"#VALUE!"},{"$error":"#VALUE!"},{"$f":"IFERROR($H544,\"\")","v":""},{"$f":"IFERROR($I544,\"\")","v":""},{"$f":"IFERROR($J544,\"\")","v":""}]
[null,null,"CASなし　CAS番号",{"$f":"IF($D554=\"有り\",届出・申告書の作成!$V687&\"\",\"\")","v":""},null,"物質ID",{"$f":"IF($D544=STRING_NOCAS, 0, IFERROR(VLOOKUP($D544,LIST!$BB$6:$BG$500,2,FALSE), 0))","v":0}]
[null,null,"物質名称",{"$f":"IF($D554=\"有り\",届出・申告書の作成!$V688&\"\",\"\")","v":""},null,null,null,"文字列(DB decimal(6,2))","文字列(帳票)"]
[null,null,"能力\n(kg／年）",{"$f":"IF($D554=\"有り\",届出・申告書の作成!$V689,0)","v":0},null,"トン換算・有効3桁",{"$f":"IF($G544 = \"\", \"\", IF($D547=0,0,ROUND(ROUND($D547/1000,2-INT(LOG(ABS($D547/1000)))), 2)))","v":""},{"$f":"IF($G547=\"\",\"\",IF($G547=0,\"0\"&\"\",TEXT($G547,VLOOKUP(INT(LOG10($G547)),LIST!$I$5:$M$100,2))))","v":""},{"$f":"IF($G547=\"\",\"\",IF($G547=0,\"0\"&\"\",TEXT($G547,VLOOKUP(INT(LOG10($G547)),LIST!$I$5:$M$100,5))))","v":""}]
[null,null,"生産能力の計算方法",{"$f":"IF($D554=\"有り\",届出・申告書の作成!$V690&\"\",\"\")","v":""},null,"生産能力の計算方法",{"$f":"TEXT(IFERROR(VLOOKUP($D548,LIST!$AB$5:$AC$100,2,FALSE), \"\"), \"@\")","v":""}]
[null,"施設の主要な活動",1,{"$f":"届出・申告書の作成!$V649&\"\"","v":""},null,1,{"$f":"$D549","v":""},{"$f":"TRIM($G549)","v":""}]
[]
[]
[]
[]
[null,"プラントの活動内容","生産",{"$f":"届出・申告書の作成!$V654&\"\"","v":""},null,"生産（コード）",{"$f":"TEXT(IFERROR(VLOOKUP($D554,LIST!$AD$5:$AE$100,2,FALSE), \"\"), \"@\")","v":""}]
[null,null,"加工",{"$f":"届出・申告書の作成!$V655&\"\"","v":""},null,"加工（コード）",{"$f":"TEXT(IFERROR(VLOOKUP($D555,LIST!$AD$5:$AE$100,2,FALSE), \"\"), \"@\")","v":""}]
[null,null,"消費",{"$f":"届出・申告書の作成!$V656&\"\"","v":""},null,"消費（コード）",{"$f":"TEXT(IFERROR(VLOOKUP($D556,LIST!$AD$5:$AE$100,2,FALSE), \"\"), \"@\")","v":""}]
[null,null,"施設の専用／多目的の別",{"$f":"届出・申告書の作成!$V657&\"\"","v":""},null,"施設の専用／多目的の別",{"$f":"TEXT(IFERROR(VLOOKUP($D557,LIST!$AF$5:$AG$100,2,FALSE), \"\"), \"@\")","v":""}]
[null,null,"その他の活動(1)",{"$f":"届出・申告書の作成!$V658&\"\"","v":""},null,"その他の活動(1)",{"$f":"TEXT(IFERROR(VLOOKUP($D558,LIST!$AH$5:$AI$100,2,FALSE), \"\"), \"@\")","v":""},{"$f":"DBCS(MID($G558, 2,2))","v":""},{"$f":"TRIM(CONCATENATE($G558, IF($G559=\"\", \"\", CONCATENATE(\" \", $G559)), IF($G560=\"\", \"\", CONCATENATE(\" \", $G560))))","v":""}]
[null,null,"その他の活動(2)",{"$f":"届出・申告書の作成!$V659&\"\"","v":""},null,"その他の活動(2)",{"$f":"TEXT(IFERROR(VLOOKUP($D559,LIST!$AH$5:$AI$100,2,FALSE), \"\"), \"@\")","v":""},{"$f":"DBCS(MID($G559, 2,2))","v":""}]
[null,null,"その他の活動(３)",{"$f":"届出・申告書の作成!$V660&\"\"","v":""},null,"その他の活動(３)",{"$f":"TEXT(IFERROR(VLOOKUP($D560,LIST!$AH$5:$AI$100,2,FALSE), \"\"), \"@\")","v":""},""]
[]
["施設５","施設名称",null,{"$f":"届出・申告書の作成!$V702&\"\"","v":""}]
[null,"プラントコード",null,{"$f":"届出・申告書の作成!$V703&\"\"","v":""}]
[null,"事業所内の施設の正確な場所",null,{"$f":"届出・申告書の作成!$V704&\"\"","v":""}]
[null,"施設を特定する構造物番号",null,{"$f":"届出・申告書の作成!$V705&\"\"","v":""}]
[null,"施設を特定する建物番号",null,{"$f":"届出・申告書の作成!$V706&\"\"","v":""}]
[null,"施設についての追加的情報",null,{"$f":"届出・申告書の作成!$V707&\"\"","v":""}]
[null,"製造能力１","CAS番号",{"$f":"IF($D603=\"有り\",届出・申告書の作成!$V720&\"\",\"\")","v":""},null,"CAS番号",{"$f":"IF($D568=STRING_NOCAS, $D569, $D568)","v":""},{"$f":"BSPLIT($G568,\"-\")","v":{"$error":"#VALUE!"}},{"$error":"#VALUE!"},{"$error":"#VALUE!"},{"$f":"IFERROR($H568,\"\")","v":""},{"$f":"IFERROR($I568,\"\")","v":""},{"$f":"IFERROR($J568,\"\")","v":""}]
[null,null,"CASなし　CAS番号",{"$f":"IF($D603=\"有り\",届出・申告書の作成!$V721&\"\",\"\")","v":""},null,"物質ID",{"$f":"IF($D568=STRING_NOCAS, 0, IFERROR(VLOOKUP($D568,LIST!$BB$6:$BG$500,2,FALSE), 0))","v":0}]
[null,null,"物質名称",{"$f":"IF($D603=\"有り\",届出・申告書の作成!$V722&\"\",\"\")","v":""},null,null,null,"文字列(DB decimal(6,2))","文字列(帳票)"]
[null,null,"能力\n(kg／年）",{"$f":"IF($D603=\"有り\",届出・申告書の作成!$V723,0)","v":0},null,"トン換算・有効3桁",{"$f":"IF($G568 = \"\", \"\", IF($D571=0,0,ROUND(ROUND($D571/1000,2-INT(LOG(ABS($D571/1000)))), 2)))","v":""},{"$f":"IF($G571=\"\",\"\",IF($G571=0,\"0\"&\"\",TEXT($G571,VLOOKUP(INT(LOG10($G571)),LIST!$I$5:$M$100,2))))","v":""},{"$f":"IF($G571=\"\",\"\",IF($G571=0,\"0\"&\"\",TEXT($G571,VLOOKUP(INT(LOG10($G571)),LIST!$I$5:$M$100,5))))","v":""}]
[null,null,"生産能力の計算方法",{"$f":"IF($D603=\"有り\",届出・申告書の作成!$V724&\"\",\"\")","v":""},null,"生産能力の計算方法",{"$f":"TEXT(IFERROR(VLOOKUP($D572,LIST!$AB$5:$AC$100,2,FALSE), \"\"), \"@\")","v":""}]
[null,"製造能力２","CAS番号",{"$f":"IF($D603=\"有り\",届出・申告書の作成!$V725&\"\",\"\")","v":""},null,"CAS番号",{"$f":"IF($D573=STRING_NOCAS, $D574, $D573)","v":""},{"$f":"BSPLIT($G573,\"-\")","v":{"$error":"#VALUE!"}},{"$error":"#VALUE!"},{"$error":"#VALUE!"},{"$f":"IFERROR($H573,\"\")","v":""},{"$f":"IFERROR($I573,\"\")","v":""},{"$f":"IFERROR($J573,\"\")","v":""}]
[null,null,"CASなし　CAS番号",{"$f":"IF($D603=\"有り\",届出・申告書の作成!$V726&\"\",\"\")","v":""},null,"物質ID",{"$f":"IF($D573=STRING_NOCAS, 0, IFERROR(VLOOKUP($D573,LIST!$BB$6:$BG$500,2,FALSE), 0))","v":0}]
[null,null,"物質名称",{"$f":"IF($D603=\"有り\",届出・申告書の作成!$V727&\"\",\"\")","v":""},null,null,null,"文字列(DB decimal(6,2))","文字列(帳票)"]
[null,null,"能力\n(kg／年）",{"$f":"IF($D603=\"有り\",届出・申告書の作成!$V728,0)","v":0},null,"トン換算・有効3桁",{"$f":"IF($G573 = \"\", \"\", IF($D576=0,0,ROUND(ROUND($D576/1000,2-INT(LOG(ABS($D576/1000)))), 2)))","v":""},{"$f":"IF($G576=\"\",\"\",IF($G576=0,\"0\"&\"\",TEXT($G576,VLOOKUP(INT(LOG10($G576)),LIST!$I$5:$M$100,2))))","v":""},{"$f":"IF($G576=\"\",\"\",IF($G576=0,\"0\"&\"\",TEXT($G576,VLOOKUP(INT(LOG10($G576)),LIST!$I$5:$M$100,5))))","v":""}]
[null,null,"生産能力の計算方法",{"$f":"IF($D603=\"有り\",届出・申告書の作成!$V729&\"\",\"\")","v":""},null,"生産能力の計算方法",{"$f":"TEXT(IFERROR(VLOOKUP($D577,LIST!$AB$5:$AC$100,2,FALSE), \"\"), \"@\")","v":""}]
[null,"製造能力３","CAS番号",{"$f":"IF($D603=\"有り\",届出・申告書の作成!$V730&\"\",\"\")","v":""},null,"CAS番号",{"$f":"IF($D578=STRING_NOCAS, $D579, $D578)","v":""},{"$f":"BSPLIT($G578,\"-\")","v":{"$error":"#VALUE!"}},{"$error":"#VALUE!"},{"$error":"#VALUE!"},{"$f":"IFERROR($H578,\"\")","v":""},{"$f":"IFERROR($I578,\"\")","v":""},{"$f":"IFERROR($J578,\"\")","v":""}]
[null,null,"CASなし　CAS番号",{"$f":"IF($D603=\"有り\",届出・申告書の作成!$V731&\"\",\"\")","v":""},null,"物質ID",{"$f":"IF($D578=STRING_NOCAS, 0, IFERROR(VLOOKUP($D578,LIST!$BB$6:$BG$500,2,FALSE), 0))","v":0}]
[null,null,"物質名称",{"$f":"IF($D603=\"有り\",届出・申告書の作成!$V732&\"\",\"\")","v":""},null,null,null,"文字列(DB decimal(6,2))","文字列(帳票)"]
[null,null,"能力\n(kg／年）",{"$f":"IF($D603=\"有り\",届出・申告書の作成!$V733,0)","v":0},null,"トン換算・有効3桁",{"$f":"IF($G578 = \"\", \"\", IF($D581=0,0,ROUND(ROUND($D581/1000,2-INT(LOG(ABS($D581/1000)))), 2)))","v":""},{"$f":"IF($G581=\"\",\"\",IF($G581=0,\"0\"&\"\",TEXT($G581,VLOOKUP(INT(LOG10($G581)),LIST!$I$5:$M$100,2))))","v":""},{"$f":"IF($G581=\"\",\"\",IF($G581=0,\"0\"&\"\",TEXT($G581,VLOOKUP(INT(LOG10($G581)),LIST!$I$5:$M$100,5))))","v":""}]
[null,null,"生産能力の計算方法",{"$f":"IF($D603=\"有り\",届出・申告書の作成!$V734&\"\",\"\")","v":""},null,"生産能力の計算方法",{"$f":"TEXT(IFERROR(VLOOKUP($D582,LIST!$AB$5:$AC$100,2,FALSE), \"\"), \"@\")","v":""}]
[null,"製造能力４","CAS番号",{"$f":"IF($D603=\"有り\",届出・申告書の作成!$V735&\"\",\"\")","v":""},null,"CAS番号",{"$f":"IF($D583=STRING_NOCAS, $D584, $D583)","v":""},{"$f":"BSPLIT($G583,\"-\")","v":{"$error":"#VALUE!"}},{"$error":"#VALUE!"},{"$error":"#VALUE!"},{"$f":"IFERROR($H583,\"\")","v":""},{"$f":"IFERROR($I583,\"\")","v":""},{"$f":"IFERROR($J583,\"\")","v":""}]
[null,null,"CASなし　CAS番号",{"$f":"IF($D603=\"有り\",届出・申告書の作成!$V736&\"\",\"\")","v":""},null,"物質ID",{"$f":"IF($D583=STRING_NOCAS, 0, IFERROR(VLOOKUP($D583,LIST!$BB$6:$BG$500,2,FALSE), 0))","v":0}]
[null,null,"物質名称",{"$f":"IF($D603=\"有り\",届出・申告書の作成!$V737&\"\",\"\")","v":""},null,null,null,"文字列(DB decimal(6,2))","文字列(帳票)"]
[null,null,"能力\n(kg／年）",{"$f":"IF($D603=\"有り\",届出・申告書の作成!$V738,0)","v":0},null,"トン換算・有効3桁",{"$f":"IF($G583 = \"\", \"\", IF($D586=0,0,ROUND(ROUND($D586/1000,2-INT(LOG(ABS($D586/1000)))), 2)))","v":""},{"$f":"IF($G586=\"\",\"\",IF($G586=0,\"0\"&\"\",TEXT($G586,VLOOKUP(INT(LOG10($G586)),LIST!$I$5:$M$100,2))))","v":""},{"$f":"IF($G586=\"\",\"\",IF($G586=0,\"0\"&\"\",TEXT($G586,VLOOKUP(INT(LOG10($G586)),LIST!$I$5:$M$100,5))))","v":""}]
[null,null,"生産能力の計算方法",{"$f":"IF($D603=\"有り\",届出・申告書の作成!$V739&\"\",\"\")","v":""},null,"生産能力の計算方法",{"$f":"TEXT(IFERROR(VLOOKUP($D587,LIST!$AB$5:$AC$100,2,FALSE), \"\"), \"@\")","v":""}]
[null,"製造能力５","CAS番号",{"$f":"IF($D603=\"有り\",届出・申告書の作成!$V740&\"\",\"\")","v":""},null,"CAS番号",{"$f":"IF($D588=STRING_NOCAS, $D589, $D588)","v":""},{"$f":"BSPLIT($G588,\"-\")","v":{"$error":"#VALUE!"}},{"$error":"#VALUE!"},{"$error":"#VALUE!"},{"$f":"IFERROR($H588,\"\")","v":""},{"$f":"IFERROR($I588,\"\")","v":""},{"$f":"IFERROR($J588,\"\")","v":""}]
[null,null,"CASなし　CAS番号",{"$f":"IF($D603=\"有り\",届出・申告書の作成!$V741&\"\",\"\")","v":""},null,"物質ID",{"$f":"IF($D588=STRING_NOCAS, 0, IFERROR(VLOOKUP($D588,LIST!$BB$6:$BG$500,2,FALSE), 0))","v":0}]
[null,null,"物質名称",{"$f":"IF($D603=\"有り\",届出・申告書の作成!$V742&\"\",\"\")","v":""},null,null,null,"文字列(DB decimal(6,2))","文字列(帳票)"]
[null,null,"能力\n(kg／年）",{"$f":"IF($D603=\"有り\",届出・申告書の作成!$V743,0)","v":0},null,"トン換算・有効3桁",{"$f":"IF($G588 = \"\", \"\", IF($D591=0,0,ROUND(ROUND($D591/1000,2-INT(LOG(ABS($D591/1000)))), 2)))","v":""},{"$f":"IF($G591=\"\",\"\",IF($G591=0,\"0\"&\"\",TEXT($G591,VLOOKUP(INT(LOG10($G591)),LIST!$I$5:$M$100,2))))","v":""},{"$f":"IF($G591=\"\",\"\",IF($G591=0,\"0\"&\"\",TEXT($G591,VLOOKUP(INT(LOG10($G591)),LIST!$I$5:$M$100,5))))","v":""}]
[null,null,"生産能力の計算方法",{"$f":"IF($D603=\"有り\",届出・申告書の作成!$V744&\"\",\"\")","v":""},null,"生産能力の計算方法",{"$f":"TEXT(IFERROR(VLOOKUP($D592,LIST!$AB$5:$AC$100,2,FALSE), \"\"), \"@\")","v":""}]
[null,"製造能力６","CAS番号",{"$f":"IF($D603=\"有り\",届出・申告書の作成!$V745&\"\",\"\")","v":""},null,"CAS番号",{"$f":"IF($D593=STRING_NOCAS, $D594, $D593)","v":""},{"$f":"BSPLIT($G593,\"-\")","v":{"$error":"#VALUE!"}},{"$error":"#VALUE!"},{"$error":"#VALUE!"},{"$f":"IFERROR($H593,\"\")","v":""},{"$f":"IFERROR($I593,\"\")","v":""},{"$f":"IFERROR($J593,\"\")","v":""}]
[null,null,"CASなし　CAS番号",{"$f":"IF($D603=\"有り\",届出・申告書の作成!$V746&\"\",\"\")","v":""},null,"物質ID",{"$f":"IF($D593=STRING_NOCAS, 0, IFERROR(VLOOKUP($D593,LIST!$BB$6:$BG$500,2,FALSE), 0))","v":0}]
[null,null,"物質名称",{"$f":"IF($D603=\"有り\",届出・申告書の作成!$V747&\"\",\"\")","v":""},null,null,null,"文字列(DB decimal(6,2))","文字列(帳票)"]
[null,null,"能力\n(kg／年）",{"$f":"IF($D603=\"有り\",届出・申告書の作成!$V748,0)","v":0},null,"トン換算・有効3桁",{"$f":"IF($G593 = \"\", \"\", IF($D596=0,0,ROUND(ROUND($D596/1000,2-INT(LOG(ABS($D596/1000)))), 2)))","v":""},{"$f":"IF($G596=\"\",\"\",IF($G596=0,\"0\"&\"\",TEXT($G596,VLOOKUP(INT(LOG10($G596)),LIST!$I$5:$M$100,2))))","v":""},{"$f":"IF($G596=\"\",\"\",IF($G596=0,\"0\"&\"\",TEXT($G596,VLOOKUP(INT(LOG10($G596)),LIST!$I$5:$M$100,5))))","v":""}]
[null,null,"生産能力の計算方法",{"$f":"IF($D603=\"有り\",届出・申告書の作成!$V749&\"\",\"\")","v":""},null,"生産能力の計算方法",{"$f":"TEXT(IFERROR(VLOOKUP($D597,LIST!$AB$5:$AC$100,2,FALSE), \"\"), \"@\")","v":""}]
[null,"施設の主要な活動",1,{"$f":"届出・申告書の作成!$V708&\"\"","v":""},null,1,{"$f":"$D598","v":""},{"$f":"TRIM($G598)","v":""}]
[]
[]
[]
[]
[null,"プラントの活動内容","生産",{"$f":"届出・申告書の作成!$V713&\"\"","v":""},null,"生産（コード）",{"$f":"TEXT(IFERROR(VLOOKUP($D603,LIST!$AD$5:$AE$100,2,FALSE), \"\"), \"@\")","v":""}]
[null,null,"加工",{"$f":"届出・申告書の作成!$V714&\"\"","v":""},null,"加工（コード）",{"$f":"TEXT(IFERROR(VLOOKUP($D604,LIST!$AD$5:$AE$100,2,FALSE), \"\"), \"@\")","v":""}]
[null,null,"消費",{"$f":"届出・申告書の作成!$V715&\"\"","v":""},null,"消費（コード）",{"$f":"TEXT(IFERROR(VLOOKUP($D605,LIST!$AD$5:$AE$100,2,FALSE), \"\"), \"@\")","v":""}]
[null,null,"施設の専用／多目的の別",{"$f":"届出・申告書の作成!$V716&\"\"","v":""},null,"施設の専用／多目的の別",{"$f":"TEXT(IFERROR(VLOOKUP($D606,LIST!$AF$5:$AG$100,2,FALSE), \"\"), \"@\")","v":""}]
[null,null,"その他の活動(1)",{"$f":"届出・申告書の作成!$V717&\"\"","v":""},null,"その他の活動(1)",{"$f":"TEXT(IFERROR(VLOOKUP($D607,LIST!$AH$5:$AI$100,2,FALSE), \"\"), \"@\")","v":""},{"$f":"DBCS(MID($G607, 2,2))","v":""},{"$f":"TRIM(CONCATENATE($G607, IF($G608=\"\", \"\", CONCATENATE(\" \", $G608)), IF($G609=\"\", \"\", CONCATENATE(\" \", $G609))))","v":""}]
[null,null,"その他の活動(2)",{"$f":"届出・申告書の作成!$V718&\"\"","v":""},null,"その他の活動(2)",{"$f":"TEXT(IFERROR(VLOOKUP($D608,LIST!$AH$5:$AI$100,2,FALSE), \"\"), \"@\")","v":""},{"$f":"DBCS(MID($G608, 2,2))","v":""}]
[null,null,"その他の活動(３)",{"$f":"届出・申告書の作成!$V719&\"\"","v":""},null,"その他の活動(３)",{"$f":"TEXT(IFERROR(VLOOKUP($D609,LIST!$AH$5:$AI$100,2,FALSE), \"\"), \"@\")","v":""},""]
[]
["施設６","施設名称",null,{"$f":"届出・申告書の作成!$V761&\"\"","v":""}]
[null,"プラントコード",null,{"$f":"届出・申告書の作成!$V762&\"\"","v":""}]
[null,"事業所内の施設の正確な場所",null,{"$f":"届出・申告書の作成!$V763&\"\"","v":""}]
[null,"施設を特定する構造物番号",null,{"$f":"届出・申告書の作成!$V764&\"\"","v":""}]
[null,"施設を特定する建物番号",null,{"$f":"届出・申告書の作成!$V765&\"\"","v":""}]
[null,"施設についての追加的情報",null,{"$f":"届出・申告書の作成!$V766&\"\"","v":""}]
[null,"製造能力１","CAS番号",{"$f":"IF($D652=\"有り\",届出・申告書の作成!$V779&\"\",\"\")","v":""},null,"CAS番号",{"$f":"IF($D617=STRING_NOCAS, $D618, $D617)","v":""},{"$f":"BSPLIT($G617,\"-\")","v":{"$error":"#VALUE!"}},{"$error":"#VALUE!"},{"$error":"#VALUE!"},{"$f":"IFERROR($H617,\"\")","v":""},{"$f":"IFERROR($I617,\"\")","v":""},{"$f":"IFERROR($J617,\"\")","v":""}]
[null,null,"CASなし　CAS番号",{"$f":"IF($D652=\"有り\",届出・申告書の作成!$V780&\"\",\"\")","v":""},null,"物質ID",{"$f":"IF($D617=STRING_NOCAS, 0, IFERROR(VLOOKUP($D617,LIST!$BB$6:$BG$500,2,FALSE), 0))","v":0}]
[null,null,"物質名称",{"$f":"IF($D652=\"有り\",届出・申告書の作成!$V781&\"\",\"\")","v":""},null,null,null,"文字列(DB decimal(6,2))","文字列(帳票)"]
[null,null,"能力\n(kg／年）",{"$f":"IF($D652=\"有り\",届出・申告書の作成!$V782,0)","v":0},null,"トン換算・有効3桁",{"$f":"IF($G617 = \"\", \"\", IF($D620=0,0,ROUND(ROUND($D620/1000,2-INT(LOG(ABS($D620/1000)))), 2)))","v":""},{"$f":"IF($G620=\"\",\"\",IF($G620=0,\"0\"&\"\",TEXT($G620,VLOOKUP(INT(LOG10($G620)),LIST!$I$5:$M$100,2))))","v":""},{"$f":"IF($G620=\"\",\"\",IF($G620=0,\"0\"&\"\",TEXT($G620,VLOOKUP(INT(LOG10($G620)),LIST!$I$5:$M$100,5))))","v":""}]
[null,null,"生産能力の計算方法",{"$f":"IF($D652=\"有り\",届出・申告書の作成!$V783&\"\",\"\")","v":""},null,"生産能力の計算方法",{"$f":"TEXT(IFERROR(VLOOKUP($D621,LIST!$AB$5:$AC$100,2,FALSE), \"\"), \"@\")","v":""}]
[null,"製造能力２","CAS番号",{"$f":"IF($D652=\"有り\",届出・申告書の作成!$V784&\"\",\"\")","v":""},null,"CAS番号",{"$f":"IF($D622=STRING_NOCAS, $D623, $D622)","v":""},{"$f":"BSPLIT($G622,\"-\")","v":{"$error":"#VALUE!"}},{"$error":"#VALUE!"},{"$error":"#VALUE!"},{"$f":"IFERROR($H622,\"\")","v":""},{"$f":"IFERROR($I622,\"\")","v":""},{"$f":"IFERROR($J622,\"\")","v":""}]
[null,null,"CASなし　CAS番号",{"$f":"IF($D652=\"有り\",届出・申告書の作成!$V785&\"\",\"\")","v":""},null,"物質ID",{"$f":"IF($D622=STRING_NOCAS, 0, IFERROR(VLOOKUP($D622,LIST!$BB$6:$BG$500,2,FALSE), 0))","v":0}]
[null,null,"物質名称",{"$f":"IF($D652=\"有り\",届出・申告書の作成!$V786&\"\",\"\")","v":""},null,null,null,"文字列(DB decimal(6,2))","文字列(帳票)"]
[null,null,"能力\n(kg／年）",{"$f":"IF($D652=\"有り\",届出・申告書の作成!$V787,0)","v":0},null,"トン換算・有効3桁",{"$f":"IF($G622 = \"\", \"\", IF($D625=0,0,ROUND(ROUND($D625/1000,2-INT(LOG(ABS($D625/1000)))), 2)))","v":""},{"$f":"IF($G625=\"\",\"\",IF($G625=0,\"0\"&\"\",TEXT($G625,VLOOKUP(INT(LOG10($G625)),LIST!$I$5:$M$100,2))))","v":""},{"$f":"IF($G625=\"\",\"\",IF($G625=0,\"0\"&\"\",TEXT($G625,VLOOKUP(INT(LOG10($G625)),LIST!$I$5:$M$100,5))))","v":""}]
[null,null,"生産能力の計算方法",{"$f":"IF($D652=\"有り\",届出・申告書の作成!$V788&\"\",\"\")","v":""},null,"生産能力の計算方法",{"$f":"TEXT(IFERROR(VLOOKUP($D626,LIST!$AB$5:$AC$100,2,FALSE), \"\"), \"@\")","v":""}]
[null,"製造能力３","CAS番号",{"$f":"IF($D652=\"有り\",届出・申告書の作成!$V789&\"\",\"\")","v":""},null,"CAS番号",{"$f":"IF($D627=STRING_NOCAS, $D628, $D627)","v":""},{"$f":"BSPLIT($G627,\"-\")","v":{"$error":"#VALUE!"}},{"$error":"#VALUE!"},{"$error":"#VALUE!"},{"$f":"IFERROR($H627,\"\")","v":""},{"$f":"IFERROR($I627,\"\")","v":""},{"$f":"IFERROR($J627,\"\")","v":""}]
[null,null,"CASなし　CAS番号",{"$f":"IF($D652=\"有り\",届出・申告書の作成!$V790&\"\",\"\")","v":""},null,"物質ID",{"$f":"IF($D627=STRING_NOCAS, 0, IFERROR(VLOOKUP($D627,LIST!$BB$6:$BG$500,2,FALSE), 0))","v":0}]
[null,null,"物質名称",{"$f":"IF($D652=\"有り\",届出・申告書の作成!$V791&\"\",\"\")","v":""},null,null,null,"文字列(DB decimal(6,2))","文字列(帳票)"]
[null,null,"能力\n(kg／年）",{"$f":"IF($D652=\"有り\",届出・申告書の作成!$V792,0)","v":0},null,"トン換算・有効3桁",{"$f":"IF($G627 = \"\", \"\", IF($D630=0,0,ROUND(ROUND($D630/1000,2-INT(LOG(ABS($D630/1000)))), 2)))","v":""},{"$f":"IF($G630=\"\",\"\",IF($G630=0,\"0\"&\"\",TEXT($G630,VLOOKUP(INT(LOG10($G630)),LIST!$I$5:$M$100,2))))","v":""},{"$f":"IF($G630=\"\",\"\",IF($G630=0,\"0\"&\"\",TEXT($G630,VLOOKUP(INT(LOG10($G630)),LIST!$I$5:$M$100,5))))","v":""}]
[null,null,"生産能力の計算方法",{"$f":"IF($D652=\"有り\",届出・申告書の作成!$V793&\"\",\"\")","v":""},null,"生産能力の計算方法",{"$f":"TEXT(IFERROR(VLOOKUP($D631,LIST!$AB$5:$AC$100,2,FALSE), \"\"), \"@\")","v":""}]
[null,"製造能力４","CAS番号",{"$f":"IF($D652=\"有り\",届出・申告書の作成!$V794&\"\",\"\")","v":""},null,"CAS番号",{"$f":"IF($D632=STRING_NOCAS, $D633, $D632)","v":""},{"$f":"BSPLIT($G632,\"-\")","v":{"$error":"#VALUE!"}},{"$error":"#VALUE!"},{"$error":"#VALUE!"},{"$f":"IFERROR($H632,\"\")","v":""},{"$f":"IFERROR($I632,\"\")","v":""},{"$f":"IFERROR($J632,\"\")","v":""}]
[null,null,"CASなし　CAS番号",{"$f":"IF($D652=\"有り\",届出・申告書の作成!$V795&\"\",\"\")","v":""},null,"物質ID",{"$f":"IF($D632=STRING_NOCAS, 0, IFERROR(VLOOKUP($D632,LIST!$BB$6:$BG$500,2,FALSE), 0))","v":0}]
[null,null,"物質名称",{"$f":"IF($D652=\"有り\",届出・申告書の作成!$V796&\"\",\"\")","v":""},null,null,null,"文字列(DB decimal(6,2))","文字列(帳票)"]
[null,null,"能力\n(kg／年）",{"$f":"IF($D652=\"有り\",届出・申告書の作成!$V797,0)","v":0},null,"トン換算・有効3桁",{"$f":"IF($G632 = \"\", \"\", IF($D635=0,0,ROUND(ROUND($D635/1000,2-INT(LOG(ABS($D635/1000)))), 2)))","v":""},{"$f":"IF($G635=\"\",\"\",IF($G635=0,\"0\"&\"\",TEXT($G635,VLOOKUP(INT(LOG10($G635)),LIST!$I$5:$M$100,2))))","v":""},{"$f":"IF($G635=\"\",\"\",IF($G635=0,\"0\"&\"\",TEXT($G635,VLOOKUP(INT(LOG10($G635)),LIST!$I$5:$M$100,5))))","v":""}]
[null,null,"生産能力の計算方法",{"$f":"IF($D652=\"有り\",届出・申告書の作成!$V798&\"\",\"\")","v":""},null,"生産能力の計算方法",{"$f":"TEXT(IFERROR(VLOOKUP($D636,LIST!$AB$5:$AC$100,2,FALSE), \"\"), \"@\")","v":""}]
[null,"製造能力５","CAS番号",{"$f":"IF($D652=\"有り\",届出・申告書の作成!$V799&\"\",\"\")","v":""},null,"CAS番号",{"$f":"IF($D637=STRING_NOCAS, $D638, $D637)","v":""},{"$f":"BSPLIT($G637,\"-\")","v":{"$error":"#VALUE!"}},{"$error":"#VALUE!"},{"$error":"#VALUE!"},{"$f":"IFERROR($H637,\"\")","v":""},{"$f":"IFERROR($I637,\"\")","v":""},{"$f":"IFERROR($J637,\"\")","v":""}]
[null,null,"CASなし　CAS番号",{"$f":"IF($D652=\"有り\",届出・申告書の作成!$V800&\"\",\"\")","v":""},null,"物質ID",{"$f":"IF($D637=STRING_NOCAS, 0, IFERROR(VLOOKUP($D637,LIST!$BB$6:$BG$500,2,FALSE), 0))","v":0}]
[null,null,"物質名称",{"$f":"IF($D652=\"有り\",届出・申告書の作成!$V801&\"\",\"\")","v":""},null,null,null,"文字列(DB decimal(6,2))","文字列(帳票)"]
[null,null,"能力\n(kg／年）",{"$f":"IF($D652=\"有り\",届出・申告書の作成!$V802,0)","v":0},null,"トン換算・有効3桁",{"$f":"IF($G637 = \"\", \"\", IF($D640=0,0,ROUND(ROUND($D640/1000,2-INT(LOG(ABS($D640/1000)))), 2)))","v":""},{"$f":"IF($G640=\"\",\"\",IF($G640=0,\"0\"&\"\",TEXT($G640,VLOOKUP(INT(LOG10($G640)),LIST!$I$5:$M$100,2))))","v":""},{"$f":"IF($G640=\"\",\"\",IF($G640=0,\"0\"&\"\",TEXT($G640,VLOOKUP(INT(LOG10($G640)),LIST!$I$5:$M$100,5))))","v":""}]
[null,null,"生産能力の計算方法",{"$f":"IF($D652=\"有り\",届出・申告書の作成!$V803&\"\",\"\")","v":""},null,"生産能力の計算方法",{"$f":"TEXT(IFERROR(VLOOKUP($D641,LIST!$AB$5:$AC$100,2,FALSE), \"\"), \"@\")","v":""}]
[null,"製造能力６","CAS番号",{"$f":"IF($D652=\"有り\",届出・申告書の作成!$V804&\"\",\"\")","v":""},null,"CAS番号",{"$f":"IF($D642=STRING_NOCAS, $D643, $D642)","v":""},{"$f":"BSPLIT($G642,\"-\")","v":{"$error":"#VALUE!"}},{"$error":"#VALUE!"},{"$error":"#VALUE!"},{"$f":"IFERROR($H642,\"\")","v":""},{"$f":"IFERROR($I642,\"\")","v":""},{"$f":"IFERROR($J642,\"\")","v":""}]
[null,null,"CASなし　CAS番号",{"$f":"IF($D652=\"有り\",届出・申告書の作成!$V805&\"\",\"\")","v":""},null,"物質ID",{"$f":"IF($D642=STRING_NOCAS, 0, IFERROR(VLOOKUP($D642,LIST!$BB$6:$BG$500,2,FALSE), 0))","v":0}]
[null,null,"物質名称",{"$f":"IF($D652=\"有り\",届出・申告書の作成!$V806&\"\",\"\")","v":""},null,null,null,"文字列(DB decimal(6,2))","文字列(帳票)"]
[null,null,"能力\n(kg／年）",{"$f":"IF($D652=\"有り\",届出・申告書の作成!$V807,0)","v":0},null,"トン換算・有効3桁",{"$f":"IF($G642 = \"\", \"\", IF($D645=0,0,ROUND(ROUND($D645/1000,2-INT(LOG(ABS($D645/1000)))), 2)))","v":""},{"$f":"IF($G645=\"\",\"\",IF($G645=0,\"0\"&\"\",TEXT($G645,VLOOKUP(INT(LOG10($G645)),LIST!$I$5:$M$100,2))))","v":""},{"$f":"IF($G645=\"\",\"\",IF($G645=0,\"0\"&\"\",TEXT($G645,VLOOKUP(INT(LOG10($G645)),LIST!$I$5:$M$100,5))))","v":""}]
[null,null,"生産能力の計算方法",{"$f":"IF($D652=\"有り\",届出・申告書の作成!$V808&\"\",\"\")","v":""},null,"生産能力の計算方法",{"$f":"TEXT(IFERROR(VLOOKUP($D646,LIST!$AB$5:$AC$100,2,FALSE), \"\"), \"@\")","v":""}]
[null,"施設の主要な活動",1,{"$f":"届出・申告書の作成!$V767&\"\"","v":""},null,1,{"$f":"$D647","v":""},{"$f":"TRIM($G647)","v":""}]
[]
[]
[]
[]
[null,"プラントの活動内容","生産",{"$f":"届出・申告書の作成!$V772&\"\"","v":""},null,"生産（コード）",{"$f":"TEXT(IFERROR(VLOOKUP($D652,LIST!$AD$5:$AE$100,2,FALSE), \"\"), \"@\")","v":""}]
[null,null,"加工",{"$f":"届出・申告書の作成!$V773&\"\"","v":""},null,"加工（コード）",{"$f":"TEXT(IFERROR(VLOOKUP($D653,LIST!$AD$5:$AE$100,2,FALSE), \"\"), \"@\")","v":""}]
[null,null,"消費",{"$f":"届出・申告書の作成!$V774&\"\"","v":""},null,"消費（コード）",{"$f":"TEXT(IFERROR(VLOOKUP($D654,LIST!$AD$5:$AE$100,2,FALSE), \"\"), \"@\")","v":""}]
[null,null,"施設の専用／多目的の別",{"$f":"届出・申告書の作成!$V775&\"\"","v":""},null,"施設の専用／多目的の別",{"$f":"TEXT(IFERROR(VLOOKUP($D655,LIST!$AF$5:$AG$100,2,FALSE), \"\"), \"@\")","v":""}]
[null,null,"その他の活動(1)",{"$f":"届出・申告書の作成!$V776&\"\"","v":""},null,"その他の活動(1)",{"$f":"TEXT(IFERROR(VLOOKUP($D656,LIST!$AH$5:$AI$100,2,FALSE), \"\"), \"@\")","v":""},{"$f":"DBCS(MID($G656, 2,2))","v":""},{"$f":"TRIM(CONCATENATE($G656,IF($G657=\"\",\"\",CONCATENATE(\" \",$G657)),IF($G658=\"\",\"\",CONCATENATE(\" \",$G658))))","v":""}]
[null,null,"その他の活動(2)",{"$f":"届出・申告書の作成!$V777&\"\"","v":""},null,"その他の活動(2)",{"$f":"TEXT(IFERROR(VLOOKUP($D657,LIST!$AH$5:$AI$100,2,FALSE), \"\"), \"@\")","v":""},{"$f":"DBCS(MID($G657, 2,2))","v":""}]
[null,null,"その他の活動(３)",{"$f":"届出・申告書の作成!$V778&\"\"","v":""},null,"その他の活動(３)",{"$f":"TEXT(IFERROR(VLOOKUP($D658,LIST!$AH$5:$AI$100,2,FALSE), \"\"), \"@\")","v":""},{"$f":"DBCS(MID($G658, 2,2))","v":""}]
[]
["施設７","施設名称",null,{"$f":"届出・申告書の作成!$V820&\"\"","v":""}]
[null,"プラントコード",null,{"$f":"届出・申告書の作成!$V821&\"\"","v":""}]
[null,"事業所内の施設の正確な場所",null,{"$f":"届出・申告書の作成!$V822&\"\"","v":""}]
[null,"施設を特定する構造物番号",null,{"$f":"届出・申告書の作成!$V823&\"\"","v":""}]
[null,"施設を特定する建物番号",null,{"$f":"届出・申告書の作成!$V824&\"\"","v":""}]
[null,"施設についての追加的情報",null,{"$f":"届出・申告書の作成!$V825&\"\"","v":""}]
[null,"製造能力１","CAS番号",{"$f":"IF($D701=\"有り\",届出・申告書の作成!$V838&\"\",\"\")","v":""},null,"CAS番号",{"$f":"IF($D666=STRING_NOCAS, $D667, $D666)","v":""},{"$f":"BSPLIT($G666,\"-\")","v":{"$error":"#VALUE!"}},{"$error":"#VALUE!"},{"$error":"#VALUE!"},{"$f":"IFERROR($H666,\"\")","v":""},{"$f":"IFERROR($I666,\"\")","v":""},{"$f":"IFERROR($J666,\"\")","v":""}]
[null,null,"CASなし　CAS番号",{"$f":"IF($D701=\"有り\",届出・申告書の作成!$V839&\"\",\"\")","v":""},null,"物質ID",{"$f":"IF($D666=STRING_NOCAS, 0, IFERROR(VLOOKUP($D666,LIST!$BB$6:$BG$500,2,FALSE), 0))","v":0}]
[null,null,"物質名称",{"$f":"IF($D701=\"有り\",届出・申告書の作成!$V840&\"\",\"\")","v":""},null,null,null,"文字列(DB decimal(6,2))","文字列(帳票)"]
[null,null,"能力\n(kg／年）",{"$f":"IF($D701=\"有り\",届出・申告書の作成!$V841,0)","v":0},null,"トン換算・有効3桁",{"$f":"IF($G666 = \"\", \"\", IF($D669=0,0,ROUND(ROUND($D669/1000,2-INT(LOG(ABS($D669/1000)))), 2)))","v":""},{"$f":"IF($G669=\"\",\"\",IF($G669=0,\"0\"&\"\",TEXT($G669,VLOOKUP(INT(LOG10($G669)),LIST!$I$5:$M$100,2))))","v":""},{"$f":"IF($G669=\"\",\"\",IF($G669=0,\"0\"&\"\",TEXT($G669,VLOOKUP(INT(LOG10($G669)),LIST!$I$5:$M$100,5))))","v":""}]
[null,null,"生産能力の計算方法",{"$f":"IF($D701=\"有り\",届出・申告書の作成!$V842&\"\",\"\")","v":""},null,"生産能力の計算方法",{"$f":"TEXT(IFERROR(VLOOKUP($D670,LIST!$AB$5:$AC$100,2,FALSE), \"\"), \"@\")","v":""}]
[null,"製造能力２","CAS番号",{"$f":"IF($D701=\"有り\",届出・申告書の作成!$V843&\"\",\"\")","v":""},null,"CAS番号",{"$f":"IF($D671=STRING_NOCAS, $D672, $D671)","v":""},{"$f":"BSPLIT($G671,\"-\")","v":{"$error":"#VALUE!"}},{"$error":"#VALUE!"},{"$error":"#VALUE!"},{"$f":"IFERROR($H671,\"\")","v":""},{"$f":"IFERROR($I671,\"\")","v":""},{"$f":"IFERROR($J671,\"\")","v":""}]
[null,null,"CASなし　CAS番号",{"$f":"IF($D701=\"有り\",届出・申告書の作成!$V844&\"\",\"\")","v":""},null,"物質ID",{"$f":"IF($D671=STRING_NOCAS, 0, IFERROR(VLOOKUP($D671,LIST!$BB$6:$BG$500,2,FALSE), 0))","v":0}]
[null,null,"物質名称",{"$f":"IF($D701=\"有り\",届出・申告書の作成!$V845&\"\",\"\")","v":""},null,null,null,"文字列(DB decimal(6,2))","文字列(帳票)"]
[null,null,"能力\n(kg／年）",{"$f":"IF($D701=\"有り\",届出・申告書の作成!$V846,0)","v":0},null,"トン換算・有効3桁",{"$f":"IF($G671 = \"\", \"\", IF($D674=0,0,ROUND(ROUND($D674/1000,2-INT(LOG(ABS($D674/1000)))), 2)))","v":""},{"$f":"IF($G674=\"\",\"\",IF($G674=0,\"0\"&\"\",TEXT($G674,VLOOKUP(INT(LOG10($G674)),LIST!$I$5:$M$100,2))))","v":""},{"$f":"IF($G674=\"\",\"\",IF($G674=0,\"0\"&\"\",TEXT($G674,VLOOKUP(INT(LOG10($G674)),LIST!$I$5:$M$100,5))))","v":""}]
[null,null,"生産能力の計算方法",{"$f":"IF($D701=\"有り\",届出・申告書の作成!$V847&\"\",\"\")","v":""},null,"生産能力の計算方法",{"$f":"TEXT(IFERROR(VLOOKUP($D675,LIST!$AB$5:$AC$100,2,FALSE), \"\"), \"@\")","v":""}]
[null,"製造能力３","CAS番号",{"$f":"IF($D701=\"有り\",届出・申告書の作成!$V848&\"\",\"\")","v":""},null,"CAS番号",{"$f":"IF($D676=STRING_NOCAS, $D677, $D676)","v":""},{"$f":"BSPLIT($G676,\"-\")","v":{"$error":"#VALUE!"}},{"$error":"#VALUE!"},{"$error":"#VALUE!"},{"$f":"IFERROR($H676,\"\")","v":""},{"$f":"IFERROR($I676,\"\")","v":""},{"$f":"IFERROR($J676,\"\")","v":""}]
[null,null,"CASなし　CAS番号",{"$f":"IF($D701=\"有り\",届出・申告書の作成!$V849&\"\",\"\")","v":""},null,"物質ID",{"$f":"IF($D676=STRING_NOCAS, 0, IFERROR(VLOOKUP($D676,LIST!$BB$6:$BG$500,2,FALSE), 0))","v":0}]
[null,null,"物質名称",{"$f":"IF($D701=\"有り\",届出・申告書の作成!$V850&\"\",\"\")","v":""},null,null,null,"文字列(DB decimal(6,2))","文字列(帳票)"]
[null,null,"能力\n(kg／年）",{"$f":"IF($D701=\"有り\",届出・申告書の作成!$V851,0)","v":0},null,"トン換算・有効3桁",{"$f":"IF($G676 = \"\", \"\", IF($D679=0,0,ROUND(ROUND($D679/1000,2-INT(LOG(ABS($D679/1000)))), 2)))","v":""},{"$f":"IF($G679=\"\",\"\",IF($G679=0,\"0\"&\"\",TEXT($G679,VLOOKUP(INT(LOG10($G679)),LIST!$I$5:$M$100,2))))","v":""},{"$f":"IF($G679=\"\",\"\",IF($G679=0,\"0\"&\"\",TEXT($G679,VLOOKUP(INT(LOG10($G679)),LIST!$I$5:$M$100,5))))","v":""}]
[null,null,"生産能力の計算方法",{"$f":"IF($D701=\"有り\",届出・申告書の作成!$V852&\"\",\"\")","v":""},null,"生産能力の計算方法",{"$f":"TEXT(IFERROR(VLOOKUP($D680,LIST!$AB$5:$AC$100,2,FALSE), \"\"), \"@\")","v":""}]
[null,"製造能力４","CAS番号",{"$f":"IF($D701=\"有り\",届出・申告書の作成!$V853&\"\",\"\")","v":""},null,"CAS番号",{"$f":"IF($D681=STRING_NOCAS, $D682, $D681)","v":""},{"$f":"BSPLIT($G681,\"-\")","v":{"$error":"#VALUE!"}},{"$error":"#VALUE!"},{"$error":"#VALUE!"},{"$f":"IFERROR($H681,\"\")","v":""},{"$f":"IFERROR($I681,\"\")","v":""},{"$f":"IFERROR($J681,\"\")","v":""}]
[null,null,"CASなし　CAS番号",{"$f":"IF($D701=\"有り\",届出・申告書の作成!$V854&\"\",\"\")","v":""},null,"物質ID",{"$f":"IF($D681=STRING_NOCAS, 0, IFERROR(VLOOKUP($D681,LIST!$BB$6:$BG$500,2,FALSE), 0))","v":0}]
[null,null,"物質名称",{"$f":"IF($D701=\"有り\",届出・申告書の作成!$V855&\"\",\"\")","v":""},null,null,null,"文字列(DB decimal(6,2))","文字列(帳票)"]
[null,null,"能力\n(kg／年）",{"$f":"IF($D701=\"有り\",届出・申告書の作成!$V856,0)","v":0},null,"トン換算・有効3桁",{"$f":"IF($G681 = \"\", \"\", IF($D684=0,0,ROUND(ROUND($D684/1000,2-INT(LOG(ABS($D684/1000)))), 2)))","v":""},{"$f":"IF($G684=\"\",\"\",IF($G684=0,\"0\"&\"\",TEXT($G684,VLOOKUP(INT(LOG10($G684)),LIST!$I$5:$M$100,2))))","v":""},{"$f":"IF($G684=\"\",\"\",IF($G684=0,\"0\"&\"\",TEXT($G684,VLOOKUP(INT(LOG10($G684)),LIST!$I$5:$M$100,5))))","v":""}]
[null,null,"生産能力の計算方法",{"$f":"IF($D701=\"有り\",届出・申告書の作成!$V857&\"\",\"\")","v":""},null,"生産能力の計算方法",{"$f":"TEXT(IFERROR(VLOOKUP($D685,LIST!$AB$5:$AC$100,2,FALSE), \"\"), \"@\")","v":""}]
[null,"製造能力５","CAS番号",{"$f":"IF($D701=\"有り\",届出・申告書の作成!$V858&\"\",\"\")","v":""},null,"CAS番号",{"$f":"IF($D686=STRING_NOCAS, $D687, $D686)","v":""},{"$f":"BSPLIT($G686,\"-\")","v":{"$error":"#VALUE!"}},{"$error":"#VALUE!"},{"$error":"#VALUE!"},{"$f":"IFERROR($H686,\"\")","v":""},{"$f":"IFERROR($I686,\"\")","v":""},{"$f":"IFERROR($J686,\"\")","v":""}]
[null,null,"CASなし　CAS番号",{"$f":"IF($D701=\"有り\",届出・申告書の作成!$V859&\"\",\"\")","v":""},null,"物質ID",{"$f":"IF($D686=STRING_NOCAS, 0, IFERROR(VLOOKUP($D686,LIST!$BB$6:$BG$500,2,FALSE), 0))","v":0}]
[null,null,"物質名称",{"$f":"IF($D701=\"有り\",届出・申告書の作成!$V860&\"\",\"\")","v":""},null,null,null,"文字列(DB decimal(6,2))","文字列(帳票)"]
[null,null,"能力\n(kg／年）",{"$f":"IF($D701=\"有り\",届出・申告書の作成!$V861,0)","v":0},null,"トン換算・有効3桁",{"$f":"IF($G686 = \"\", \"\", IF($D689=0,0,ROUND(ROUND($D689/1000,2-INT(LOG(ABS($D689/1000)))), 2)))","v":""},{"$f":"IF($G689=\"\",\"\",IF($G689=0,\"0\"&\"\",TEXT($G689,VLOOKUP(INT(LOG10($G689)),LIST!$I$5:$M$100,2))))","v":""},{"$f":"IF($G689=\"\",\"\",IF($G689=0,\"0\"&\"\",TEXT($G689,VLOOKUP(INT(LOG10($G689)),LIST!$I$5:$M$100,5))))","v":""}]
[null,null,"生産能力の計算方法",{"$f":"IF($D701=\"有り\",届出・申告書の作成!$V862&\"\",\"\")","v":""},null,"生産能力の計算方法",{"$f":"TEXT(IFERROR(VLOOKUP($D690,LIST!$AB$5:$AC$100,2,FALSE), \"\"), \"@\")","v":""}]
[null,"製造能力６","CAS番号",{"$f":"IF($D701=\"有り\",届出・申告書の作成!$V863&\"\",\"\")","v":""},null,"CAS番号",{"$f":"IF($D691=STRING_NOCAS, $D692, $D691)","v":""},{"$f":"BSPLIT($G691,\"-\")","v":{"$error":"#VALUE!"}},{"$error":"#VALUE!"},{"$error":"#VALUE!"},{"$f":"IFERROR($H691,\"\")","v":""},{"$f":"IFERROR($I691,\"\")","v":""},{"$f":"IFERROR($J691,\"\")","v":""}]
[null,null,"CASなし　CAS番号",{"$f":"IF($D701=\"有り\",届出・申告書の作成!$V864&\"\",\"\")","v":""},null,"物質ID",{"$f":"IF($D691=STRING_NOCAS, 0, IFERROR(VLOOKUP($D691,LIST!$BB$6:$BG$500,2,FALSE), 0))","v":0}]
[null,null,"物質名称",{"$f":"IF($D701=\"有り\",届出・申告書の作成!$V865&\"\",\"\")","v":""},null,null,null,"文字列(DB decimal(6,2))","文字列(帳票)"]
[null,null,"能力\n(kg／年）",{"$f":"IF($D701=\"有り\",届出・申告書の作成!$V866,0)","v":0},null,"トン換算・有効3桁",{"$f":"IF($G691 = \"\", \"\", IF($D694=0,0,ROUND(ROUND($D694/1000,2-INT(LOG(ABS($D694/1000)))), 2)))","v":""},{"$f":"IF($G694=\"\",\"\",IF($G694=0,\"0\"&\"\",TEXT($G694,VLOOKUP(INT(LOG10($G694)),LIST!$I$5:$M$100,2))))","v":""},{"$f":"IF($G694=\"\",\"\",IF($G694=0,\"0\"&\"\",TEXT($G694,VLOOKUP(INT(LOG10($G694)),LIST!$I$5:$M$100,5))))","v":""}]
[null,null,"生産能力の計算方法",{"$f":"IF($D701=\"有り\",届出・申告書の作成!$V867&\"\",\"\")","v":""},null,"生産能力の計算方法",{"$f":"TEXT(IFERROR(VLOOKUP($D695,LIST!$AB$5:$AC$100,2,FALSE), \"\"), \"@\")","v":""}]
[null,"施設の主要な活動",1,{"$f":"届出・申告書の作成!$V826&\"\"","v":""},null,1,{"$f":"$D696","v":""},{"$f":"TRIM($G696)","v":""}]
[]
[]
[]
[]
[null,"プラントの活動内容","生産",{"$f":"届出・申告書の作成!$V831&\"\"","v":""},null,"生産（コード）",{"$f":"TEXT(IFERROR(VLOOKUP($D701,LIST!$AD$5:$AE$100,2,FALSE), \"\"), \"@\")","v":""}]
[null,null,"加工",{"$f":"届出・申告書の作成!$V832&\"\"","v":""},null,"加工（コード）",{"$f":"TEXT(IFERROR(VLOOKUP($D702,LIST!$AD$5:$AE$100,2,FALSE), \"\"), \"@\")","v":""}]
[null,null,"消費",{"$f":"届出・申告書の作成!$V833&\"\"","v":""},null,"消費（コード）",{"$f":"TEXT(IFERROR(VLOOKUP($D703,LIST!$AD$5:$AE$100,2,FALSE), \"\"), \"@\")","v":""}]
[null,null,"施設の専用／多目的の別",{"$f":"届出・申告書の作成!$V834&\"\"","v":""},null,"施設の専用／多目的の別",{"$f":"TEXT(IFERROR(VLOOKUP($D704,LIST!$AF$5:$AG$100,2,FALSE), \"\"), \"@\")","v":""}]
[null,null,"その他の活動(1)",{"$f":"届出・申告書の作成!$V835&\"\"","v":""},null,"その他の活動(1)",{"$f":"TEXT(IFERROR(VLOOKUP($D705,LIST!$AH$5:$AI$100,2,FALSE), \"\"), \"@\")","v":""},{"$f":"DBCS(MID($G705, 2,2))","v":""},{"$f":"CONCATENATE($G705, IF($G706=\"\", \"\", CONCATENATE(\" \", $G706)), IF($G707=\"\", \"\", CONCATENATE(\" \", $G707)))","v":""}]
[null,null,"その他の活動(2)",{"$f":"届出・申告書の作成!$V836&\"\"","v":""},null,"その他の活動(2)",{"$f":"TEXT(IFERROR(VLOOKUP($D706,LIST!$AH$5:$AI$100,2,FALSE), \"\"), \"@\")","v":""},{"$f":"DBCS(MID($G706, 2,2))","v":""}]
[null,null,"その他の活動(３)",{"$f":"届出・申告書の作成!$V837&\"\"","v":""},null,"その他の活動(３)",{"$f":"TEXT(IFERROR(VLOOKUP($D707,LIST!$AH$5:$AI$100,2,FALSE), \"\"), \"@\")","v":""},{"$f":"DBCS(MID($G707, 2,2))","v":""}]
[]
["施設８","施設名称",null,{"$f":"届出・申告書の作成!$V879&\"\"","v":""}]
[null,"プラントコード",null,{"$f":"届出・申告書の作成!$V880&\"\"","v":""}]
[null,"事業所内の施設の正確な場所",null,{"$f":"届出・申告書の作成!$V881&\"\"","v":""}]
[null,"施設を特定する構造物番号",null,{"$f":"届出・申告書の作成!$V882&\"\"","v":""}]
[null,"施設を特定する建物番号",null,{"$f":"届出・申告書の作成!$V883&\"\"","v":""}]
[null,"施設についての追加的情報",null,{"$f":"届出・申告書の作成!$V884&\"\"","v":""}]
[null,"製造能力１","CAS番号",{"$f":"IF($D750=\"有り\",届出・申告書の作成!$V897&\"\",\"\")","v":""},null,"CAS番号",{"$f":"IF($D715=STRING_NOCAS, $D716, $D715)","v":""},{"$f":"BSPLIT($G715,\"-\")","v":{"$error":"#VALUE!"}},{"$error":"#VALUE!"},{"$error":"#VALUE!"},{"$f":"IFERROR($H715,\"\")","v":""},{"$f":"IFERROR($I715,\"\")","v":""},{"$f":"IFERROR($J715,\"\")","v":""}]
[null,null,"CASなし　CAS番号",{"$f":"IF($D750=\"有り\",届出・申告書の作成!$V898&\"\",\"\")","v":""},null,"物質ID",{"$f":"IF($D715=STRING_NOCAS, 0, IFERROR(VLOOKUP($D715,LIST!$BB$6:$BG$500,2,FALSE), 0))","v":0}]
[null,null,"物質名称",{"$f":"IF($D750=\"有り\",届出・申告書の作成!$V899&\"\",\"\")","v":""},null,null,null,"文字列(DB decimal(6,2))","文字列(帳票)"]
[null,null,"能力\n(kg／年）",{"$f":"IF($D750=\"有り\",届出・申告書の作成!$V900,0)","v":0},null,"トン換算・有効3桁",{"$f":"IF($G715 = \"\", \"\", IF($D718=0,0,ROUND(ROUND($D718/1000,2-INT(LOG(ABS($D718/1000)))), 2)))","v":""},{"$f":"IF($G718=\"\",\"\",IF($G718=0,\"0\"&\"\",TEXT($G718,VLOOKUP(INT(LOG10($G718)),LIST!$I$5:$M$100,2))))","v":""},{"$f":"IF($G718=\"\",\"\",IF($G718=0,\"0\"&\"\",TEXT($G718,VLOOKUP(INT(LOG10($G718)),LIST!$I$5:$M$100,5))))","v":""}]
[null,null,"生産能力の計算方法",{"$f":"IF($D750=\"有り\",届出・申告書の作成!$V901&\"\",\"\")","v":""},null,"生産能力の計算方法",{"$f":"TEXT(IFERROR(VLOOKUP($D719,LIST!$AB$5:$AC$100,2,FALSE), \"\"), \"@\")","v":""}]
[null,"製造能力２","CAS番号",{"$f":"IF($D750=\"有り\",届出・申告書の作成!$V902&\"\",\"\")","v":""},null,"CAS番号",{"$f":"IF($D720=STRING_NOCAS, $D721, $D720)","v":""},{"$f":"BSPLIT($G720,\"-\")","v":{"$error":"#VALUE!"}},{"$error":"#VALUE!"},{"$error":"#VALUE!"},{"$f":"IFERROR($H720,\"\")","v":""},{"$f":"IFERROR($I720,\"\")","v":""},{"$f":"IFERROR($J720,\"\")","v":""}]
[null,null,"CASなし　CAS番号",{"$f":"IF($D750=\"有り\",届出・申告書の作成!$V903&\"\",\"\")","v":""},null,"物質ID",{"$f":"IF($D720=STRING_NOCAS, 0, IFERROR(VLOOKUP($D720,LIST!$BB$6:$BG$500,2,FALSE), 0))","v":0}]
[null,null,"物質名称",{"$f":"IF($D750=\"有り\",届出・申告書の作成!$V904&\"\",\"\")","v":""},null,null,null,"文字列(DB decimal(6,2))","文字列(帳票)"]
[null,null,"能力\n(kg／年）",{"$f":"IF($D750=\"有り\",届出・申告書の作成!$V905,0)","v":0},null,"トン換算・有効3桁",{"$f":"IF($G720 = \"\", \"\", IF($D723=0,0,ROUND(ROUND($D723/1000,2-INT(LOG(ABS($D723/1000)))), 2)))","v":""},{"$f":"IF($G723=\"\",\"\",IF($G723=0,\"0\"&\"\",TEXT($G723,VLOOKUP(INT(LOG10($G723)),LIST!$I$5:$M$100,2))))","v":""},{"$f":"IF($G723=\"\",\"\",IF($G723=0,\"0\"&\"\",TEXT($G723,VLOOKUP(INT(LOG10($G723)),LIST!$I$5:$M$100,5))))","v":""}]
[null,null,"生産能力の計算方法",{"$f":"IF($D750=\"有り\",届出・申告書の作成!$V906&\"\",\"\")","v":""},null,"生産能力の計算方法",{"$f":"TEXT(IFERROR(VLOOKUP($D724,LIST!$AB$5:$AC$100,2,FALSE), \"\"), \"@\")","v":""}]
[null,"製造能力３","CAS番号",{"$f":"IF($D750=\"有り\",届出・申告書の作成!$V907&\"\",\"\")","v":""},null,"CAS番号",{"$f":"IF($D725=STRING_NOCAS, $D726, $D725)","v":""},{"$f":"BSPLIT($G725,\"-\")","v":{"$error":"#VALUE!"}},{"$error":"#VALUE!"},{"$error":"#VALUE!"},{"$f":"IFERROR($H725,\"\")","v":""},{"$f":"IFERROR($I725,\"\")","v":""},{"$f":"IFERROR($J725,\"\")","v":""}]
[null,null,"CASなし　CAS番号",{"$f":"IF($D750=\"有り\",届出・申告書の作成!$V908&\"\",\"\")","v":""},null,"物質ID",{"$f":"IF($D725=STRING_NOCAS, 0, IFERROR(VLOOKUP($D725,LIST!$BB$6:$BG$500,2,FALSE), 0))","v":0}]
[null,null,"物質名称",{"$f":"IF($D750=\"有り\",届出・申告書の作成!$V909&\"\",\"\")","v":""},null,null,null,"文字列(DB decimal(6,2))","文字列(帳票)"]
[null,null,"能力\n(kg／年）",{"$f":"IF($D750=\"有り\",届出・申告書の作成!$V910,0)","v":0},null,"トン換算・有効3桁",{"$f":"IF($G725 = \"\", \"\", IF($D728=0,0,ROUND(ROUND($D728/1000,2-INT(LOG(ABS($D728/1000)))), 2)))","v":""},{"$f":"IF($G728=\"\",\"\",IF($G728=0,\"0\"&\"\",TEXT($G728,VLOOKUP(INT(LOG10($G728)),LIST!$I$5:$M$100,2))))","v":""},{"$f":"IF($G728=\"\",\"\",IF($G728=0,\"0\"&\"\",TEXT($G728,VLOOKUP(INT(LOG10($G728)),LIST!$I$5:$M$100,5))))","v":""}]
[null,null,"生産能力の計算方法",{"$f":"IF($D750=\"有り\",届出・申告書の作成!$V911&\"\",\"\")","v":""},null,"生産能力の計算方法",{"$f":"TEXT(IFERROR(VLOOKUP($D729,LIST!$AB$5:$AC$100,2,FALSE), \"\"), \"@\")","v":""}]
[null,"製造能力４","CAS番号",{"$f":"IF($D750=\"有り\",届出・申告書の作成!$V912&\"\",\"\")","v":""},null,"CAS番号",{"$f":"IF($D730=STRING_NOCAS, $D731, $D730)","v":""},{"$f":"BSPLIT($G730,\"-\")","v":{"$error":"#VALUE!"}},{"$error":"#VALUE!"},{"$error":"#VALUE!"},{"$f":"IFERROR($H730,\"\")","v":""},{"$f":"IFERROR($I730,\"\")","v":""},{"$f":"IFERROR($J730,\"\")","v":""}]
[null,null,"CASなし　CAS番号",{"$f":"IF($D750=\"有り\",届出・申告書の作成!$V913&\"\",\"\")","v":""},null,"物質ID",{"$f":"IF($D730=STRING_NOCAS, 0, IFERROR(VLOOKUP($D730,LIST!$BB$6:$BG$500,2,FALSE), 0))","v":0}]
[null,null,"物質名称",{"$f":"IF($D750=\"有り\",届出・申告書の作成!$V914&\"\",\"\")","v":""},null,null,null,"文字列(DB decimal(6,2))","文字列(帳票)"]
[null,null,"能力\n(kg／年）",{"$f":"IF($D750=\"有り\",届出・申告書の作成!$V915,0)","v":0},null,"トン換算・有効3桁",{"$f":"IF($G730 = \"\", \"\", IF($D733=0,0,ROUND(ROUND($D733/1000,2-INT(LOG(ABS($D733/1000)))), 2)))","v":""},{"$f":"IF($G733=\"\",\"\",IF($G733=0,\"0\"&\"\",TEXT($G733,VLOOKUP(INT(LOG10($G733)),LIST!$I$5:$M$100,2))))","v":""},{"$f":"IF($G733=\"\",\"\",IF($G733=0,\"0\"&\"\",TEXT($G733,VLOOKUP(INT(LOG10($G733)),LIST!$I$5:$M$100,5))))","v":""}]
[null,null,"生産能力の計算方法",{"$f":"IF($D750=\"有り\",届出・申告書の作成!$V916&\"\",\"\")","v":""},null,"生産能力の計算方法",{"$f":"TEXT(IFERROR(VLOOKUP($D734,LIST!$AB$5:$AC$100,2,FALSE), \"\"), \"@\")","v":""}]
[null,"製造能力５","CAS番号",{"$f":"IF($D750=\"有り\",届出・申告書の作成!$V917&\"\",\"\")","v":""},null,"CAS番号",{"$f":"IF($D735=STRING_NOCAS, $D736, $D735)","v":""},{"$f":"BSPLIT($G735,\"-\")","v":{"$error":"#VALUE!"}},{"$error":"#VALUE!"},{"$error":"#VALUE!"},{"$f":"IFERROR($H735,\"\")","v":""},{"$f":"IFERROR($I735,\"\")","v":""},{"$f":"IFERROR($J735,\"\")","v":""}]
[null,null,"CASなし　CAS番号",{"$f":"IF($D750=\"有り\",届出・申告書の作成!$V918&\"\",\"\")","v":""},null,"物質ID",{"$f":"IF($D735=STRING_NOCAS, 0, IFERROR(VLOOKUP($D735,LIST!$BB$6:$BG$500,2,FALSE), 0))","v":0}]
[null,null,"物質名称",{"$f":"IF($D750=\"有り\",届出・申告書の作成!$V919&\"\",\"\")","v":""},null,null,null,"文字列(DB decimal(6,2))","文字列(帳票)"]
[null,null,"能力\n(kg／年）",{"$f":"IF($D750=\"有り\",届出・申告書の作成!$V920,0)","v":0},null,"トン換算・有効3桁",{"$f":"IF($G735 = \"\", \"\", IF($D738=0,0,ROUND(ROUND($D738/1000,2-INT(LOG(ABS($D738/1000)))), 2)))","v":""},{"$f":"IF($G738=\"\",\"\",IF($G738=0,\"0\"&\"\",TEXT($G738,VLOOKUP(INT(LOG10($G738)),LIST!$I$5:$M$100,2))))","v":""},{"$f":"IF($G738=\"\",\"\",IF($G738=0,\"0\"&\"\",TEXT($G738,VLOOKUP(INT(LOG10($G738)),LIST!$I$5:$M$100,5))))","v":""}]
[null,null,"生産能力の計算方法",{"$f":"IF($D750=\"有り\",届出・申告書の作成!$V921&\"\",\"\")","v":""},null,"生産能力の計算方法",{"$f":"TEXT(IFERROR(VLOOKUP($D739,LIST!$AB$5:$AC$100,2,FALSE), \"\"), \"@\")","v":""}]
[null,"製造能力６","CAS番号",{"$f":"IF($D750=\"有り\",届出・申告書の作成!$V922&\"\",\"\")","v":""},null,"CAS番号",{"$f":"IF($D740=STRING_NOCAS, $D741, $D740)","v":""},{"$f":"BSPLIT($G740,\"-\")","v":{"$error":"#VALUE!"}},{"$error":"#VALUE!"},{"$error":"#VALUE!"},{"$f":"IFERROR($H740,\"\")","v":""},{"$f":"IFERROR($I740,\"\")","v":""},{"$f":"IFERROR($J740,\"\")","v":""}]
[null,null,"CASなし　CAS番号",{"$f":"IF($D750=\"有り\",届出・申告書の作成!$V923&\"\",\"\")","v":""},null,"物質ID",{"$f":"IF($D740=STRING_NOCAS, 0, IFERROR(VLOOKUP($D740,LIST!$BB$6:$BG$500,2,FALSE), 0))","v":0}]
[null,null,"物質名称",{"$f":"IF($D750=\"有り\",届出・申告書の作成!$V924&\"\",\"\")","v":""},null,null,null,"文字列(DB decimal(6,2))","文字列(帳票)"]
[null,null,"能力\n(kg／年）",{"$f":"IF($D750=\"有り\",届出・申告書の作成!$V925,0)","v":0},null,"トン換算・有効3桁",{"$f":"IF($G740 = \"\", \"\", IF($D743=0,0,ROUND(ROUND($D743/1000,2-INT(LOG(ABS($D743/1000)))), 2)))","v":""},{"$f":"IF($G743=\"\",\"\",IF($G743=0,\"0\"&\"\",TEXT($G743,VLOOKUP(INT(LOG10($G743)),LIST!$I$5:$M$100,2))))","v":""},{"$f":"IF($G743=\"\",\"\",IF($G743=0,\"0\"&\"\",TEXT($G743,VLOOKUP(INT(LOG10($G743)),LIST!$I$5:$M$100,5))))","v":""}]
[null,null,"生産能力の計算方法",{"$f":"IF($D750=\"有り\",届出・申告書の作成!$V926&\"\",\"\")","v":""},null,"生産能力の計算方法",{"$f":"TEXT(IFERROR(VLOOKUP($D744,LIST!$AB$5:$AC$100,2,FALSE), \"\"), \"@\")","v":""}]
[null,"施設の主要な活動",1,{"$f":"届出・申告書の作成!$V885&\"\"","v":""},null,1,{"$f":"$D745","v":""},{"$f":"TRIM($G745)","v":""}]
[]
[]
[]
[]
[null,"プラントの活動内容","生産",{"$f":"届出・申告書の作成!$V890&\"\"","v":""},null,"生産（コード）",{"$f":"TEXT(IFERROR(VLOOKUP($D750,LIST!$AD$5:$AE$100,2,FALSE), \"\"), \"@\")","v":""}]
[null,null,"加工",{"$f":"届出・申告書の作成!$V891&\"\"","v":""},null,"加工（コード）",{"$f":"TEXT(IFERROR(VLOOKUP($D751,LIST!$AD$5:$AE$100,2,FALSE), \"\"), \"@\")","v":""}]
[null,null,"消費",{"$f":"届出・申告書の作成!$V892&\"\"","v":""},null,"消費（コード）",{"$f":"TEXT(IFERROR(VLOOKUP($D752,LIST!$AD$5:$AE$100,2,FALSE), \"\"), \"@\")","v":""}]
[null,null,"施設の専用／多目的の別",{"$f":"届出・申告書の作成!$V893&\"\"","v":""},null,"施設の専用／多目的の別",{"$f":"TEXT(IFERROR(VLOOKUP($D753,LIST!$AF$5:$AG$100,2,FALSE), \"\"), \"@\")","v":""}]
[null,null,"その他の活動(1)",{"$f":"届出・申告書の作成!$V894&\"\"","v":""},null,"その他の活動(1)",{"$f":"TEXT(IFERROR(VLOOKUP($D754,LIST!$AH$5:$AI$100,2,FALSE), \"\"), \"@\")","v":""},{"$f":"DBCS(MID($G754, 2,2))","v":""},{"$f":"TRIM(CONCATENATE($G754, IF($G755=\"\", \"\", CONCATENATE(\" \", $G755)), IF($G756=\"\", \"\", CONCATENATE(\" \", $G756))))","v":""}]
[null,null,"その他の活動(2)",{"$f":"届出・申告書の作成!$V895&\"\"","v":""},null,"その他の活動(2)",{"$f":"TEXT(IFERROR(VLOOKUP($D755,LIST!$AH$5:$AI$100,2,FALSE), \"\"), \"@\")","v":""},{"$f":"DBCS(MID($G755, 2,2))","v":""}]
[null,null,"その他の活動(３)",{"$f":"届出・申告書の作成!$V896&\"\"","v":""},null,"その他の活動(３)",{"$f":"TEXT(IFERROR(VLOOKUP($D756,LIST!$AH$5:$AI$100,2,FALSE), \"\"), \"@\")","v":""},{"$f":"DBCS(MID($G756, 2,2))","v":""}]
[]
["施設９","施設名称",null,{"$f":"届出・申告書の作成!$V938&\"\"","v":""}]
[null,"プラントコード",null,{"$f":"届出・申告書の作成!$V939&\"\"","v":""}]
[null,"事業所内の施設の正確な場所",null,{"$f":"届出・申告書の作成!$V940&\"\"","v":""}]
[null,"施設を特定する構造物番号",null,{"$f":"届出・申告書の作成!$V941&\"\"","v":""}]
[null,"施設を特定する建物番号",null,{"$f":"届出・申告書の作成!$V942&\"\"","v":""}]
[null,"施設についての追加的情報",null,{"$f":"届出・申告書の作成!$V943&\"\"","v":""}]
[null,"製造能力１","CAS番号",{"$f":"IF($D799=\"有り\",届出・申告書の作成!$V956&\"\",\"\")","v":""},null,"CAS番号",{"$f":"IF($D764=STRING_NOCAS, $D765, $D764)","v":""},{"$f":"BSPLIT($G764,\"-\")","v":{"$error":"#VALUE!"}},{"$error":"#VALUE!"},{"$error":"#VALUE!"},{"$f":"IFERROR($H764,\"\")","v":""},{"$f":"IFERROR($I764,\"\")","v":""},{"$f":"IFERROR($J764,\"\")","v":""}]
[null,null,"CASなし　CAS番号",{"$f":"IF($D799=\"有り\",届出・申告書の作成!$V957&\"\",\"\")","v":""},null,"物質ID",{"$f":"IF($D764=STRING_NOCAS, 0, IFERROR(VLOOKUP($D764,LIST!$BB$6:$BG$500,2,FALSE), 0))","v":0}]
[null,null,"物質名称",{"$f":"IF($D799=\"有り\",届出・申告書の作成!$V958&\"\",\"\")","v":""},null,null,null,"文字列(DB decimal(6,2))","文字列(帳票)"]
[null,null,"能力\n(kg／年）",{"$f":"IF($D799=\"有り\",届出・申告書の作成!$V959,0)","v":0},null,"トン換算・有効3桁",{"$f":"IF($G764 = \"\", \"\", IF($D767=0,0,ROUND(ROUND($D767/1000,2-INT(LOG(ABS($D767/1000)))), 2)))","v":""},{"$f":"IF($G767=\"\",\"\",IF($G767=0,\"0\"&\"\",TEXT($G767,VLOOKUP(INT(LOG10($G767)),LIST!$I$5:$M$100,2))))","v":""},{"$f":"IF($G767=\"\",\"\",IF($G767=0,\"0\"&\"\",TEXT($G767,VLOOKUP(INT(LOG10($G767)),LIST!$I$5:$M$100,5))))","v":""}]
[null,null,"生産能力の計算方法",{"$f":"IF($D799=\"有り\",届出・申告書の作成!$V960&\"\",\"\")","v":""},null,"生産能力の計算方法",{"$f":"TEXT(IFERROR(VLOOKUP($D768,LIST!$AB$5:$AC$100,2,FALSE), \"\"), \"@\")","v":""}]
[null,"製造能力２","CAS番号",{"$f":"IF($D799=\"有り\",届出・申告書の作成!$V961&\"\",\"\")","v":""},null,"CAS番号",{"$f":"IF($D769=STRING_NOCAS, $D770, $D769)","v":""},{"$f":"BSPLIT($G769,\"-\")","v":{"$error":"#VALUE!"}},{"$error":"#VALUE!"},{"$error":"#VALUE!"},{"$f":"IFERROR($H769,\"\")","v":""},{"$f":"IFERROR($I769,\"\")","v":""},{"$f":"IFERROR($J769,\"\")","v":""}]
[null,null,"CASなし　CAS番号",{"$f":"IF($D799=\"有り\",届出・申告書の作成!$V962&\"\",\"\")","v":""},null,"物質ID",{"$f":"IF($D769=STRING_NOCAS, 0, IFERROR(VLOOKUP($D769,LIST!$BB$6:$BG$500,2,FALSE), 0))","v":0}]
[null,null,"物質名称",{"$f":"IF($D799=\"有り\",届出・申告書の作成!$V963&\"\",\"\")","v":""},null,null,null,"文字列(DB decimal(6,2))","文字列(帳票)"]
[null,null,"能力\n(kg／年）",{"$f":"IF($D799=\"有り\",届出・申告書の作成!$V964,0)","v":0},null,"トン換算・有効3桁",{"$f":"IF($G769 = \"\", \"\", IF($D772=0,0,ROUND(ROUND($D772/1000,2-INT(LOG(ABS($D772/1000)))), 2)))","v":""},{"$f":"IF($G772=\"\",\"\",IF($G772=0,\"0\"&\"\",TEXT($G772,VLOOKUP(INT(LOG10($G772)),LIST!$I$5:$M$100,2))))","v":""},{"$f":"IF($G772=\"\",\"\",IF($G772=0,\"0\"&\"\",TEXT($G772,VLOOKUP(INT(LOG10($G772)),LIST!$I$5:$M$100,5))))","v":""}]
[null,null,"生産能力の計算方法",{"$f":"IF($D799=\"有り\",届出・申告書の作成!$V965&\"\",\"\")","v":""},null,"生産能力の計算方法",{"$f":"TEXT(IFERROR(VLOOKUP($D773,LIST!$AB$5:$AC$100,2,FALSE), \"\"), \"@\")","v":""}]
[null,"製造能力３","CAS番号",{"$f":"IF($D799=\"有り\",届出・申告書の作成!$V966&\"\",\"\")","v":""},null,"CAS番号",{"$f":"IF($D774=STRING_NOCAS, $D775, $D774)","v":""},{"$f":"BSPLIT($G774,\"-\")","v":{"$error":"#VALUE!"}},{"$error":"#VALUE!"},{"$error":"#VALUE!"},{"$f":"IFERROR($H774,\"\")","v":""},{"$f":"IFERROR($I774,\"\")","v":""},{"$f":"IFERROR($J774,\"\")","v":""}]
[null,null,"CASなし　CAS番号",{"$f":"IF($D799=\"有り\",届出・申告書の作成!$V967&\"\",\"\")","v":""},null,"物質ID",{"$f":"IF($D774=STRING_NOCAS, 0, IFERROR(VLOOKUP($D774,LIST!$BB$6:$BG$500,2,FALSE), 0))","v":0}]
[null,null,"物質名称",{"$f":"IF($D799=\"有り\",届出・申告書の作成!$V968&\"\",\"\")","v":""},null,null,null,"文字列(DB decimal(6,2))","文字列(帳票)"]
[null,null,"能力\n(kg／年）",{"$f":"IF($D799=\"有り\",届出・申告書の作成!$V969,0)","v":0},null,"トン換算・有効3桁",{"$f":"IF($G774 = \"\", \"\", IF($D777=0,0,ROUND(ROUND($D777/1000,2-INT(LOG(ABS($D777/1000)))), 2)))","v":""},{"$f":"IF($G777=\"\",\"\",IF($G777=0,\"0\"&\"\",TEXT($G777,VLOOKUP(INT(LOG10($G777)),LIST!$I$5:$M$100,2))))","v":""},{"$f":"IF($G777=\"\",\"\",IF($G777=0,\"0\"&\"\",TEXT($G777,VLOOKUP(INT(LOG10($G777)),LIST!$I$5:$M$100,5))))","v":""}]
[null,null,"生産能力の計算方法",{"$f":"IF($D799=\"有り\",届出・申告書の作成!$V970&\"\",\"\")","v":""},null,"生産能力の計算方法",{"$f":"TEXT(IFERROR(VLOOKUP($D778,LIST!$AB$5:$AC$100,2,FALSE), \"\"), \"@\")","v":""}]
[null,"製造能力４","CAS番号",{"$f":"IF($D799=\"有り\",届出・申告書の作成!$V971&\"\",\"\")","v":""},null,"CAS番号",{"$f":"IF($D779=STRING_NOCAS, $D780, $D779)","v":""},{"$f":"BSPLIT($G779,\"-\")","v":{"$error":"#VALUE!"}},{"$error":"#VALUE!"},{"$error":"#VALUE!"},{"$f":"IFERROR($H779,\"\")","v":""},{"$f":"IFERROR($I779,\"\")","v":""},{"$f":"IFERROR($J779,\"\")","v":""}]
[null,null,"CASなし　CAS番号",{"$f":"IF($D799=\"有り\",届出・申告書の作成!$V972&\"\",\"\")","v":""},null,"物質ID",{"$f":"IF($D779=STRING_NOCAS, 0, IFERROR(VLOOKUP($D779,LIST!$BB$6:$BG$500,2,FALSE), 0))","v":0}]
[null,null,"物質名称",{"$f":"IF($D799=\"有り\",届出・申告書の作成!$V973&\"\",\"\")","v":""},null,null,null,"文字列(DB decimal(6,2))","文字列(帳票)"]
[null,null,"能力\n(kg／年）",{"$f":"IF($D799=\"有り\",届出・申告書の作成!$V974,0)","v":0},null,"トン換算・有効3桁",{"$f":"IF($G779 = \"\", \"\", IF($D782=0,0,ROUND(ROUND($D782/1000,2-INT(LOG(ABS($D782/1000)))), 2)))","v":""},{"$f":"IF($G782=\"\",\"\",IF($G782=0,\"0\"&\"\",TEXT($G782,VLOOKUP(INT(LOG10($G782)),LIST!$I$5:$M$100,2))))","v":""},{"$f":"IF($G782=\"\",\"\",IF($G782=0,\"0\"&\"\",TEXT($G782,VLOOKUP(INT(LOG10($G782)),LIST!$I$5:$M$100,5))))","v":""}]
[null,null,"生産能力の計算方法",{"$f":"IF($D799=\"有り\",届出・申告書の作成!$V975&\"\",\"\")","v":""},null,"生産能力の計算方法",{"$f":"TEXT(IFERROR(VLOOKUP($D783,LIST!$AB$5:$AC$100,2,FALSE), \"\"), \"@\")","v":""}]
[null,"製造能力５","CAS番号",{"$f":"IF($D799=\"有り\",届出・申告書の作成!$V976&\"\",\"\")","v":""},null,"CAS番号",{"$f":"IF($D784=STRING_NOCAS, $D785, $D784)","v":""},{"$f":"BSPLIT($G784,\"-\")","v":{"$error":"#VALUE!"}},{"$error":"#VALUE!"},{"$error":"#VALUE!"},{"$f":"IFERROR($H784,\"\")","v":""},{"$f":"IFERROR($I784,\"\")","v":""},{"$f":"IFERROR($J784,\"\")","v":""}]
[null,null,"CASなし　CAS番号",{"$f":"IF($D799=\"有り\",届出・申告書の作成!$V977&\"\",\"\")","v":""},null,"物質ID",{"$f":"IF($D784=STRING_NOCAS, 0, IFERROR(VLOOKUP($D784,LIST!$BB$6:$BG$500,2,FALSE), 0))","v":0}]
[null,null,"物質名称",{"$f":"IF($D799=\"有り\",届出・申告書の作成!$V978&\"\",\"\")","v":""},null,null,null,"文字列(DB decimal(6,2))","文字列(帳票)"]
[null,null,"能力\n(kg／年）",{"$f":"IF($D799=\"有り\",届出・申告書の作成!$V979,0)","v":0},null,"トン換算・有効3桁",{"$f":"IF($G784 = \"\", \"\", IF($D787=0,0,ROUND(ROUND($D787/1000,2-INT(LOG(ABS($D787/1000)))), 2)))","v":""},{"$f":"IF($G787=\"\",\"\",IF($G787=0,\"0\"&\"\",TEXT($G787,VLOOKUP(INT(LOG10($G787)),LIST!$I$5:$M$100,2))))","v":""},{"$f":"IF($G787=\"\",\"\",IF($G787=0,\"0\"&\"\",TEXT($G787,VLOOKUP(INT(LOG10($G787)),LIST!$I$5:$M$100,5))))","v":""}]
[null,null,"生産能力の計算方法",{"$f":"IF($D799=\"有り\",届出・申告書の作成!$V980&\"\",\"\")","v":""},null,"生産能力の計算方法",{"$f":"TEXT(IFERROR(VLOOKUP($D788,LIST!$AB$5:$AC$100,2,FALSE), \"\"), \"@\")","v":""}]
[null,"製造能力６","CAS番号",{"$f":"IF($D799=\"有り\",届出・申告書の作成!$V981&\"\",\"\")","v":""},null,"CAS番号",{"$f":"IF($D789=STRING_NOCAS, $D790, $D789)","v":""},{"$f":"BSPLIT($G789,\"-\")","v":{"$error":"#VALUE!"}},{"$error":"#VALUE!"},{"$error":"#VALUE!"},{"$f":"IFERROR($H789,\"\")","v":""},{"$f":"IFERROR($I789,\"\")","v":""},{"$f":"IFERROR($J789,\"\")","v":""}]
[null,null,"CASなし　CAS番号",{"$f":"IF($D799=\"有り\",届出・申告書の作成!$V982&\"\",\"\")","v":""},null,"物質ID",{"$f":"IF($D789=STRING_NOCAS, 0, IFERROR(VLOOKUP($D789,LIST!$BB$6:$BG$500,2,FALSE), 0))","v":0}]
[null,null,"物質名称",{"$f":"IF($D799=\"有り\",届出・申告書の作成!$V983&\"\",\"\")","v":""},null,null,null,"文字列(DB decimal(6,2))","文字列(帳票)"]
[null,null,"能力\n(kg／年）",{"$f":"IF($D799=\"有り\",届出・申告書の作成!$V984,0)","v":0},null,"トン換算・有効3桁",{"$f":"IF($G789 = \"\", \"\", IF($D792=0,0,ROUND(ROUND($D792/1000,2-INT(LOG(ABS($D792/1000)))), 2)))","v":""},{"$f":"IF($G792=\"\",\"\",IF($G792=0,\"0\"&\"\",TEXT($G792,VLOOKUP(INT(LOG10($G792)),LIST!$I$5:$M$100,2))))","v":""},{"$f":"IF($G792=\"\",\"\",IF($G792=0,\"0\"&\"\",TEXT($G792,VLOOKUP(INT(LOG10($G792)),LIST!$I$5:$M$100,5))))","v":""}]
[null,null,"生産能力の計算方法",{"$f":"IF($D799=\"有り\",届出・申告書の作成!$V985&\"\",\"\")","v":""},null,"生産能力の計算方法",{"$f":"TEXT(IFERROR(VLOOKUP($D793,LIST!$AB$5:$AC$100,2,FALSE), \"\"), \"@\")","v":""}]
[null,"施設の主要な活動",1,{"$f":"届出・申告書の作成!$V944&\"\"","v":""},null,1,{"$f":"$D794","v":""},{"$f":"TRIM($G794)","v":""}]
[]
[]
[]
[]
[null,"プラントの活動内容","生産",{"$f":"届出・申告書の作成!$V949&\"\"","v":""},null,"生産（コード）",{"$f":"TEXT(IFERROR(VLOOKUP($D799,LIST!$AD$5:$AE$100,2,FALSE), \"\"), \"@\")","v":""}]
[null,null,"加工",{"$f":"届出・申告書の作成!$V950&\"\"","v":""},null,"加工（コード）",{"$f":"TEXT(IFERROR(VLOOKUP($D800,LIST!$AD$5:$AE$100,2,FALSE), \"\"), \"@\")","v":""}]
[null,null,"消費",{"$f":"届出・申告書の作成!$V951&\"\"","v":""},null,"消費（コード）",{"$f":"TEXT(IFERROR(VLOOKUP($D801,LIST!$AD$5:$AE$100,2,FALSE), \"\"), \"@\")","v":""}]
[null,null,"施設の専用／多目的の別",{"$f":"届出・申告書の作成!$V952&\"\"","v":""},null,"施設の専用／多目的の別",{"$f":"TEXT(IFERROR(VLOOKUP($D802,LIST!$AF$5:$AG$100,2,FALSE), \"\"), \"@\")","v":""}]
[null,null,"その他の活動(1)",{"$f":"届出・申告書の作成!$V953&\"\"","v":""},null,"その他の活動(1)",{"$f":"TEXT(IFERROR(VLOOKUP($D803,LIST!$AH$5:$AI$100,2,FALSE), \"\"), \"@\")","v":""},{"$f":"DBCS(MID($G803, 2,2))","v":""},{"$f":"TRIM(CONCATENATE($G803, IF($G804=\"\", \"\", CONCATENATE(\" \", $G804)), IF($G805=\"\", \"\", CONCATENATE(\" \", $G805))))","v":""}]
[null,null,"その他の活動(2)",{"$f":"届出・申告書の作成!$V954&\"\"","v":""},null,"その他の活動(2)",{"$f":"TEXT(IFERROR(VLOOKUP($D804,LIST!$AH$5:$AI$100,2,FALSE), \"\"), \"@\")","v":""},{"$f":"DBCS(MID($G804, 2,2))","v":""}]
[null,null,"その他の活動(３)",{"$f":"届出・申告書の作成!$V955&\"\"","v":""},null,"その他の活動(３)",{"$f":"TEXT(IFERROR(VLOOKUP($D805,LIST!$AH$5:$AI$100,2,FALSE), \"\"), \"@\")","v":""},{"$f":"DBCS(MID($G805, 2,2))","v":""}]
[]
["施設１０","施設名称",null,{"$f":"届出・申告書の作成!$V997&\"\"","v":""}]
[null,"プラントコード",null,{"$f":"届出・申告書の作成!$V998&\"\"","v":""}]
[null,"事業所内の施設の正確な場所",null,{"$f":"届出・申告書の作成!$V999&\"\"","v":""}]
[null,"施設を特定する構造物番号",null,{"$f":"届出・申告書の作成!$V1000&\"\"","v":""}]
[null,"施設を特定する建物番号",null,{"$f":"届出・申告書の作成!$V1001&\"\"","v":""}]
[null,"施設についての追加的情報",null,{"$f":"届出・申告書の作成!$V1002&\"\"","v":""}]
[null,"製造能力１","CAS番号",{"$f":"IF($D848=\"有り\",届出・申告書の作成!$V1015&\"\",\"\")","v":""},null,"CAS番号",{"$f":"IF($D813=STRING_NOCAS, $D814, $D813)","v":""},{"$f":"BSPLIT($G813,\"-\")","v":{"$error":"#VALUE!"}},{"$error":"#VALUE!"},{"$error":"#VALUE!"},{"$f":"IFERROR($H813,\"\")","v":""},{"$f":"IFERROR($I813,\"\")","v":""},{"$f":"IFERROR($J813,\"\")","v":""}]
[null,null,"CASなし　CAS番号",{"$f":"IF($D848=\"有り\",届出・申告書の作成!$V1016&\"\",\"\")","v":""},null,"物質ID",{"$f":"IF($D813=STRING_NOCAS, 0, IFERROR(VLOOKUP($D813,LIST!$BB$6:$BG$500,2,FALSE), 0))","v":0}]
[null,null,"物質名称",{"$f":"IF($D848=\"有り\",届出・申告書の作成!$V1017&\"\",\"\")","v":""},null,null,null,"文字列(DB decimal(6,2))","文字列(帳票)"]
[null,null,"能力\n(kg／年）",{"$f":"IF($D848=\"有り\",届出・申告書の作成!$V1018,0)","v":0},null,"トン換算・有効3桁",{"$f":"IF($G813 = \"\", \"\", IF($D816=0,0,ROUND(ROUND($D816/1000,2-INT(LOG(ABS($D816/1000)))), 2)))","v":""},{"$f":"IF($G816=\"\",\"\",IF($G816=0,\"0\"&\"\",TEXT($G816,VLOOKUP(INT(LOG10($G816)),LIST!$I$5:$M$100,2))))","v":""},{"$f":"IF($G816=\"\",\"\",IF($G816=0,\"0\"&\"\",TEXT($G816,VLOOKUP(INT(LOG10($G816)),LIST!$I$5:$M$100,5))))","v":""}]
[null,null,"生産能力の計算方法",{"$f":"IF($D848=\"有り\",届出・申告書の作成!$V1019&\"\",\"\")","v":""},null,"生産能力の計算方法",{"$f":"TEXT(IFERROR(VLOOKUP($D817,LIST!$AB$5:$AC$100,2,FALSE), \"\"), \"@\")","v":""}]
[null,"製造能力２","CAS番号",{"$f":"IF($D848=\"有り\",届出・申告書の作成!$V1020&\"\",\"\")","v":""},null,"CAS番号",{"$f":"IF($D818=STRING_NOCAS, $D819, $D818)","v":""},{"$f":"BSPLIT($G818,\"-\")","v":{"$error":"#VALUE!"}},{"$error":"#VALUE!"},{"$error":"#VALUE!"},{"$f":"IFERROR($H818,\"\")","v":""},{"$f":"IFERROR($I818,\"\")","v":""},{"$f":"IFERROR($J818,\"\")","v":""}]
[null,null,"CASなし　CAS番号",{"$f":"IF($D848=\"有り\",届出・申告書の作成!$V1021&\"\",\"\")","v":""},null,"物質ID",{"$f":"IF($D818=STRING_NOCAS, 0, IFERROR(VLOOKUP($D818,LIST!$BB$6:$BG$500,2,FALSE), 0))","v":0}]
[null,null,"物質名称",{"$f":"IF($D848=\"有り\",届出・申告書の作成!$V1022&\"\",\"\")","v":""},null,null,null,"文字列(DB decimal(6,2))","文字列(帳票)"]
[null,null,"能力\n(kg／年）",{"$f":"IF($D848=\"有り\",届出・申告書の作成!$V1023,0)","v":0},null,"トン換算・有効3桁",{"$f":"IF($G818 = \"\", \"\", IF($D821=0,0,ROUND(ROUND($D821/1000,2-INT(LOG(ABS($D821/1000)))), 2)))","v":""},{"$f":"IF($G821=\"\",\"\",IF($G821=0,\"0\"&\"\",TEXT($G821,VLOOKUP(INT(LOG10($G821)),LIST!$I$5:$M$100,2))))","v":""},{"$f":"IF($G821=\"\",\"\",IF($G821=0,\"0\"&\"\",TEXT($G821,VLOOKUP(INT(LOG10($G821)),LIST!$I$5:$M$100,5))))","v":""}]
[null,null,"生産能力の計算方法",{"$f":"IF($D848=\"有り\",届出・申告書の作成!$V1024&\"\",\"\")","v":""},null,"生産能力の計算方法",{"$f":"TEXT(IFERROR(VLOOKUP($D822,LIST!$AB$5:$AC$100,2,FALSE), \"\"), \"@\")","v":""}]
[null,"製造能力３","CAS番号",{"$f":"IF($D848=\"有り\",届出・申告書の作成!$V1025&\"\",\"\")","v":""},null,"CAS番号",{"$f":"IF($D823=STRING_NOCAS, $D824, $D823)","v":""},{"$f":"BSPLIT($G823,\"-\")","v":{"$error":"#VALUE!"}},{"$error":"#VALUE!"},{"$error":"#VALUE!"},{"$f":"IFERROR($H823,\"\")","v":""},{"$f":"IFERROR($I823,\"\")","v":""},{"$f":"IFERROR($J823,\"\")","v":""}]
[null,null,"CASなし　CAS番号",{"$f":"IF($D848=\"有り\",届出・申告書の作成!$V1026&\"\",\"\")","v":""},null,"物質ID",{"$f":"IF($D823=STRING_NOCAS, 0, IFERROR(VLOOKUP($D823,LIST!$BB$6:$BG$500,2,FALSE), 0))","v":0}]
[null,null,"物質名称",{"$f":"IF($D848=\"有り\",届出・申告書の作成!$V1027&\"\",\"\")","v":""},null,null,null,"文字列(DB decimal(6,2))","文字列(帳票)"]
[null,null,"能力\n(kg／年）",{"$f":"IF($D848=\"有り\",届出・申告書の作成!$V1028,0)","v":0},null,"トン換算・有効3桁",{"$f":"IF($G823 = \"\", \"\", IF($D826=0,0,ROUND(ROUND($D826/1000,2-INT(LOG(ABS($D826/1000)))), 2)))","v":""},{"$f":"IF($G826=\"\",\"\",IF($G826=0,\"0\"&\"\",TEXT($G826,VLOOKUP(INT(LOG10($G826)),LIST!$I$5:$M$100,2))))","v":""},{"$f":"IF($G826=\"\",\"\",IF($G826=0,\"0\"&\"\",TEXT($G826,VLOOKUP(INT(LOG10($G826)),LIST!$I$5:$M$100,5))))","v":""}]
[null,null,"生産能力の計算方法",{"$f":"IF($D848=\"有り\",届出・申告書の作成!$V1029&\"\",\"\")","v":""},null,"生産能力の計算方法",{"$f":"TEXT(IFERROR(VLOOKUP($D827,LIST!$AB$5:$AC$100,2,FALSE), \"\"), \"@\")","v":""}]
[null,"製造能力４","CAS番号",{"$f":"IF($D848=\"有り\",届出・申告書の作成!$V1030&\"\",\"\")","v":""},null,"CAS番号",{"$f":"IF($D828=STRING_NOCAS, $D829, $D828)","v":""},{"$f":"BSPLIT($G828,\"-\")","v":{"$error":"#VALUE!"}},{"$error":"#VALUE!"},{"$error":"#VALUE!"},{"$f":"IFERROR($H828,\"\")","v":""},{"$f":"IFERROR($I828,\"\")","v":""},{"$f":"IFERROR($J828,\"\")","v":""}]
[null,null,"CASなし　CAS番号",{"$f":"IF($D848=\"有り\",届出・申告書の作成!$V1031&\"\",\"\")","v":""},null,"物質ID",{"$f":"IF($D828=STRING_NOCAS, 0, IFERROR(VLOOKUP($D828,LIST!$BB$6:$BG$500,2,FALSE), 0))","v":0}]
[null,null,"物質名称",{"$f":"IF($D848=\"有り\",届出・申告書の作成!$V1032&\"\",\"\")","v":""},null,null,null,"文字列(DB decimal(6,2))","文字列(帳票)"]
[null,null,"能力\n(kg／年）",{"$f":"IF($D848=\"有り\",届出・申告書の作成!$V1033,0)","v":0},null,"トン換算・有効3桁",{"$f":"IF($G828 = \"\", \"\", IF($D831=0,0,ROUND(ROUND($D831/1000,2-INT(LOG(ABS($D831/1000)))), 2)))","v":""},{"$f":"IF($G831=\"\",\"\",IF($G831=0,\"0\"&\"\",TEXT($G831,VLOOKUP(INT(LOG10($G831)),LIST!$I$5:$M$100,2))))","v":""},{"$f":"IF($G831=\"\",\"\",IF($G831=0,\"0\"&\"\",TEXT($G831,VLOOKUP(INT(LOG10($G831)),LIST!$I$5:$M$100,5))))","v":""}]
[null,null,"生産能力の計算方法",{"$f":"IF($D848=\"有り\",届出・申告書の作成!$V1034&\"\",\"\")","v":""},null,"生産能力の計算方法",{"$f":"TEXT(IFERROR(VLOOKUP($D832,LIST!$AB$5:$AC$100,2,FALSE), \"\"), \"@\")","v":""}]
[null,"製造能力５","CAS番号",{"$f":"IF($D848=\"有り\",届出・申告書の作成!$V1035&\"\",\"\")","v":""},null,"CAS番号",{"$f":"IF($D833=STRING_NOCAS, $D834, $D833)","v":""},{"$f":"BSPLIT($G833,\"-\")","v":{"$error":"#VALUE!"}},{"$error":"#VALUE!"},{"$error":"#VALUE!"},{"$f":"IFERROR($H833,\"\")","v":""},{"$f":"IFERROR($I833,\"\")","v":""},{"$f":"IFERROR($J833,\"\")","v":""}]
[null,null,"CASなし　CAS番号",{"$f":"IF($D848=\"有り\",届出・申告書の作成!$V1036&\"\",\"\")","v":""},null,"物質ID",{"$f":"IF($D833=STRING_NOCAS, 0, IFERROR(VLOOKUP($D833,LIST!$BB$6:$BG$500,2,FALSE), 0))","v":0}]
[null,null,"物質名称",{"$f":"IF($D848=\"有り\",届出・申告書の作成!$V1037&\"\",\"\")","v":""},null,null,null,"文字列(DB decimal(6,2))","文字列(帳票)"]
[null,null,"能力\n(kg／年）",{"$f":"IF($D848=\"有り\",届出・申告書の作成!$V1038,0)","v":0},null,"トン換算・有効3桁",{"$f":"IF($G833 = \"\", \"\", IF($D836=0,0,ROUND(ROUND($D836/1000,2-INT(LOG(ABS($D836/1000)))), 2)))","v":""},{"$f":"IF($G836=\"\",\"\",IF($G836=0,\"0\"&\"\",TEXT($G836,VLOOKUP(INT(LOG10($G836)),LIST!$I$5:$M$100,2))))","v":""},{"$f":"IF($G836=\"\",\"\",IF($G836=0,\"0\"&\"\",TEXT($G836,VLOOKUP(INT(LOG10($G836)),LIST!$I$5:$M$100,5))))","v":""}]
[null,null,"生産能力の計算方法",{"$f":"IF($D848=\"有り\",届出・申告書の作成!$V1039&\"\",\"\")","v":""},null,"生産能力の計算方法",{"$f":"TEXT(IFERROR(VLOOKUP($D837,LIST!$AB$5:$AC$100,2,FALSE), \"\"), \"@\")","v":""}]
[null,"製造能力６","CAS番号",{"$f":"IF($D848=\"有り\",届出・申告書の作成!$V1040&\"\",\"\")","v":""},null,"CAS番号",{"$f":"IF($D838=STRING_NOCAS, $D839, $D838)","v":""},{"$f":"BSPLIT($G838,\"-\")","v":{"$error":"#VALUE!"}},{"$error":"#VALUE!"},{"$error":"#VALUE!"},{"$f":"IFERROR($H838,\"\")","v":""},{"$f":"IFERROR($I838,\"\")","v":""},{"$f":"IFERROR($J838,\"\")","v":""}]
[null,null,"CASなし　CAS番号",{"$f":"IF($D848=\"有り\",届出・申告書の作成!$V1041&\"\",\"\")","v":""},null,"物質ID",{"$f":"IF($D838=STRING_NOCAS, 0, IFERROR(VLOOKUP($D838,LIST!$BB$6:$BG$500,2,FALSE), 0))","v":0}]
[null,null,"物質名称",{"$f":"IF($D848=\"有り\",届出・申告書の作成!$V1042&\"\",\"\")","v":""},null,null,null,"文字列(DB decimal(6,2))","文字列(帳票)"]
[null,null,"能力\n(kg／年）",{"$f":"IF($D848=\"有り\",届出・申告書の作成!$V1043,0)","v":0},null,"トン換算・有効3桁",{"$f":"IF($G838 = \"\", \"\", IF($D841=0,0,ROUND(ROUND($D841/1000,2-INT(LOG(ABS($D841/1000)))), 2)))","v":""},{"$f":"IF($G841=\"\",\"\",IF($G841=0,\"0\"&\"\",TEXT($G841,VLOOKUP(INT(LOG10($G841)),LIST!$I$5:$M$100,2))))","v":""},{"$f":"IF($G841=\"\",\"\",IF($G841=0,\"0\"&\"\",TEXT($G841,VLOOKUP(INT(LOG10($G841)),LIST!$I$5:$M$100,5))))","v":""}]
[null,null,"生産能力の計算方法",{"$f":"IF($D848=\"有り\",届出・申告書の作成!$V1044&\"\",\"\")","v":""},null,"生産能力の計算方法",{"$f":"TEXT(IFERROR(VLOOKUP($D842,LIST!$AB$5:$AC$100,2,FALSE), \"\"), \"@\")","v":""}]
[null,"施設の主要な活動",1,{"$f":"届出・申告書の作成!$V1003&\"\"","v":""},null,1,{"$f":"$D843","v":""},{"$f":"TRIM($G843)","v":""}]
[]
[]
[]
[]
[null,"プラントの活動内容","生産",{"$f":"届出・申告書の作成!$V1008&\"\"","v":""},null,"生産（コード）",{"$f":"TEXT(IFERROR(VLOOKUP($D848,LIST!$AD$5:$AE$100,2,FALSE), \"\"), \"@\")","v":""}]
[null,null,"加工",{"$f":"届出・申告書の作成!$V1009&\"\"","v":""},null,"加工（コード）",{"$f":"TEXT(IFERROR(VLOOKUP($D849,LIST!$AD$5:$AE$100,2,FALSE), \"\"), \"@\")","v":""}]
[null,null,"消費",{"$f":"届出・申告書の作成!$V1010&\"\"","v":""},null,"消費（コード）",{"$f":"TEXT(IFERROR(VLOOKUP($D850,LIST!$AD$5:$AE$100,2,FALSE), \"\"), \"@\")","v":""}]
[null,null,"施設の専用／多目的の別",{"$f":"届出・申告書の作成!$V1011&\"\"","v":""},null,"施設の専用／多目的の別",{"$f":"TEXT(IFERROR(VLOOKUP($D851,LIST!$AF$5:$AG$100,2,FALSE), \"\"), \"@\")","v":""}]
[null,null,"その他の活動(1)",{"$f":"届出・申告書の作成!$V1012&\"\"","v":""},null,"その他の活動(1)",{"$f":"TEXT(IFERROR(VLOOKUP($D852,LIST!$AH$5:$AI$100,2,FALSE), \"\"), \"@\")","v":""},{"$f":"DBCS(MID($G852, 2,2))","v":""},{"$f":"TRIM(CONCATENATE($G852, IF($G853=\"\", \"\", CONCATENATE(\" \", $G853)), IF($G854=\"\", \"\", CONCATENATE(\" \", $G854))))","v":""}]
[null,null,"その他の活動(2)",{"$f":"届出・申告書の作成!$V1013&\"\"","v":""},null,"その他の活動(2)",{"$f":"TEXT(IFERROR(VLOOKUP($D853,LIST!$AH$5:$AI$100,2,FALSE), \"\"), \"@\")","v":""},{"$f":"DBCS(MID($G853, 2,2))","v":""}]
[null,null,"その他の活動(３)",{"$f":"届出・申告書の作成!$V1014&\"\"","v":""},null,"その他の活動(３)",{"$f":"TEXT(IFERROR(VLOOKUP($D854,LIST!$AH$5:$AI$100,2,FALSE), \"\"), \"@\")","v":""},{"$f":"DBCS(MID($G854, 2,2))","v":""}]
["Form2.4"]
["項目",null,null,"値"]
["作成枚数",null,null,{"$f":"届出・申告書の作成!$D$1083","v":1}]
["活動の目的（１）","CAS番号",null,{"$f":"届出・申告書の作成!$V1096&\"\"","v":""},null,"CAS番号",{"$f":"IF($D858=STRING_NOCAS, $D859, $D858)","v":""},{"$f":"VSPLIT($G858,\"-\")","v":{"$error":"#VALUE!"}},{"$f":"IFERROR($H858,\"\")","v":""}]
[null,"CASなし　CAS番号",null,{"$f":"届出・申告書の作成!$V1097&\"\"","v":""},null,"物質ID",{"$f":"IF($D858=STRING_NOCAS,0,IFERROR(VLOOKUP($D858,LIST!$BB$6:$BG$500,2,FALSE),0))","v":0},{"$error":"#VALUE!"},{"$f":"IFERROR($H859,\"\")","v":""}]
[null,"物質名称",null,{"$f":"届出・申告書の作成!$V1098&\"\"","v":""},null,null,null,{"$error":"#VALUE!"},{"$f":"IFERROR($H860,\"\")","v":""}]
[null,"一般名又は取引名",null,{"$f":"届出・申告書の作成!$V1099&\"\"","v":""}]
[null,"化学構造式",null,{"$f":"届出・申告書の作成!$V1100&\"\"","v":""},null,null,null,"文字列(DB decimal(8,4) or (10,6))","文字列(帳票)"]
[null,"実績数量(kg)","生産",{"$f":"ROUND(届出・申告書の作成!$V1101, 1)","v":0},null,"トン換算・有効3桁",{"$f":"IF($D863=0,0,ROUND($D863/1000,2-INT(LOG(ABS($D863/1000)))))","v":0},{"$f":"IF($G863=0,\"0\"&\"\",TEXT($G863,VLOOKUP(INT(LOG10($G863)),LIST!$I$5:$M$100,3)))","v":"0"},{"$f":"IF($G863=0,\"0\"&\"\",TEXT($G863,VLOOKUP(INT(LOG10($G863)), LIST!$I$5:$M$100,5)))","v":"0"}]
[null,null,"加工",{"$f":"ROUND(届出・申告書の作成!$V1102, 1)","v":0},null,"トン換算・有効3桁",{"$f":"IF($D864=0,0,ROUND($D864/1000,2-INT(LOG(ABS($D864/1000)))))","v":0},{"$f":"IF($G864=0,\"0\"&\"\",TEXT($G864,VLOOKUP(INT(LOG10($G864)),LIST!$I$5:$M$100,3)))","v":"0"},{"$f":"IF($G864=0,\"0\"&\"\",TEXT($G864,VLOOKUP(INT(LOG10($G864)), LIST!$I$5:$M$100,5)))","v":"0"}]
[null,null,"消費",{"$f":"ROUND(届出・申告書の作成!$V1103, 1)","v":0},null,"トン換算・有効3桁",0,{"$f":"IF($G865=0,\"0\"&\"\",TEXT($G865,VLOOKUP(INT(LOG10($G865)),LIST!$I$5:$M$100,3)))","v":"0"},{"$f":"IF($G865=0,\"0\"&\"\",TEXT($G865,VLOOKUP(INT(LOG10($G865)), LIST!$I$5:$M$100,5)))","v":"0"}]
[null,null,"輸入",{"$f":"ROUND(届出・申告書の作成!$V1104, 3)","v":0},null,"トン換算・有効3桁",0,{"$f":"IF($G866=0,\"0\"&\"\",TEXT($G866,VLOOKUP(INT(LOG10($G866)),LIST!$I$5:$M$100,4)))","v":"0"},{"$f":"IF($G866=0,\"0\"&\"\",TEXT($G866,VLOOKUP(INT(LOG10($G866)), LIST!$I$5:$M$100,5)))","v":"0"}]
[null,null,"輸出",{"$f":"ROUND(届出・申告書の作成!$V1105, 3)","v":0},null,"トン換算・有効3桁",0,{"$f":"IF($G867=0,\"0\"&\"\",TEXT($G867,VLOOKUP(INT(LOG10($G867)),LIST!$I$5:$M$100,4)))","v":"0"},{"$f":"IF($G867=0,\"0\"&\"\",TEXT($G867,VLOOKUP(INT(LOG10($G867)), LIST!$I$5:$M$100,5)))","v":"0"}]
[null,"製品形態",1,{"$f":"届出・申告書の作成!$V1106&\"\"","v":""},null,"製品形態(コード)",{"$f":"$D868","v":""},{"$f":"TRIM($G868)","v":""}]
[]
[]
[]
[]
[null,"直接輸出の有無",null,{"$f":"届出・申告書の作成!$V1111&\"\"","v":""},null,"直接輸出（コード)",{"$f":"TEXT(IFERROR(VLOOKUP($D873,LIST!$AL$5:$AM$100,2,FALSE), \"\"), \"@\")","v":""}]
[null,"直接輸出先の国",1,{"$f":"届出・申告書の作成!$V1112&\"\"","v":""},null,"直接輸出先の国",{"$f":"TEXT(IFERROR(VLOOKUP($D874,LIST!$AN$5:$AO$500,2,FALSE), \"\"), \"@\")","v":""},{"$f":"TRIM(CONCATENATE($G874, IF($G875=\"\", \"\", CONCATENATE(\" \", $G875)), IF($G876=\"\", \"\", CONCATENATE(\" \", $G876)), IF($G877=\"\", \"\", CONCATENATE(\" \", $G877)), IF($G878=\"\", \"\", CONCATENATE(\" \", $G878)), IF($G879=\"\", \"\", CONCATENATE(\" \", $G879))))","v":""}]
[null,null,2,{"$f":"届出・申告書の作成!$V1113&\"\"","v":""},null,null,{"$f":"TEXT(IFERROR(VLOOKUP($D875,LIST!$AN$5:$AO$500,2,FALSE), \"\"), \"@\")","v":""}]
[null,null,3,{"$f":"届出・申告書の作成!$V1114&\"\"","v":""},null,null,{"$f":"TEXT(IFERROR(VLOOKUP($D876,LIST!$AN$5:$AO$500,2,FALSE), \"\"), \"@\")","v":""}]
[null,null,4,{"$f":"届出・申告書の作成!$V1115&\"\"","v":""},null,null,{"$f":"TEXT(IFERROR(VLOOKUP($D877,LIST!$AN$5:$AO$500,2,FALSE), \"\"), \"@\")","v":""}]
[null,null,5,{"$f":"届出・申告書の作成!$V1116&\"\"","v":""},null,null,{"$f":"TEXT(IFERROR(VLOOKUP($D878,LIST!$AN$5:$AO$500,2,FALSE), \"\"), \"@\")","v":""}]
[null,null,6,{"$f":"届出・申告書の作成!$V1117&\"\"","v":""},null,null,{"$f":"TEXT(IFERROR(VLOOKUP($D879,LIST!$AN$5:$AO$500,2,FALSE), \"\"), \"@\")","v":""}]
[null,"国内での販売又は移転の有無","他産業:Other  industry",{"$f":"届出・申告書の作成!$V1118&\"\"","v":""},null,"他産業:Other  industry",{"$f":"TEXT(IFERROR(VLOOKUP($D880,LIST!$AP$5:$AQ$100,2,FALSE), \"\"), \"@\")","v":""}]
[null,null,"流通:Trader",{"$f":"届出・申告書の作成!$V1119&\"\"","v":""},null,"流通:Trader",{"$f":"TEXT(IFERROR(VLOOKUP($D881,LIST!$AP$5:$AQ$100,2,FALSE), \"\"), \"@\")","v":""}]
[null,null,"その他:Other destination",{"$f":"届出・申告書の作成!$V1120&\"\"","v":""},null,"その他:Other destination",{"$f":"TEXT(IFERROR(VLOOKUP($D882,LIST!$AP$5:$AQ$100,2,FALSE), \"\"), \"@\")","v":""}]
[null,"最終製品の種類",1,{"$f":"届出・申告書の作成!$V1121&\"\"","v":""},null,"最終製品の種類",{"$f":"$D883","v":""},{"$f":"TRIM($G883)","v":""}]
[]
[]
[]
[]
[null,"上記以外の活動の目的",null,{"$f":"届出・申告書の作成!$V1126&\"\"","v":""}]
[]
["活動の目的（2）","CAS番号",null,{"$f":"届出・申告書の作成!$V1138&\"\"","v":""},null,"CAS番号",{"$f":"IF($D890=STRING_NOCAS, $D891, $D890)","v":""},{"$f":"VSPLIT($G890,\"-\")","v":{"$error":"#VALUE!"}},{"$f":"IFERROR($H890,\"\")","v":""}]
[null,"CASなし　CAS番号",null,{"$f":"届出・申告書の作成!$V1139&\"\"","v":""},null,"物質ID",{"$f":"IF($D890=STRING_NOCAS,0,IFERROR(VLOOKUP($D890,LIST!$BB$6:$BG$500,2,FALSE),0))","v":0},{"$error":"#VALUE!"},{"$f":"IFERROR($H891,\"\")","v":""}]
[null,"物質名称",null,{"$f":"届出・申告書の作成!$V1140&\"\"","v":""},null,null,null,{"$error":"#VALUE!"},{"$f":"IFERROR($H892,\"\")","v":""}]
[null,"一般名又は取引名",null,{"$f":"届出・申告書の作成!$V1141&\"\"","v":""}]
[null,"化学構造式",null,{"$f":"届出・申告書の作成!$V1142&\"\"","v":""},null,null,null,"文字列(DB decimal(8,4) or (10,6))","文字列(帳票)"]
[null,"実績数量(kg)","生産",{"$f":"ROUND(届出・申告書の作成!$V1143, 1)","v":0},null,"トン換算・有効3桁",{"$f":"IF($D895=0,0,ROUND($D895/1000,2-INT(LOG(ABS($D895/1000)))))","v":0},{"$f":"IF($G895=0,\"0\"&\"\",TEXT($G895,VLOOKUP(INT(LOG10($G895)),LIST!$I$5:$M$100,3)))","v":"0"},{"$f":"IF($G895=0,\"0\"&\"\",TEXT($G895,VLOOKUP(INT(LOG10($G895)), LIST!$I$5:$M$100,5)))","v":"0"}]
[null,null,"加工",{"$f":"ROUND(届出・申告書の作成!$V1144, 1)","v":0},null,"トン換算・有効3桁",{"$f":"IF($D896=0,0,ROUND($D896/1000,2-INT(LOG(ABS($D896/1000)))))","v":0},{"$f":"IF($G896=0,\"0\"&\"\",TEXT($G896,VLOOKUP(INT(LOG10($G896)),LIST!$I$5:$M$100,3)))","v":"0"},{"$f":"IF($G896=0,\"0\"&\"\",TEXT($G896,VLOOKUP(INT(LOG10($G896)), LIST!$I$5:$M$100,5)))","v":"0"}]
[null,null,"消費",{"$f":"ROUND(届出・申告書の作成!$V1145, 1)","v":0},null,"トン換算・有効3桁",0,{"$f":"IF($G897=0,\"0\"&\"\",TEXT($G897,VLOOKUP(INT(LOG10($G897)),LIST!$I$5:$M$100,3)))","v":"0"},{"$f":"IF($G897=0,\"0\"&\"\",TEXT($G897,VLOOKUP(INT(LOG10($G897)), LIST!$I$5:$M$100,5)))","v":"0"}]
[null,null,"輸入",{"$f":"ROUND(届出・申告書の作成!$V1146, 3)","v":0},null,"トン換算・有効3桁",0,{"$f":"IF($G898=0,\"0\"&\"\",TEXT($G898,VLOOKUP(INT(LOG10($G898)),LIST!$I$5:$M$100,4)))","v":"0"},{"$f":"IF($G898=0,\"0\"&\"\",TEXT($G898,VLOOKUP(INT(LOG10($G898)), LIST!$I$5:$M$100,5)))","v":"0"}]
[null,null,"輸出",{"$f":"ROUND(届出・申告書の作成!$V1147, 3)","v":0},null,"トン換算・有効3桁",0,{"$f":"IF($G899=0,\"0\"&\"\",TEXT($G899,VLOOKUP(INT(LOG10($G899)),LIST!$I$5:$M$100,4)))","v":"0"},{"$f":"IF($G899=0,\"0\"&\"\",TEXT($G899,VLOOKUP(INT(LOG10($G899)), LIST!$I$5:$M$100,5)))","v":"0"}]
[null,"製品形態",1,{"$f":"届出・申告書の作成!$V1148&\"\"","v":""},null,"製品形態(コード)",{"$f":"$D900","v":""},{"$f":"TRIM($G900)","v":""}]
[]
[]
[]
[]
[null,"直接輸出の有無",null,{"$f":"届出・申告書の作成!$V1153&\"\"","v":""},null,"直接輸出の有無",{"$f":"TEXT(IFERROR(VLOOKUP($D905,LIST!$AL$5:$AM$100,2,FALSE), \"\"), \"@\")","v":""}]
[null,"直接輸出先の国",1,{"$f":"届出・申告書の作成!$V1154&\"\"","v":""},null,"直接輸出先の国",{"$f":"TEXT(IFERROR(VLOOKUP($D906,LIST!$AN$5:$AO$500,2,FALSE), \"\"), \"@\")","v":""},{"$f":"TRIM(CONCATENATE($G906, IF($G907=\"\", \"\", CONCATENATE(\" \", $G907)), IF($G908=\"\", \"\", CONCATENATE(\" \", $G908)), IF($G909=\"\", \"\", CONCATENATE(\" \", $G909)), IF($G910=\"\", \"\", CONCATENATE(\" \", $G910)), IF($G911=\"\", \"\", CONCATENATE(\" \", $G911))))","v":""}]
[null,null,2,{"$f":"届出・申告書の作成!$V1155&\"\"","v":""},null,null,{"$f":"TEXT(IFERROR(VLOOKUP($D907,LIST!$AN$5:$AO$500,2,FALSE), \"\"), \"@\")","v":""}]
[null,null,3,{"$f":"届出・申告書の作成!$V1156&\"\"","v":""},null,null,{"$f":"TEXT(IFERROR(VLOOKUP($D908,LIST!$AN$5:$AO$500,2,FALSE), \"\"), \"@\")","v":""}]
[null,null,4,{"$f":"届出・申告書の作成!$V1157&\"\"","v":""},null,null,{"$f":"TEXT(IFERROR(VLOOKUP($D909,LIST!$AN$5:$AO$500,2,FALSE), \"\"), \"@\")","v":""}]
[null,null,5,{"$f":"届出・申告書の作成!$V1158&\"\"","v":""},null,null,{"$f":"TEXT(IFERROR(VLOOKUP($D910,LIST!$AN$5:$AO$500,2,FALSE), \"\"), \"@\")","v":""}]
[null,null,6,{"$f":"届出・申告書の作成!$V1159&\"\"","v":""},null,null,{"$f":"TEXT(IFERROR(VLOOKUP($D911,LIST!$AN$5:$AO$500,2,FALSE), \"\"), \"@\")","v":""}]
[null,"国内での販売又は移転の有無","他産業:Other  industry",{"$f":"届出・申告書の作成!$V1160&\"\"","v":""},null,"他産業:Other  industry",{"$f":"TEXT(IFERROR(VLOOKUP($D912,LIST!$AP$5:$AQ$100,2,FALSE), \"\"), \"@\")","v":""}]
[null,null,"流通:Trader",{"$f":"届出・申告書の作成!$V1161&\"\"","v":""},null,"流通:Trader",{"$f":"TEXT(IFERROR(VLOOKUP($D913,LIST!$AP$5:$AQ$100,2,FALSE), \"\"), \"@\")","v":""}]
[null,null,"その他:Other destination",{"$f":"届出・申告書の作成!$V1162&\"\"","v":""},null,"その他:Other destination",{"$f":"TEXT(IFERROR(VLOOKUP($D914,LIST!$AP$5:$AQ$100,2,FALSE), \"\"), \"@\")","v":""}]
[null,"最終製品の種類",1,{"$f":"届出・申告書の作成!$V1163&\"\"","v":""},null,"最終製品の種類",{"$f":"$D915","v":""},{"$f":"TRIM($G915)","v":""}]
[]
[]
[]
[]
[null,"上記以外の活動の目的",null,{"$f":"届出・申告書の作成!$V1168&\"\"","v":""}]
[]
["活動の目的（3）","CAS番号",null,{"$f":"届出・申告書の作成!$V1180&\"\"","v":""},null,"CAS番号",{"$f":"IF($D922=STRING_NOCAS, $D923, $D922)","v":""},{"$f":"VSPLIT($G922,\"-\")","v":{"$error":"#VALUE!"}},{"$f":"IFERROR($H922,\"\")","v":""}]
[null,"CASなし　CAS番号",null,{"$f":"届出・申告書の作成!$V1181&\"\"","v":""},null,"物質ID",{"$f":"IF($D922=STRING_NOCAS,0,IFERROR(VLOOKUP($D922,LIST!$BB$6:$BG$500,2,FALSE),0))","v":0},{"$error":"#VALUE!"},{"$f":"IFERROR($H923,\"\")","v":""}]
[null,"物質名称",null,{"$f":"届出・申告書の作成!$V1182&\"\"","v":""},null,null,null,{"$error":"#VALUE!"},{"$f":"IFERROR($H924,\"\")","v":""}]
[null,"一般名又は取引名",null,{"$f":"届出・申告書の作成!$V1183&\"\"","v":""}]
[null,"化学構造式",null,{"$f":"届出・申告書の作成!$V1184&\"\"","v":""},null,null,null,"文字列(DB decimal(8,4) or (10,6))","文字列(帳票)"]
[null,"実績数量(kg)","生産",{"$f":"ROUND(届出・申告書の作成!$V1185, 1)","v":0},null,"トン換算・有効3桁",{"$f":"IF($D927=0,0,ROUND($D927/1000,2-INT(LOG(ABS($D927/1000)))))","v":0},{"$f":"IF($G927=0,\"0\"&\"\",TEXT($G927,VLOOKUP(INT(LOG10($G927)),LIST!$I$5:$M$100,3)))","v":"0"},{"$f":"IF($G927=0,\"0\"&\"\",TEXT($G927,VLOOKUP(INT(LOG10($G927)), LIST!$I$5:$M$100,5)))","v":"0"}]
[null,null,"加工",{"$f":"ROUND(届出・申告書の作成!$V1186, 1)","v":0},null,"トン換算・有効3桁",{"$f":"IF($D928=0,0,ROUND($D928/1000,2-INT(LOG(ABS($D928/1000)))))","v":0},{"$f":"IF($G928=0,\"0\"&\"\",TEXT($G928,VLOOKUP(INT(LOG10($G928)),LIST!$I$5:$M$100,3)))","v":"0"},{"$f":"IF($G928=0,\"0\"&\"\",TEXT($G928,VLOOKUP(INT(LOG10($G928)), LIST!$I$5:$M$100,5)))","v":"0"}]
[null,null,"消費",{"$f":"ROUND(届出・申告書の作成!$V1187, 1)","v":0},null,"トン換算・有効3桁",0,{"$f":"IF($G929=0,\"0\"&\"\",TEXT($G929,VLOOKUP(INT(LOG10($G929)),LIST!$I$5:$M$100,3)))","v":"0"},{"$f":"IF($G929=0,\"0\"&\"\",TEXT($G929,VLOOKUP(INT(LOG10($G929)), LIST!$I$5:$M$100,5)))","v":"0"}]
[null,null,"輸入",{"$f":"ROUND(届出・申告書の作成!$V1188, 3)","v":0},null,"トン換算・有効3桁",0,{"$f":"IF($G930=0,\"0\"&\"\",TEXT($G930,VLOOKUP(INT(LOG10($G930)),LIST!$I$5:$M$100,4)))","v":"0"},{"$f":"IF($G930=0,\"0\"&\"\",TEXT($G930,VLOOKUP(INT(LOG10($G930)), LIST!$I$5:$M$100,5)))","v":"0"}]
[null,null,"輸出",{"$f":"ROUND(届出・申告書の作成!$V1189, 3)","v":0},null,"トン換算・有効3桁",0,{"$f":"IF($G931=0,\"0\"&\"\",TEXT($G931,VLOOKUP(INT(LOG10($G931)),LIST!$I$5:$M$100,4)))","v":"0"},{"$f":"IF($G931=0,\"0\"&\"\",TEXT($G931,VLOOKUP(INT(LOG10($G931)), LIST!$I$5:$M$100,5)))","v":"0"}]
[null,"製品形態",1,{"$f":"届出・申告書の作成!$V1190&\"\"","v":""},null,"製品形態(コード)",{"$f":"$D932","v":""},{"$f":"TRIM($G932)","v":""}]
[]
[]
[]
[]
[null,"直接輸出の有無",null,{"$f":"届出・申告書の作成!$V1195&\"\"","v":""},null,"直接輸出の有無",{"$f":"TEXT(IFERROR(VLOOKUP($D937,LIST!$AL$5:$AM$100,2,FALSE), \"\"), \"@\")","v":""}]
[null,"直接輸出先の国",1,{"$f":"届出・申告書の作成!$V1196&\"\"","v":""},null,"直接輸出先の国",{"$f":"TEXT(IFERROR(VLOOKUP($D938,LIST!$AN$5:$AO$500,2,FALSE), \"\"), \"@\")","v":""},{"$f":"TRIM(CONCATENATE($G938, IF($G939=\"\", \"\", CONCATENATE(\" \", $G939)), IF($G940=\"\", \"\", CONCATENATE(\" \", $G940)), IF($G941=\"\", \"\", CONCATENATE(\" \", $G941)), IF($G942=\"\", \"\", CONCATENATE(\" \", $G942)), IF($G943=\"\", \"\", CONCATENATE(\" \", $G943))))","v":""}]
[null,null,2,{"$f":"届出・申告書の作成!$V1197&\"\"","v":""},null,null,{"$f":"TEXT(IFERROR(VLOOKUP($D939,LIST!$AN$5:$AO$500,2,FALSE), \"\"), \"@\")","v":""}]
[null,null,3,{"$f":"届出・申告書の作成!$V1198&\"\"","v":""},null,null,{"$f":"TEXT(IFERROR(VLOOKUP($D940,LIST!$AN$5:$AO$500,2,FALSE), \"\"), \"@\")","v":""}]
[null,null,4,{"$f":"届出・申告書の作成!$V1199&\"\"","v":""},null,null,{"$f":"TEXT(IFERROR(VLOOKUP($D941,LIST!$AN$5:$AO$500,2,FALSE), \"\"), \"@\")","v":""}]
[null,null,5,{"$f":"届出・申告書の作成!$V1200&\"\"","v":""},null,null,{"$f":"TEXT(IFERROR(VLOOKUP($D942,LIST!$AN$5:$AO$500,2,FALSE), \"\"), \"@\")","v":""}]
[null,null,6,{"$f":"届出・申告書の作成!$V1201&\"\"","v":""},null,null,{"$f":"TEXT(IFERROR(VLOOKUP($D943,LIST!$AN$5:$AO$500,2,FALSE), \"\"), \"@\")","v":""}]
[null,"国内での販売又は移転の有無","他産業:Other  industry",{"$f":"届出・申告書の作成!$V1202&\"\"","v":""},null,"他産業:Other  industry",{"$f":"TEXT(IFERROR(VLOOKUP($D944,LIST!$AP$5:$AQ$100,2,FALSE), \"\"), \"@\")","v":""}]
[null,null,"流通:Trader",{"$f":"届出・申告書の作成!$V1203&\"\"","v":""},null,"流通:Trader",{"$f":"TEXT(IFERROR(VLOOKUP($D945,LIST!$AP$5:$AQ$100,2,FALSE), \"\"), \"@\")","v":""}]
[null,null,"その他:Other destination",{"$f":"届出・申告書の作成!$V1204&\"\"","v":""},null,"その他:Other destination",{"$f":"TEXT(IFERROR(VLOOKUP($D946,LIST!$AP$5:$AQ$100,2,FALSE), \"\"), \"@\")","v":""}]
[null,"最終製品の種類",1,{"$f":"届出・申告書の作成!$V1205&\"\"","v":""},null,"最終製品の種類",{"$f":"$D947","v":""},{"$f":"TRIM($G947)","v":""}]
[]
[]
[]
[]
[null,"上記以外の活動の目的",null,{"$f":"届出・申告書の作成!$V1210&\"\"","v":""}]
[]
["活動の目的（4）","CAS番号",null,{"$f":"届出・申告書の作成!$V1222&\"\"","v":""},null,"CAS番号",{"$f":"IF($D954=STRING_NOCAS, $D955, $D954)","v":""},{"$f":"VSPLIT($G954,\"-\")","v":{"$error":"#VALUE!"}},{"$f":"IFERROR($H954,\"\")","v":""}]
[null,"CASなし　CAS番号",null,{"$f":"届出・申告書の作成!$V1223&\"\"","v":""},null,"物質ID",{"$f":"IF($D954=STRING_NOCAS,0,IFERROR(VLOOKUP($D954,LIST!$BB$6:$BG$500,2,FALSE),0))","v":0},{"$error":"#VALUE!"},{"$f":"IFERROR($H955,\"\")","v":""}]
[null,"物質名称",null,{"$f":"届出・申告書の作成!$V1224&\"\"","v":""},null,null,null,{"$error":"#VALUE!"},{"$f":"IFERROR($H956,\"\")","v":""}]
[null,"一般名又は取引名",null,{"$f":"届出・申告書の作成!$V1225&\"\"","v":""}]
[null,"化学構造式",null,{"$f":"届出・申告書の作成!$V1226&\"\"","v":""},null,null,null,"文字列(DB decimal(8,4) or (10,6))","文字列(帳票)"]
[null,"実績数量(kg)","生産",{"$f":"ROUND(届出・申告書の作成!$V1227, 1)","v":0},null,"トン換算・有効3桁",{"$f":"IF($D959=0,0,ROUND($D959/1000,2-INT(LOG(ABS($D959/1000)))))","v":0},{"$f":"IF($G959=0,\"0\"&\"\",TEXT($G959,VLOOKUP(INT(LOG10($G959)),LIST!$I$5:$M$100,3)))","v":"0"},{"$f":"IF($G959=0,\"0\"&\"\",TEXT($G959,VLOOKUP(INT(LOG10($G959)), LIST!$I$5:$M$100,5)))","v":"0"}]
[null,null,"加工",{"$f":"ROUND(届出・申告書の作成!$V1228, 1)","v":0},null,"トン換算・有効3桁",{"$f":"IF($D960=0,0,ROUND($D960/1000,2-INT(LOG(ABS($D960/1000)))))","v":0},{"$f":"IF($G960=0,\"0\"&\"\",TEXT($G960,VLOOKUP(INT(LOG10($G960)),LIST!$I$5:$M$100,3)))","v":"0"},{"$f":"IF($G960=0,\"0\"&\"\",TEXT($G960,VLOOKUP(INT(LOG10($G960)), LIST!$I$5:$M$100,5)))","v":"0"}]
[null,null,"消費",{"$f":"ROUND(届出・申告書の作成!$V1229, 1)","v":0},null,"トン換算・有効3桁",0,{"$f":"IF($G961=0,\"0\"&\"\",TEXT($G961,VLOOKUP(INT(LOG10($G961)),LIST!$I$5:$M$100,3)))","v":"0"},{"$f":"IF($G961=0,\"0\"&\"\",TEXT($G961,VLOOKUP(INT(LOG10($G961)), LIST!$I$5:$M$100,5)))","v":"0"}]
[null,null,"輸入",{"$f":"ROUND(届出・申告書の作成!$V1230, 3)","v":0},null,"トン換算・有効3桁",0,{"$f":"IF($G962=0,\"0\"&\"\",TEXT($G962,VLOOKUP(INT(LOG10($G962)),LIST!$I$5:$M$100,4)))","v":"0"},{"$f":"IF($G962=0,\"0\"&\"\",TEXT($G962,VLOOKUP(INT(LOG10($G962)), LIST!$I$5:$M$100,5)))","v":"0"}]
[null,null,"輸出",{"$f":"ROUND(届出・申告書の作成!$V1231, 3)","v":0},null,"トン換算・有効3桁",0,{"$f":"IF($G963=0,\"0\"&\"\",TEXT($G963,VLOOKUP(INT(LOG10($G963)),LIST!$I$5:$M$100,4)))","v":"0"},{"$f":"IF($G963=0,\"0\"&\"\",TEXT($G963,VLOOKUP(INT(LOG10($G963)), LIST!$I$5:$M$100,5)))","v":"0"}]
[null,"製品形態",1,{"$f":"届出・申告書の作成!$V1232&\"\"","v":""},null,"製品形態(コード)",{"$f":"$D964","v":""},{"$f":"TRIM($G964)","v":""}]
[]
[]
[]
[]
[null,"直接輸出の有無",null,{"$f":"届出・申告書の作成!$V1237&\"\"","v":""},null,"直接輸出の有無",{"$f":"TEXT(IFERROR(VLOOKUP($D969,LIST!$AL$5:$AM$100,2,FALSE), \"\"), \"@\")","v":""}]
[null,"直接輸出先の国",1,{"$f":"届出・申告書の作成!$V1238&\"\"","v":""},null,"直接輸出先の国",{"$f":"TEXT(IFERROR(VLOOKUP($D970,LIST!$AN$5:$AO$500,2,FALSE), \"\"), \"@\")","v":""},{"$f":"TRIM(CONCATENATE($G970, IF($G971=\"\", \"\", CONCATENATE(\" \", $G971)), IF($G972=\"\", \"\", CONCATENATE(\" \", $G972)), IF($G973=\"\", \"\", CONCATENATE(\" \", $G973)), IF($G974=\"\", \"\", CONCATENATE(\" \", $G974)), IF($G975=\"\", \"\", CONCATENATE(\" \", $G975))))","v":""}]
[null,null,2,{"$f":"届出・申告書の作成!$V1239&\"\"","v":""},null,null,{"$f":"TEXT(IFERROR(VLOOKUP($D971,LIST!$AN$5:$AO$500,2,FALSE), \"\"), \"@\")","v":""}]
[null,null,3,{"$f":"届出・申告書の作成!$V1240&\"\"","v":""},null,null,{"$f":"TEXT(IFERROR(VLOOKUP($D972,LIST!$AN$5:$AO$500,2,FALSE), \"\"), \"@\")","v":""}]
[null,null,4,{"$f":"届出・申告書の作成!$V1241&\"\"","v":""},null,null,{"$f":"TEXT(IFERROR(VLOOKUP($D973,LIST!$AN$5:$AO$500,2,FALSE), \"\"), \"@\")","v":""}]
[null,null,5,{"$f":"届出・申告書の作成!$V1242&\"\"","v":""},null,null,{"$f":"TEXT(IFERROR(VLOOKUP($D974,LIST!$AN$5:$AO$500,2,FALSE), \"\"), \"@\")","v":""}]
[null,null,6,{"$f":"届出・申告書の作成!$V1243&\"\"","v":""},null,null,{"$f":"TEXT(IFERROR(VLOOKUP($D975,LIST!$AN$5:$AO$500,2,FALSE), \"\"), \"@\")","v":""}]
[null,"国内での販売又は移転の有無","他産業:Other  industry",{"$f":"届出・申告書の作成!$V1244&\"\"","v":""},null,"他産業:Other  industry",{"$f":"TEXT(IFERROR(VLOOKUP($D976,LIST!$AP$5:$AQ$100,2,FALSE), \"\"), \"@\")","v":""}]
[null,null,"流通:Trader",{"$f":"届出・申告書の作成!$V1245&\"\"","v":""},null,"流通:Trader",{"$f":"TEXT(IFERROR(VLOOKUP($D977,LIST!$AP$5:$AQ$100,2,FALSE), \"\"), \"@\")","v":""}]
[null,null,"その他:Other destination",{"$f":"届出・申告書の作成!$V1246&\"\"","v":""},null,"その他:Other destination",{"$f":"TEXT(IFERROR(VLOOKUP($D978,LIST!$AP$5:$AQ$100,2,FALSE), \"\"), \"@\")","v":""}]
[null,"最終製品の種類",1,{"$f":"届出・申告書の作成!$V1247&\"\"","v":""},null,"最終製品の種類",{"$f":"$D979","v":""},{"$f":"TRIM($G979)","v":""}]
[]
[]
[]
[]
[null,"上記以外の活動の目的",null,{"$f":"届出・申告書の作成!$V1252&\"\"","v":""}]
[]
["活動の目的（5）","CAS番号",null,{"$f":"届出・申告書の作成!$V1264&\"\"","v":""},null,"CAS番号",{"$f":"IF($D986=STRING_NOCAS, $D987, $D986)","v":""},{"$f":"VSPLIT($G986,\"-\")","v":{"$error":"#VALUE!"}},{"$f":"IFERROR($H986,\"\")","v":""}]
[null,"CASなし　CAS番号",null,{"$f":"届出・申告書の作成!$V1265&\"\"","v":""},null,"物質ID",{"$f":"IF($D986=STRING_NOCAS,0,IFERROR(VLOOKUP($D986,LIST!$BB$6:$BG$500,2,FALSE),0))","v":0},{"$error":"#VALUE!"},{"$f":"IFERROR($H987,\"\")","v":""}]
[null,"物質名称",null,{"$f":"届出・申告書の作成!$V1266&\"\"","v":""},null,null,null,{"$error":"#VALUE!"},{"$f":"IFERROR($H988,\"\")","v":""}]
[null,"一般名又は取引名",null,{"$f":"届出・申告書の作成!$V1267&\"\"","v":""}]
[null,"化学構造式",null,{"$f":"届出・申告書の作成!$V1268&\"\"","v":""},null,null,null,"文字列(DB decimal(8,4) or (10,6))","文字列(帳票)"]
[null,"実績数量(kg)","生産",{"$f":"ROUND(届出・申告書の作成!$V1269, 1)","v":0},null,"トン換算・有効3桁",{"$f":"IF($D991=0,0,ROUND($D991/1000,2-INT(LOG(ABS($D991/1000)))))","v":0},{"$f":"IF($G991=0,\"0\"&\"\",TEXT($G991,VLOOKUP(INT(LOG10($G991)),LIST!$I$5:$M$100,3)))","v":"0"},{"$f":"IF($G991=0,\"0\"&\"\",TEXT($G991,VLOOKUP(INT(LOG10($G991)), LIST!$I$5:$M$100,5)))","v":"0"}]
[null,null,"加工",{"$f":"ROUND(届出・申告書の作成!$V1270, 1)","v":0},null,"トン換算・有効3桁",{"$f":"IF($D992=0,0,ROUND($D992/1000,2-INT(LOG(ABS($D992/1000)))))","v":0},{"$f":"IF($G992=0,\"0\"&\"\",TEXT($G992,VLOOKUP(INT(LOG10($G992)),LIST!$I$5:$M$100,3)))","v":"0"},{"$f":"IF($G992=0,\"0\"&\"\",TEXT($G992,VLOOKUP(INT(LOG10($G992)), LIST!$I$5:$M$100,5)))","v":"0"}]
[null,null,"消費",{"$f":"ROUND(届出・申告書の作成!$V1271, 1)","v":0},null,"トン換算・有効3桁",0,{"$f":"IF($G993=0,\"0\"&\"\",TEXT($G993,VLOOKUP(INT(LOG10($G993)),LIST!$I$5:$M$100,3)))","v":"0"},{"$f":"IF($G993=0,\"0\"&\"\",TEXT($G993,VLOOKUP(INT(LOG10($G993)), LIST!$I$5:$M$100,5)))","v":"0"}]
[null,null,"輸入",{"$f":"ROUND(届出・申告書の作成!$V1272, 3)","v":0},null,"トン換算・有効3桁",0,{"$f":"IF($G994=0,\"0\"&\"\",TEXT($G994,VLOOKUP(INT(LOG10($G994)),LIST!$I$5:$M$100,4)))","v":"0"},{"$f":"IF($G994=0,\"0\"&\"\",TEXT($G994,VLOOKUP(INT(LOG10($G994)), LIST!$I$5:$M$100,5)))","v":"0"}]
[null,null,"輸出",{"$f":"ROUND(届出・申告書の作成!$V1273, 3)","v":0},null,"トン換算・有効3桁",0,{"$f":"IF($G995=0,\"0\"&\"\",TEXT($G995,VLOOKUP(INT(LOG10($G995)),LIST!$I$5:$M$100,4)))","v":"0"},{"$f":"IF($G995=0,\"0\"&\"\",TEXT($G995,VLOOKUP(INT(LOG10($G995)), LIST!$I$5:$M$100,5)))","v":"0"}]
[null,"製品形態",1,{"$f":"届出・申告書の作成!$V1274&\"\"","v":""},null,"製品形態(コード)",{"$f":"$D996","v":""},{"$f":"TRIM($G996)","v":""}]
[]
[]
[]
[]
[null,"直接輸出の有無",null,{"$f":"届出・申告書の作成!$V1279&\"\"","v":""},null,"直接輸出の有無",{"$f":"TEXT(IFERROR(VLOOKUP($D1001,LIST!$AL$5:$AM$100,2,FALSE), \"\"), \"@\")","v":""}]
[null,"直接輸出先の国",1,{"$f":"届出・申告書の作成!$V1280&\"\"","v":""},null,"直接輸出先の国",{"$f":"TEXT(IFERROR(VLOOKUP($D1002,LIST!$AN$5:$AO$500,2,FALSE), \"\"), \"@\")","v":""},{"$f":"TRIM(CONCATENATE($G1002, IF($G1003=\"\", \"\", CONCATENATE(\" \", $G1003)), IF($G1004=\"\", \"\", CONCATENATE(\" \", $G1004)), IF($G1005=\"\", \"\", CONCATENATE(\" \", $G1005)), IF($G1006=\"\", \"\", CONCATENATE(\" \", $G1006)), IF($G1007=\"\", \"\", CONCATENATE(\" \", $G1007))))","v":""}]
[null,null,2,{"$f":"届出・申告書の作成!$V1281&\"\"","v":""},null,null,{"$f":"TEXT(IFERROR(VLOOKUP($D1003,LIST!$AN$5:$AO$500,2,FALSE), \"\"), \"@\")","v":""}]
[null,null,3,{"$f":"届出・申告書の作成!$V1282&\"\"","v":""},null,null,{"$f":"TEXT(IFERROR(VLOOKUP($D1004,LIST!$AN$5:$AO$500,2,FALSE), \"\"), \"@\")","v":""}]
[null,null,4,{"$f":"届出・申告書の作成!$V1283&\"\"","v":""},null,null,{"$f":"TEXT(IFERROR(VLOOKUP($D1005,LIST!$AN$5:$AO$500,2,FALSE), \"\"), \"@\")","v":""}]
[null,null,5,{"$f":"届出・申告書の作成!$V1284&\"\"","v":""},null,null,{"$f":"TEXT(IFERROR(VLOOKUP($D1006,LIST!$AN$5:$AO$500,2,FALSE), \"\"), \"@\")","v":""}]
[null,null,6,{"$f":"届出・申告書の作成!$V1285&\"\"","v":""},null,null,{"$f":"TEXT(IFERROR(VLOOKUP($D1007,LIST!$AN$5:$AO$500,2,FALSE), \"\"), \"@\")","v":""}]
[null,"国内での販売又は移転の有無","他産業:Other  industry",{"$f":"届出・申告書の作成!$V1286&\"\"","v":""},null,"他産業:Other  industry",{"$f":"TEXT(IFERROR(VLOOKUP($D1008,LIST!$AP$5:$AQ$100,2,FALSE), \"\"), \"@\")","v":""}]
[null,null,"流通:Trader",{"$f":"届出・申告書の作成!$V1287&\"\"","v":""},null,"流通:Trader",{"$f":"TEXT(IFERROR(VLOOKUP($D1009,LIST!$AP$5:$AQ$100,2,FALSE), \"\"), \"@\")","v":""}]
[null,null,"その他:Other destination",{"$f":"届出・申告書の作成!$V1288&\"\"","v":""},null,"その他:Other destination",{"$f":"TEXT(IFERROR(VLOOKUP($D1010,LIST!$AP$5:$AQ$100,2,FALSE), \"\"), \"@\")","v":""}]
[null,"最終製品の種類",1,{"$f":"届出・申告書の作成!$V1289&\"\"","v":""},null,"最終製品の種類",{"$f":"$D1011","v":""},{"$f":"TRIM($G1011)","v":""}]
[]
[]
[]
[]
[null,"上記以外の活動の目的",null,{"$f":"届出・申告書の作成!$V1294&\"\"","v":""}]
[]
["活動の目的（6）","CAS番号",null,{"$f":"届出・申告書の作成!$V1306&\"\"","v":""},null,"CAS番号",{"$f":"IF($D1018=STRING_NOCAS, $D1019, $D1018)","v":""},{"$f":"VSPLIT($G1018,\"-\")","v":{"$error":"#VALUE!"}},{"$f":"IFERROR($H1018,\"\")","v":""}]
[null,"CASなし　CAS番号",null,{"$f":"届出・申告書の作成!$V1307&\"\"","v":""},null,"物質ID",{"$f":"IF($D1018=STRING_NOCAS,0,IFERROR(VLOOKUP($D1018,LIST!$BB$6:$BG$500,2,FALSE),0))","v":0},{"$error":"#VALUE!"},{"$f":"IFERROR($H1019,\"\")","v":""}]
[null,"物質名称",null,{"$f":"届出・申告書の作成!$V1308&\"\"","v":""},null,null,null,{"$error":"#VALUE!"},{"$f":"IFERROR($H1020,\"\")","v":""}]
[null,"一般名又は取引名",null,{"$f":"届出・申告書の作成!$V1309&\"\"","v":""}]
[null,"化学構造式",null,{"$f":"届出・申告書の作成!$V1310&\"\"","v":""},null,null,null,"文字列(DB decimal(8,4) or (10,6))","文字列(帳票)"]
[null,"実績数量(kg)","生産",{"$f":"ROUND(届出・申告書の作成!$V1311, 1)","v":0},null,"トン換算・有効3桁",{"$f":"IF($D1023=0,0,ROUND($D1023/1000,2-INT(LOG(ABS($D1023/1000)))))","v":0},{"$f":"IF($G1023=0,\"0\"&\"\",TEXT($G1023,VLOOKUP(INT(LOG10($G1023)),LIST!$I$5:$M$100,3)))","v":"0"},{"$f":"IF($G1023=0,\"0\"&\"\",TEXT($G1023,VLOOKUP(INT(LOG10($G1023)), LIST!$I$5:$M$100,5)))","v":"0"}]
[null,null,"加工",{"$f":"ROUND(届出・申告書の作成!$V1312, 1)","v":0},null,"トン換算・有効3桁",{"$f":"IF($D1024=0,0,ROUND($D1024/1000,2-INT(LOG(ABS($D1024/1000)))))","v":0},{"$f":"IF($G1024=0,\"0\"&\"\",TEXT($G1024,VLOOKUP(INT(LOG10($G1024)),LIST!$I$5:$M$100,3)))","v":"0"},{"$f":"IF($G1024=0,\"0\"&\"\",TEXT($G1024,VLOOKUP(INT(LOG10($G1024)), LIST!$I$5:$M$100,5)))","v":"0"}]
[null,null,"消費",{"$f":"ROUND(届出・申告書の作成!$V1313, 1)","v":0},null,"トン換算・有効3桁",0,{"$f":"IF($G1025=0,\"0\"&\"\",TEXT($G1025,VLOOKUP(INT(LOG10($G1025)),LIST!$I$5:$M$100,3)))","v":"0"},{"$f":"IF($G1025=0,\"0\"&\"\",TEXT($G1025,VLOOKUP(INT(LOG10($G1025)), LIST!$I$5:$M$100,5)))","v":"0"}]
[null,null,"輸入",{"$f":"ROUND(届出・申告書の作成!$V1314, 3)","v":0},null,"トン換算・有効3桁",0,{"$f":"IF($G1026=0,\"0\"&\"\",TEXT($G1026,VLOOKUP(INT(LOG10($G1026)),LIST!$I$5:$M$100,4)))","v":"0"},{"$f":"IF($G1026=0,\"0\"&\"\",TEXT($G1026,VLOOKUP(INT(LOG10($G1026)), LIST!$I$5:$M$100,5)))","v":"0"}]
[null,null,"輸出",{"$f":"ROUND(届出・申告書の作成!$V1315, 3)","v":0},null,"トン換算・有効3桁",0,{"$f":"IF($G1027=0,\"0\"&\"\",TEXT($G1027,VLOOKUP(INT(LOG10($G1027)),LIST!$I$5:$M$100,4)))","v":"0"},{"$f":"IF($G1027=0,\"0\"&\"\",TEXT($G1027,VLOOKUP(INT(LOG10($G1027)), LIST!$I$5:$M$100,5)))","v":"0"}]
[null,"製品形態",1,{"$f":"届出・申告書の作成!$V1316&\"\"","v":""},null,"製品形態(コード)",{"$f":"$D1028","v":""},{"$f":"TRIM($G1028)","v":""}]
[]
[]
[]
[]
[null,"直接輸出の有無",null,{"$f":"届出・申告書の作成!$V1321&\"\"","v":""},null,"直接輸出の有無",{"$f":"TEXT(IFERROR(VLOOKUP($D1033,LIST!$AL$5:$AM$100,2,FALSE), \"\"), \"@\")","v":""}]
[null,"直接輸出先の国",1,{"$f":"届出・申告書の作成!$V1322&\"\"","v":""},null,"直接輸出先の国",{"$f":"TEXT(IFERROR(VLOOKUP($D1034,LIST!$AN$5:$AO$500,2,FALSE), \"\"), \"@\")","v":""},{"$f":"TRIM(CONCATENATE($G1034, IF($G1035=\"\", \"\", CONCATENATE(\" \", $G1035)), IF($G1036=\"\", \"\", CONCATENATE(\" \", $G1036)), IF($G1037=\"\", \"\", CONCATENATE(\" \", $G1037)), IF($G1038=\"\", \"\", CONCATENATE(\" \", $G1038)), IF($G1039=\"\", \"\", CONCATENATE(\" \", $G1039))))","v":""}]
[null,null,2,{"$f":"届出・申告書の作成!$V1323&\"\"","v":""},null,null,{"$f":"TEXT(IFERROR(VLOOKUP($D1035,LIST!$AN$5:$AO$500,2,FALSE), \"\"), \"@\")","v":""}]
[null,null,3,{"$f":"届出・申告書の作成!$V1324&\"\"","v":""},null,null,{"$f":"TEXT(IFERROR(VLOOKUP($D1036,LIST!$AN$5:$AO$500,2,FALSE), \"\"), \"@\")","v":""}]
[null,null,4,{"$f":"届出・申告書の作成!$V1325&\"\"","v":""},null,null,{"$f":"TEXT(IFERROR(VLOOKUP($D1037,LIST!$AN$5:$AO$500,2,FALSE), \"\"), \"@\")","v":""}]
[null,null,5,{"$f":"届出・申告書の作成!$V1326&\"\"","v":""},null,null,{"$f":"TEXT(IFERROR(VLOOKUP($D1038,LIST!$AN$5:$AO$500,2,FALSE), \"\"), \"@\")","v":""}]
[null,null,6,{"$f":"届出・申告書の作成!$V1327&\"\"","v":""},null,null,{"$f":"TEXT(IFERROR(VLOOKUP($D1039,LIST!$AN$5:$AO$500,2,FALSE), \"\"), \"@\")","v":""}]
[null,"国内での販売又は移転の有無","他産業:Other  industry",{"$f":"届出・申告書の作成!$V1328&\"\"","v":""},null,"他産業:Other  industry",{"$f":"TEXT(IFERROR(VLOOKUP($D1040,LIST!$AP$5:$AQ$100,2,FALSE), \"\"), \"@\")","v":""}]
[null,null,"流通:Trader",{"$f":"届出・申告書の作成!$V1329&\"\"","v":""},null,"流通:Trader",{"$f":"TEXT(IFERROR(VLOOKUP($D1041,LIST!$AP$5:$AQ$100,2,FALSE), \"\"), \"@\")","v":""}]
[null,null,"その他:Other destination",{"$f":"届出・申告書の作成!$V1330&\"\"","v":""},null,"その他:Other destination",{"$f":"TEXT(IFERROR(VLOOKUP($D1042,LIST!$AP$5:$AQ$100,2,FALSE), \"\"), \"@\")","v":""}]
[null,"最終製品の種類",1,{"$f":"届出・申告書の作成!$V1331&\"\"","v":""},null,"最終製品の種類",{"$f":"$D1043","v":""},{"$f":"TRIM($G1043)","v":""}]
[]
[]
[]
[]
[null,"上記以外の活動の目的",null,{"$f":"届出・申告書の作成!$V1336&\"\"","v":""}]
[]
["活動の目的（7）","CAS番号",null,{"$f":"届出・申告書の作成!$V1348&\"\"","v":""},null,"CAS番号",{"$f":"IF($D1050=STRING_NOCAS, $D1051, $D1050)","v":""},{"$f":"VSPLIT($G1050,\"-\")","v":{"$error":"#VALUE!"}},{"$f":"IFERROR($H1050,\"\")","v":""}]
[null,"CASなし　CAS番号",null,{"$f":"届出・申告書の作成!$V1349&\"\"","v":""},null,"物質ID",{"$f":"IF($D1050=STRING_NOCAS,0,IFERROR(VLOOKUP($D1050,LIST!$BB$6:$BG$500,2,FALSE),0))","v":0},{"$error":"#VALUE!"},{"$f":"IFERROR($H1051,\"\")","v":""}]
[null,"物質名称",null,{"$f":"届出・申告書の作成!$V1350&\"\"","v":""},null,null,null,{"$error":"#VALUE!"},{"$f":"IFERROR($H1052,\"\")","v":""}]
[null,"一般名又は取引名",null,{"$f":"届出・申告書の作成!$V1351&\"\"","v":""}]
[null,"化学構造式",null,{"$f":"届出・申告書の作成!$V1352&\"\"","v":""},null,null,null,"文字列(DB decimal(8,4) or (10,6))","文字列(帳票)"]
[null,"実績数量(kg)","生産",{"$f":"ROUND(届出・申告書の作成!$V1353, 1)","v":0},null,"トン換算・有効3桁",{"$f":"IF($D1055=0,0,ROUND($D1055/1000,2-INT(LOG(ABS($D1055/1000)))))","v":0},{"$f":"IF($G1055=0,\"0\"&\"\",TEXT($G1055,VLOOKUP(INT(LOG10($G1055)),LIST!$I$5:$M$100,3)))","v":"0"},{"$f":"IF($G1055=0,\"0\"&\"\",TEXT($G1055,VLOOKUP(INT(LOG10($G1055)), LIST!$I$5:$M$100,5)))","v":"0"}]
[null,null,"加工",{"$f":"ROUND(届出・申告書の作成!$V1354, 1)","v":0},null,"トン換算・有効3桁",{"$f":"IF($D1056=0,0,ROUND($D1056/1000,2-INT(LOG(ABS($D1056/1000)))))","v":0},{"$f":"IF($G1056=0,\"0\"&\"\",TEXT($G1056,VLOOKUP(INT(LOG10($G1056)),LIST!$I$5:$M$100,3)))","v":"0"},{"$f":"IF($G1056=0,\"0\"&\"\",TEXT($G1056,VLOOKUP(INT(LOG10($G1056)), LIST!$I$5:$M$100,5)))","v":"0"}]
[null,null,"消費",{"$f":"ROUND(届出・申告書の作成!$V1355, 1)","v":0},null,"トン換算・有効3桁",0,{"$f":"IF($G1057=0,\"0\"&\"\",TEXT($G1057,VLOOKUP(INT(LOG10($G1057)),LIST!$I$5:$M$100,3)))","v":"0"},{"$f":"IF($G1057=0,\"0\"&\"\",TEXT($G1057,VLOOKUP(INT(LOG10($G1057)), LIST!$I$5:$M$100,5)))","v":"0"}]
[null,null,"輸入",{"$f":"ROUND(届出・申告書の作成!$V1356, 3)","v":0},null,"トン換算・有効3桁",0,{"$f":"IF($G1058=0,\"0\"&\"\",TEXT($G1058,VLOOKUP(INT(LOG10($G1058)),LIST!$I$5:$M$100,4)))","v":"0"},{"$f":"IF($G1058=0,\"0\"&\"\",TEXT($G1058,VLOOKUP(INT(LOG10($G1058)), LIST!$I$5:$M$100,5)))","v":"0"}]
[null,null,"輸出",{"$f":"ROUND(届出・申告書の作成!$V1357, 3)","v":0},null,"トン換算・有効3桁",0,{"$f":"IF($G1059=0,\"0\"&\"\",TEXT($G1059,VLOOKUP(INT(LOG10($G1059)),LIST!$I$5:$M$100,4)))","v":"0"},{"$f":"IF($G1059=0,\"0\"&\"\",TEXT($G1059,VLOOKUP(INT(LOG10($G1059)), LIST!$I$5:$M$100,5)))","v":"0"}]
[null,"製品形態",1,{"$f":"届出・申告書の作成!$V1358&\"\"","v":""},null,"製品形態(コード)",{"$f":"$D1060","v":""},{"$f":"TRIM($G1060)","v":""}]
[]
[]
[]
[]
[null,"直接輸出の有無",null,{"$f":"届出・申告書の作成!$V1363&\"\"","v":""},null,"直接輸出の有無",{"$f":"TEXT(IFERROR(VLOOKUP($D1065,LIST!$AL$5:$AM$100,2,FALSE), \"\"), \"@\")","v":""}]
[null,"直接輸出先の国",1,{"$f":"届出・申告書の作成!$V1364&\"\"","v":""},null,"直接輸出先の国",{"$f":"TEXT(IFERROR(VLOOKUP($D1066,LIST!$AN$5:$AO$500,2,FALSE), \"\"), \"@\")","v":""},{"$f":"TRIM(CONCATENATE($G1066, IF($G1067=\"\", \"\", CONCATENATE(\" \", $G1067)), IF($G1068=\"\", \"\", CONCATENATE(\" \", $G1068)), IF($G1069=\"\", \"\", CONCATENATE(\" \", $G1069)), IF($G1070=\"\", \"\", CONCATENATE(\" \", $G1070)), IF($G1071=\"\", \"\", CONCATENATE(\" \", $G1071))))","v":""}]
[null,null,2,{"$f":"届出・申告書の作成!$V1365&\"\"","v":""},null,null,{"$f":"TEXT(IFERROR(VLOOKUP($D1067,LIST!$AN$5:$AO$500,2,FALSE), \"\"), \"@\")","v":""}]
[null,null,3,{"$f":"届出・申告書の作成!$V1366&\"\"","v":""},null,null,{"$f":"TEXT(IFERROR(VLOOKUP($D1068,LIST!$AN$5:$AO$500,2,FALSE), \"\"), \"@\")","v":""}]
[null,null,4,{"$f":"届出・申告書の作成!$V1367&\"\"","v":""},null,null,{"$f":"TEXT(IFERROR(VLOOKUP($D1069,LIST!$AN$5:$AO$500,2,FALSE), \"\"), \"@\")","v":""}]
[null,null,5,{"$f":"届出・申告書の作成!$V1368&\"\"","v":""},null,null,{"$f":"TEXT(IFERROR(VLOOKUP($D1070,LIST!$AN$5:$AO$500,2,FALSE), \"\"), \"@\")","v":""}]
[null,null,6,{"$f":"届出・申告書の作成!$V1369&\"\"","v":""},null,null,{"$f":"TEXT(IFERROR(VLOOKUP($D1071,LIST!$AN$5:$AO$500,2,FALSE), \"\"), \"@\")","v":""}]
[null,"国内での販売又は移転の有無","他産業:Other  industry",{"$f":"届出・申告書の作成!$V1370&\"\"","v":""},null,"他産業:Other  industry",{"$f":"TEXT(IFERROR(VLOOKUP($D1072,LIST!$AP$5:$AQ$100,2,FALSE), \"\"), \"@\")","v":""}]
[null,null,"流通:Trader",{"$f":"届出・申告書の作成!$V1371&\"\"","v":""},null,"流通:Trader",{"$f":"TEXT(IFERROR(VLOOKUP($D1073,LIST!$AP$5:$AQ$100,2,FALSE), \"\"), \"@\")","v":""}]
[null,null,"その他:Other destination",{"$f":"届出・申告書の作成!$V1372&\"\"","v":""},null,"その他:Other destination",{"$f":"TEXT(IFERROR(VLOOKUP($D1074,LIST!$AP$5:$AQ$100,2,FALSE), \"\"), \"@\")","v":""}]
[null,"最終製品の種類",1,{"$f":"届出・申告書の作成!$V1373&\"\"","v":""},null,"最終製品の種類",{"$f":"$D1075","v":""},{"$f":"TRIM($G1075)","v":""}]
[]
[]
[]
[]
[null,"上記以外の活動の目的",null,{"$f":"届出・申告書の作成!$V1378&\"\"","v":""}]
[]
["活動の目的（8）","CAS番号",null,{"$f":"届出・申告書の作成!$V1390&\"\"","v":""},null,"CAS番号",{"$f":"IF($D1082=STRING_NOCAS, $D1083, $D1082)","v":""},{"$f":"VSPLIT($G1082,\"-\")","v":{"$error":"#VALUE!"}},{"$f":"IFERROR($H1082,\"\")","v":""}]
[null,"CASなし　CAS番号",null,{"$f":"届出・申告書の作成!$V1391&\"\"","v":""},null,"物質ID",{"$f":"IF($D1082=STRING_NOCAS,0,IFERROR(VLOOKUP($D1082,LIST!$BB$6:$BG$500,2,FALSE),0))","v":0},{"$error":"#VALUE!"},{"$f":"IFERROR($H1083,\"\")","v":""}]
[null,"物質名称",null,{"$f":"届出・申告書の作成!$V1392&\"\"","v":""},null,null,null,{"$error":"#VALUE!"},{"$f":"IFERROR($H1084,\"\")","v":""}]
[null,"一般名又は取引名",null,{"$f":"届出・申告書の作成!$V1393&\"\"","v":""}]
[null,"化学構造式",null,{"$f":"届出・申告書の作成!$V1394&\"\"","v":""},null,null,null,"文字列(DB decimal(8,4) or (10,6))","文字列(帳票)"]
[null,"実績数量(kg)","生産",{"$f":"ROUND(届出・申告書の作成!$V1395, 1)","v":0},null,"トン換算・有効3桁",{"$f":"IF($D1087=0,0,ROUND($D1087/1000,2-INT(LOG(ABS($D1087/1000)))))","v":0},{"$f":"IF($G1087=0,\"0\"&\"\",TEXT($G1087,VLOOKUP(INT(LOG10($G1087)),LIST!$I$5:$M$100,3)))","v":"0"},{"$f":"IF($G1087=0,\"0\"&\"\",TEXT($G1087,VLOOKUP(INT(LOG10($G1087)), LIST!$I$5:$M$100,5)))","v":"0"}]
[null,null,"加工",{"$f":"ROUND(届出・申告書の作成!$V1396, 1)","v":0},null,"トン換算・有効3桁",{"$f":"IF($D1088=0,0,ROUND($D1088/1000,2-INT(LOG(ABS($D1088/1000)))))","v":0},{"$f":"IF($G1088=0,\"0\"&\"\",TEXT($G1088,VLOOKUP(INT(LOG10($G1088)),LIST!$I$5:$M$100,3)))","v":"0"},{"$f":"IF($G1088=0,\"0\"&\"\",TEXT($G1088,VLOOKUP(INT(LOG10($G1088)), LIST!$I$5:$M$100,5)))","v":"0"}]
[null,null,"消費",{"$f":"ROUND(届出・申告書の作成!$V1397, 1)","v":0},null,"トン換算・有効3桁",0,{"$f":"IF($G1089=0,\"0\"&\"\",TEXT($G1089,VLOOKUP(INT(LOG10($G1089)),LIST!$I$5:$M$100,3)))","v":"0"},{"$f":"IF($G1089=0,\"0\"&\"\",TEXT($G1089,VLOOKUP(INT(LOG10($G1089)), LIST!$I$5:$M$100,5)))","v":"0"}]
[null,null,"輸入",{"$f":"ROUND(届出・申告書の作成!$V1398, 3)","v":0},null,"トン換算・有効3桁",0,{"$f":"IF($G1090=0,\"0\"&\"\",TEXT($G1090,VLOOKUP(INT(LOG10($G1090)),LIST!$I$5:$M$100,4)))","v":"0"},{"$f":"IF($G1090=0,\"0\"&\"\",TEXT($G1090,VLOOKUP(INT(LOG10($G1090)), LIST!$I$5:$M$100,5)))","v":"0"}]
[null,null,"輸出",{"$f":"ROUND(届出・申告書の作成!$V1399, 3)","v":0},null,"トン換算・有効3桁",0,{"$f":"IF($G1091=0,\"0\"&\"\",TEXT($G1091,VLOOKUP(INT(LOG10($G1091)),LIST!$I$5:$M$100,4)))","v":"0"},{"$f":"IF($G1091=0,\"0\"&\"\",TEXT($G1091,VLOOKUP(INT(LOG10($G1091)), LIST!$I$5:$M$100,5)))","v":"0"}]
[null,"製品形態",1,{"$f":"届出・申告書の作成!$V1400&\"\"","v":""},null,"製品形態(コード)",{"$f":"$D1092","v":""},{"$f":"TRIM($G1092)","v":""}]
[]
[]
[]
[]
[null,"直接輸出の有無",null,{"$f":"届出・申告書の作成!$V1405&\"\"","v":""},null,"直接輸出の有無",{"$f":"TEXT(IFERROR(VLOOKUP($D1097,LIST!$AL$5:$AM$100,2,FALSE), \"\"), \"@\")","v":""}]
[null,"直接輸出先の国",1,{"$f":"届出・申告書の作成!$V1406&\"\"","v":""},null,"直接輸出先の国",{"$f":"TEXT(IFERROR(VLOOKUP($D1098,LIST!$AN$5:$AO$500,2,FALSE), \"\"), \"@\")","v":""},{"$f":"TRIM(CONCATENATE($G1098, IF($G1099=\"\", \"\", CONCATENATE(\" \", $G1099)), IF($G1100=\"\", \"\", CONCATENATE(\" \", $G1100)), IF($G1101=\"\", \"\", CONCATENATE(\" \", $G1101)), IF($G1102=\"\", \"\", CONCATENATE(\" \", $G1102)), IF($G1103=\"\", \"\", CONCATENATE(\" \", $G1103))))","v":""}]
[null,null,2,{"$f":"届出・申告書の作成!$V1407&\"\"","v":""},null,null,{"$f":"TEXT(IFERROR(VLOOKUP($D1099,LIST!$AN$5:$AO$500,2,FALSE), \"\"), \"@\")","v":""}]
[null,null,3,{"$f":"届出・申告書の作成!$V1408&\"\"","v":""},null,null,{"$f":"TEXT(IFERROR(VLOOKUP($D1100,LIST!$AN$5:$AO$500,2,FALSE), \"\"), \"@\")","v":""}]
[null,null,4,{"$f":"届出・申告書の作成!$V1409&\"\"","v":""},null,null,{"$f":"TEXT(IFERROR(VLOOKUP($D1101,LIST!$AN$5:$AO$500,2,FALSE), \"\"), \"@\")","v":""}]
[null,null,5,{"$f":"届出・申告書の作成!$V1410&\"\"","v":""},null,null,{"$f":"TEXT(IFERROR(VLOOKUP($D1102,LIST!$AN$5:$AO$500,2,FALSE), \"\"), \"@\")","v":""}]
[null,null,6,{"$f":"届出・申告書の作成!$V1411&\"\"","v":""},null,null,{"$f":"TEXT(IFERROR(VLOOKUP($D1103,LIST!$AN$5:$AO$500,2,FALSE), \"\"), \"@\")","v":""}]
[null,"国内での販売又は移転の有無","他産業:Other  industry",{"$f":"届出・申告書の作成!$V1412&\"\"","v":""},null,"他産業:Other  industry",{"$f":"TEXT(IFERROR(VLOOKUP($D1104,LIST!$AP$5:$AQ$100,2,FALSE), \"\"), \"@\")","v":""}]
[null,null,"流通:Trader",{"$f":"届出・申告書の作成!$V1413&\"\"","v":""},null,"流通:Trader",{"$f":"TEXT(IFERROR(VLOOKUP($D1105,LIST!$AP$5:$AQ$100,2,FALSE), \"\"), \"@\")","v":""}]
[null,null,"その他:Other destination",{"$f":"届出・申告書の作成!$V1414&\"\"","v":""},null,"その他:Other destination",{"$f":"TEXT(IFERROR(VLOOKUP($D1106,LIST!$AP$5:$AQ$100,2,FALSE), \"\"), \"@\")","v":""}]
[null,"最終製品の種類",1,{"$f":"届出・申告書の作成!$V1415&\"\"","v":""},null,"最終製品の種類",{"$f":"$D1107","v":""},{"$f":"TRIM($G1107)","v":""}]
[]
[]
[]
[]
[null,"上記以外の活動の目的",null,{"$f":"届出・申告書の作成!$V1420&\"\"","v":""}]
[]
["活動の目的（9）","CAS番号",null,{"$f":"届出・申告書の作成!$V1432&\"\"","v":""},null,"CAS番号",{"$f":"IF($D1114=STRING_NOCAS, $D1115, $D1114)","v":""},{"$f":"VSPLIT($G1114,\"-\")","v":{"$error":"#VALUE!"}},{"$f":"IFERROR($H1114,\"\")","v":""}]
[null,"CASなし　CAS番号",null,{"$f":"届出・申告書の作成!$V1433&\"\"","v":""},null,"物質ID",{"$f":"IF($D1114=STRING_NOCAS,0,IFERROR(VLOOKUP($D1114,LIST!$BB$6:$BG$500,2,FALSE),0))","v":0},{"$error":"#VALUE!"},{"$f":"IFERROR($H1115,\"\")","v":""}]
[null,"物質名称",null,{"$f":"届出・申告書の作成!$V1434&\"\"","v":""},null,null,null,{"$error":"#VALUE!"},{"$f":"IFERROR($H1116,\"\")","v":""}]
[null,"一般名又は取引名",null,{"$f":"届出・申告書の作成!$V1435&\"\"","v":""}]
[null,"化学構造式",null,{"$f":"届出・申告書の作成!$V1436&\"\"","v":""},null,null,null,"文字列(DB decimal(8,4) or (10,6))","文字列(帳票)"]
[null,"実績数量(kg)","生産",{"$f":"ROUND(届出・申告書の作成!$V1437, 1)","v":0},null,"トン換算・有効3桁",{"$f":"IF($D1119=0,0,ROUND($D1119/1000,2-INT(LOG(ABS($D1119/1000)))))","v":0},{"$f":"IF($G1119=0,\"0\"&\"\",TEXT($G1119,VLOOKUP(INT(LOG10($G1119)),LIST!$I$5:$M$100,3)))","v":"0"},{"$f":"IF($G1119=0,\"0\"&\"\",TEXT($G1119,VLOOKUP(INT(LOG10($G1119)), LIST!$I$5:$M$100,5)))","v":"0"}]
[null,null,"加工",{"$f":"ROUND(届出・申告書の作成!$V1438, 1)","v":0},null,"トン換算・有効3桁",{"$f":"IF($D1120=0,0,ROUND($D1120/1000,2-INT(LOG(ABS($D1120/1000)))))","v":0},{"$f":"IF($G1120=0,\"0\"&\"\",TEXT($G1120,VLOOKUP(INT(LOG10($G1120)),LIST!$I$5:$M$100,3)))","v":"0"},{"$f":"IF($G1120=0,\"0\"&\"\",TEXT($G1120,VLOOKUP(INT(LOG10($G1120)), LIST!$I$5:$M$100,5)))","v":"0"}]
[null,null,"消費",{"$f":"ROUND(届出・申告書の作成!$V1439, 1)","v":0},null,"トン換算・有効3桁",0,{"$f":"IF($G1121=0,\"0\"&\"\",TEXT($G1121,VLOOKUP(INT(LOG10($G1121)),LIST!$I$5:$M$100,3)))","v":"0"},{"$f":"IF($G1121=0,\"0\"&\"\",TEXT($G1121,VLOOKUP(INT(LOG10($G1121)), LIST!$I$5:$M$100,5)))","v":"0"}]
[null,null,"輸入",{"$f":"ROUND(届出・申告書の作成!$V1440, 3)","v":0},null,"トン換算・有効3桁",0,{"$f":"IF($G1122=0,\"0\"&\"\",TEXT($G1122,VLOOKUP(INT(LOG10($G1122)),LIST!$I$5:$M$100,4)))","v":"0"},{"$f":"IF($G1122=0,\"0\"&\"\",TEXT($G1122,VLOOKUP(INT(LOG10($G1122)), LIST!$I$5:$M$100,5)))","v":"0"}]
[null,null,"輸出",{"$f":"ROUND(届出・申告書の作成!$V1441, 3)","v":0},null,"トン換算・有効3桁",0,{"$f":"IF($G1123=0,\"0\"&\"\",TEXT($G1123,VLOOKUP(INT(LOG10($G1123)),LIST!$I$5:$M$100,4)))","v":"0"},{"$f":"IF($G1123=0,\"0\"&\"\",TEXT($G1123,VLOOKUP(INT(LOG10($G1123)), LIST!$I$5:$M$100,5)))","v":"0"}]
[null,"製品形態",1,{"$f":"届出・申告書の作成!$V1442&\"\"","v":""},null,"製品形態(コード)",{"$f":"$D1124","v":""},{"$f":"TRIM($G1124)","v":""}]
[]
[]
[]
[]
[null,"直接輸出の有無",null,{"$f":"届出・申告書の作成!$V1447&\"\"","v":""},null,"直接輸出の有無",{"$f":"TEXT(IFERROR(VLOOKUP($D1129,LIST!$AL$5:$AM$100,2,FALSE), \"\"), \"@\")","v":""}]
[null,"直接輸出先の国",1,{"$f":"届出・申告書の作成!$V1448&\"\"","v":""},null,"直接輸出先の国",{"$f":"TEXT(IFERROR(VLOOKUP($D1130,LIST!$AN$5:$AO$500,2,FALSE), \"\"), \"@\")","v":""},{"$f":"TRIM(CONCATENATE($G1130, IF($G1131=\"\", \"\", CONCATENATE(\" \", $G1131)), IF($G1132=\"\", \"\", CONCATENATE(\" \", $G1132)), IF($G1133=\"\", \"\", CONCATENATE(\" \", $G1133)), IF($G1134=\"\", \"\", CONCATENATE(\" \", $G1134)), IF($G1135=\"\", \"\", CONCATENATE(\" \", $G1135))))","v":""}]
[null,null,2,{"$f":"届出・申告書の作成!$V1449&\"\"","v":""},null,null,{"$f":"TEXT(IFERROR(VLOOKUP($D1131,LIST!$AN$5:$AO$500,2,FALSE), \"\"), \"@\")","v":""}]
[null,null,3,{"$f":"届出・申告書の作成!$V1450&\"\"","v":""},null,null,{"$f":"TEXT(IFERROR(VLOOKUP($D1132,LIST!$AN$5:$AO$500,2,FALSE), \"\"), \"@\")","v":""}]
[null,null,4,{"$f":"届出・申告書の作成!$V1451&\"\"","v":""},null,null,{"$f":"TEXT(IFERROR(VLOOKUP($D1133,LIST!$AN$5:$AO$500,2,FALSE), \"\"), \"@\")","v":""}]
[null,null,5,{"$f":"届出・申告書の作成!$V1452&\"\"","v":""},null,null,{"$f":"TEXT(IFERROR(VLOOKUP($D1134,LIST!$AN$5:$AO$500,2,FALSE), \"\"), \"@\")","v":""}]
[null,null,6,{"$f":"届出・申告書の作成!$V1453&\"\"","v":""},null,null,{"$f":"TEXT(IFERROR(VLOOKUP($D1135,LIST!$AN$5:$AO$500,2,FALSE), \"\"), \"@\")","v":""}]
[null,"国内での販売又は移転の有無","他産業:Other  industry",{"$f":"届出・申告書の作成!$V1454&\"\"","v":""},null,"他産業:Other  industry",{"$f":"TEXT(IFERROR(VLOOKUP($D1136,LIST!$AP$5:$AQ$100,2,FALSE), \"\"), \"@\")","v":""}]
[null,null,"流通:Trader",{"$f":"届出・申告書の作成!$V1455&\"\"","v":""},null,"流通:Trader",{"$f":"TEXT(IFERROR(VLOOKUP($D1137,LIST!$AP$5:$AQ$100,2,FALSE), \"\"), \"@\")","v":""}]
[null,null,"その他:Other destination",{"$f":"届出・申告書の作成!$V1456&\"\"","v":""},null,"その他:Other destination",{"$f":"TEXT(IFERROR(VLOOKUP($D1138,LIST!$AP$5:$AQ$100,2,FALSE), \"\"), \"@\")","v":""}]
[null,"最終製品の種類",1,{"$f":"届出・申告書の作成!$V1457&\"\"","v":""},null,"最終製品の種類",{"$f":"$D1139","v":""},{"$f":"TRIM($G1139)","v":""}]
[]
[]
[]
[]
[null,"上記以外の活動の目的",null,{"$f":"届出・申告書の作成!$V1462&\"\"","v":""}]
[]
["活動の目的（１0）","CAS番号",null,{"$f":"届出・申告書の作成!$V1474&\"\"","v":""},null,"CAS番号",{"$f":"IF($D1146=STRING_NOCAS, $D1147, $D1146)","v":""},{"$f":"VSPLIT($G1146,\"-\")","v":{"$error":"#VALUE!"}},{"$f":"IFERROR($H1146,\"\")","v":""}]
[null,"CASなし　CAS番号",null,{"$f":"届出・申告書の作成!$V1475&\"\"","v":""},null,"物質ID",{"$f":"IF($D1146=STRING_NOCAS,0,IFERROR(VLOOKUP($D1146,LIST!$BB$6:$BG$500,2,FALSE),0))","v":0},{"$error":"#VALUE!"},{"$f":"IFERROR($H1147,\"\")","v":""}]
[null,"物質名称",null,{"$f":"届出・申告書の作成!$V1476&\"\"","v":""},null,null,null,{"$error":"#VALUE!"},{"$f":"IFERROR($H1148,\"\")","v":""}]
[null,"一般名又は取引名",null,{"$f":"届出・申告書の作成!$V1477&\"\"","v":""}]
[null,"化学構造式",null,{"$f":"届出・申告書の作成!$V1478&\"\"","v":""},null,null,null,"文字列(DB decimal(8,4) or (10,6))","文字列(帳票)"]
[null,"実績数量(kg)","生産",{"$f":"ROUND(届出・申告書の作成!$V1479, 1)","v":0},null,"トン換算・有効3桁",{"$f":"IF($D1151=0,0,ROUND($D1151/1000,2-INT(LOG(ABS($D1151/1000)))))","v":0},{"$f":"IF($G1151=0,\"0\"&\"\",TEXT($G1151,VLOOKUP(INT(LOG10($G1151)),LIST!$I$5:$M$100,3)))","v":"0"},{"$f":"IF($G1151=0,\"0\"&\"\",TEXT($G1151,VLOOKUP(INT(LOG10($G1151)), LIST!$I$5:$M$100,5)))","v":"0"}]
[null,null,"加工",{"$f":"ROUND(届出・申告書の作成!$V1480, 1)","v":0},null,"トン換算・有効3桁",{"$f":"IF($D1152=0,0,ROUND($D1152/1000,2-INT(LOG(ABS($D1152/1000)))))","v":0},{"$f":"IF($G1152=0,\"0\"&\"\",TEXT($G1152,VLOOKUP(INT(LOG10($G1152)),LIST!$I$5:$M$100,3)))","v":"0"},{"$f":"IF($G1152=0,\"0\"&\"\",TEXT($G1152,VLOOKUP(INT(LOG10($G1152)), LIST!$I$5:$M$100,5)))","v":"0"}]
[null,null,"消費",{"$f":"ROUND(届出・申告書の作成!$V1481, 1)","v":0},null,"トン換算・有効3桁",0,{"$f":"IF($G1153=0,\"0\"&\"\",TEXT($G1153,VLOOKUP(INT(LOG10($G1153)),LIST!$I$5:$M$100,3)))","v":"0"},{"$f":"IF($G1153=0,\"0\"&\"\",TEXT($G1153,VLOOKUP(INT(LOG10($G1153)), LIST!$I$5:$M$100,5)))","v":"0"}]
[null,null,"輸入",{"$f":"ROUND(届出・申告書の作成!$V1482, 3)","v":0},null,"トン換算・有効3桁",0,{"$f":"IF($G1154=0,\"0\"&\"\",TEXT($G1154,VLOOKUP(INT(LOG10($G1154)),LIST!$I$5:$M$100,4)))","v":"0"},{"$f":"IF($G1154=0,\"0\"&\"\",TEXT($G1154,VLOOKUP(INT(LOG10($G1154)), LIST!$I$5:$M$100,5)))","v":"0"}]
[null,null,"輸出",{"$f":"ROUND(届出・申告書の作成!$V1483, 3)","v":0},null,"トン換算・有効3桁",0,{"$f":"IF($G1155=0,\"0\"&\"\",TEXT($G1155,VLOOKUP(INT(LOG10($G1155)),LIST!$I$5:$M$100,4)))","v":"0"},{"$f":"IF($G1155=0,\"0\"&\"\",TEXT($G1155,VLOOKUP(INT(LOG10($G1155)), LIST!$I$5:$M$100,5)))","v":"0"}]
[null,"製品形態",1,{"$f":"届出・申告書の作成!$V1484&\"\"","v":""},null,"製品形態(コード)",{"$f":"$D1156","v":""},{"$f":"TRIM($G1156)","v":""}]
[]
[]
[]
[]
[null,"直接輸出の有無",null,{"$f":"届出・申告書の作成!$V1489&\"\"","v":""},null,"直接輸出の有無",{"$f":"TEXT(IFERROR(VLOOKUP($D1161,LIST!$AL$5:$AM$100,2,FALSE), \"\"), \"@\")","v":""}]
[null,"直接輸出先の国",1,{"$f":"届出・申告書の作成!$V1490&\"\"","v":""},null,"直接輸出先の国",{"$f":"TEXT(IFERROR(VLOOKUP($D1162,LIST!$AN$5:$AO$500,2,FALSE), \"\"), \"@\")","v":""},{"$f":"TRIM(CONCATENATE($G1162, IF($G1163=\"\", \"\", CONCATENATE(\" \", $G1163)), IF($G1164=\"\", \"\", CONCATENATE(\" \", $G1164)), IF($G1165=\"\", \"\", CONCATENATE(\" \", $G1165)), IF($G1166=\"\", \"\", CONCATENATE(\" \", $G1166)), IF($G1167=\"\", \"\", CONCATENATE(\" \", $G1167))))","v":""}]
[null,null,2,{"$f":"届出・申告書の作成!$V1491&\"\"","v":""},null,null,{"$f":"TEXT(IFERROR(VLOOKUP($D1163,LIST!$AN$5:$AO$500,2,FALSE), \"\"), \"@\")","v":""}]
[null,null,3,{"$f":"届出・申告書の作成!$V1492&\"\"","v":""},null,null,{"$f":"TEXT(IFERROR(VLOOKUP($D1164,LIST!$AN$5:$AO$500,2,FALSE), \"\"), \"@\")","v":""}]
[null,null,4,{"$f":"届出・申告書の作成!$V1493&\"\"","v":""},null,null,{"$f":"TEXT(IFERROR(VLOOKUP($D1165,LIST!$AN$5:$AO$500,2,FALSE), \"\"), \"@\")","v":""}]
[null,null,5,{"$f":"届出・申告書の作成!$V1494&\"\"","v":""},null,null,{"$f":"TEXT(IFERROR(VLOOKUP($D1166,LIST!$AN$5:$AO$500,2,FALSE), \"\"), \"@\")","v":""}]
[null,null,6,{"$f":"届出・申告書の作成!$V1495&\"\"","v":""},null,null,{"$f":"TEXT(IFERROR(VLOOKUP($D1167,LIST!$AN$5:$AO$500,2,FALSE), \"\"), \"@\")","v":""}]
[null,"国内での販売又は移転の有無","他産業:Other  industry",{"$f":"届出・申告書の作成!$V1496&\"\"","v":""},null,"他産業:Other  industry",{"$f":"TEXT(IFERROR(VLOOKUP($D1168,LIST!$AP$5:$AQ$100,2,FALSE), \"\"), \"@\")","v":""}]
[null,null,"流通:Trader",{"$f":"届出・申告書の作成!$V1497&\"\"","v":""},null,"流通:Trader",{"$f":"TEXT(IFERROR(VLOOKUP($D1169,LIST!$AP$5:$AQ$100,2,FALSE), \"\"), \"@\")","v":""}]
[null,null,"その他:Other destination",{"$f":"届出・申告書の作成!$V1498&\"\"","v":""},null,"その他:Other destination",{"$f":"TEXT(IFERROR(VLOOKUP($D1170,LIST!$AP$5:$AQ$100,2,FALSE), \"\"), \"@\")","v":""}]
[null,"最終製品の種類",1,{"$f":"届出・申告書の作成!$V1499&\"\"","v":""},null,"最終製品の種類",{"$f":"$D1171","v":""},{"$f":"TRIM($G1171)","v":""}]
[]
[]
[]
[]
[null,"上記以外の活動の目的",null,{"$f":"届出・申告書の作成!$V1504&\"\"","v":""}]
[]
["Form2.3.2の「CAS番号なし」の物質のまとめ"]
["施設","CASなし CAS番号","物質名称(英)"]
["施設1",{"$f":"$D373","v":""},{"$f":"IF($B1180=\"\",\"\",$D374)","v":""}]
[null,{"$f":"$D378","v":""},{"$f":"IF($B1181=\"\",\"\",$D379)","v":""}]
[null,{"$f":"$D383","v":""},{"$f":"IF($B1182=\"\",\"\",$D384)","v":""}]
[null,{"$f":"$D388","v":""},{"$f":"IF($B1183=\"\",\"\",$D389)","v":""}]
[null,{"$f":"$D393","v":""},{"$f":"IF($B1184=\"\",\"\",$D394)","v":""}]
[null,{"$f":"$D398","v":""},{"$f":"IF($B1185=\"\",\"\",$D399)","v":""}]
["施設2",{"$f":"$D422","v":""},{"$f":"IF($B1186=\"\",\"\",$D423)","v":""}]
[null,{"$f":"$D427","v":""},{"$f":"IF($B1187=\"\",\"\",$D428)","v":""}]
[null,{"$f":"$D432","v":""},{"$f":"IF($B1188=\"\",\"\",$D433)","v":""}]
[null,{"$f":"$D437","v":""},{"$f":"IF($B1189=\"\",\"\",$D438)","v":""}]
[null,{"$f":"$D442","v":""},{"$f":"IF($B1190=\"\",\"\",$D443)","v":""}]
[null,{"$f":"$D447","v":""},{"$f":"IF($B1191=\"\",\"\",$D448)","v":""}]
["施設3",{"$f":"$D471","v":""},{"$f":"IF($B1192=\"\",\"\",$D472)","v":""}]
[null,{"$f":"$D476","v":""},{"$f":"IF($B1193=\"\",\"\",$D477)","v":""}]
[null,{"$f":"$D481","v":""},{"$f":"IF($B1194=\"\",\"\",$D482)","v":""}]
[null,{"$f":"$D486","v":""},{"$f":"IF($B1195=\"\",\"\",$D487)","v":""}]
[null,{"$f":"$D491","v":""},{"$f":"IF($B1196=\"\",\"\",$D492)","v":""}]
[null,{"$f":"$D496","v":""},{"$f":"IF($B1197=\"\",\"\",$D497)","v":""}]
["施設4",{"$f":"$D520","v":""},{"$f":"IF($B1198=\"\",\"\",$D521)","v":""}]
[null,{"$f":"$D525","v":""},{"$f":"IF($B1199=\"\",\"\",$D526)","v":""}]
[null,{"$f":"$D530","v":""},{"$f":"IF($B1200=\"\",\"\",$D531)","v":""}]
[null,{"$f":"$D535","v":""},{"$f":"IF($B1201=\"\",\"\",$D536)","v":""}]
[null,{"$f":"$D540","v":""},{"$f":"IF($B1202=\"\",\"\",$D541)","v":""}]
[null,{"$f":"$D545","v":""},{"$f":"IF($B1203=\"\",\"\",$D546)","v":""}]
["施設5",{"$f":"$D569","v":""},{"$f":"IF($B1204=\"\",\"\",$D570)","v":""}]
[null,{"$f":"$D574","v":""},{"$f":"IF($B1205=\"\",\"\",$D575)","v":""}]
[null,{"$f":"$D579","v":""},{"$f":"IF($B1206=\"\",\"\",$D580)","v":""}]
[null,{"$f":"$D584","v":""},{"$f":"IF($B1207=\"\",\"\",$D585)","v":""}]
[null,{"$f":"$D589","v":""},{"$f":"IF($B1208=\"\",\"\",$D590)","v":""}]
[null,{"$f":"$D594","v":""},{"$f":"IF($B1209=\"\",\"\",$D595)","v":""}]
["施設6",{"$f":"$D618","v":""},{"$f":"IF($B1210=\"\",\"\",$D619)","v":""}]
[null,{"$f":"$D623","v":""},{"$f":"IF($B1211=\"\",\"\",$D624)","v":""}]
[null,{"$f":"$D628","v":""},{"$f":"IF($B1212=\"\",\"\",$D629)","v":""}]
[null,{"$f":"$D633","v":""},{"$f":"IF($B1213=\"\",\"\",$D634)","v":""}]
[null,{"$f":"$D638","v":""},{"$f":"IF($B1214=\"\",\"\",$D639)","v":""}]
[null,{"$f":"$D643","v":""},{"$f":"IF($B1215=\"\",\"\",$D644)","v":""}]
["施設7",{"$f":"$D667","v":""},{"$f":"IF($B1216=\"\",\"\",$D668)","v":""}]
[null,{"$f":"$D672","v":""},{"$f":"IF($B1217=\"\",\"\",$D673)","v":""}]
[null,{"$f":"$D677","v":""},{"$f":"IF($B1218=\"\",\"\",$D678)","v":""}]
[null,{"$f":"$D682","v":""},{"$f":"IF($B1219=\"\",\"\",$D683)","v":""}]
[null,{"$f":"$D687","v":""},{"$f":"IF($B1220=\"\",\"\",$D688)","v":""}]
[null,{"$f":"$D692","v":""},{"$f":"IF($B1221=\"\",\"\",$D693)","v":""}]
["施設8",{"$f":"$D716","v":""},{"$f":"IF($B1222=\"\",\"\",$D717)","v":""}]
[null,{"$f":"$D721","v":""},{"$f":"IF($B1223=\"\",\"\",$D722)","v":""}]
[null,{"$f":"$D726","v":""},{"$f":"IF($B1224=\"\",\"\",$D727)","v":""}]
[null,{"$f":"$D731","v":""},{"$f":"IF($B1225=\"\",\"\",$D732)","v":""}]
[null,{"$f":"$D736","v":""},{"$f":"IF($B1226=\"\",\"\",$D737)","v":""}]
[null,{"$f":"$D741","v":""},{"$f":"IF($B1227=\"\",\"\",$D742)","v":""}]
["施設9",{"$f":"$D765","v":""},{"$f":"IF($B1228=\"\",\"\",$D766)","v":""}]
[null,{"$f":"$D770","v":""},{"$f":"IF($B1229=\"\",\"\",$D771)","v":""}]
[null,{"$f":"$D775","v":""},{"$f":"IF($B1230=\"\",\"\",$D776)","v":""}]
[null,{"$f":"$D780","v":""},{"$f":"IF($B1231=\"\",\"\",$D781)","v":""}]
[null,{"$f":"$D785","v":""},{"$f":"IF($B1232=\"\",\"\",$D786)","v":""}]
[null,{"$f":"$D790","v":""},{"$f":"IF($B1233=\"\",\"\",$D791)","v":""}]
["施設10",{"$f":"$D814","v":""},{"$f":"IF($B1234=\"\",\"\",$D815)","v":""}]
[null,{"$f":"$D819","v":""},{"$f":"IF($B1235=\"\",\"\",$D820)","v":""}]
[null,{"$f":"$D824","v":""},{"$f":"IF($B1236=\"\",\"\",$D825)","v":""}]
[null,{"$f":"$D829","v":""},{"$f":"IF($B1237=\"\",\"\",$D830)","v":""}]
[null,{"$f":"$D834","v":""},{"$f":"IF($B1238=\"\",\"\",$D835)","v":""}]
[null,{"$f":"$D839","v":""},{"$f":"IF($B1239=\"\",\"\",$D840)","v":""}]
[]
[]
["運用保守時の追加項目"]
["様式17"]
["項目",null,null,"値",null,"データ変換","値","文字列（DB)","文字列（帳票）"]
["製造等（使用）しようとする第一種指定物質の情報（１）"," （うち直接輸出入したものの数量）","直接輸出",{"$f":"IF(届出・申告書の作成!$V52=\"\", \"\", ROUND(届出・申告書の作成!$V52,3))","v":""},null,"直接輸出",{"$f":"IF($D1245=\"\",0,$D1245)","v":0},{"$f":"IF(RIGHT(TEXT(D1245,\"0.###\"),1)=\".\",TEXT(D1245,\"#0\"),TEXT(D1245,\"#0.###\"))","v":""},{"$f":"IF(RIGHT(TEXT(D1245,\"0.###\"),1)=\".\",TEXT(D1245,\"#,##0\"),TEXT(D1245,\"#,##0.###\"))","v":""}]
[null,null,"直接輸入",{"$f":"IF(届出・申告書の作成!$V53=\"\", \"\", ROUND(届出・申告書の作成!$V53,3))","v":""},null,"直接輸入",{"$f":"IF($D1246=\"\",0,$D1246)","v":0},{"$f":"IF(RIGHT(TEXT(D1246,\"0.###\"),1)=\".\",TEXT(D1246,\"#0\"),TEXT(D1246,\"#0.###\"))","v":""},{"$f":"IF(RIGHT(TEXT(D1246,\"0.###\"),1)=\".\",TEXT(D1246,\"#,##0\"),TEXT(D1246,\"#,##0.###\"))","v":""}]
[]
["製造等（使用）しようとする第一種指定物質の情報（2）"," （うち直接輸出入したものの数量）","直接輸出",{"$f":"IF(届出・申告書の作成!$V91=\"\", \"\", ROUND(届出・申告書の作成!$V91,3))","v":""},null,"直接輸出",{"$f":"IF($D1248=\"\",0,$D1248)","v":0},{"$f":"IF(RIGHT(TEXT(D1248,\"0.###\"),1)=\".\",TEXT(D1248,\"#0\"),TEXT(D1248,\"#0.###\"))","v":""},{"$f":"IF(RIGHT(TEXT(D1248,\"0.###\"),1)=\".\",TEXT(D1248,\"#,##0\"),TEXT(D1248,\"#,##0.###\"))","v":""}]
[null,null,"直接輸入",{"$f":"IF(届出・申告書の作成!$V92=\"\", \"\", ROUND(届出・申告書の作成!$V92,3))","v":""},null,"直接輸入",{"$f":"IF($D1249=\"\",0,$D1249)","v":0},{"$f":"IF(RIGHT(TEXT(D1249,\"0.###\"),1)=\".\",TEXT(D1249,\"#0\"),TEXT(D1249,\"#0.###\"))","v":""},{"$f":"IF(RIGHT(TEXT(D1249,\"0.###\"),1)=\".\",TEXT(D1249,\"#,##0\"),TEXT(D1249,\"#,##0.###\"))","v":""}]
[]
["製造等（使用）しようとする第一種指定物質の情報（3）"," （うち直接輸出入したものの数量）","直接輸出",{"$f":"IF(届出・申告書の作成!$V130=\"\", \"\", ROUND(届出・申告書の作成!$V130,3))","v":""},null,"直接輸出",{"$f":"IF($D1251=\"\",0,$D1251)","v":0},{"$f":"IF(RIGHT(TEXT(D1251,\"0.###\"),1)=\".\",TEXT(D1251,\"#0\"),TEXT(D1251,\"#0.###\"))","v":""},{"$f":"IF(RIGHT(TEXT(D1251,\"0.###\"),1)=\".\",TEXT(D1251,\"#,##0\"),TEXT(D1251,\"#,##0.###\"))","v":""}]
[null,null,"直接輸入",{"$f":"IF(届出・申告書の作成!$V131=\"\", \"\", ROUND(届出・申告書の作成!$V131,3))","v":""},null,"直接輸入",0,{"$f":"IF(RIGHT(TEXT(D1252,\"0.###\"),1)=\".\",TEXT(D1252,\"#0\"),TEXT(D1252,\"#0.###\"))","v":""},{"$f":"IF(RIGHT(TEXT(D1252,\"0.###\"),1)=\".\",TEXT(D1252,\"#,##0\"),TEXT(D1252,\"#,##0.###\"))","v":""}]
[]
["製造等（使用）しようとする第一種指定物質の情報（4）"," （うち直接輸出入したものの数量）","直接輸出",{"$f":"IF(届出・申告書の作成!$V169=\"\", \"\", ROUND(届出・申告書の作成!$V169,3))","v":""},null,"直接輸出",0,{"$f":"IF(RIGHT(TEXT(D1254,\"0.###\"),1)=\".\",TEXT(D1254,\"#0\"),TEXT(D1254,\"#0.###\"))","v":""},{"$f":"IF(RIGHT(TEXT(D1254,\"0.###\"),1)=\".\",TEXT(D1254,\"#,##0\"),TEXT(D1254,\"#,##0.###\"))","v":""}]
[null,null,"直接輸入",{"$f":"IF(届出・申告書の作成!$V170=\"\", \"\", ROUND(届出・申告書の作成!$V170,3))","v":""},null,"直接輸入",0,{"$f":"IF(RIGHT(TEXT(D1255,\"0.###\"),1)=\".\",TEXT(D1255,\"#0\"),TEXT(D1255,\"#0.###\"))","v":""},{"$f":"IF(RIGHT(TEXT(D1255,\"0.###\"),1)=\".\",TEXT(D1255,\"#,##0\"),TEXT(D1255,\"#,##0.###\"))","v":""}]
[]
["製造等（使用）しようとする第一種指定物質の情報（5）"," （うち直接輸出入したものの数量）","直接輸出",{"$f":"IF(届出・申告書の作成!$V208=\"\", \"\", ROUND(届出・申告書の作成!$V208,3))","v":""},null,"直接輸出",0,{"$f":"IF(RIGHT(TEXT(D1257,\"0.###\"),1)=\".\",TEXT(D1257,\"#0\"),TEXT(D1257,\"#0.###\"))","v":""},{"$f":"IF(RIGHT(TEXT(D1257,\"0.###\"),1)=\".\",TEXT(D1257,\"#,##0\"),TEXT(D1257,\"#,##0.###\"))","v":""}]
[null,null,"直接輸入",{"$f":"IF(届出・申告書の作成!$V209=\"\", \"\", ROUND(届出・申告書の作成!$V209,3))","v":""},null,"直接輸入",0,{"$f":"IF(RIGHT(TEXT(D1258,\"0.###\"),1)=\".\",TEXT(D1258,\"#0\"),TEXT(D1258,\"#0.###\"))","v":""},{"$f":"IF(RIGHT(TEXT(D1258,\"0.###\"),1)=\".\",TEXT(D1258,\"#,##0\"),TEXT(D1258,\"#,##0.###\"))","v":""}]
[]
["製造等（使用）しようとする第一種指定物質の情報（6）"," （うち直接輸出入したものの数量）","直接輸出",{"$f":"IF(届出・申告書の作成!$V247=\"\", \"\", ROUND(届出・申告書の作成!$V247,3))","v":""},null,"直接輸出",0,{"$f":"IF(RIGHT(TEXT(D1260,\"0.###\"),1)=\".\",TEXT(D1260,\"#0\"),TEXT(D1260,\"#0.###\"))","v":""},{"$f":"IF(RIGHT(TEXT(D1260,\"0.###\"),1)=\".\",TEXT(D1260,\"#,##0\"),TEXT(D1260,\"#,##0.###\"))","v":""}]
[null,null,"直接輸入",{"$f":"IF(届出・申告書の作成!$V248=\"\", \"\", ROUND(届出・申告書の作成!$V248,3))","v":""},null,"直接輸入",0,{"$f":"IF(RIGHT(TEXT(D1261,\"0.###\"),1)=\".\",TEXT(D1261,\"#0\"),TEXT(D1261,\"#0.###\"))","v":""},{"$f":"IF(RIGHT(TEXT(D1261,\"0.###\"),1)=\".\",TEXT(D1261,\"#,##0\"),TEXT(D1261,\"#,##0.###\"))","v":""}]
[]
["製造等（使用）しようとする第一種指定物質の情報（7）"," （うち直接輸出入したものの数量）","直接輸出",{"$f":"IF(届出・申告書の作成!$V286=\"\", \"\", ROUND(届出・申告書の作成!$V286,3))","v":""},null,"直接輸出",0,{"$f":"IF(RIGHT(TEXT(D1263,\"0.###\"),1)=\".\",TEXT(D1263,\"#0\"),TEXT(D1263,\"#0.###\"))","v":""},{"$f":"IF(RIGHT(TEXT(D1263,\"0.###\"),1)=\".\",TEXT(D1263,\"#,##0\"),TEXT(D1263,\"#,##0.###\"))","v":""}]
[null,null,"直接輸入",{"$f":"IF(届出・申告書の作成!$V287=\"\", \"\", ROUND(届出・申告書の作成!$V287,3))","v":""},null,"直接輸入",0,{"$f":"IF(RIGHT(TEXT(D1264,\"0.###\"),1)=\".\",TEXT(D1264,\"#0\"),TEXT(D1264,\"#0.###\"))","v":""},{"$f":"IF(RIGHT(TEXT(D1264,\"0.###\"),1)=\".\",TEXT(D1264,\"#,##0\"),TEXT(D1264,\"#,##0.###\"))","v":""}]
[]
["製造等（使用）しようとする第一種指定物質の情報（8）"," （うち直接輸出入したものの数量）","直接輸出",{"$f":"IF(届出・申告書の作成!$V325=\"\", \"\", ROUND(届出・申告書の作成!$V325,3))","v":""},null,"直接輸出",0,{"$f":"IF(RIGHT(TEXT(D1266,\"0.###\"),1)=\".\",TEXT(D1266,\"#0\"),TEXT(D1266,\"#0.###\"))","v":""},{"$f":"IF(RIGHT(TEXT(D1266,\"0.###\"),1)=\".\",TEXT(D1266,\"#,##0\"),TEXT(D1266,\"#,##0.###\"))","v":""}]
[null,null,"直接輸入",{"$f":"IF(届出・申告書の作成!$V326=\"\", \"\", ROUND(届出・申告書の作成!$V326,3))","v":""},null,"直接輸入",0,{"$f":"IF(RIGHT(TEXT(D1267,\"0.###\"),1)=\".\",TEXT(D1267,\"#0\"),TEXT(D1267,\"#0.###\"))","v":""},{"$f":"IF(RIGHT(TEXT(D1267,\"0.###\"),1)=\".\",TEXT(D1267,\"#,##0\"),TEXT(D1267,\"#,##0.###\"))","v":""}]
[]
["製造等（使用）しようとする第一種指定物質の情報（9）"," （うち直接輸出入したものの数量）","直接輸出",{"$f":"IF(届出・申告書の作成!$V364=\"\", \"\", ROUND(届出・申告書の作成!$V364,3))","v":""},null,"直接輸出",0,{"$f":"IF(RIGHT(TEXT(D1269,\"0.###\"),1)=\".\",TEXT(D1269,\"#0\"),TEXT(D1269,\"#0.###\"))","v":""},{"$f":"IF(RIGHT(TEXT(D1269,\"0.###\"),1)=\".\",TEXT(D1269,\"#,##0\"),TEXT(D1269,\"#,##0.###\"))","v":""}]
[null,null,"直接輸入",{"$f":"IF(届出・申告書の作成!$V365=\"\", \"\", ROUND(届出・申告書の作成!$V365,3))","v":""},null,"直接輸入",0,{"$f":"IF(RIGHT(TEXT(D1270,\"0.###\"),1)=\".\",TEXT(D1270,\"#0\"),TEXT(D1270,\"#0.###\"))","v":""},{"$f":"IF(RIGHT(TEXT(D1270,\"0.###\"),1)=\".\",TEXT(D1270,\"#,##0\"),TEXT(D1270,\"#,##0.###\"))","v":""}]
[]
["製造等（使用）しようとする第一種指定物質の情報（10）"," （うち直接輸出入したものの数量）","直接輸出",{"$f":"IF(届出・申告書の作成!$V403=\"\", \"\", ROUND(届出・申告書の作成!$V403,3))","v":""},null,"直接輸出",0,{"$f":"IF(RIGHT(TEXT(D1272,\"0.###\"),1)=\".\",TEXT(D1272,\"#0\"),TEXT(D1272,\"#0.###\"))","v":""},{"$f":"IF(RIGHT(TEXT(D1272,\"0.###\"),1)=\".\",TEXT(D1272,\"#,##0\"),TEXT(D1272,\"#,##0.###\"))","v":""}]
[null,null,"直接輸入",{"$f":"IF(届出・申告書の作成!$V404=\"\", \"\", ROUND(届出・申告書の作成!$V404,3))","v":""},null,"直接輸入",0,{"$f":"IF(RIGHT(TEXT(D1273,\"0.###\"),1)=\".\",TEXT(D1273,\"#0\"),TEXT(D1273,\"#0.###\"))","v":""},{"$f":"IF(RIGHT(TEXT(D1273,\"0.###\"),1)=\".\",TEXT(D1273,\"#,##0\"),TEXT(D1273,\"#,##0.###\"))","v":""}]

{"sheet":"LIST","index":5,"n_rows":272,"n_cols":59,"rows_kept":272,"cut":false,"hidden":true,"merged":[[2,53,2,58],[2,36,2,38],[3,37,3,38],[3,39,3,40],[3,44,3,45],[3,41,3,42],[1,1,1,2],[3,33,3,34],[2,26,2,28],[2,1,2,3],[2,14,2,15],[3,23,3,24],[3,21,3,22],[3,16,3,17],[3,19,3,20],[3,27,3,28],[3,29,3,30],[3,31,3,32],[2,8,2,10]]}
[null,null,null,null,null,null,null,null,null,null,null,null,null,null,null,null,null,null,null,null,null,null,null,null,null,null,null,null,null,null,null,null,null,null,null,null,null,null,null,null,null,null,null,null,null,null,null,null,null,{"$f":"COUNTA(LIST_NOCAS_DISPNAME)-COUNTBLANK(LIST_NOCAS_DISPNAME)","v":14}]
[null,"英語表記の大文字（１）小文字（２）切り替えフラグコード",null,"1",null,null,null,null,null,null,null,null,null,null,null,null,null,null,null,null,null,null,null,null,null,null,null,null,null,null,null,null,null,null,null,null,null,null,null,null,null,null,null,null,null,null,null,"化学物質"]
[null,"都道府県コード",null,null,null,"定数",null,null,"数値の整形定義",null,null,null,null,null,"様式17",null,null,null,null,null,null,null,null,null,null,null,"Form2.3、Form2.3.1、Form2.3.2",null,null,null,null,null,null,null,null,null,"Form2.4",null,null,null,null,null,null,null,"共用",null,null,"表2剤物質（CAS番号無しの場合）",null,null,null,null,null,"表2剤物質（CAS番号ありの場合）"]
[null,"値","ID","英語",null,"値","意味",null,"元の値の位取り\n(log10)","DB登録文字列 decimal(6,2)","DB登録文字列 decimal(8,4)","DB登録文字列\ndecimal(10,6)","帳票\n有効数字3桁",null,"数","製造または使用の別","区分",null,"施設の数","施設の位置",null,"届出のみ",null,"届出のみ理由",null,null,"プラント数","生産能力の計算方法",null,"施設の活動",null,"施設の専用",null,"施設におけるその他の活動",null,null,"作成枚数","直接輸出の有無",null,"直接輸出先の国",null,"国内での販売又は移転の有無",null,null,"施設の主要な活動など",null,null,"表示名","条約剤番号","表2剤化兵法政令番号","表2剤物質_政令番号","物質名称（条約上）",null,"CAS番号","物質ID","政令番号","表区分ID","物質名称（日）","物質名称（英）"]
[null,"北海道",1,"HOKKAIDO",null,"CAS番号なし","物質選択などでCAS番号がない場合の選択肢。\n「STRING_NOCAS」で名前定義",null,-6,"#0.00","#0.0000","#0.000000","#0.00000000",null,1,"製造等","製造","1",1,"別添資料のとおり",1,"いいえ",0,"－",0,null,0,"公称値(Name Plate)","Name plate","有り","Y","専用（Dedicated）","Dedicated","B04：貯蔵","B04",null,0,"有り","Y","アイスランド_ISL","ISL","有り","Y",null,"511_炭化水素及びそのﾊﾛｹﾞﾝ化、ｽﾙﾎﾝ化、ﾆﾄﾛ化又はﾆﾄﾛｿ化誘導体","511",null,{"$f":"IF(AND($AW5<>\"\",$AX5<>\"\",$AZ5<>\"\"),CONCATENATE($AW5,\"_\",$AX5,\"_\",$AZ5), \"\")","v":"2A01_第一種指定物質_毒性物質（一）_アミトン　O・O－ジエチル＝S-[２－（ジエチルアミノ）エチル]ホスホロチオラート　及びそのアルキル化塩類又はプロトン化塩類"},"2A01","第一種指定物質_毒性物質（一）","指1毒01","アミトン　O・O－ジエチル＝S-[２－（ジエチルアミノ）エチル]ホスホロチオラート　及びそのアルキル化塩類又はプロトン化塩類",null,{"$f":"STRING_NOCAS","v":"CAS番号なし"}]
[null,"青森県",2,"AOMORI",null,null,null,null,-5,"#0.00","#0.0000","#0.000000","#0.0000000",null,2,"使用","抽出","2",2,"別添資料のとおり（変更無し）",2,"はい",1,"低濃度",1,null,1,"設計値(Design)","Design","無し","N","多目的（Multipurpose)","Multipurpose","B05：再包装、配送","B05",null,1,"無し","N","アイルランド_IRL","IRL","無し","N",null,"512_ｱﾙｺｰﾙ、ﾌｪﾉｰﾙ、ﾌｪﾉｰﾙ-ｱﾙｺｰﾙ及びそれらのﾊﾛｹﾞﾝ化、ｽﾙﾎﾝ化、ﾆﾄﾛ化又はﾆﾄﾛｿ化誘導体。ただし、ｴﾀﾉｰﾙ及びﾒﾀﾉｰﾙを除く。","512",null,"2A02_第一種指定物質_毒性物質（二）_ＰＦＩＢ　１・１・３・３・３－ペンタフルオロ－２－（トリフルオロメチル）－１－プロペン","2A02","第一種指定物質_毒性物質（二）","指1毒02","ＰＦＩＢ　１・１・３・３・３－ペンタフルオロ－２－（トリフルオロメチル）－１－プロペン",null,"100-35-6",4,"指1原07","2B10","2-Chloro-N,N-diethylethanamine","2-Chloro-N,N-diethylethanamine"]
[null,"岩手県",3,"IWATE",null,null,null,null,-4,"#0.00","#0.0000","#0.000000","#0.000000",null,3,null,"精製","3",3,"別添資料のとおり（変更有り）",3,null,null,"申告義務消滅",2,null,2,null,null,null,null,null,null,"B06：研究開発","B06",null,2,null,null,"アゼルバイジャン_AZE","AZE",null,null,null,"513_ｶﾙﾎﾞﾝ酸及びそれらのｴｽﾃﾙ、無水物、酸ﾊﾛｹﾞﾝ化物、過酸化物及びﾍﾟﾙｵｷｿ酸；それらのﾊﾛｹﾞﾝ化、ｽﾙﾎﾝ化、ﾆﾄﾛ化又はﾆﾄﾛｿ化誘導体及びそれらの塩","513",null,"2A03_第一種指定物質_毒性物質（三）_ＢＺ　３－キヌクリジニル＝ベンジラート","2A03","第一種指定物質_毒性物質（三）","指1毒03","ＢＺ　３－キヌクリジニル＝ベンジラート",null,"100-38-9",5,"指1原09","2B12","２－ジエチルアミノエタンチオール","2-(N,N-Diethylamino)ethanethiol"]
[null,"宮城県",4,"MIYAGI",null,null,null,null,-3,"#0.00","#0.0000","#0.00000","#0.00000",null,4,null,"使用(第1号)(物理的工程)","4",4,null,null,null,null,"製造に伴う加工",3,null,3,null,null,null,null,null,null,null,null,null,3,null,null,"アフガニスタン_AFG","AFG",null,null,null,"514_窒素官能基化合物。ただし、尿素を除く。","514",null,"2B04_第一種指定物質_原料物質（一）_毒性物質一のメチル、エチル又はプロピル（ノルマル又はイソ）と結合しているが、その結合以外に炭素原子とは結合していないリン原子を含有する化学物質（表１に掲げる物質を除く。）","2B04","第一種指定物質_原料物質（一）","指1原01","毒性物質一のメチル、エチル又はプロピル（ノルマル又はイソ）と結合しているが、その結合以外に炭素原子とは結合していないリン原子を含有する化学物質（表１に掲げる物質を除く。）",null,"1018124-39-4",6,"指1原09","2B12","2-(Ethylpropylamino)ethanethiol","2-(Ethylpropylamino)ethanethiol"]
[null,"秋田県",5,"AKITA",null,null,null,null,-2,"#0.00","#0.0000","#0.0000","#0.0000",null,5,null,"使用(第2号)(他物質転換)","5",5,null,null,null,null,"低濃度/申告義務消滅",4,null,4,null,null,null,null,null,null,null,null,null,4,null,null,"アメリカ合衆国_USA","USA",null,null,null,"515_複素環式化合物(環状ｴｰﾃﾙを除く)及びｽﾙﾎﾝｱﾐﾄﾞ","515",null,"2B05_第一種指定物質_原料物質（二）_N・N－ジアルキル（メチル、エチル、ノルマルプロピル又はイソプロピル）ホスホルアミディック＝ジハリド類","2B05","第一種指定物質_原料物質（二）","指1原02","N・N－ジアルキル（メチル、エチル、ノルマルプロピル又はイソプロピル）ホスホルアミディック＝ジハリド類",null,"1020119-28-1",7,"指1原01","2B04","Bis(1-methylpentyl) methylphosphonate","Bis(1-methylpentyl) methylphosphonate"]
[null,"山形県",6,"YAMAGATA",null,null,null,null,-1,"#0.00","#0.000","#0.000","#0.000",null,6,null,null,null,null,null,null,null,null,"その他",5,null,5,null,null,null,null,null,null,null,null,null,5,null,null,"アラブ首長国連邦_ARE","ARE",null,null,null,"516_その他の有機化学物質。ただし、ﾎﾙﾑｱﾙﾃﾞﾋﾄﾞ、ｴﾁﾙ ter-ﾌﾞﾁﾙｴｰﾃﾙ及びﾒﾁﾙ tert-ﾌﾞﾁﾙｴｰﾃﾙ(MTBE)を除く。","516",null,"2B06_第一種指定物質_原料物質（三）_ジアルキル（メチル、エチル、ノルマルプロピル又はイソプロピル）＝N・N－ジアルキル（メチル、エチル、ノルマルプロピル又はイソプロピル）ホスホルアミダート類","2B06","第一種指定物質_原料物質（三）","指1原03","ジアルキル（メチル、エチル、ノルマルプロピル又はイソプロピル）＝N・N－ジアルキル（メチル、エチル、ノルマルプロピル又はイソプロピル）ホスホルアミダート類",null,"1066-50-8",11,"指1原01","2B04","エチルホスホン酸ジクロリド","Ethylphosphonic dichloride"]
[null,"福島県",7,"FUKUSHIMA",null,null,null,null,0,"#0.00","#0.00","#0.00","#0.00",null,7,null,null,null,null,null,null,null,null,null,null,null,6,null,null,null,null,null,null,null,null,null,6,null,null,"アルジェリア_DZA","DZA",null,null,null,"519_ﾒﾀﾉ-ﾙ、ｴﾀﾉｰﾙ、尿素、ﾎﾙﾑｱﾙﾃﾞﾋﾄﾞ、ｴﾁﾙ tert-ﾌﾞﾁﾙｴｰﾃﾙ(ETBE)、ﾒﾁﾙ tert-ﾌﾞﾁﾙｴｰﾃﾙ(MTBE)、ｽﾙﾎﾝ酸及び脂肪酸の塩をﾍﾞｰｽにした界面活性剤","519",null,"2B07_第一種指定物質_原料物質（四）_三塩化砒素","2B07","第一種指定物質_原料物質（四）","指1原04","三塩化砒素",null,"1066-53-1",12,"指1原01","2B04","Methyl methylphosphonate","Methyl methylphosphonate"]
[null,"茨城県",8,"IBARAKI",null,null,null,null,1,"#0.0","#0.0","#0.0","#0.0",null,8,null,null,null,null,null,null,null,null,null,null,null,7,null,null,null,null,null,null,null,null,null,7,null,null,"アルゼンチン_ARG","ARG",null,null,null,"522_無機化学元素、酸化物及びﾊﾛｹﾞﾝ化塩","522",null,"2B08_第一種指定物質_原料物質（五）_２・２－ジフェニル－２－ヒドロキシ酢酸","2B08","第一種指定物質_原料物質（五）","指1原05","２・２－ジフェニル－２－ヒドロキシ酢酸",null,"1067-69-2",13,"指1原01","2B04","Diisopropyl ethylphosphonate","Diisopropyl ethylphosphonate"]
[null,"栃木県",9,"TOCHIGI",null,null,null,null,2,"#0","#0","#0","#0",null,9,null,null,null,null,null,null,null,null,null,null,null,8,null,null,null,null,null,null,null,null,null,8,null,null,"アルバニア_ALB","ALB",null,null,null,"523_無機酸の塩及び過酸化物塩、有機及び無機配位子の金属錯体","523",null,"2B09_第一種指定物質_原料物質（六）_キヌクリジン－３－オール","2B09","第一種指定物質_原料物質（六）","指1原06","キヌクリジン－３－オール",null,"107-99-3",14,"指1原07","2B10","Ｎ，Ｎ－ジメチルアミノエチル－２－クロリド","2-Chloro-N,N-dimethylethanamine"]
[null,"群馬県",10,"GUNMA",null,null,null,null,3,"#0","#0","#0","#,##0",null,10,null,null,null,null,null,null,null,null,null,null,null,9,null,null,null,null,null,null,null,null,null,9,null,null,"アルメニア_ARM","ARM",null,null,null,"524_有機金属化合物","524",null,"2B10_第一種指定物質_原料物質（七）_N・N－ジアルキル（メチル、エチル、ノルマルプロピル又はイソプロピル）アミノエチル－２－クロリド類及びこれらのプロトン化塩類","2B10","第一種指定物質_原料物質（七）","指1原07","N・N－ジアルキル（メチル、エチル、ノルマルプロピル又はイソプロピル）アミノエチル－２－クロリド類及びこれらのプロトン化塩類",null,"108-02-1",15,"指1原09","2B12","2-(Dimethylamino)ethanethiol","2-(Dimethylamino)ethanethiol"]
[null,"埼玉県",11,"SAITAMA",null,null,null,null,4,"#0","#0","#0","#,##0",null,null,null,null,null,null,null,null,null,null,null,null,null,10,null,null,null,null,null,null,null,null,null,10,null,null,"アンゴラ_AGO","AGO",null,null,null,"525_放射性物質及び関連物質","525",null,"2B11_第一種指定物質_原料物質（八）_N・N－ジアルキル（メチル、エチル、ノルマルプロピル又はイソプロピル）アミノエタン－２－オール類及びこれらのプロトン化塩類","2B11","第一種指定物質_原料物質（八）","指1原08","N・N－ジアルキル（メチル、エチル、ノルマルプロピル又はイソプロピル）アミノエタン－２－オール類及びこれらのプロトン化塩類",null,"108506-63-4",16,"指1原01","2B04","Octyl isopropylphosphonate","Octyl isopropylphosphonate"]
[null,"千葉県",12,"CHIBA",null,null,null,null,5,"#0","#0","#0","#,##0",null,null,null,null,null,null,null,null,null,null,null,null,null,null,null,null,null,null,null,null,null,null,null,null,null,null,"アンティグア・バーブーダ_ATG","ATG",null,null,null,"531_有機合成着色料及びﾚｰｷ顔料並びにこれらの調製品","531",null,"2B12_第一種指定物質_原料物質（九）_N・N－ジアルキル（メチル、エチル、ノルマルプロピル又はイソプロピル）アミノエタン－２－チオール類及びこれらのプロトン化塩類","2B12","第一種指定物質_原料物質（九）","指1原09","N・N－ジアルキル（メチル、エチル、ノルマルプロピル又はイソプロピル）アミノエタン－２－チオール類及びこれらのプロトン化塩類",null,"111-48-8",17,"指1原10","2B13","ビス（２－ヒドロキシエチル）スルフィド","Bis(2-hydroxyethyl)sulfide"]
[null,"東京都",13,"TOKYO",null,null,null,null,6,"#0","#0","#0","#,##0",null,null,null,null,null,null,null,null,null,null,null,null,null,null,null,null,null,null,null,null,null,null,null,null,null,null,"アンドラ_AND","AND",null,null,null,"532_染色、なめし抽出物及び合成なめし剤","532",null,"2B13_第一種指定物質_原料物質（一〇）_チオジグリコール　ビス（２－ヒドロキシエチル）スルフィド","2B13","第一種指定物質_原料物質（一〇）","指1原10","チオジグリコール　ビス（２－ヒドロキシエチル）スルフィド",null,"114076-21-0",18,"指1原01","2B04","Aluminium methyl propylphosphonate","Aluminium methyl propylphosphonate"]
[null,"神奈川県",14,"KANAGAWA",null,null,null,null,7,"#0","#0","#0","#,##0",null,null,null,null,null,null,null,null,null,null,null,null,null,null,null,null,null,null,null,null,null,null,null,null,null,null,"イエメン_YEM","YEM",null,null,null,"533_顔料、塗料、ﾜﾆｽ及びこれらの関連物質","533",null,"2B14_第一種指定物質_原料物質（一一）_ピナコリルアルコール／３・３－ジメチルブタン－２－オール","2B14","第一種指定物質_原料物質（一一）","指1原11","ピナコリルアルコール／３・３－ジメチルブタン－２－オール",null,"117122-90-4",19,"指1原01","2B04","Sodium O-ethyl propylphosphonothioateSodium O-ethyl propylphosphonothioate","Sodium O-ethyl propylphosphonothioate"]
[null,"新潟県",15,"NIIGATA",null,null,null,null,8,"#0","#0","#0","#,##0",null,null,null,null,null,null,null,null,null,null,null,null,null,null,null,null,null,null,null,null,null,null,null,null,null,null,"イスラエル_ISR","ISR",null,null,null,"541_医用及び薬用製品(第 542 類の薬剤を除く原体及び有効成分を含む)","541",null,"",null,null,null,null,null,"129788-86-9",22,"指1原01","2B04","Product of the reaction of methylphosphonic acid and 1,3,5-triazine-2,4,6-triamine","Product of the reaction of methylphosphonic acid and 1,3,5-triazine-2,4,6-triamine"]
[null,"山梨県",16,"YAMANASHI",null,null,null,null,9,"#0","#0","#0","#,##0",null,null,null,null,null,null,null,null,null,null,null,null,null,null,null,null,null,null,null,null,null,null,null,null,null,null,"イタリア_ITA","ITA",null,null,null,"542_薬剤(獣医・家畜用薬剤を含む)","542",null,"",null,null,null,null,null,"13105-93-6",23,"指1原07","2B10","N-(2-chloroethyl)-N-ethylpropan-1-amine hydrochloride","N-(2-chloroethyl)-N-ethylpropan-1-amine hydrochloride"]
[null,"長野県",17,"NAGANO",null,null,null,null,10,"#0","#0","#0","#,##0",null,null,null,null,null,null,null,null,null,null,null,null,null,null,null,null,null,null,null,null,null,null,null,null,null,null,"イラク_IRQ","IRQ",null,null,null,"551_精油、香水及び香味料","551",null,"",null,null,null,null,null,"13113-89-8",24,"指1原01","2B04","S-Methyl methylphosphonochloridothioate","S-Methyl methylphosphonochloridothioate"]
[null,"静岡県",18,"SHIZUOKA",null,null,null,null,11,"#0","#0","#0","#,##0",null,null,null,null,null,null,null,null,null,null,null,null,null,null,null,null,null,null,null,null,null,null,null,null,null,null,"イラン_IRN","IRN",null,null,null,"553_香水調製品、化粧品又は洗面用調製品（石鹸を除く）","553",null,"",null,null,null,null,null,"13213-47-3",25,"指1原01","2B04","Isobutyl propylphosphonochloridoate","Isobutyl propylphosphonochloridoate"]
[null,"富山県",19,"TOYAMA",null,null,null,null,12,"#0","#0","#0","#,##0",null,null,null,null,null,null,null,null,null,null,null,null,null,null,null,null,null,null,null,null,null,null,null,null,null,null,"インド_IND","IND",null,null,null,"554_石鹸、洗浄剤及び研磨剤調製品。ただし、ｽﾙﾎﾝ酸及び脂肪酸の塩をﾍﾞｰｽにした界面活性剤を除く。","554",null,"",null,null,null,null,null,"13242-44-9",26,"指1原09","2B12","Ｎ，Ｎ－ジメチルアミノエタンチオール塩酸塩","2-(N,N-Dimethylamino)ethanethiol hydrochloride"]
[null,"石川県",20,"ISHIKAWA",null,null,null,null,13,"#0","#0","#0","#,##0",null,null,null,null,null,null,null,null,null,null,null,null,null,null,null,null,null,null,null,null,null,null,null,null,null,null,"インドネシア_IDN","IDN",null,null,null,"562_合成肥料","562",null,"",null,null,null,null,null,"133826-40-1",27,"指1原01","2B04","Phenyl methylphosphonofluoridoate","Phenyl methylphosphonofluoridoate"]
[null,"岐阜県",21,"GIFU",null,null,null,null,null,null,null,null,null,null,null,null,null,null,null,null,null,null,null,null,null,null,null,null,null,null,null,null,null,null,null,null,null,null,null,"ウガンダ_UGA","UGA",null,null,null,"571_ｴﾁﾚﾝの重合物(成型前のもの)","571",null,"",null,null,null,null,null,"13688-82-9",28,"指1原01","2B04","2-Ethylhexyl methylphosphonate","2-Ethylhexyl methylphosphonate"]
[null,"愛知県",22,"AICHI",null,null,null,null,null,null,null,null,null,null,null,null,null,null,null,null,null,null,null,null,null,null,null,null,null,null,null,null,null,null,null,null,null,null,null,"ウクライナ_UKR","UKR",null,null,null,"572_ｽﾁﾚﾝの重合物(成型前のもの)","572",null,"",null,null,null,null,null,"138780-00-4",29,"指1原01","2B04","(E)-2-Butenyl methylphosphonofluoridoate","(E)-2-Butenyl methylphosphonofluoridoate"]
[null,"三重県",23,"MIE",null,null,null,null,null,null,null,null,null,null,null,null,null,null,null,null,null,null,null,null,null,null,null,null,null,null,null,null,null,null,null,null,null,null,null,"ウズベキスタン_UZB","UZB",null,null,null,"573_塩化ﾋﾞﾆﾙその他のﾊﾛｹﾞﾝ化ｵﾚﾌｨﾝの重合物(成型前のもの)","573",null,"",null,null,null,null,null,"13991-98-5",31,"指1原01","2B04","Ethylphosphonothioic O,O-acid","Ethylphosphonothioic O,O-acid"]
[null,"福井県",24,"FUKUI",null,null,null,null,null,null,null,null,null,null,null,null,null,null,null,null,null,null,null,null,null,null,null,null,null,null,null,null,null,null,null,null,null,null,null,"ウルグアイ_URY","URY",null,null,null,"574_ﾎﾟﾘｱｾﾀｰﾙ、その他のﾎﾟﾘｴｰﾃﾙ及びｴﾎﾟｷｼ樹脂(成型前のもの)；ﾎﾟﾘｶｰﾎﾞﾈｰﾄ、ｱﾙｷﾄﾞ樹脂、ﾎﾟﾘｱﾘﾙｴｽﾃﾙ及びその他のﾎﾟﾘｴｽﾃﾙ","574",null,"",null,null,null,null,null,"141968-54-9",32,"指1原03","2B06","isopropyl methyl dimethylphosphoramidate","isopropyl methyl dimethylphosphoramidate"]
[null,"滋賀県",25,"SHIGA",null,null,null,null,null,null,null,null,null,null,null,null,null,null,null,null,null,null,null,null,null,null,null,null,null,null,null,null,null,null,null,null,null,null,null,"英国_GBR","GBR",null,null,null,"575_その他のﾌﾟﾗｽﾁｯｸ(成型前のもの)","575",null,"",null,null,null,null,null,"143663-83-6",33,"指1原01","2B04","1,2,2-Trimethylpropyl ethylphosphonate","1,2,2-Trimethylpropyl ethylphosphonate"]
[null,"京都府",26,"KYOTO",null,null,null,null,null,null,null,null,null,null,null,null,null,null,null,null,null,null,null,null,null,null,null,null,null,null,null,null,null,null,null,null,null,null,null,"エクアドル_ECU","ECU",null,null,null,"579_ﾌﾟﾗｽﾁｯｸの廃棄物、切り屑及び小片","579",null,"",null,null,null,null,null,"1445-75-6",34,"指1原01","2B04","ジイソプロピル＝メチルホスホナート","Diisopropyl methylphosphonate"]
[null,"大阪府",27,"OSAKA",null,null,null,null,null,null,null,null,null,null,null,null,null,null,null,null,null,null,null,null,null,null,null,null,null,null,null,null,null,null,null,null,null,null,null,"エジプト_EGY","EGY",null,null,null,"581_ﾌﾟﾗｽﾁｯｸのﾁｭｰﾌﾞ、ﾊﾟｲﾌﾟ及びﾎｰｽ並びにその附属品","581",null,"",null,null,null,null,null,"148456-51-3",35,"指1原01","2B04","1-Methylheptyl methylphosphonate","1-Methylheptyl methylphosphonate"]
[null,"兵庫県",28,"HYOGO",null,null,null,null,null,null,null,null,null,null,null,null,null,null,null,null,null,null,null,null,null,null,null,null,null,null,null,null,null,null,null,null,null,null,null,"エストニア_EST","EST",null,null,null,"582_ﾌﾟﾗｽﾁｯｸの板、ｼｰﾄ、薄膜、箔及び小片","582",null,"",null,null,null,null,null,"148456-62-6",36,"指1原01","2B04","Dihexyl isopropylphosphonate","Dihexyl isopropylphosphonate"]
[null,"奈良県",29,"NARA",null,null,null,null,null,null,null,null,null,null,null,null,null,null,null,null,null,null,null,null,null,null,null,null,null,null,null,null,null,null,null,null,null,null,null,"エスワティニ_SWZ","SWZ",null,null,null,"583_ﾌﾟﾗｽﾁｯｸ単繊維(断面直径が1 mmを超えるもの)、ﾌﾟﾗｽﾁｯｸの桿状体、棒及び型(表面加工の有無は問わないが、表面以外の部分は加工されていないもの)","583",null,"",null,null,null,null,null,"148456-69-3",37,"指1原01","2B04","Hexyl methylphosphonate","Hexyl methylphosphonate"]
[null,"和歌山県",30,"WAKAYAMA",null,null,null,null,null,null,null,null,null,null,null,null,null,null,null,null,null,null,null,null,null,null,null,null,null,null,null,null,null,null,null,null,null,null,null,"エチオピア_ETH","ETH",null,null,null,"591_殺虫剤、殺鼠剤、殺菌剤、除草剤、発芽防止剤製品及び植物生長調節剤、消毒剤並びにこれらの類似製品(小売用に包装されたもの又は調製品若しくは商品の形態になったもの)(例：硫黄処理された帯、灯心及び蝋燭並びに蠅採り紙)","591",null,"",null,null,null,null,null,"14975-23-6",38,"指1原01","2B04","Boranylidene methylphosphanium","Boranylidene methylphosphanium"]
[null,"鳥取県",31,"TOTTORI",null,null,null,null,null,null,null,null,null,null,null,null,null,null,null,null,null,null,null,null,null,null,null,null,null,null,null,null,null,null,null,null,null,null,null,"エリトリア_ERI","ERI",null,null,null,"592_澱粉、ｲﾇﾘﾝ及び小麦ｸﾞﾙﾃﾝ；ｱﾙﾌﾞﾐﾉｲﾄﾞ物質；にかわ","592",null,"",null,null,null,null,null,"1497-68-3",39,"指1原01","2B04","O-Ethyl ethylphosphonochloridothioate","O-Ethyl ethylphosphonochloridothioate"]
[null,"島根県",32,"SHIMANE",null,null,null,null,null,null,null,null,null,null,null,null,null,null,null,null,null,null,null,null,null,null,null,null,null,null,null,null,null,null,null,null,null,null,null,"エルサルバドル_SLV","SLV",null,null,null,"593_爆発物及び火工品","593",null,"",null,null,null,null,null,"1497-69-4",40,"指1原01","2B04","O-Methyl ethylphosphonochloridothioate","O-Methyl ethylphosphonochloridothioate"]
[null,"岡山県",33,"OKAYAMA",null,null,null,null,null,null,null,null,null,null,null,null,null,null,null,null,null,null,null,null,null,null,null,null,null,null,null,null,null,null,null,null,null,null,null,"オーストラリア_AUS","AUS",null,null,null,"597_鉱油類への添加物(調製されたもの)；液圧伝導装置用の液体(調製されたもの)；不凍液調製品及び除氷・防氷液調製品；潤滑剤調製品","597",null,{"$f":"IF(AND($AW37<>\"\",$AX37<>\"\",$AZ37<>\"\"),CONCATENATE($AW37,\"_\",$AX37,\"_\",$AZ37), \"\")","v":""},null,null,null,null,null,"1498-40-4",41,"指1原01","2B04","エチルホスホナスジクロリド","Ethylphosphonous dichloride"]
[null,"広島県",34,"HIROSHIMA",null,null,null,null,null,null,null,null,null,null,null,null,null,null,null,null,null,null,null,null,null,null,null,null,null,null,null,null,null,null,null,null,null,null,null,"オーストリア_AUT","AUT",null,null,null,"598_その他の各種化学製品","598",null,"",null,null,null,null,null,"1498-46-0",42,"指1原01","2B04","Isopropylphosphonic dichloride","Isopropylphosphonic dichloride"]
[null,"山口県",35,"YAMAGUCHI",null,null,null,null,null,null,null,null,null,null,null,null,null,null,null,null,null,null,null,null,null,null,null,null,null,null,null,null,null,null,null,null,null,null,null,"オマーン_OMN","OMN",null,null,null,"599_その他(化学製品以外)","599",null,"",null,null,null,null,null,"1498-54-0",43,"指1原02","2B05","Diethylphosphoramidic dichloride","Diethylphosphoramidic dichloride"]
[null,"徳島県",36,"TOKUSHIMA",null,null,null,null,null,null,null,null,null,null,null,null,null,null,null,null,null,null,null,null,null,null,null,null,null,null,null,null,null,null,null,null,null,null,null,"オランダ_NLD","NLD",null,null,null,null,null,null,"",null,null,null,null,null,"1498-60-8",44,"指1原01","2B04","Isopropylphosphonothioic dichloride","Isopropylphosphonothioic dichloride"]
[null,"香川県",37,"KAGAWA",null,null,null,null,null,null,null,null,null,null,null,null,null,null,null,null,null,null,null,null,null,null,null,null,null,null,null,null,null,null,null,null,null,null,null,"ガーナ_GHA","GHA",null,null,null,null,null,null,"",null,null,null,null,null,"150799-85-2",45,"指1原01","2B04","2-Methylpropyl methyl methylphosphonate","2-Methylpropyl methyl methylphosphonate"]
[null,"愛媛県",38,"EHIME",null,null,null,null,null,null,null,null,null,null,null,null,null,null,null,null,null,null,null,null,null,null,null,null,null,null,null,null,null,null,null,null,null,null,null,"カーボベルデ_CPV","CPV",null,null,null,null,null,null,"",null,null,null,null,null,"15110-09-5",46,"指1原01","2B04","Propyl methylphosphonochloridoate","Propyl methylphosphonochloridoate"]
[null,"高知県",39,"KOCHI",null,null,null,null,null,null,null,null,null,null,null,null,null,null,null,null,null,null,null,null,null,null,null,null,null,null,null,null,null,null,null,null,null,null,null,"ガイアナ_GUY","GUY",null,null,null,null,null,null,"",null,null,null,null,null,"1538-69-8",47,"指1原01","2B04","Diethyl isopropylphosphonate","Diethyl isopropylphosphonate"]
[null,"福岡県",40,"FUKUOKA",null,null,null,null,null,null,null,null,null,null,null,null,null,null,null,null,null,null,null,null,null,null,null,null,null,null,null,null,null,null,null,null,null,null,null,"カザフスタン_KAZ","KAZ",null,null,null,null,null,null,"",null,null,null,null,null,"15512-81-9",48,"指1原07","2B10","N-(2-chloroethyl)-N-methylpropan-2-amine hydrochloride","N-(2-chloroethyl)-N-methylpropan-2-amine hydrochloride"]
[null,"佐賀県",41,"SAGA",null,null,null,null,null,null,null,null,null,null,null,null,null,null,null,null,null,null,null,null,null,null,null,null,null,null,null,null,null,null,null,null,null,null,null,"カタール_QAT","QAT",null,null,null,null,null,null,"",null,null,null,null,null,"15715-41-0",49,"指1原01","2B04","ジエチルメチルホスホナイト","Diethyl methylphosphonite"]
[null,"長崎県",42,"NAGASAKI",null,null,null,null,null,null,null,null,null,null,null,null,null,null,null,null,null,null,null,null,null,null,null,null,null,null,null,null,null,null,null,null,null,null,null,"カナダ_CAN","CAN",null,null,null,null,null,null,"",null,null,null,null,null,"15715-42-1",50,"指1原01","2B04","Dimethyl ethylphosphonite","Dimethyl ethylphosphonite"]
[null,"熊本県",43,"KUMAMOTO",null,null,null,null,null,null,null,null,null,null,null,null,null,null,null,null,null,null,null,null,null,null,null,null,null,null,null,null,null,null,null,null,null,null,null,"ガボン_GAB","GAB",null,null,null,null,null,null,"",null,null,null,null,null,"1604-38-2",51,"指1原01","2B04","Isobutyl methylphosphonate","Isobutyl methylphosphonate"]
[null,"大分県",44,"OITA",null,null,null,null,null,null,null,null,null,null,null,null,null,null,null,null,null,null,null,null,null,null,null,null,null,null,null,null,null,null,null,null,null,null,null,"カメルーン_CMR","CMR",null,null,null,null,null,null,"",null,null,null,null,null,"1619-34-7",52,"指1原06","2B09","キヌクリジン－３－オール","3-Quinuclidinol"]
[null,"宮崎県",45,"MIYAZAKI",null,null,null,null,null,null,null,null,null,null,null,null,null,null,null,null,null,null,null,null,null,null,null,null,null,null,null,null,null,null,null,null,null,null,null,"ガンビア_GMB","GMB",null,null,null,null,null,null,"",null,null,null,null,null,"16391-07-4",53,"指1原01","2B04","エチル＝メチルホスフィナート","Ethyl methylphosphinate"]
[null,"鹿児島県",46,"KAGOSHIMA",null,null,null,null,null,null,null,null,null,null,null,null,null,null,null,null,null,null,null,null,null,null,null,null,null,null,null,null,null,null,null,null,null,null,null,"カンボジア_KHM","KHM",null,null,null,null,null,null,"",null,null,null,null,null,"169739-48-4",54,"指1原01","2B04","Bis(1,2,2-trimethylpropyl) ethylphosphonate","Bis(1,2,2-trimethylpropyl) ethylphosphonate"]
[null,"沖縄県",47,"OKINAWA",null,null,null,null,null,null,null,null,null,null,null,null,null,null,null,null,null,null,null,null,null,null,null,null,null,null,null,null,null,null,null,null,null,null,null,"北マケドニア_MKD","MKD",null,null,null,null,null,null,"",null,null,null,null,null,"170082-64-1",55,"指1原03","2B06","methyl propyl dimethylphosphoramidate","methyl propyl dimethylphosphoramidate"]
[null,null,null,null,null,null,null,null,null,null,null,null,null,null,null,null,null,null,null,null,null,null,null,null,null,null,null,null,null,null,null,null,null,null,null,null,null,null,null,"ギニア_GIN","GIN",null,null,null,null,null,null,"",null,null,null,null,null,"170082-69-6",56,"指1原01","2B04","sec-butyl isopropylphosphonochloridoate","sec-butyl isopropylphosphonochloridoate"]
[null,null,null,null,null,null,null,null,null,null,null,null,null,null,null,null,null,null,null,null,null,null,null,null,null,null,null,null,null,null,null,null,null,null,null,null,null,null,null,"ギニアビサウ_GNB","GNB",null,null,null,null,null,null,"",null,null,null,null,null,"170082-70-9",57,"指1原01","2B04","Isobutyl isopropylphosphonochloridoate","Isobutyl isopropylphosphonochloridoate"]
[null,null,null,null,null,null,null,null,null,null,null,null,null,null,null,null,null,null,null,null,null,null,null,null,null,null,null,null,null,null,null,null,null,null,null,null,null,null,null,"キプロス_CYP","CYP",null,null,null,null,null,null,"",null,null,null,null,null,"170082-71-0",58,"指1原01","2B04","Sec-butyl propylphosphonochloridoate","Sec-butyl propylphosphonochloridoate"]
[null,null,null,null,null,null,null,null,null,null,null,null,null,null,null,null,null,null,null,null,null,null,null,null,null,null,null,null,null,null,null,null,null,null,null,null,null,null,null,"キューバ_CUB","CUB",null,null,null,null,null,null,"",null,null,null,null,null,"170082-85-6",59,"指1原01","2B04","S-(2-{[2-(dimethylamino)ethyl]sulfanyl}ethyl) hydrogen methylphosphonothioate","S-(2-{[2-(dimethylamino)ethyl]sulfanyl}ethyl) hydrogen methylphosphonothioate"]
[null,null,null,null,null,null,null,null,null,null,null,null,null,null,null,null,null,null,null,null,null,null,null,null,null,null,null,null,null,null,null,null,null,null,null,null,null,null,null,"ギリシャ_GRC","GRC",null,null,null,null,null,null,"",null,null,null,null,null,"170135-50-9",60,"指1原01","2B04","Isopropyl ethylphosphonate","Isopropyl ethylphosphonate"]
[null,null,null,null,null,null,null,null,null,null,null,null,null,null,null,null,null,null,null,null,null,null,null,null,null,null,null,null,null,null,null,null,null,null,null,null,null,null,null,"キリバス_KIR","KIR",null,null,null,null,null,null,"",null,null,null,null,null,"170275-32-8",61,"指1原01","2B04","Heptyl methylphosphonate","Heptyl methylphosphonate"]
[null,null,null,null,null,null,null,null,null,null,null,null,null,null,null,null,null,null,null,null,null,null,null,null,null,null,null,null,null,null,null,null,null,null,null,null,null,null,null,"キルギス_KGZ","KGZ",null,null,null,null,null,null,"",null,null,null,null,null,"170275-34-0",62,"指1原01","2B04","Bis(2-methoxyethyl) ethylphosphonate","Bis(2-methoxyethyl) ethylphosphonate"]
[null,null,null,null,null,null,null,null,null,null,null,null,null,null,null,null,null,null,null,null,null,null,null,null,null,null,null,null,null,null,null,null,null,null,null,null,null,null,null,"グアテマラ_GTM","GTM",null,null,null,null,null,null,"",null,null,null,null,null,"170275-46-4",63,"指1原03","2B06","Dimethyl diisopropylphosphoramidoate","Dimethyl diisopropylphosphoramidoate"]
[null,null,null,null,null,null,null,null,null,null,null,null,null,null,null,null,null,null,null,null,null,null,null,null,null,null,null,null,null,null,null,null,null,null,null,null,null,null,null,"クウェート_KWT","KWT",null,null,null,null,null,null,"",null,null,null,null,null,"170424-87-0",64,"指1原01","2B04","Cyclohexyl ethylphosphonate","Cyclohexyl ethylphosphonate"]
[null,null,null,null,null,null,null,null,null,null,null,null,null,null,null,null,null,null,null,null,null,null,null,null,null,null,null,null,null,null,null,null,null,null,null,null,null,null,null,"クック諸島_COK","COK",null,null,null,null,null,null,"",null,null,null,null,null,"170836-68-7",65,"指1原01","2B04","5-ｴﾁﾙ-2-ﾒﾁﾙ-2-ｵｷｼﾄﾞ-1,3,2-ｼﾞｵｷｻﾎｽﾎﾘﾅﾝ-5-ｲﾙﾒﾁﾙ=ﾒﾁﾙﾎｽﾎﾅｰﾄとﾋﾞｽ(5-ｴﾁﾙ-2-ﾒﾁﾙ-2-ｵｷｼﾄﾞ-1,3,2-ｼﾞｵｷｻﾎｽﾌｨﾅﾝ-5-ｲﾙﾒﾁﾙ)=ﾒﾁﾙﾎｽﾎﾅｰﾄの混合物","Mixture of CAS RN41203-81-0 and CAS RN42595-45-9"]
[null,null,null,null,null,null,null,null,null,null,null,null,null,null,null,null,null,null,null,null,null,null,null,null,null,null,null,null,null,null,null,null,null,null,null,null,null,null,null,"グレナダ_GRD","GRD",null,null,null,null,null,null,"",null,null,null,null,null,"17123-10-3",66,"指1原03","2B06","Dipropyl dipropylphosphoramidoate","Dipropyl dipropylphosphoramidoate"]
[null,null,null,null,null,null,null,null,null,null,null,null,null,null,null,null,null,null,null,null,null,null,null,null,null,null,null,null,null,null,null,null,null,null,null,null,null,null,null,"クロアチア_HRV","HRV",null,null,null,null,null,null,"",null,null,null,null,null,"17390-16-8",67,"指1原01","2B04","Sodium O-ethyl ethylphosphonothioate","Sodium O-ethyl ethylphosphonothioate"]
[null,null,null,null,null,null,null,null,null,null,null,null,null,null,null,null,null,null,null,null,null,null,null,null,null,null,null,null,null,null,null,null,null,null,null,null,null,null,null,"ケニア_KEN","KEN",null,null,null,null,null,null,"",null,null,null,null,null,"17579-99-6",68,"指1原01","2B04","よう化メチルトリフェノキシホスホニウム","Methyltriphenoxyphosphonium iodide"]
[null,null,null,null,null,null,null,null,null,null,null,null,null,null,null,null,null,null,null,null,null,null,null,null,null,null,null,null,null,null,null,null,null,null,null,null,null,null,null,"コートジボワール_CIV","CIV",null,null,null,null,null,null,"",null,null,null,null,null,"18005-37-3",69,"指1原01","2B04","O-Propyl methylphosphonothionochloridoate","O-Propyl methylphosphonothionochloridoate"]
[null,null,null,null,null,null,null,null,null,null,null,null,null,null,null,null,null,null,null,null,null,null,null,null,null,null,null,null,null,null,null,null,null,null,null,null,null,null,null,"コスタリカ_CRI","CRI",null,null,null,null,null,null,"",null,null,null,null,null,"18005-40-8",70,"指1原01","2B04","Ｏ－エチルメチルホスホノチオエート","O-Ethyl S-hydrogen methylphosphonothioate"]
[null,null,null,null,null,null,null,null,null,null,null,null,null,null,null,null,null,null,null,null,null,null,null,null,null,null,null,null,null,null,null,null,null,null,null,null,null,null,null,"コモロ_COM","COM",null,null,null,null,null,null,"",null,null,null,null,null,"1832-53-7",71,"指1原01","2B04","エチルメチルホスホン酸","Ethyl methylphosphonate"]
[null,null,null,null,null,null,null,null,null,null,null,null,null,null,null,null,null,null,null,null,null,null,null,null,null,null,null,null,null,null,null,null,null,null,null,null,null,null,null,"コロンビア_COL","COL",null,null,null,null,null,null,"",null,null,null,null,null,"1832-54-8",72,"指1原01","2B04","Isopropyl methylphosphonate","Isopropyl methylphosphonate"]
[null,null,null,null,null,null,null,null,null,null,null,null,null,null,null,null,null,null,null,null,null,null,null,null,null,null,null,null,null,null,null,null,null,null,null,null,null,null,null,"コンゴ共和国_COG","COG",null,null,null,null,null,null,{"$f":"IF(AND($AW69<>\"\",$AX69<>\"\",$AZ69<>\"\"),CONCATENATE($AW69,\"_\",$AX69,\"_\",$AZ69), \"\")","v":""},null,null,null,null,null,"1832-55-9",73,"指1原01","2B04","Butyl methylphosphonate","Butyl methylphosphonate"]
[null,null,null,null,null,null,null,null,null,null,null,null,null,null,null,null,null,null,null,null,null,null,null,null,null,null,null,null,null,null,null,null,null,null,null,null,null,null,null,"コンゴ民主共和国_COD","COD",null,null,null,null,null,null,"",null,null,null,null,null,"1832-58-2",74,"指1原01","2B04","Octyl methylphosphonate","Octyl methylphosphonate"]
[null,null,null,null,null,null,null,null,null,null,null,null,null,null,null,null,null,null,null,null,null,null,null,null,null,null,null,null,null,null,null,null,null,null,null,null,null,null,null,"サウジアラビア_SAU","SAU",null,null,null,null,null,null,"",null,null,null,null,null,"1832-60-6",75,"指1原01","2B04","Nonyl methylphosphonate","Nonyl methylphosphonate"]
[null,null,null,null,null,null,null,null,null,null,null,null,null,null,null,null,null,null,null,null,null,null,null,null,null,null,null,null,null,null,null,null,null,null,null,null,null,null,null,"サモア_WSM","WSM",null,null,null,null,null,null,"",null,null,null,null,null,"1832-68-4",76,"指1原01","2B04","Dioctyl methylphosphonate","Dioctyl methylphosphonate"]
[null,null,null,null,null,null,null,null,null,null,null,null,null,null,null,null,null,null,null,null,null,null,null,null,null,null,null,null,null,null,null,null,null,null,null,null,null,null,null,"サントメ・プリンシペ_STP","STP",null,null,null,null,null,null,"",null,null,null,null,null,"18359-05-2",77,"指1原01","2B04","Isobutyl methylphosphonochloridoate","Isobutyl methylphosphonochloridoate"]
[null,null,null,null,null,null,null,null,null,null,null,null,null,null,null,null,null,null,null,null,null,null,null,null,null,null,null,null,null,null,null,null,null,null,null,null,null,null,null,"ザンビア_ZMB","ZMB",null,null,null,null,null,null,"",null,null,null,null,null,"18628-73-4",78,"指1原01","2B04","O,O-Dibutyl methylphosphonothioate","O,O-Dibutyl methylphosphonothioate"]
[null,null,null,null,null,null,null,null,null,null,null,null,null,null,null,null,null,null,null,null,null,null,null,null,null,null,null,null,null,null,null,null,null,null,null,null,null,null,null,"サンマリノ_SMR","SMR",null,null,null,null,null,null,"",null,null,null,null,null,"18755-36-7",79,"指1原01","2B04","Ethyl methyl methylphosphonate","Ethyl methyl methylphosphonate"]
[null,null,null,null,null,null,null,null,null,null,null,null,null,null,null,null,null,null,null,null,null,null,null,null,null,null,null,null,null,null,null,null,null,null,null,null,null,null,null,"シエラレオネ_SLE","SLE",null,null,null,null,null,null,"",null,null,null,null,null,"18755-43-6",80,"指1原01","2B04","Dimethyl propylphosphonate","Dimethyl propylphosphonate"]
[null,null,null,null,null,null,null,null,null,null,null,null,null,null,null,null,null,null,null,null,null,null,null,null,null,null,null,null,null,null,null,null,null,null,null,null,null,null,null,"ジブチ_DJI","DJI",null,null,null,null,null,null,"",null,null,null,null,null,"18755-44-7",81,"指1原01","2B04","Methyl propyl propylphosphonate","Methyl propyl propylphosphonate"]
[null,null,null,null,null,null,null,null,null,null,null,null,null,null,null,null,null,null,null,null,null,null,null,null,null,null,null,null,null,null,null,null,null,null,null,null,null,null,null,"ジャマイカ_JAM","JAM",null,null,null,null,null,null,"",null,null,null,null,null,"18812-51-6",82,"指1原01","2B04","１－プロパンホスホン酸ジエチル","Diethyl propylphosphonate"]
[null,null,null,null,null,null,null,null,null,null,null,null,null,null,null,null,null,null,null,null,null,null,null,null,null,null,null,null,null,null,null,null,null,null,null,null,null,null,null,"ジョージア_GEO","GEO",null,null,null,null,null,null,"",null,null,null,null,null,"18812-55-0",83,"指1原01","2B04","Diisopropyl propylphosphonate","Diisopropyl propylphosphonate"]
[null,null,null,null,null,null,null,null,null,null,null,null,null,null,null,null,null,null,null,null,null,null,null,null,null,null,null,null,null,null,null,null,null,null,null,null,null,null,null,"シリア_SYR","SYR",null,null,null,null,null,null,"",null,null,null,null,null,"192438-31-6",84,"指1原01","2B04","Bis(1,2,2-trimethylpropyl) propylphosphonate","Bis(1,2,2-trimethylpropyl) propylphosphonate"]
[null,null,null,null,null,null,null,null,null,null,null,null,null,null,null,null,null,null,null,null,null,null,null,null,null,null,null,null,null,null,null,null,null,null,null,null,null,null,null,"シンガポール_SGP","SGP",null,null,null,null,null,null,"",null,null,null,null,null,"192698-90-1",85,"指1原01","2B04","Dipropyl isopropylphosphonate","Dipropyl isopropylphosphonate"]
[null,null,null,null,null,null,null,null,null,null,null,null,null,null,null,null,null,null,null,null,null,null,null,null,null,null,null,null,null,null,null,null,null,null,null,null,null,null,null,"ジンバブエ_ZWE","ZWE",null,null,null,null,null,null,"",null,null,null,null,null,"1932-60-1",86,"指1原01","2B04","Cyclohexyl methylphosphonate","Cyclohexyl methylphosphonate"]
[null,null,null,null,null,null,null,null,null,null,null,null,null,null,null,null,null,null,null,null,null,null,null,null,null,null,null,null,null,null,null,null,null,null,null,null,null,null,null,"スイス_CHE","CHE",null,null,null,null,null,null,"",null,null,null,null,null,"1942-52-5",87,"指1原09","2B12","２－ジエチルアミノエタンチオール塩酸塩","2-(N,N-Diethylamino)ethanethiol hydrochloride"]
[null,null,null,null,null,null,null,null,null,null,null,null,null,null,null,null,null,null,null,null,null,null,null,null,null,null,null,null,null,null,null,null,null,null,null,null,null,null,null,"スウェーデン_SWE","SWE",null,null,null,null,null,null,"",null,null,null,null,null,"198885-54-0",88,"指1原01","2B04","1-Methylbutyl methylphosphonate","1-Methylbutyl methylphosphonate"]
[null,null,null,null,null,null,null,null,null,null,null,null,null,null,null,null,null,null,null,null,null,null,null,null,null,null,null,null,null,null,null,null,null,null,null,null,null,null,null,"スーダン_SDN","SDN",null,null,null,null,null,null,"",null,null,null,null,null,"20194-81-4",89,"指1毒01","2A01","2-[(diethoxyphosphoryl)sulfanyl]-N,N,N-triethylethanaminium","2-[(diethoxyphosphoryl)sulfanyl]-N,N,N-triethylethanaminium"]
[null,null,null,null,null,null,null,null,null,null,null,null,null,null,null,null,null,null,null,null,null,null,null,null,null,null,null,null,null,null,null,null,null,null,null,null,null,null,null,"スペイン_ESP","ESP",null,null,null,null,null,null,"",null,null,null,null,null,"20194-81-4",295,"指1毒01","2A01","2-[(diethoxyphosphoryl)sulfanyl]-N,N,N-triethylethanaminium","2-[(diethoxyphosphoryl)sulfanyl]-N,N,N-triethylethanaminium"]
[null,null,null,null,null,null,null,null,null,null,null,null,null,null,null,null,null,null,null,null,null,null,null,null,null,null,null,null,null,null,null,null,null,null,null,null,null,null,null,"スリナム_SUR","SUR",null,null,null,null,null,null,"",null,null,null,null,null,"20626-99-7",90,"指1原01","2B04","O-Isobutyl methylphosphonothioate","O-Isobutyl methylphosphonothioate"]
[null,null,null,null,null,null,null,null,null,null,null,null,null,null,null,null,null,null,null,null,null,null,null,null,null,null,null,null,null,null,null,null,null,null,null,null,null,null,null,"スリランカ_LKA","LKA",null,null,null,null,null,null,"",null,null,null,null,null,"211923-89-6",91,"指1原01","2B04","Isopropyl methyl propylphosphonate","Isopropyl methyl propylphosphonate"]
[null,null,null,null,null,null,null,null,null,null,null,null,null,null,null,null,null,null,null,null,null,null,null,null,null,null,null,null,null,null,null,null,null,null,null,null,null,null,null,"スロバキア_SVK","SVK",null,null,null,null,null,null,"",null,null,null,null,null,"21921-97-1",92,"指1原01","2B04","Propyl propylphosphonate","Propyl propylphosphonate"]
[null,null,null,null,null,null,null,null,null,null,null,null,null,null,null,null,null,null,null,null,null,null,null,null,null,null,null,null,null,null,null,null,null,null,null,null,null,null,null,"スロベニア_SVN","SVN",null,null,null,null,null,null,"",null,null,null,null,null,"22250-42-6",93,"指1原03","2B06","Dipropyl diethylphosphoramidoate","Dipropyl diethylphosphoramidoate"]
[null,null,null,null,null,null,null,null,null,null,null,null,null,null,null,null,null,null,null,null,null,null,null,null,null,null,null,null,null,null,null,null,null,null,null,null,null,null,null,"セーシェル_SYC","SYC",null,null,null,null,null,null,"",null,null,null,null,null,"22307-81-9",94,"指1原01","2B04","Sodium O-ethyl methylphosphonothioate","Sodium O-ethyl methylphosphonothioate"]
[null,null,null,null,null,null,null,null,null,null,null,null,null,null,null,null,null,null,null,null,null,null,null,null,null,null,null,null,null,null,null,null,null,null,null,null,null,null,null,"赤道ギニア_GNQ","GNQ",null,null,null,null,null,null,"",null,null,null,null,null,"22583-27-3",95,"指1原01","2B04","Dicyclopentyl methylphosphonate","Dicyclopentyl methylphosphonate"]
[null,null,null,null,null,null,null,null,null,null,null,null,null,null,null,null,null,null,null,null,null,null,null,null,null,null,null,null,null,null,null,null,null,null,null,null,null,null,null,"セネガル_SEN","SEN",null,null,null,null,null,null,"",null,null,null,null,null,"23164-47-8",96,"指1原01","2B04","Butyl methylphosphonochloridoate","Butyl methylphosphonochloridoate"]
[null,null,null,null,null,null,null,null,null,null,null,null,null,null,null,null,null,null,null,null,null,null,null,null,null,null,null,null,null,null,null,null,null,null,null,null,null,null,null,"セルビア_SRB","SRB",null,null,null,null,null,null,"",null,null,null,null,null,"23306-80-1",97,"指1原02","2B05","Diisopropylphosphoramidic dichloride","Diisopropylphosphoramidic dichloride"]
[null,null,null,null,null,null,null,null,null,null,null,null,null,null,null,null,null,null,null,null,null,null,null,null,null,null,null,null,null,null,null,null,null,null,null,null,null,null,null,"セントクリストファー・ネービス_KNA","KNA",null,null,null,null,null,null,"",null,null,null,null,null,"2404-03-7",98,"指1原03","2B06","Diethyl dimethylphosphoramidoate","Diethyl dimethylphosphoramidoate"]
[null,null,null,null,null,null,null,null,null,null,null,null,null,null,null,null,null,null,null,null,null,null,null,null,null,null,null,null,null,null,null,null,null,null,null,null,null,null,null,"セントビンセント及びグレナディーン諸島_VCT","VCT",null,null,null,null,null,null,"",null,null,null,null,null,"2404-04-8",99,"指1原03","2B06","Diisopropyl dimethylphosphoramidoate","Diisopropyl dimethylphosphoramidoate"]
[null,null,null,null,null,null,null,null,null,null,null,null,null,null,null,null,null,null,null,null,null,null,null,null,null,null,null,null,null,null,null,null,null,null,null,null,null,null,null,"セントルシア_LCA","LCA",null,null,null,null,null,null,"",null,null,null,null,null,"2404-73-1",100,"指1原01","2B04","Dibutyl methylphosphonate","Dibutyl methylphosphonate"]
[null,null,null,null,null,null,null,null,null,null,null,null,null,null,null,null,null,null,null,null,null,null,null,null,null,null,null,null,null,null,null,null,null,null,null,null,null,null,null,"ソマリア_SOM","SOM",null,null,null,null,null,null,"",null,null,null,null,null,"249934-12-1",101,"指1原01","2B04","1,2,2-Trimethylpropyl propylphosphonate","1,2,2-Trimethylpropyl propylphosphonate"]
[null,null,null,null,null,null,null,null,null,null,null,null,null,null,null,null,null,null,null,null,null,null,null,null,null,null,null,null,null,null,null,null,null,null,null,null,null,null,null,"ソロモン_SLB","SLB",null,null,null,null,null,null,"",null,null,null,null,null,"249934-13-2",102,"指1原01","2B04","Methyl isopropylphosphonate","Methyl isopropylphosphonate"]
[null,null,null,null,null,null,null,null,null,null,null,null,null,null,null,null,null,null,null,null,null,null,null,null,null,null,null,null,null,null,null,null,null,null,null,null,null,null,null,"タイ_THA","THA",null,null,null,null,null,null,"",null,null,null,null,null,"249934-15-4",103,"指1原01","2B04","Isopropyl isopropylphosphonate","Isopropyl isopropylphosphonate"]
[null,null,null,null,null,null,null,null,null,null,null,null,null,null,null,null,null,null,null,null,null,null,null,null,null,null,null,null,null,null,null,null,null,null,null,null,null,null,null,"大韓民国_KOR","KOR",null,null,null,null,null,null,null,null,null,null,null,null,"249934-16-5",104,"指1原01","2B04","1,2,2-Trimethylpropyl isopropylphosphonate","1,2,2-Trimethylpropyl isopropylphosphonate"]
[null,null,null,null,null,null,null,null,null,null,null,null,null,null,null,null,null,null,null,null,null,null,null,null,null,null,null,null,null,null,null,null,null,null,null,null,null,null,null,"タジキスタン_TJK","TJK",null,null,null,null,null,null,null,null,null,null,null,null,"2511-10-6",105,"指1原01","2B04","O,S-Diethyl methylphosphonothioate","O,S-Diethyl methylphosphonothioate"]
[null,null,null,null,null,null,null,null,null,null,null,null,null,null,null,null,null,null,null,null,null,null,null,null,null,null,null,null,null,null,null,null,null,null,null,null,null,null,null,"タンザニア_TZA","TZA",null,null,null,null,null,null,null,null,null,null,null,null,"2511-17-3",106,"指1原01","2B04","メチルホスホン酸＝ビス（ジメチルアミド）","Methylphosphonic bis(dimethylamide)"]
[null,null,null,null,null,null,null,null,null,null,null,null,null,null,null,null,null,null,null,null,null,null,null,null,null,null,null,null,null,null,null,null,null,null,null,null,null,null,null,"チェコ_CZE","CZE",null,null,null,null,null,null,null,null,null,null,null,null,"25235-15-8",107,"指1原01","2B04","イソプロピルホスホナスジクロリド","Isopropylphosphonous dichloride"]
[null,null,null,null,null,null,null,null,null,null,null,null,null,null,null,null,null,null,null,null,null,null,null,null,null,null,null,null,null,null,null,null,null,null,null,null,null,null,null,"チャド_TCD","TCD",null,null,null,null,null,null,null,null,null,null,null,null,"2524-01-8",108,"指1原01","2B04","Propylphosphonothioic dichloride","Propylphosphonothioic dichloride"]
[null,null,null,null,null,null,null,null,null,null,null,null,null,null,null,null,null,null,null,null,null,null,null,null,null,null,null,null,null,null,null,null,null,null,null,null,null,null,null,"チュニジア_TUN","TUN",null,null,null,null,null,null,null,null,null,null,null,null,"2524-15-4",109,"指1原01","2B04","O-Methyl methylphosphonochloridothioate","O-Methyl methylphosphonochloridothioate"]
[null,null,null,null,null,null,null,null,null,null,null,null,null,null,null,null,null,null,null,null,null,null,null,null,null,null,null,null,null,null,null,null,null,null,null,null,null,null,null,"北朝鮮_PRK","PRK",null,null,null,null,null,null,null,null,null,null,null,null,"2524-16-5",110,"指1原01","2B04","O-Ethyl methylphosphonochloridothioate","O-Ethyl methylphosphonochloridothioate"]
[null,null,null,null,null,null,null,null,null,null,null,null,null,null,null,null,null,null,null,null,null,null,null,null,null,null,null,null,null,null,null,null,null,null,null,null,null,null,null,"チリ_CHL","CHL",null,null,null,null,null,null,null,null,null,null,null,null,"25333-42-0",111,"指1原06","2B09","Ｒ－（－）－キヌクリジン－３－オール","R-(-)-3-Quinuclidinol"]
[null,null,null,null,null,null,null,null,null,null,null,null,null,null,null,null,null,null,null,null,null,null,null,null,null,null,null,null,null,null,null,null,null,null,null,null,null,null,null,"中央アフリカ_CAF","CAF",null,null,null,null,null,null,null,null,null,null,null,null,"2651-85-6",112,"指1原01","2B04","Diethyl ethylphosphonite","Diethyl ethylphosphonite"]
[null,null,null,null,null,null,null,null,null,null,null,null,null,null,null,null,null,null,null,null,null,null,null,null,null,null,null,null,null,null,null,null,null,null,null,null,null,null,null,"中華人民共和国_CHN","CHN",null,null,null,null,null,null,null,null,null,null,null,null,"27797-35-9",113,"指1原01","2B04","Propylphosphonothioic O,O-acid","Propylphosphonothioic O,O-acid"]
[null,null,null,null,null,null,null,null,null,null,null,null,null,null,null,null,null,null,null,null,null,null,null,null,null,null,null,null,null,null,null,null,null,null,null,null,null,null,null,"中華人民共和国（台湾）_TWN","TWN",null,null,null,null,null,null,null,null,null,null,null,null,"2799-58-8",114,"指1原01","2B04","Bis(2-chloroethyl) methylphosphonate","Bis(2-chloroethyl) methylphosphonate"]
[null,null,null,null,null,null,null,null,null,null,null,null,null,null,null,null,null,null,null,null,null,null,null,null,null,null,null,null,null,null,null,null,null,null,null,null,null,null,null,"ツバル_TUV","TUV",null,null,null,null,null,null,null,null,null,null,null,null,"28616-51-5",115,"指1原01","2B04","Diisopropyl dimethyldiphosphonate","Diisopropyl dimethyldiphosphonate"]
[null,null,null,null,null,null,null,null,null,null,null,null,null,null,null,null,null,null,null,null,null,null,null,null,null,null,null,null,null,null,null,null,null,null,null,null,null,null,null,"デンマーク_DNK","DNK",null,null,null,null,null,null,null,null,null,null,null,null,"28829-95-0",116,"指1原01","2B04","Isopropyl ethylphosphonochloridoate","Isopropyl ethylphosphonochloridoate"]
[null,null,null,null,null,null,null,null,null,null,null,null,null,null,null,null,null,null,null,null,null,null,null,null,null,null,null,null,null,null,null,null,null,null,null,null,null,null,null,"ドイツ_DEU","DEU",null,null,null,null,null,null,null,null,null,null,null,null,"28830-00-4",117,"指1原01","2B04","Ethyl propylphosphonochloridoate","Ethyl propylphosphonochloridoate"]
[null,null,null,null,null,null,null,null,null,null,null,null,null,null,null,null,null,null,null,null,null,null,null,null,null,null,null,null,null,null,null,null,null,null,null,null,null,null,null,"トーゴ_TGO","TGO",null,null,null,null,null,null,null,null,null,null,null,null,"28841-40-9",118,"指1原01","2B04","S-2-Dipropylaminoethyl methylphosphonothionofluoridoate","S-2-Dipropylaminoethyl methylphosphonothionofluoridoate"]
[null,null,null,null,null,null,null,null,null,null,null,null,null,null,null,null,null,null,null,null,null,null,null,null,null,null,null,null,null,null,null,null,null,null,null,null,null,null,null,"ドミニカ_DMA","DMA",null,null,null,null,null,null,null,null,null,null,null,null,"2893-43-8",119,"指1原08","2B11","2-(Ethylmethylamino)ethanol","2-(Ethylmethylamino)ethanol"]
[null,null,null,null,null,null,null,null,null,null,null,null,null,null,null,null,null,null,null,null,null,null,null,null,null,null,null,null,null,null,null,null,null,null,null,null,null,null,null,"ドミニカ共和国_DOM","DOM",null,null,null,null,null,null,null,null,null,null,null,null,"2893-45-0",120,"指1原08","2B11","2-(Methylpropylamino)ethanol","2-(Methylpropylamino)ethanol"]
[null,null,null,null,null,null,null,null,null,null,null,null,null,null,null,null,null,null,null,null,null,null,null,null,null,null,null,null,null,null,null,null,null,null,null,null,null,null,null,"トリニダード・トバゴ_TTO","TTO",null,null,null,null,null,null,null,null,null,null,null,null,"2893-49-4",121,"指1原08","2B11","2-[isopropyl(methyl)amino]ethanol","2-[isopropyl(methyl)amino]ethanol"]
[null,null,null,null,null,null,null,null,null,null,null,null,null,null,null,null,null,null,null,null,null,null,null,null,null,null,null,null,null,null,null,null,null,null,null,null,null,null,null,"トルクメニスタン_TKM","TKM",null,null,null,null,null,null,null,null,null,null,null,null,"2893-56-3",122,"指1原08","2B11","2-(Ethylpropylamino)ethanol","2-(Ethylpropylamino)ethanol"]
[null,null,null,null,null,null,null,null,null,null,null,null,null,null,null,null,null,null,null,null,null,null,null,null,null,null,null,null,null,null,null,null,null,null,null,null,null,null,null,"トルコ_TUR","TUR",null,null,null,null,null,null,null,null,null,null,null,null,"2893-61-0",123,"指1原08","2B11","2-(Ethylisopropylamino)ethanol","2-(Ethylisopropylamino)ethanol"]
[null,null,null,null,null,null,null,null,null,null,null,null,null,null,null,null,null,null,null,null,null,null,null,null,null,null,null,null,null,null,null,null,null,null,null,null,null,null,null,"トンガ_TON","TON",null,null,null,null,null,null,null,null,null,null,null,null,"2893-62-1",124,"指1原08","2B11","Ethanol, 2-(ethylisopropylamino)-, picrate (7CI, 8CI)","Ethanol, 2-(ethylisopropylamino)-, picrate (7CI, 8CI)"]
[null,null,null,null,null,null,null,null,null,null,null,null,null,null,null,null,null,null,null,null,null,null,null,null,null,null,null,null,null,null,null,null,null,null,null,null,null,null,null,"ナイジェリア_NGA","NGA",null,null,null,null,null,null,null,null,null,null,null,null,"2893-64-3",125,"指1原08","2B11","Ethanol, 2-(ethylpropylamino)-, picrate (7CI, 8CI)","Ethanol, 2-(ethylpropylamino)-, picrate (7CI, 8CI)"]
[null,null,null,null,null,null,null,null,null,null,null,null,null,null,null,null,null,null,null,null,null,null,null,null,null,null,null,null,null,null,null,null,null,null,null,null,null,null,null,"ナウル_NRU","NRU",null,null,null,null,null,null,null,null,null,null,null,null,"294675-51-7",126,"指1原01","2B04","Phosphonic acid, methyl-, polyglycol ester","Phosphonic acid, methyl-, polyglycol ester"]
[null,null,null,null,null,null,null,null,null,null,null,null,null,null,null,null,null,null,null,null,null,null,null,null,null,null,null,null,null,null,null,null,null,null,null,null,null,null,null,"ナミビア_NAM","NAM",null,null,null,null,null,null,null,null,null,null,null,null,"3001-98-7",127,"指1原01","2B04","３，９－ジメチル－２，４，８，１０－テトラオキサ－３，９－ジホスファスピロ［５．５］ウンデカン＝３，９－ジオキシド","3,9-Dimethyl-2,4,8,10-tetraoxa-3,9-diphosphaspiro[5.5]undecane 3,9-dioxide"]
[null,null,null,null,null,null,null,null,null,null,null,null,null,null,null,null,null,null,null,null,null,null,null,null,null,null,null,null,null,null,null,null,null,null,null,null,null,null,null,"ニウエ_NIU","NIU",null,null,null,null,null,null,null,null,null,null,null,null,"30593-71-6",128,"指1原01","2B04","1-Methylprop-2-yn-1-yl methylphosphonofluoridoate","1-Methylprop-2-yn-1-yl methylphosphonofluoridoate"]
[null,null,null,null,null,null,null,null,null,null,null,null,null,null,null,null,null,null,null,null,null,null,null,null,null,null,null,null,null,null,null,null,null,null,null,null,null,null,null,"日本_JPN","JPN",null,null,null,null,null,null,null,null,null,null,null,null,"3167-69-9",129,"指1原03","2B06","Diethyl diethylphosphoramidoate","Diethyl diethylphosphoramidoate"]
[null,null,null,null,null,null,null,null,null,null,null,null,null,null,null,null,null,null,null,null,null,null,null,null,null,null,null,null,null,null,null,null,null,null,null,null,null,null,null,"ニカラグア_NIC","NIC",null,null,null,null,null,null,null,null,null,null,null,null,"3238-75-3",130,"指1原08","2B11","2-(Dipropylamino)ethanol","2-(Dipropylamino)ethanol"]
[null,null,null,null,null,null,null,null,null,null,null,null,null,null,null,null,null,null,null,null,null,null,null,null,null,null,null,null,null,null,null,null,null,null,null,null,null,null,null,"ニジェール_NER","NER",null,null,null,null,null,null,null,null,null,null,null,null,"327-98-0",131,"指1原01","2B04","トリクロロノート","Ethylthiophosphonic acid O-ethyl O-(2,4,5-trichlorophenyl) ester"]
[null,null,null,null,null,null,null,null,null,null,null,null,null,null,null,null,null,null,null,null,null,null,null,null,null,null,null,null,null,null,null,null,null,null,null,null,null,null,null,"ニュージーランド_NZL","NZL",null,null,null,null,null,null,null,null,null,null,null,null,"331954-04-2",132,"指1原01","2B04","Isopropyl methyl isopropylphosphonate","Isopropyl methyl isopropylphosphonate"]
[null,null,null,null,null,null,null,null,null,null,null,null,null,null,null,null,null,null,null,null,null,null,null,null,null,null,null,null,null,null,null,null,null,null,null,null,null,null,null,"ネパール_NPL","NPL",null,null,null,null,null,null,null,null,null,null,null,null,"34583-34-1",133,"指1原06","2B09","3-(+)-3-キヌクリジノール","(3S)-1-Azabicyclo[2.2.2]octan-3-ol"]
[null,null,null,null,null,null,null,null,null,null,null,null,null,null,null,null,null,null,null,null,null,null,null,null,null,null,null,null,null,null,null,null,null,null,null,null,null,null,null,"ノルウェー_NOR","NOR",null,null,null,null,null,null,null,null,null,null,null,null,"354-43-8",134,"指1原02","2B05","dimethylphosphoramidic difluoride","dimethylphosphoramidic difluoride"]
[null,null,null,null,null,null,null,null,null,null,null,null,null,null,null,null,null,null,null,null,null,null,null,null,null,null,null,null,null,null,null,null,null,null,null,null,null,null,null,"バーレーン_BHR","BHR",null,null,null,null,null,null,null,null,null,null,null,null,"35851-62-8",135,"指1原01","2B04","Aluminium methyl methylphosphonate","Aluminium methyl methylphosphonate"]
[null,null,null,null,null,null,null,null,null,null,null,null,null,null,null,null,null,null,null,null,null,null,null,null,null,null,null,null,null,null,null,null,null,null,null,null,null,null,null,"ハイチ_HTI","HTI",null,null,null,null,null,null,null,null,null,null,null,null,"359-94-4",136,"指1原02","2B05","diethylphosphoramidic difluoride","diethylphosphoramidic difluoride"]
[null,null,null,null,null,null,null,null,null,null,null,null,null,null,null,null,null,null,null,null,null,null,null,null,null,null,null,null,null,null,null,null,null,null,null,null,null,null,null,"パキスタン_PAK","PAK",null,null,null,null,null,null,null,null,null,null,null,null,"363626-50-0",137,"指1原01","2B04","ポリエチレングリコールメチルホスホネート","Polyethylene glycol methylphosphonate"]
[null,null,null,null,null,null,null,null,null,null,null,null,null,null,null,null,null,null,null,null,null,null,null,null,null,null,null,null,null,null,null,null,null,null,null,null,null,null,null,"バチカン_VAT","VAT",null,null,null,null,null,null,null,null,null,null,null,null,"36598-84-2",138,"指1原02","2B05","dimethylphosphoramidic chloride fluoride","dimethylphosphoramidic chloride fluoride"]
[null,null,null,null,null,null,null,null,null,null,null,null,null,null,null,null,null,null,null,null,null,null,null,null,null,null,null,null,null,null,null,null,null,null,null,null,null,null,null,"パナマ_PAN","PAN",null,null,null,null,null,null,null,null,null,null,null,null,"36716-60-6",139,"指1原07","2B10","N-(2-chloroethyl)-N-propylpropan-1-amine","N-(2-chloroethyl)-N-propylpropan-1-amine"]
[null,null,null,null,null,null,null,null,null,null,null,null,null,null,null,null,null,null,null,null,null,null,null,null,null,null,null,null,null,null,null,null,null,null,null,null,null,null,null,"バヌアツ_VUT","VUT",null,null,null,null,null,null,null,null,null,null,null,null,"36759-66-7",140,"指1原09","2B12","2-[isopropyl(methyl)amino]ethanethiol","2-[isopropyl(methyl)amino]ethanethiol"]
[null,null,null,null,null,null,null,null,null,null,null,null,null,null,null,null,null,null,null,null,null,null,null,null,null,null,null,null,null,null,null,null,null,null,null,null,null,null,null,"バハマ_BHS","BHS",null,null,null,null,null,null,null,null,null,null,null,null,"36759-67-8",141,"指1原09","2B12","2-(Ethylisopropylamino)ethanethiol","2-(Ethylisopropylamino)ethanethiol"]
[null,null,null,null,null,null,null,null,null,null,null,null,null,null,null,null,null,null,null,null,null,null,null,null,null,null,null,null,null,null,null,null,null,null,null,null,null,null,null,"パプアニューギニア_PNG","PNG",null,null,null,null,null,null,null,null,null,null,null,null,"36759-68-9",142,"指1原09","2B12","2-[isopropyl(propyl)amino]ethanethiol","2-[isopropyl(propyl)amino]ethanethiol"]
[null,null,null,null,null,null,null,null,null,null,null,null,null,null,null,null,null,null,null,null,null,null,null,null,null,null,null,null,null,null,null,null,null,null,null,null,null,null,null,"パラオ_PLW","PLW",null,null,null,null,null,null,null,null,null,null,null,null,"3734-97-2",143,"指1毒01","2A01","S-[2-(diethylamino)ethyl] O,O-diethyl phosphorothioate oxalate","S-[2-(diethylamino)ethyl] O,O-diethyl phosphorothioate oxalate"]
[null,null,null,null,null,null,null,null,null,null,null,null,null,null,null,null,null,null,null,null,null,null,null,null,null,null,null,null,null,null,null,null,null,null,null,null,null,null,null,"パラグアイ_PRY","PRY",null,null,null,null,null,null,null,null,null,null,null,null,"3759-39-5",144,"指1原01","2B04","Diisopropyl isopropylphosphonate","Diisopropyl isopropylphosphonate"]
[null,null,null,null,null,null,null,null,null,null,null,null,null,null,null,null,null,null,null,null,null,null,null,null,null,null,null,null,null,null,null,null,null,null,null,null,null,null,null,"バルバドス_BRB","BRB",null,null,null,null,null,null,null,null,null,null,null,null,"382-21-8",145,"指1毒02","2A02","１・１・３・３・３－ペンタフルオロ－２－（トリフルオロメチル）－１－プロペン","1,1,3,3,3-Pentafluoro-2-(trifluoromethyl)-1-propene"]
[null,null,null,null,null,null,null,null,null,null,null,null,null,null,null,null,null,null,null,null,null,null,null,null,null,null,null,null,null,null,null,null,null,null,null,null,null,null,null,"パレスチナ_PSE","PSE",null,null,null,null,null,null,null,null,null,null,null,null,"408326-30-7",146,"指1原07","2B10","N-(2-chloroethyl)-N-methypropan-2-amine","N-(2-chloroethyl)-N-methypropan-2-amine"]
[null,null,null,null,null,null,null,null,null,null,null,null,null,null,null,null,null,null,null,null,null,null,null,null,null,null,null,null,null,null,null,null,null,null,null,null,null,null,null,"ハンガリー_HUN","HUN",null,null,null,null,null,null,null,null,null,null,null,null,"40881-98-9",147,"指1原02","2B05","Dipropylphosphoramidic dichloride","Dipropylphosphoramidic dichloride"]
[null,null,null,null,null,null,null,null,null,null,null,null,null,null,null,null,null,null,null,null,null,null,null,null,null,null,null,null,null,null,null,null,null,null,null,null,null,null,null,"バングラデシュ_BGD","BGD",null,null,null,null,null,null,null,null,null,null,null,null,"40882-01-7",148,"指1原02","2B05","dipropylphosphoramidic difluoride","dipropylphosphoramidic difluoride"]
[null,null,null,null,null,null,null,null,null,null,null,null,null,null,null,null,null,null,null,null,null,null,null,null,null,null,null,null,null,null,null,null,null,null,null,null,null,null,null,"東ティモール_TLS","TLS",null,null,null,null,null,null,null,null,null,null,null,null,"41203-81-0",149,"指1原01","2B04","メチルホスホン酸（５－エチル－２－メチル－２－オキシド－１，３，２－ジオキサホスホリナン－５－イル）メチルメチルエステル","(5-ethyl-2-methyl-2-oxido-1,3,2-dioxaphosphinan-5-yl)methyl methyl methylphosphonate"]
[null,null,null,null,null,null,null,null,null,null,null,null,null,null,null,null,null,null,null,null,null,null,null,null,null,null,null,null,null,null,null,null,null,null,null,null,null,null,null,"フィジー_FJI","FJI",null,null,null,null,null,null,null,null,null,null,null,null,"41480-75-5",150,"指1原09","2B12","N-Isopropyl-N-(2-sulfanylethyl)propan-2-aminium chloride","N-Isopropyl-N-(2-sulfanylethyl)propan-2-aminium chloride"]
[null,null,null,null,null,null,null,null,null,null,null,null,null,null,null,null,null,null,null,null,null,null,null,null,null,null,null,null,null,null,null,null,null,null,null,null,null,null,null,"フィリピン_PHL","PHL",null,null,null,null,null,null,null,null,null,null,null,null,"4206-94-4",151,"指1原01","2B04","Methylphosphinic acid","Methylphosphinic acid"]
[null,null,null,null,null,null,null,null,null,null,null,null,null,null,null,null,null,null,null,null,null,null,null,null,null,null,null,null,null,null,null,null,null,null,null,null,null,null,null,"フィンランド_FIN","FIN",null,null,null,null,null,null,null,null,null,null,null,null,"4241-34-3",152,"指1原01","2B04","O-Cyclohexyl methylphosphonofluoridothioate","O-Cyclohexyl methylphosphonofluoridothioate"]
[null,null,null,null,null,null,null,null,null,null,null,null,null,null,null,null,null,null,null,null,null,null,null,null,null,null,null,null,null,null,null,null,null,null,null,null,null,null,null,"ブータン_BTN","BTN",null,null,null,null,null,null,null,null,null,null,null,null,"42595-45-9",153,"指1原01","2B04","ビス［（５－エチル－２－メチル－２－オキシド－１，３，２－ジオキサホスホスフィナン－５－イル）メチル］メチルホスホネート","bis[(5-Ethyl-2-methyl-2-oxido-1,3,2-dioxaphosphinan-5-yl)methyl] methylposphonate"]
[null,null,null,null,null,null,null,null,null,null,null,null,null,null,null,null,null,null,null,null,null,null,null,null,null,null,null,null,null,null,null,null,null,null,null,null,null,null,null,"ブラジル_BRA","BRA",null,null,null,null,null,null,null,null,null,null,null,null,"4261-68-1",154,"指1原07","2B10","Ｎ，Ｎ－ジイソプロピルアミノエチル－２－クロリド塩酸塩","2-(N,N-Diisopropylamino)ethylchloride hydrochloride"]
[null,null,null,null,null,null,null,null,null,null,null,null,null,null,null,null,null,null,null,null,null,null,null,null,null,null,null,null,null,null,null,null,null,null,null,null,null,null,null,"フランス_FRA","FRA",null,null,null,null,null,null,null,null,null,null,null,null,"4535-76-6",155,"指1原08","2B11","2-(dipropylamino)ethanol hydrochloride","2-(dipropylamino)ethanol hydrochloride"]
[null,null,null,null,null,null,null,null,null,null,null,null,null,null,null,null,null,null,null,null,null,null,null,null,null,null,null,null,null,null,null,null,null,null,null,null,null,null,null,"ブルガリア_BGR","BGR",null,null,null,null,null,null,null,null,null,null,null,null,"453577-7",156,"指1原08","2B11","2-[isopropyl(propyl)amino]ethanol","2-[isopropyl(propyl)amino]ethanol"]
[null,null,null,null,null,null,null,null,null,null,null,null,null,null,null,null,null,null,null,null,null,null,null,null,null,null,null,null,null,null,null,null,null,null,null,null,null,null,null,"ブルキナファソ_BFA","BFA",null,null,null,null,null,null,null,null,null,null,null,null,"4535-86-8",157,"指1原07","2B10","N-(2-chloroethyl)-N-propylpropan-1-amine hydrochloride","N-(2-chloroethyl)-N-propylpropan-1-amine hydrochloride"]
[null,null,null,null,null,null,null,null,null,null,null,null,null,null,null,null,null,null,null,null,null,null,null,null,null,null,null,null,null,null,null,null,null,null,null,null,null,null,null,"ブルネイ_BRN","BRN",null,null,null,null,null,null,null,null,null,null,null,null,"4535-88-0",158,"指1原07","2B10","2-chloro-N-ethyl-N-methylethanamine hydrochloride","2-chloro-N-ethyl-N-methylethanamine hydrochloride"]
[null,null,null,null,null,null,null,null,null,null,null,null,null,null,null,null,null,null,null,null,null,null,null,null,null,null,null,null,null,null,null,null,null,null,null,null,null,null,null,"ブルンジ_BDI","BDI",null,null,null,null,null,null,null,null,null,null,null,null,"4535-89-1",159,"指1原07","2B10","N-(2-chloroethyl)-N-isopropylpropan-1-amine hydrochloride","N-(2-chloroethyl)-N-isopropylpropan-1-amine hydrochloride"]
[null,null,null,null,null,null,null,null,null,null,null,null,null,null,null,null,null,null,null,null,null,null,null,null,null,null,null,null,null,null,null,null,null,null,null,null,null,null,null,"ベトナム_VNM","VNM",null,null,null,null,null,null,null,null,null,null,null,null,"4546-11-6",160,"指1原01","2B04","Propyl methylphosphonate","Propyl methylphosphonate"]
[null,null,null,null,null,null,null,null,null,null,null,null,null,null,null,null,null,null,null,null,null,null,null,null,null,null,null,null,null,null,null,null,null,null,null,null,null,null,null,"ベナン_BEN","BEN",null,null,null,null,null,null,null,null,null,null,null,null,"4546-12-7",161,"指1原01","2B04","Ethyl isopropylphosphonate","Ethyl isopropylphosphonate"]
[null,null,null,null,null,null,null,null,null,null,null,null,null,null,null,null,null,null,null,null,null,null,null,null,null,null,null,null,null,null,null,null,null,null,null,null,null,null,null,"ベネズエラ_VEN","VEN",null,null,null,null,null,null,null,null,null,null,null,null,"4584-46-7",162,"指1原07","2B10","Ｎ，Ｎ－ジメチルアミノエチル－２－クロリド塩酸塩","2-(N,N-Dimethylamino)ethylchloride hydrochloride"]
[null,null,null,null,null,null,null,null,null,null,null,null,null,null,null,null,null,null,null,null,null,null,null,null,null,null,null,null,null,null,null,null,null,null,null,null,null,null,null,"ベラルーシ_BLR","BLR",null,null,null,null,null,null,null,null,null,null,null,null,"460091-25-2",163,"指1原01","2B04","Bis(1-methylbutyl) methylphosphonate","Bis(1-methylbutyl) methylphosphonate"]
[null,null,null,null,null,null,null,null,null,null,null,null,null,null,null,null,null,null,null,null,null,null,null,null,null,null,null,null,null,null,null,null,null,null,null,null,null,null,null,"ベリーズ_BLZ","BLZ",null,null,null,null,null,null,null,null,null,null,null,null,"4628-12-0",164,"指1原01","2B04","Dibutyl propylphosphonate","Dibutyl propylphosphonate"]
[null,null,null,null,null,null,null,null,null,null,null,null,null,null,null,null,null,null,null,null,null,null,null,null,null,null,null,null,null,null,null,null,null,null,null,null,null,null,null,"ペルー_PER","PER",null,null,null,null,null,null,null,null,null,null,null,null,"464-07-3",165,"指1原11","2B14","３・３－ジメチルブタン－２－オール","3,3-Dimethyl-2-butanol"]
[null,null,null,null,null,null,null,null,null,null,null,null,null,null,null,null,null,null,null,null,null,null,null,null,null,null,null,null,null,null,null,null,null,null,null,null,null,null,null,"ベルギー_BEL","BEL",null,null,null,null,null,null,null,null,null,null,null,null,"4672-38-2",166,"指1原01","2B04","プロピルホスホン酸","Propylphosphonic acid"]
[null,null,null,null,null,null,null,null,null,null,null,null,null,null,null,null,null,null,null,null,null,null,null,null,null,null,null,null,null,null,null,null,null,null,null,null,null,null,null,"ポーランド_POL","POL",null,null,null,null,null,null,null,null,null,null,null,null,"4708-04-7",167,"指1原01","2B04","プロピルホスホン酸＝ジクロリド","Propylphosphonic dichloride"]
[null,null,null,null,null,null,null,null,null,null,null,null,null,null,null,null,null,null,null,null,null,null,null,null,null,null,null,null,null,null,null,null,null,null,null,null,null,null,null,"ボスニア・ヘルツェゴビナ_BIH","BIH",null,null,null,null,null,null,null,null,null,null,null,null,"4759-30-2",168,"指1原01","2B04","P-methylphosphonic diamide","P-methylphosphonic diamide"]
[null,null,null,null,null,null,null,null,null,null,null,null,null,null,null,null,null,null,null,null,null,null,null,null,null,null,null,null,null,null,null,null,null,null,null,null,null,null,null,"ボツワナ_BWA","BWA",null,null,null,null,null,null,null,null,null,null,null,null,"51825-84-4",170,"指1原01","2B04","Sodium O-propyl methylphosphonothioate","Sodium O-propyl methylphosphonothioate"]
[null,null,null,null,null,null,null,null,null,null,null,null,null,null,null,null,null,null,null,null,null,null,null,null,null,null,null,null,null,null,null,null,null,null,null,null,null,null,null,"ボリビア_BOL","BOL",null,null,null,null,null,null,null,null,null,null,null,null,"51825-85-5",171,"指1原01","2B04","Sodium O-butyl methylphosphonothioate","Sodium O-butyl methylphosphonothioate"]
[null,null,null,null,null,null,null,null,null,null,null,null,null,null,null,null,null,null,null,null,null,null,null,null,null,null,null,null,null,null,null,null,null,null,null,null,null,null,null,"ポルトガル_PRT","PRT",null,null,null,null,null,null,null,null,null,null,null,null,"5284-09-3",172,"指1原01","2B04","Ethyl methylphosphonochloridoate","Ethyl methylphosphonochloridoate"]
[null,null,null,null,null,null,null,null,null,null,null,null,null,null,null,null,null,null,null,null,null,null,null,null,null,null,null,null,null,null,null,null,null,null,null,null,null,null,null,"ホンジュラス_HND","HND",null,null,null,null,null,null,null,null,null,null,null,null,"53279-98-4",173,"指1原03","2B06","diethyl ethyl(methyl)phosphoramidate","diethyl ethyl(methyl)phosphoramidate"]
[null,null,null,null,null,null,null,null,null,null,null,null,null,null,null,null,null,null,null,null,null,null,null,null,null,null,null,null,null,null,null,null,null,null,null,null,null,null,null,"マーシャル_MHL","MHL",null,null,null,null,null,null,null,null,null,null,null,null,"53621-99-1",174,"指1原01","2B04","Isopropyl propylphosphonate","Isopropyl propylphosphonate"]
[null,null,null,null,null,null,null,null,null,null,null,null,null,null,null,null,null,null,null,null,null,null,null,null,null,null,null,null,null,null,null,null,null,null,null,null,null,null,null,"マダガスカル_MDG","MDG",null,null,null,null,null,null,null,null,null,null,null,null,"54153-16-1",175,"指1原07","2B10","2-chloro-N-ethyl-N-methylethanamine","2-chloro-N-ethyl-N-methylethanamine"]
[null,null,null,null,null,null,null,null,null,null,null,null,null,null,null,null,null,null,null,null,null,null,null,null,null,null,null,null,null,null,null,null,null,null,null,null,null,null,null,"マラウイ_MWI","MWI",null,null,null,null,null,null,null,null,null,null,null,null,"54552-77-1",176,"指1原01","2B04","Dimethyl isopropylphosphonate","Dimethyl isopropylphosphonate"]
[null,null,null,null,null,null,null,null,null,null,null,null,null,null,null,null,null,null,null,null,null,null,null,null,null,null,null,null,null,null,null,null,null,null,null,null,null,null,null,"マリ_MLI","MLI",null,null,null,null,null,null,null,null,null,null,null,null,"57523-33-8",177,"指1原01","2B04","Cyclohexyl ethylphosphonochloridoate","Cyclohexyl ethylphosphonochloridoate"]
[null,null,null,null,null,null,null,null,null,null,null,null,null,null,null,null,null,null,null,null,null,null,null,null,null,null,null,null,null,null,null,null,null,null,null,null,null,null,null,"マルタ_MLT","MLT",null,null,null,null,null,null,null,null,null,null,null,null,"5828-67-1",178,"指1原01","2B04","Bis(1-ethylpropyl) methylphosphonate","Bis(1-ethylpropyl) methylphosphonate"]
[null,null,null,null,null,null,null,null,null,null,null,null,null,null,null,null,null,null,null,null,null,null,null,null,null,null,null,null,null,null,null,null,null,null,null,null,null,null,null,"マレーシア_MYS","MYS",null,null,null,null,null,null,null,null,null,null,null,null,"5842-06-8",179,"指1原09","2B12","2-(Dipropylamino)ethanethiol","2-(Dipropylamino)ethanethiol"]
[null,null,null,null,null,null,null,null,null,null,null,null,null,null,null,null,null,null,null,null,null,null,null,null,null,null,null,null,null,null,null,null,null,null,null,null,null,null,null,"ミクロネシア_FSM","FSM",null,null,null,null,null,null,null,null,null,null,null,null,"5842-07-9",180,"指1原09","2B12","2-(Diisopropylamino)ethanethiol","2-(Diisopropylamino)ethanethiol"]
[null,null,null,null,null,null,null,null,null,null,null,null,null,null,null,null,null,null,null,null,null,null,null,null,null,null,null,null,null,null,null,null,null,null,null,null,null,null,null,"南アフリカ共和国_ZAF","ZAF",null,null,null,null,null,null,null,null,null,null,null,null,"597-07-9",181,"指1原03","2B06","Dimethyl dimethylphosphoramidoate","Dimethyl dimethylphosphoramidoate"]
[null,null,null,null,null,null,null,null,null,null,null,null,null,null,null,null,null,null,null,null,null,null,null,null,null,null,null,null,null,null,null,null,null,null,null,null,null,null,null,"南スーダン_SSD","SSD",null,null,null,null,null,null,null,null,null,null,null,null,"5994-73-0",182,"指1原01","2B04","Methylphosphonothioic O,O-acid","Methylphosphonothioic O,O-acid"]
[null,null,null,null,null,null,null,null,null,null,null,null,null,null,null,null,null,null,null,null,null,null,null,null,null,null,null,null,null,null,null,null,null,null,null,null,null,null,null,"ミャンマー_MMR","MMR",null,null,null,null,null,null,null,null,null,null,null,null,"60556-68-5",183,"指1原01","2B04","Bis(2-ethylhexyl) methylphosphonate","Bis(2-ethylhexyl) methylphosphonate"]
[null,null,null,null,null,null,null,null,null,null,null,null,null,null,null,null,null,null,null,null,null,null,null,null,null,null,null,null,null,null,null,null,null,null,null,null,null,null,null,"メキシコ_MEX","MEX",null,null,null,null,null,null,null,null,null,null,null,null,"6069-09-6",184,"指1原01","2B04","Bis(2-methoxyethyl) methylphosphonate","Bis(2-methoxyethyl) methylphosphonate"]
[null,null,null,null,null,null,null,null,null,null,null,null,null,null,null,null,null,null,null,null,null,null,null,null,null,null,null,null,null,null,null,null,null,null,null,null,null,null,null,"モーリシャス_MUS","MUS",null,null,null,null,null,null,null,null,null,null,null,null,"6156-13-4",185,"指1原01","2B04","Dioctyl ethylphosphonate","Dioctyl ethylphosphonate"]
[null,null,null,null,null,null,null,null,null,null,null,null,null,null,null,null,null,null,null,null,null,null,null,null,null,null,null,null,null,null,null,null,null,null,null,null,null,null,null,"モーリタニア_MRT","MRT",null,null,null,null,null,null,null,null,null,null,null,null,"6163-75-3",186,"指1原01","2B04","ジメチルエチルホスホノチオエート","Dimethyl ethylphosphonate"]
[null,null,null,null,null,null,null,null,null,null,null,null,null,null,null,null,null,null,null,null,null,null,null,null,null,null,null,null,null,null,null,null,null,null,null,null,null,null,null,"モザンビーク_MOZ","MOZ",null,null,null,null,null,null,null,null,null,null,null,null,"616-52-4",187,"指1原01","2B04","ピナコリルメチルホスホネート","Pinacolyl methylphosphonate"]
[null,null,null,null,null,null,null,null,null,null,null,null,null,null,null,null,null,null,null,null,null,null,null,null,null,null,null,null,null,null,null,null,null,null,null,null,null,null,null,"モナコ_MCO","MCO",null,null,null,null,null,null,null,null,null,null,null,null,"6172-80-1",188,"指1原01","2B04","Butyl methylphosphinate","Butyl methylphosphinate"]
[null,null,null,null,null,null,null,null,null,null,null,null,null,null,null,null,null,null,null,null,null,null,null,null,null,null,null,null,null,null,null,null,null,null,null,null,null,null,null,"モルディブ_MDV","MDV",null,null,null,null,null,null,null,null,null,null,null,null,"61820-31-3",189,"指1原01","2B04","Diethyl isopropylphosphonite","Diethyl isopropylphosphonite"]
[null,null,null,null,null,null,null,null,null,null,null,null,null,null,null,null,null,null,null,null,null,null,null,null,null,null,null,null,null,null,null,null,null,null,null,null,null,null,null,"モルドバ_MDA","MDA",null,null,null,null,null,null,null,null,null,null,null,null,"62869-68-5",190,"指1毒03","2A03","(S)-1-Azabicyclo[2.2.2]oct-3-yl hydroxy(diphenyl)acetate","(S)-1-Azabicyclo[2.2.2]oct-3-yl hydroxy(diphenyl)acetate"]
[null,null,null,null,null,null,null,null,null,null,null,null,null,null,null,null,null,null,null,null,null,null,null,null,null,null,null,null,null,null,null,null,null,null,null,null,null,null,null,"モロッコ_MAR","MAR",null,null,null,null,null,null,null,null,null,null,null,null,"62869-69-6",191,"指1毒03","2A03","（Ｒ）－３－キヌクリジニル＝ベンジラート","(R)-3-Quinuclidinyl benzilate"]
[null,null,null,null,null,null,null,null,null,null,null,null,null,null,null,null,null,null,null,null,null,null,null,null,null,null,null,null,null,null,null,null,null,null,null,null,null,null,null,"モンゴル_MNG","MNG",null,null,null,null,null,null,null,null,null,null,null,null,"63051-68-3",192,"指1原08","2B11","2-(diisopropylamino)ethanol hydrochloride","2-(diisopropylamino)ethanol hydrochloride"]
[null,null,null,null,null,null,null,null,null,null,null,null,null,null,null,null,null,null,null,null,null,null,null,null,null,null,null,null,null,null,null,null,null,null,null,null,null,null,null,"モンテネグロ_MNE","MNE",null,null,null,null,null,null,null,null,null,null,null,null,"63210-55-9",193,"指1原09","2B12","2-[ethyl(methyl)amino]ethanethiol","2-[ethyl(methyl)amino]ethanethiol"]
[null,null,null,null,null,null,null,null,null,null,null,null,null,null,null,null,null,null,null,null,null,null,null,null,null,null,null,null,null,null,null,null,null,null,null,null,null,null,null,"ヨルダン_JOR","JOR",null,null,null,null,null,null,null,null,null,null,null,null,"650-72-6",194,"指1原02","2B05","diethylphosphoramidic chloride fluoride","diethylphosphoramidic chloride fluoride"]
[null,null,null,null,null,null,null,null,null,null,null,null,null,null,null,null,null,null,null,null,null,null,null,null,null,null,null,null,null,null,null,null,null,null,null,null,null,null,null,"ラオス_LAO","LAO",null,null,null,null,null,null,null,null,null,null,null,null,"65659-19-0",195,"指1原03","2B06","Dimethyl diethylphosphoramidoate","Dimethyl diethylphosphoramidoate"]
[null,null,null,null,null,null,null,null,null,null,null,null,null,null,null,null,null,null,null,null,null,null,null,null,null,null,null,null,null,null,null,null,null,null,null,null,null,null,null,"ラトビア_LVA","LVA",null,null,null,null,null,null,null,null,null,null,null,null,"6581-06-2",196,"指1毒03","2A03","３－キヌクリジニル＝ベンジラート","3-Quinuclidinyl benzilate"]
[null,null,null,null,null,null,null,null,null,null,null,null,null,null,null,null,null,null,null,null,null,null,null,null,null,null,null,null,null,null,null,null,null,null,null,null,null,null,null,"リトアニア_LTU","LTU",null,null,null,null,null,null,null,null,null,null,null,null,"663176-00-9",197,"指1原01","2B04","Phosphonic acid, methyl-, polyglycol ester","Phosphonic acid, methyl-, polyglycol ester"]
[null,null,null,null,null,null,null,null,null,null,null,null,null,null,null,null,null,null,null,null,null,null,null,null,null,null,null,null,null,null,null,null,null,null,null,null,null,null,null,"リビア_LBY","LBY",null,null,null,null,null,null,null,null,null,null,null,null,"676-83-5",198,"指1原01","2B04","メチルホスホナスジクロライド","Methylphosphonous dichloride"]
[null,null,null,null,null,null,null,null,null,null,null,null,null,null,null,null,null,null,null,null,null,null,null,null,null,null,null,null,null,null,null,null,null,null,null,null,null,null,null,"リヒテンシュタイン_LIE","LIE",null,null,null,null,null,null,null,null,null,null,null,null,"676-97-1",199,"指1原01","2B04","メチルホスホニルジクロリド","Methylphosphonic dichloride"]
[null,null,null,null,null,null,null,null,null,null,null,null,null,null,null,null,null,null,null,null,null,null,null,null,null,null,null,null,null,null,null,null,null,null,null,null,null,null,null,"リベリア_LBR","LBR",null,null,null,null,null,null,null,null,null,null,null,null,"676-98-2",200,"指1原01","2B04","Methylphosphonothioic dichloride","Methylphosphonothioic dichloride"]
[null,null,null,null,null,null,null,null,null,null,null,null,null,null,null,null,null,null,null,null,null,null,null,null,null,null,null,null,null,null,null,null,null,null,null,null,null,null,null,"ルーマニア_ROU","ROU",null,null,null,null,null,null,null,null,null,null,null,null,"677-43-0",201,"指1原02","2B05","Ｎ，Ｎ－ジアルキルホスホルアミディック＝ジハリド","Dimethylphosphoramidic dichloride"]
[null,null,null,null,null,null,null,null,null,null,null,null,null,null,null,null,null,null,null,null,null,null,null,null,null,null,null,null,null,null,null,null,null,null,null,null,null,null,null,"ルクセンブルク_LUX","LUX",null,null,null,null,null,null,null,null,null,null,null,null,"6779-09-5",202,"指1原01","2B04","エチルホスホン酸","Ethylphosphonic acid"]
[null,null,null,null,null,null,null,null,null,null,null,null,null,null,null,null,null,null,null,null,null,null,null,null,null,null,null,null,null,null,null,null,null,null,null,null,null,null,null,"ルワンダ_RWA","RWA",null,null,null,null,null,null,null,null,null,null,null,null,"67812-17-3",203,"指1原01","2B04","Methyl 3-(trimethoxysilyl)propyl methylphosphonate","Methyl 3-(trimethoxysilyl)propyl methylphosphonate"]
[null,null,null,null,null,null,null,null,null,null,null,null,null,null,null,null,null,null,null,null,null,null,null,null,null,null,null,null,null,null,null,null,null,null,null,null,null,null,null,"レソト_LSO","LSO",null,null,null,null,null,null,null,null,null,null,null,null,"67845-39-0",204,"指1原07","2B10","2-chloro-N,N-diethylethanamine sulfate (1:1)","2-chloro-N,N-diethylethanamine sulfate (1:1)"]
[null,null,null,null,null,null,null,null,null,null,null,null,null,null,null,null,null,null,null,null,null,null,null,null,null,null,null,null,null,null,null,null,null,null,null,null,null,null,null,"レバノン_LBN","LBN",null,null,null,null,null,null,null,null,null,null,null,null,"683-08-9",205,"指1原01","2B04","ジエチルメチルホスホネート","Diethyl methylphosphonate"]
[null,null,null,null,null,null,null,null,null,null,null,null,null,null,null,null,null,null,null,null,null,null,null,null,null,null,null,null,null,null,null,null,null,null,null,null,null,null,null,"ロシア_RUS","RUS",null,null,null,null,null,null,null,null,null,null,null,null,"683-32-9",206,"指1原01","2B04","Butyl methyl methylphosphonate","Butyl methyl methylphosphonate"]
[null,null,null,null,null,null,null,null,null,null,null,null,null,null,null,null,null,null,null,null,null,null,null,null,null,null,null,null,null,null,null,null,null,null,null,null,null,null,null,null,null,null,null,null,null,null,null,null,null,null,null,null,null,"68391-41-3",207,"指1原07","2B10","2-chloro-N,N-diethylethanamine sulfate (2:1)","2-chloro-N,N-diethylethanamine sulfate (2:1)"]
[null,null,null,null,null,null,null,null,null,null,null,null,null,null,null,null,null,null,null,null,null,null,null,null,null,null,null,null,null,null,null,null,null,null,null,null,null,null,null,null,null,null,null,null,null,null,null,null,null,null,null,null,null,"688299-03-8",208,"指1原07","2B10","N-(2-chloroethyl)-N-(isopropyl)propan-1-amine","N-(2-chloroethyl)-N-(isopropyl)propan-1-amine"]
[null,null,null,null,null,null,null,null,null,null,null,null,null,null,null,null,null,null,null,null,null,null,null,null,null,null,null,null,null,null,null,null,null,null,null,null,null,null,null,null,null,null,null,null,null,null,null,null,null,null,null,null,null,"68957-94-8",209,"指1原01","2B04","２，４，６－トリプロピル－１，３，５，２，４，６－トリオキサトリホスホリナン＝２，４，６－トリオキシド","2,4,6-Tripropyl-1,3,5,2,4,6-trioxatriphosphinane 2,4,6-trioxide"]
[null,null,null,null,null,null,null,null,null,null,null,null,null,null,null,null,null,null,null,null,null,null,null,null,null,null,null,null,null,null,null,null,null,null,null,null,null,null,null,null,null,null,null,null,null,null,null,null,null,null,null,null,null,"6996-81-2",210,"指1原01","2B04","Ｏ，Ｏ－ジエチルメチルホスホノチオネート","O,O-Diethyl methylphosphonothionate"]
[null,null,null,null,null,null,null,null,null,null,null,null,null,null,null,null,null,null,null,null,null,null,null,null,null,null,null,null,null,null,null,null,null,null,null,null,null,null,null,null,null,null,null,null,null,null,null,null,null,null,null,null,null,"70055-71-9",211,"指1原01","2B04","N,N,N-trimethyl-3-[(1-oxo-9-octadecenyl)amino]methyl methylphosphonate propan-1-aminium","N,N,N-trimethyl-3-[(1-oxo-9-octadecenyl)amino]methyl methylphosphonate propan-1-aminium"]
[null,null,null,null,null,null,null,null,null,null,null,null,null,null,null,null,null,null,null,null,null,null,null,null,null,null,null,null,null,null,null,null,null,null,null,null,null,null,null,null,null,null,null,null,null,null,null,null,null,null,null,null,null,"7040-52-0",212,"指1原01","2B04","Cyclohexyl methyl methylphosphonate","Cyclohexyl methyl methylphosphonate"]
[null,null,null,null,null,null,null,null,null,null,null,null,null,null,null,null,null,null,null,null,null,null,null,null,null,null,null,null,null,null,null,null,null,null,null,null,null,null,null,null,null,null,null,null,null,null,null,null,null,null,null,null,null,"7040-53-1",213,"指1原01","2B04","Dicyclohexyl methylphosphonate","Dicyclohexyl methylphosphonate"]
[null,null,null,null,null,null,null,null,null,null,null,null,null,null,null,null,null,null,null,null,null,null,null,null,null,null,null,null,null,null,null,null,null,null,null,null,null,null,null,null,null,null,null,null,null,null,null,null,null,null,null,null,null,"7040-58-6",214,"指1原01","2B04","Bis(1,2,2-trimethylpropyl) methylphosphonate","Bis(1,2,2-trimethylpropyl) methylphosphonate"]
[null,null,null,null,null,null,null,null,null,null,null,null,null,null,null,null,null,null,null,null,null,null,null,null,null,null,null,null,null,null,null,null,null,null,null,null,null,null,null,null,null,null,null,null,null,null,null,null,null,null,null,null,null,"7040-59-7",215,"指1原01","2B04","Methyl 1,2,2-trimethylpropyl methylphosphonate","Methyl 1,2,2-trimethylpropyl methylphosphonate"]
[null,null,null,null,null,null,null,null,null,null,null,null,null,null,null,null,null,null,null,null,null,null,null,null,null,null,null,null,null,null,null,null,null,null,null,null,null,null,null,null,null,null,null,null,null,null,null,null,null,null,null,null,null,"7040-92-8",216,"指1原01","2B04","Cyclohexyl methylphosphonochloridoate","Cyclohexyl methylphosphonochloridoate"]
[null,null,null,null,null,null,null,null,null,null,null,null,null,null,null,null,null,null,null,null,null,null,null,null,null,null,null,null,null,null,null,null,null,null,null,null,null,null,null,null,null,null,null,null,null,null,null,null,null,null,null,null,null,"70715-06-9",217,"指1原01","2B04","Polymer from the mixture of Dimethyl methylphosphonate, Oxirane and Phosphorus oxide(P2O5)","Polymer from the mixture of Dimethyl methylphosphonate, Oxirane and Phosphorus oxide(P2O5)"]
[null,null,null,null,null,null,null,null,null,null,null,null,null,null,null,null,null,null,null,null,null,null,null,null,null,null,null,null,null,null,null,null,null,null,null,null,null,null,null,null,null,null,null,null,null,null,null,null,null,null,null,null,null,"71760-04-8",218,"指1原01","2B04","ジプロピルジホスホン酸","Dipropyldiphosphonic acid"]
[null,null,null,null,null,null,null,null,null,null,null,null,null,null,null,null,null,null,null,null,null,null,null,null,null,null,null,null,null,null,null,null,null,null,null,null,null,null,null,null,null,null,null,null,null,null,null,null,null,null,null,null,null,"71877-78-6",219,"指1原03","2B06","ethyl methyl (S)-dimethylphosphoramidate","ethyl methyl (S)-dimethylphosphoramidate"]
[null,null,null,null,null,null,null,null,null,null,null,null,null,null,null,null,null,null,null,null,null,null,null,null,null,null,null,null,null,null,null,null,null,null,null,null,null,null,null,null,null,null,null,null,null,null,null,null,null,null,null,null,null,"71877-79-7",220,"指1原03","2B06","ethyl methyl (R)-dimethylphosphoramidate","ethyl methyl (R)-dimethylphosphoramidate"]
[null,null,null,null,null,null,null,null,null,null,null,null,null,null,null,null,null,null,null,null,null,null,null,null,null,null,null,null,null,null,null,null,null,null,null,null,null,null,null,null,null,null,null,null,null,null,null,null,null,null,null,null,null,"7305-61-5",221,"指1原01","2B04","Ethyl ethylphosphonate","Ethyl ethylphosphonate"]
[null,null,null,null,null,null,null,null,null,null,null,null,null,null,null,null,null,null,null,null,null,null,null,null,null,null,null,null,null,null,null,null,null,null,null,null,null,null,null,null,null,null,null,null,null,null,null,null,null,null,null,null,null,"73675-56-6",222,"指1原01","2B04","S-Methyl methylphosphonothioate","S-Methyl methylphosphonothioate"]
[null,null,null,null,null,null,null,null,null,null,null,null,null,null,null,null,null,null,null,null,null,null,null,null,null,null,null,null,null,null,null,null,null,null,null,null,null,null,null,null,null,null,null,null,null,null,null,null,null,null,null,null,null,"73790-51-9",223,"指1原01","2B04","Ethyl S-dicyclohexylammonium methylphosphonothiolate","Ethyl S-dicyclohexylammonium methylphosphonothiolate"]
[null,null,null,null,null,null,null,null,null,null,null,null,null,null,null,null,null,null,null,null,null,null,null,null,null,null,null,null,null,null,null,null,null,null,null,null,null,null,null,null,null,null,null,null,null,null,null,null,null,null,null,null,null,"741700-63-0",224,"指1原01","2B04","Methyl propyl isopropylphosphonate","Methyl propyl isopropylphosphonate"]
[null,null,null,null,null,null,null,null,null,null,null,null,null,null,null,null,null,null,null,null,null,null,null,null,null,null,null,null,null,null,null,null,null,null,null,null,null,null,null,null,null,null,null,null,null,null,null,null,null,null,null,null,null,"741700-67-4",225,"指1原01","2B04","Propyl isopropylphosphonate","Propyl isopropylphosphonate"]
[null,null,null,null,null,null,null,null,null,null,null,null,null,null,null,null,null,null,null,null,null,null,null,null,null,null,null,null,null,null,null,null,null,null,null,null,null,null,null,null,null,null,null,null,null,null,null,null,null,null,null,null,null,"74789-31-4",226,"指1原01","2B04","Sodium O-methyl methylphosphonothioate","Sodium O-methyl methylphosphonothioate"]
[null,null,null,null,null,null,null,null,null,null,null,null,null,null,null,null,null,null,null,null,null,null,null,null,null,null,null,null,null,null,null,null,null,null,null,null,null,null,null,null,null,null,null,null,null,null,null,null,null,null,null,null,null,"74789-32-5",227,"指1原01","2B04","Sodium O-isobutyl methylphosphonothioate","Sodium O-isobutyl methylphosphonothioate"]
[null,null,null,null,null,null,null,null,null,null,null,null,null,null,null,null,null,null,null,null,null,null,null,null,null,null,null,null,null,null,null,null,null,null,null,null,null,null,null,null,null,null,null,null,null,null,null,null,null,null,null,null,null,"7526-26-3",229,"指1原01","2B04","ジフェニルメチルホスホネート","Diphenyl methylphosphonate"]
[null,null,null,null,null,null,null,null,null,null,null,null,null,null,null,null,null,null,null,null,null,null,null,null,null,null,null,null,null,null,null,null,null,null,null,null,null,null,null,null,null,null,null,null,null,null,null,null,null,null,null,null,null,"756-79-6",231,"指1原01","2B04","ジメチル＝メチルホスホナート","Dimethyl methylphosphonate"]
[null,null,null,null,null,null,null,null,null,null,null,null,null,null,null,null,null,null,null,null,null,null,null,null,null,null,null,null,null,null,null,null,null,null,null,null,null,null,null,null,null,null,null,null,null,null,null,null,null,null,null,null,null,"757-95-9",232,"指1原01","2B04","メチルホスホン酸、ビス（2,2,2－トリフロロエチル）","Bis(2,2,2-trifluoroethyl) methylphosphonate"]
[null,null,null,null,null,null,null,null,null,null,null,null,null,null,null,null,null,null,null,null,null,null,null,null,null,null,null,null,null,null,null,null,null,null,null,null,null,null,null,null,null,null,null,null,null,null,null,null,null,null,null,null,null,"758-71-4",233,"指1原02","2B05","diethylphosphoramidic bromide fluoride","diethylphosphoramidic bromide fluoride"]
[null,null,null,null,null,null,null,null,null,null,null,null,null,null,null,null,null,null,null,null,null,null,null,null,null,null,null,null,null,null,null,null,null,null,null,null,null,null,null,null,null,null,null,null,null,null,null,null,null,null,null,null,null,"76341-63-4",236,"指1原01","2B04","Bis(1-methylheptyl) methylphosphonate","Bis(1-methylheptyl) methylphosphonate"]
[null,null,null,null,null,null,null,null,null,null,null,null,null,null,null,null,null,null,null,null,null,null,null,null,null,null,null,null,null,null,null,null,null,null,null,null,null,null,null,null,null,null,null,null,null,null,null,null,null,null,null,null,null,"763884-48-6",237,"指1原07","2B10","N-(2-chloroethyl)-N-methylpropan-1-amine","N-(2-chloroethyl)-N-methylpropan-1-amine"]
[null,null,null,null,null,null,null,null,null,null,null,null,null,null,null,null,null,null,null,null,null,null,null,null,null,null,null,null,null,null,null,null,null,null,null,null,null,null,null,null,null,null,null,null,null,null,null,null,null,null,null,null,null,"76-93-7",238,"指1原05","2B08","２，２－ジフェニル－２－ヒドロキシ酢酸","2,2-Diphenyl-2-hydroxyacetic acid"]
[null,null,null,null,null,null,null,null,null,null,null,null,null,null,null,null,null,null,null,null,null,null,null,null,null,null,null,null,null,null,null,null,null,null,null,null,null,null,null,null,null,null,null,null,null,null,null,null,null,null,null,null,null,"77304-63-3",241,"指1原01","2B04","Dihexyl methylphosphonate","Dihexyl methylphosphonate"]
[null,null,null,null,null,null,null,null,null,null,null,null,null,null,null,null,null,null,null,null,null,null,null,null,null,null,null,null,null,null,null,null,null,null,null,null,null,null,null,null,null,null,null,null,null,null,null,null,null,null,null,null,null,"77304-64-4",242,"指1原01","2B04","Diheptyl methylphosphonate","Diheptyl methylphosphonate"]
[null,null,null,null,null,null,null,null,null,null,null,null,null,null,null,null,null,null,null,null,null,null,null,null,null,null,null,null,null,null,null,null,null,null,null,null,null,null,null,null,null,null,null,null,null,null,null,null,null,null,null,null,null,"777943-34-7",243,"指1原02","2B05","Ethylmethylphosphoramidic dichloride","Ethylmethylphosphoramidic dichloride"]
[null,null,null,null,null,null,null,null,null,null,null,null,null,null,null,null,null,null,null,null,null,null,null,null,null,null,null,null,null,null,null,null,null,null,null,null,null,null,null,null,null,null,null,null,null,null,null,null,null,null,null,null,null,"777943-35-8",244,"指1原02","2B05","Methylpropylphosphoramidic dichloride","Methylpropylphosphoramidic dichloride"]
[null,null,null,null,null,null,null,null,null,null,null,null,null,null,null,null,null,null,null,null,null,null,null,null,null,null,null,null,null,null,null,null,null,null,null,null,null,null,null,null,null,null,null,null,null,null,null,null,null,null,null,null,null,"777943-36-9",245,"指1原02","2B05","Isopropylmethylphosphoramidic dichloride","Isopropylmethylphosphoramidic dichloride"]
[null,null,null,null,null,null,null,null,null,null,null,null,null,null,null,null,null,null,null,null,null,null,null,null,null,null,null,null,null,null,null,null,null,null,null,null,null,null,null,null,null,null,null,null,null,null,null,null,null,null,null,null,null,"777943-37-0",246,"指1原02","2B05","Ethylisopropylphosphoramidic dichloride","Ethylisopropylphosphoramidic dichloride"]
[null,null,null,null,null,null,null,null,null,null,null,null,null,null,null,null,null,null,null,null,null,null,null,null,null,null,null,null,null,null,null,null,null,null,null,null,null,null,null,null,null,null,null,null,null,null,null,null,null,null,null,null,null,"777943-38-1",247,"指1原02","2B05","Ethylpropylphosphoramidic dichloride","Ethylpropylphosphoramidic dichloride"]
[null,null,null,null,null,null,null,null,null,null,null,null,null,null,null,null,null,null,null,null,null,null,null,null,null,null,null,null,null,null,null,null,null,null,null,null,null,null,null,null,null,null,null,null,null,null,null,null,null,null,null,null,null,"7784-34-1",248,"指1原04","2B07","三塩化砒素","Arsenic trichloride"]
[null,null,null,null,null,null,null,null,null,null,null,null,null,null,null,null,null,null,null,null,null,null,null,null,null,null,null,null,null,null,null,null,null,null,null,null,null,null,null,null,null,null,null,null,null,null,null,null,null,null,null,null,null,"781566-65-2",249,"指1原01","2B04","Octyl propylphosphonate","Octyl propylphosphonate"]
[null,null,null,null,null,null,null,null,null,null,null,null,null,null,null,null,null,null,null,null,null,null,null,null,null,null,null,null,null,null,null,null,null,null,null,null,null,null,null,null,null,null,null,null,null,null,null,null,null,null,null,null,null,"78-38-6",250,"指1原01","2B04","エチルホスホン酸ジエチルエステル","Diethyl ethylphosphonate"]
[null,null,null,null,null,null,null,null,null,null,null,null,null,null,null,null,null,null,null,null,null,null,null,null,null,null,null,null,null,null,null,null,null,null,null,null,null,null,null,null,null,null,null,null,null,null,null,null,null,null,null,null,null,"78-53-5",251,"指1毒01","2A01","O・O'―ジエチル=S-[2-（ジエチルアミノ）エチル］ホスホロチオラート","O,O-Diethyl S-2-diethylaminoethyl phosphorothiolate"]
[null,null,null,null,null,null,null,null,null,null,null,null,null,null,null,null,null,null,null,null,null,null,null,null,null,null,null,null,null,null,null,null,null,null,null,null,null,null,null,null,null,null,null,null,null,null,null,null,null,null,null,null,null,"81397-56-0",252,"指1原01","2B04","Dipinacolyl dimethyldiphosphonate","Dipinacolyl dimethyldiphosphonate"]
[null,null,null,null,null,null,null,null,null,null,null,null,null,null,null,null,null,null,null,null,null,null,null,null,null,null,null,null,null,null,null,null,null,null,null,null,null,null,null,null,null,null,null,null,null,null,null,null,null,null,null,null,null,"83218-22-8",253,"指1原01","2B04","Dioctyl isopropylphosphonate","Dioctyl isopropylphosphonate"]
[null,null,null,null,null,null,null,null,null,null,null,null,null,null,null,null,null,null,null,null,null,null,null,null,null,null,null,null,null,null,null,null,null,null,null,null,null,null,null,null,null,null,null,null,null,null,null,null,null,null,null,null,null,"84402-58-4",254,"指1原01","2B04","メチルホスホン酸とアミノイミノメチル尿素の化合物(塩)","diaminomethylideneurea;methylphosphonic acid"]
[null,null,null,null,null,null,null,null,null,null,null,null,null,null,null,null,null,null,null,null,null,null,null,null,null,null,null,null,null,null,null,null,null,null,null,null,null,null,null,null,null,null,null,null,null,null,null,null,null,null,null,null,null,"848216-15-9",255,"指1原03","2B06","Ethyl methyl dipropan-2-ylphosphoramidoate","Ethyl methyl dipropan-2-ylphosphoramidoate"]
[null,null,null,null,null,null,null,null,null,null,null,null,null,null,null,null,null,null,null,null,null,null,null,null,null,null,null,null,null,null,null,null,null,null,null,null,null,null,null,null,null,null,null,null,null,null,null,null,null,null,null,null,null,"84962-98-1",256,"指1原01","2B04","ホスホン酸メチル-モノ[3-(トリヒドロキシシリル）プロピル]エステルモノナトリウム塩","Sodium 3-(trihydroxysilyl)propyl methylphosphonate"]
[null,null,null,null,null,null,null,null,null,null,null,null,null,null,null,null,null,null,null,null,null,null,null,null,null,null,null,null,null,null,null,null,null,null,null,null,null,null,null,null,null,null,null,null,null,null,null,null,null,null,null,null,null,"869-24-9",258,"指1原07","2B10","Ｎ，Ｎ－ジエチルアミノエチル－２－クロリド塩酸塩","2-(N,N-Diethylamino)ethylchloride hydrochloride"]
[null,null,null,null,null,null,null,null,null,null,null,null,null,null,null,null,null,null,null,null,null,null,null,null,null,null,null,null,null,null,null,null,null,null,null,null,null,null,null,null,null,null,null,null,null,null,null,null,null,null,null,null,null,"89034-24-2",259,"指1原01","2B04","Ethyl methylphosphonite","Ethyl methylphosphonite"]
[null,null,null,null,null,null,null,null,null,null,null,null,null,null,null,null,null,null,null,null,null,null,null,null,null,null,null,null,null,null,null,null,null,null,null,null,null,null,null,null,null,null,null,null,null,null,null,null,null,null,null,null,null,"89893-77-6",260,"指1原03","2B06","ethyl methyl diethylphosphoramidate","ethyl methyl diethylphosphoramidate"]
[null,null,null,null,null,null,null,null,null,null,null,null,null,null,null,null,null,null,null,null,null,null,null,null,null,null,null,null,null,null,null,null,null,null,null,null,null,null,null,null,null,null,null,null,null,null,null,null,null,null,null,null,null,"90550-49-5",261,"指1原01","2B04","Propyl 1,2,2-trimethylpropyl methylphosphonate","Propyl 1,2,2-trimethylpropyl methylphosphonate"]
[null,null,null,null,null,null,null,null,null,null,null,null,null,null,null,null,null,null,null,null,null,null,null,null,null,null,null,null,null,null,null,null,null,null,null,null,null,null,null,null,null,null,null,null,null,null,null,null,null,null,null,null,null,"906801-34-1",262,"指1原01","2B04","Ethyl methyl ethyl(propan-2-yl)phosphoramidoate","Ethyl methyl ethyl(propan-2-yl)phosphoramidoate"]
[null,null,null,null,null,null,null,null,null,null,null,null,null,null,null,null,null,null,null,null,null,null,null,null,null,null,null,null,null,null,null,null,null,null,null,null,null,null,null,null,null,null,null,null,null,null,null,null,null,null,null,null,null,"91043-34-4",263,"指1原03","2B06","Diethyl dipropylphosphoramidoate","Diethyl dipropylphosphoramidoate"]
[null,null,null,null,null,null,null,null,null,null,null,null,null,null,null,null,null,null,null,null,null,null,null,null,null,null,null,null,null,null,null,null,null,null,null,null,null,null,null,null,null,null,null,null,null,null,null,null,null,null,null,null,null,"91964-75-9",264,"指1原01","2B04","O,O-Dipentyl methylphosphonothioate","O,O-Dipentyl methylphosphonothioate"]
[null,null,null,null,null,null,null,null,null,null,null,null,null,null,null,null,null,null,null,null,null,null,null,null,null,null,null,null,null,null,null,null,null,null,null,null,null,null,null,null,null,null,null,null,null,null,null,null,null,null,null,null,null,"92204-40-5",265,"指1原07","2B10","N-(2-chloroethyl)-N-ethylpropan-2-amine","N-(2-chloroethyl)-N-ethylpropan-2-amine"]
[null,null,null,null,null,null,null,null,null,null,null,null,null,null,null,null,null,null,null,null,null,null,null,null,null,null,null,null,null,null,null,null,null,null,null,null,null,null,null,null,null,null,null,null,null,null,null,null,null,null,null,null,null,"92411-67-1",266,"指1原01","2B04","Isopropyl 1,2,2-trimethylpropyl methylphosphonate","Isopropyl 1,2,2-trimethylpropyl methylphosphonate"]
[null,null,null,null,null,null,null,null,null,null,null,null,null,null,null,null,null,null,null,null,null,null,null,null,null,null,null,null,null,null,null,null,null,null,null,null,null,null,null,null,null,null,null,null,null,null,null,null,null,null,null,null,null,"92475-33-7",267,"指1原01","2B04","Sodium O-isopropyl methylphosphonothioate","Sodium O-isopropyl methylphosphonothioate"]
[null,null,null,null,null,null,null,null,null,null,null,null,null,null,null,null,null,null,null,null,null,null,null,null,null,null,null,null,null,null,null,null,null,null,null,null,null,null,null,null,null,null,null,null,null,null,null,null,null,null,null,null,null,"944146-50-3",268,"指1原01","2B04","1-Methylpentyl methylphosphonate","1-Methylpentyl methylphosphonate"]
[null,null,null,null,null,null,null,null,null,null,null,null,null,null,null,null,null,null,null,null,null,null,null,null,null,null,null,null,null,null,null,null,null,null,null,null,null,null,null,null,null,null,null,null,null,null,null,null,null,null,null,null,null,"944146-51-4",269,"指1原01","2B04","4-Methylpentyl methylphosphonate","4-Methylpentyl methylphosphonate"]
[null,null,null,null,null,null,null,null,null,null,null,null,null,null,null,null,null,null,null,null,null,null,null,null,null,null,null,null,null,null,null,null,null,null,null,null,null,null,null,null,null,null,null,null,null,null,null,null,null,null,null,null,null,"95428-88-9",270,"指1原01","2B04","Dinonyl methylphosphonate","Dinonyl methylphosphonate"]
[null,null,null,null,null,null,null,null,null,null,null,null,null,null,null,null,null,null,null,null,null,null,null,null,null,null,null,null,null,null,null,null,null,null,null,null,null,null,null,null,null,null,null,null,null,null,null,null,null,null,null,null,null,"959028-09-2",271,"指1原01","2B04","Bis(1,3-dimethylbutyl) methylphosphonate","Bis(1,3-dimethylbutyl) methylphosphonate"]
[null,null,null,null,null,null,null,null,null,null,null,null,null,null,null,null,null,null,null,null,null,null,null,null,null,null,null,null,null,null,null,null,null,null,null,null,null,null,null,null,null,null,null,null,null,null,null,null,null,null,null,null,null,"959044-15-6",272,"指1原01","2B04","Dioctyl propylphosphonate","Dioctyl propylphosphonate"]
[null,null,null,null,null,null,null,null,null,null,null,null,null,null,null,null,null,null,null,null,null,null,null,null,null,null,null,null,null,null,null,null,null,null,null,null,null,null,null,null,null,null,null,null,null,null,null,null,null,null,null,null,null,"959259-83-7",273,"指1原01","2B04","Phenyl ethylphosphonofluoridoate","Phenyl ethylphosphonofluoridoate"]
[null,null,null,null,null,null,null,null,null,null,null,null,null,null,null,null,null,null,null,null,null,null,null,null,null,null,null,null,null,null,null,null,null,null,null,null,null,null,null,null,null,null,null,null,null,null,null,null,null,null,null,null,null,"96-79-7",274,"指1原07","2B10","Ｎ，Ｎ－ジイソプロピルアミノエチルクロリド","2-(N,N-Diisopropylamino)ethylchloride"]
[null,null,null,null,null,null,null,null,null,null,null,null,null,null,null,null,null,null,null,null,null,null,null,null,null,null,null,null,null,null,null,null,null,null,null,null,null,null,null,null,null,null,null,null,null,null,null,null,null,null,null,null,null,"96-80-0",275,"指1原08","2B11","Ｎ，Ｎ－ジイソプロピルアミノエタン－２－オール","2-(N,N-Diisopropylamino)ethanol"]
[null,null,null,null,null,null,null,null,null,null,null,null,null,null,null,null,null,null,null,null,null,null,null,null,null,null,null,null,null,null,null,null,null,null,null,null,null,null,null,null,null,null,null,null,null,null,null,null,null,null,null,null,null,"98283-34-2",276,"指1原01","2B04","S-[Butoxy(methyl)phosphoryl]-N,N-dicyclohexylthiohydroxylammonium","S-[Butoxy(methyl)phosphoryl]-N,N-dicyclohexylthiohydroxylammonium"]
[null,null,null,null,null,null,null,null,null,null,null,null,null,null,null,null,null,null,null,null,null,null,null,null,null,null,null,null,null,null,null,null,null,null,null,null,null,null,null,null,null,null,null,null,null,null,null,null,null,null,null,null,null,"98283-35-3",277,"指1原01","2B04","N,N-Dicyclohexyl-S-[isobutoxy(methyl)phosphoryl]thiohydroxylammonium","N,N-Dicyclohexyl-S-[isobutoxy(methyl)phosphoryl]thiohydroxylammonium"]
[null,null,null,null,null,null,null,null,null,null,null,null,null,null,null,null,null,null,null,null,null,null,null,null,null,null,null,null,null,null,null,null,null,null,null,null,null,null,null,null,null,null,null,null,null,null,null,null,null,null,null,null,null,"98543-28-3",278,"指1原03","2B06","Dipropyl dimethylphosphoramidoate","Dipropyl dimethylphosphoramidoate"]
[null,null,null,null,null,null,null,null,null,null,null,null,null,null,null,null,null,null,null,null,null,null,null,null,null,null,null,null,null,null,null,null,null,null,null,null,null,null,null,null,null,null,null,null,null,null,null,null,null,null,null,null,null,"993-13-5",279,"指1原01","2B04","メチルホスホン酸","Methylphosphonic acid"]
[null,null,null,null,null,null,null,null,null,null,null,null,null,null,null,null,null,null,null,null,null,null,null,null,null,null,null,null,null,null,null,null,null,null,null,null,null,null,null,null,null,null,null,null,null,null,null,null,null,null,null,null,null,"993-43-1",280,"指1原01","2B04","Ｐ－エチルチオホスホン酸ジクロリド","Ethylphosphonothioic dichloride"]
[null,null,null,null,null,null,null,null,null,null,null,null,null,null,null,null,null,null,null,null,null,null,null,null,null,null,null,null,null,null,null,null,null,null,null,null,null,null,null,null,null,null,null,null,null,null,null,null,null,null,null,null,null,"99520-56-6",281,"指1原03","2B06","ethyl isopropyl dimethylphosphoramidate","ethyl isopropyl dimethylphosphoramidate"]
[null,null,null,null,null,null,null,null,null,null,null,null,null,null,null,null,null,null,null,null,null,null,null,null,null,null,null,null,null,null,null,null,null,null,null,null,null,null,null,null,null,null,null,null,null,null,null,null,null,null,null,null,null,"99580-93-5",282,"指1原01","2B04","Product from the reaction of methylphosphonic acid and 1,2-ethanediamine","Product from the reaction of methylphosphonic acid and 1,2-ethanediamine"]
[null,null,null,null,null,null,null,null,null,null,null,null,null,null,null,null,null,null,null,null,null,null,null,null,null,null,null,null,null,null,null,null,null,null,null,null,null,null,null,null,null,null,null,null,null,null,null,null,null,null,null,null,null,"995-88-0",283,"指1原01","2B04","S,S-Diethyl methylphosphonodithioate","S,S-Diethyl methylphosphonodithioate"]

{"sheet":"【自動入力】様式第17","index":6,"n_rows":300,"n_cols":42,"rows_kept":300,"cut":false,"hidden":false,"merged":[[293,19,293,41],[292,13,293,18],[143,1,143,12],[143,19,143,41],[142,13,143,18],[173,1,173,12],[173,19,173,41],[172,13,173,18],[203,1,203,12],[203,19,203,41],[202,13,203,18],[177,22,177,25],[177,26,177,29],[177,30,177,33],[177,34,177,37],[177,38,177,41],[189,13,191,22],[189,24,189,39],[191,24,191,39],[193,13,193,22],[193,24,193,39],[185,0,185,20],[185,32,185,41],[188,1,188,26],[53,1,53,12],[53,19,53,41],[52,13,53,18],[82,13,83,18],[82,19,82,41],[83,19,83,41],[83,1,83,12],[113,1,113,12],[113,19,113,41],[112,13,113,18],[51,1,52,12],[51,13,51,18],[51,19,51,41],[52,19,52,41],[57,19,57,21],[54,1,54,18],[54,19,54,21],[54,22,54,30],[54,31,54,33],[54,34,54,41],[55,1,57,18],[55,19,56,21],[55,22,55,25],[55,26,55,29],[295,30,295,33],[295,34,295,37],[295,38,295,41],[219,13,221,22],[219,24,219,39],[221,24,221,39],[209,5,209,41],[212,1,212,41],[215,0,215,20],[215,32,215,41],[218,1,218,26],[221,41,221,42],[286,1,286,41],[287,1,287,18],[287,19,287,41],[288,1,288,18],[288,19,288,41],[289,1,290,18],[289,19,289,41],[290,19,290,41],[283,13,283,22],[283,24,283,39],[269,5,269,41],[293,1,293,12],[191,41,191,42],[182,1,182,41],[175,22,175,25],[175,26,175,29],[175,30,175,33],[175,34,175,37],[175,38,175,41],[176,22,176,25],[176,26,176,29],[176,30,176,33],[176,34,176,37],[176,38,176,41],[159,13,161,22],[159,24,159,39],[161,24,161,39],[149,5,149,41],[152,1,152,41],[155,0,155,20],[155,32,155,41],[158,1,158,26],[161,41,161,42],[299,5,299,41],[69,13,71,22],[69,24,69,39],[71,24,71,39],[73,13,73,22],[73,24,73,39],[85,22,85,25],[85,26,85,29],[85,30,85,33],[85,34,85,37],[85,38,85,41],[86,22,86,25],[86,26,86,29],[86,30,86,33],[86,34,86,37],[86,38,86,41],[87,22,87,25],[87,26,87,29],[87,30,87,33],[87,34,87,37],[87,38,87,41],[99,13,101,22],[99,24,99,39],[101,24,101,39],[296,22,296,25],[296,26,296,29],[296,30,296,33],[296,34,296,37],[296,38,296,41],[297,22,297,25],[297,26,297,29],[291,1,292,12],[291,13,291,18],[291,19,291,41],[292,19,292,41],[294,1,294,18],[294,19,294,21],[294,22,294,30],[294,31,294,33],[294,34,294,41],[297,30,297,33],[297,34,297,37],[297,38,297,41],[295,1,297,18],[295,19,296,21],[297,19,297,21],[295,22,295,25],[295,26,295,29],[272,1,272,41],[275,0,275,20],[275,32,275,41],[278,1,278,26],[281,41,281,42],[279,13,281,22],[279,24,279,39],[281,24,281,39],[265,1,267,18],[265,19,266,21],[267,19,267,21],[266,22,266,25],[266,26,266,29],[266,30,266,33],[266,34,266,37],[266,38,266,41],[267,22,267,25],[267,26,267,29],[267,30,267,33],[267,34,267,37],[267,38,267,41],[265,22,265,25],[265,26,265,29],[265,30,265,33],[265,34,265,37],[265,38,265,41],[261,1,262,12],[261,13,261,18],[261,19,261,41],[262,19,262,41],[264,1,264,18],[264,19,264,21],[264,22,264,30],[264,31,264,33],[264,34,264,41],[263,1,263,12],[263,19,263,41],[262,13,263,18],[256,1,256,41],[257,1,257,18],[257,19,257,41],[258,1,258,18],[258,19,258,41],[259,1,260,18],[259,19,259,41],[260,19,260,41],[239,5,239,41],[242,1,242,41],[245,0,245,20],[245,32,245,41],[248,1,248,26],[251,41,251,42],[249,13,251,22],[249,24,249,39],[251,24,251,39],[253,13,253,22],[253,24,253,39],[235,1,237,18],[235,19,236,21],[237,19,237,21],[235,22,235,25],[235,26,235,29],[235,30,235,33],[235,34,235,37],[235,38,235,41],[236,22,236,25],[236,26,236,29],[236,30,236,33],[236,34,236,37],[236,38,236,41],[237,22,237,25],[237,26,237,29],[237,30,237,33],[237,34,237,37],[237,38,237,41],[231,1,232,12],[231,13,231,18],[231,19,231,41],[232,19,232,41],[234,1,234,18],[234,19,234,21],[234,22,234,30],[234,31,234,33],[234,34,234,41],[233,1,233,12],[233,19,233,41],[232,13,233,18],[226,1,226,41],[227,1,227,18],[227,19,227,41],[228,1,228,18],[228,19,228,41],[229,1,230,18],[229,19,229,41],[230,19,230,41],[223,13,223,22],[223,24,223,39],[204,1,204,18],[204,19,204,21],[204,22,204,30],[204,31,204,33],[204,34,204,41],[205,1,207,18],[205,19,206,21],[207,19,207,21],[205,22,205,25],[205,26,205,29],[205,30,205,33],[205,34,205,37],[205,38,205,41],[206,22,206,25],[206,26,206,29],[206,30,206,33],[206,34,206,37],[206,38,206,41],[207,22,207,25],[207,26,207,29],[207,30,207,33],[207,34,207,37],[207,38,207,41],[196,1,196,41],[197,1,197,18],[197,19,197,41],[198,1,198,18],[198,19,198,41],[199,1,200,18],[199,19,199,41],[200,19,200,41],[201,1,202,12],[201,13,201,18],[201,19,201,41],[202,19,202,41],[146,30,146,33],[146,34,146,37],[146,38,146,41],[147,22,147,25],[147,26,147,29],[147,30,147,33],[147,34,147,37],[147,38,147,41],[141,19,141,41],[2,1,2,41],[5,0,5,20],[5,32,5,41],[8,1,8,26],[9,24,9,39],[11,24,11,39],[11,41,11,42],[39,13,41,22],[39,24,39,39],[41,24,41,39],[19,1,20,18],[19,19,19,41],[20,19,20,41],[21,13,21,18],[21,19,21,41],[23,19,23,41],[13,24,13,39],[16,1,16,41],[17,1,17,18],[17,19,17,41],[18,1,18,18],[18,19,18,41],[24,1,24,18],[24,19,24,21],[24,22,24,30],[24,31,24,33],[24,34,24,41],[25,1,27,18],[25,19,26,21],[25,22,25,25],[25,26,25,29],[25,30,25,33],[27,19,27,21],[27,22,27,25],[27,26,27,29],[27,30,27,33],[27,34,27,37],[27,38,27,41],[25,34,25,37],[25,38,25,41],[26,22,26,25],[26,26,26,29],[26,30,26,33],[26,34,26,37],[26,38,26,41],[29,5,29,41],[32,1,32,41],[35,0,35,20],[35,32,35,41],[38,1,38,26],[41,41,41,42],[49,1,50,18],[49,19,49,41],[50,19,50,41],[43,13,43,22],[43,24,43,39],[46,1,46,41],[47,1,47,18],[47,19,47,41],[48,1,48,18],[48,19,48,41],[55,30,55,33],[55,34,55,37],[55,38,55,41],[56,22,56,25],[56,26,56,29],[56,30,56,33],[56,34,56,37],[56,38,56,41],[57,22,57,25],[57,26,57,29],[57,30,57,33],[57,34,57,37],[57,38,57,41],[59,5,59,41],[62,1,62,41],[65,0,65,20],[65,32,65,41],[68,1,68,26],[71,41,71,42],[79,1,80,18],[79,19,79,41],[80,19,80,41],[81,1,82,12],[81,13,81,18],[81,19,81,41],[76,1,76,41],[77,1,77,18],[77,19,77,41],[78,1,78,18],[78,19,78,41],[87,19,87,21],[84,1,84,18],[84,19,84,21],[84,22,84,30],[84,31,84,33],[84,34,84,41],[85,1,87,18],[85,19,86,21],[89,5,89,41],[92,1,92,41],[95,0,95,20],[95,32,95,41],[98,1,98,26],[101,41,101,42],[109,1,110,18],[109,19,109,41],[110,19,110,41],[103,13,103,22],[103,24,103,39],[111,1,112,12],[111,13,111,18],[111,19,111,41],[112,19,112,41],[106,1,106,41],[107,1,107,18],[107,19,107,41],[108,1,108,18],[108,19,108,41],[117,19,117,21],[114,1,114,18],[114,19,114,21],[114,22,114,30],[114,31,114,33],[114,34,114,41],[115,1,117,18],[115,19,116,21],[117,34,117,37],[117,38,117,41],[117,22,117,25],[117,26,117,29],[117,30,117,33],[115,22,115,25],[115,26,115,29],[115,30,115,33],[115,34,115,37],[115,38,115,41],[116,22,116,25],[116,26,116,29],[116,30,116,33],[116,34,116,37],[116,38,116,41],[119,5,119,41],[122,1,122,41],[125,0,125,20],[125,32,125,41],[128,1,128,26],[131,41,131,42],[129,13,131,22],[129,24,129,39],[131,24,131,39],[140,19,140,41],[141,1,142,12],[141,13,141,18],[142,19,142,41],[136,1,136,41],[137,1,137,18],[137,19,137,41],[138,1,138,18],[138,19,138,41],[166,1,166,41],[167,1,167,18],[167,19,167,41],[168,1,168,18],[168,19,168,41],[133,13,133,22],[133,24,133,39],[147,19,147,21],[144,1,144,18],[144,19,144,21],[144,22,144,30],[144,31,144,33],[144,34,144,41],[145,1,147,18],[145,19,146,21],[145,22,145,25],[145,26,145,29],[145,30,145,33],[145,34,145,37],[145,38,145,41],[146,22,146,25],[146,26,146,29],[139,1,140,18],[139,19,139,41],[22,13,23,18],[22,19,22,41],[23,1,23,12],[21,1,22,12],[163,13,163,22],[163,24,163,39],[179,5,179,41],[13,13,13,22],[9,13,11,22],[177,19,177,21],[174,1,174,18],[174,19,174,21],[174,22,174,30],[174,31,174,33],[174,34,174,41],[175,1,177,18],[175,19,176,21],[169,1,170,18],[169,19,169,41],[170,19,170,41],[171,1,172,12],[171,13,171,18],[171,19,171,41],[172,19,172,41]]}
[null,"様式第１７（第１７条、第１８条関係）"]
[]
[null,{"$f":"CONCATENATE(ETL!$D$81, \"実績届出書\")","v":"実績届出書"}]
[]
[]
[null,null,null,null,null,null,null,null,null,null,null,null,null,null,null,null,null,null,null,null,null,null,null,null,null,null,null,null,null,null,null,null,{"$f":"ETL!$G$4","v":{"$error":"#NUM!"}}]
[]
[]
[null,"経済産業大臣殿"]
[null,null,null,null,null,null,null,null,null,null,null,null,null,"氏名または名称及び法人にあっては、その代表者の氏名",null,null,null,null,null,null,null,null,null,null,{"$f":"ETL!$D$7","v":""}]
[]
[null,null,null,null,null,null,null,null,null,null,null,null,null,null,null,null,null,null,null,null,null,null,null,null,{"$f":"ETL!$G$8","v":""},null,null,null,null,null,null,null,null,null,null,null,null,null,null,null,null,"印"]
[]
[null,null,null,null,null,null,null,null,null,null,null,null,null,"住所",null,null,null,null,null,null,null,null,null,null,{"$f":"ETL!$D$11","v":""}]
[]
[]
[null,"　化学兵器の禁止及び特定物質の規制等に関する法律第２５条（第２６条において準用する第２５条）の規定により次のとおり届け出ます。"]
[null,{"$f":"CONCATENATE(ETL!$D$81, \"をした事業所の名称\")","v":"をした事業所の名称"},null,null,null,null,null,null,null,null,null,null,null,null,null,null,null,null,null,{"$f":"ETL!$D$59","v":""}]
[null,{"$f":"CONCATENATE(ETL!$D$81, \"をした事業所の所在地\")","v":"をした事業所の所在地"},null,null,null,null,null,null,null,null,null,null,null,null,null,null,null,null,null,{"$f":"ETL!$G$63","v":""}]
[null,{"$f":"CONCATENATE(ETL!$D$81, \"をした第一種指定物質\")","v":"をした第一種指定物質"},null,null,null,null,null,null,null,null,null,null,null,null,null,null,null,null,null,{"$f":"ETL!$G$86","v":""}]
[null,null,null,null,null,null,null,null,null,null,null,null,null,null,null,null,null,null,null,{"$f":"CONCATENATE(\"(CAS: \", ETL!$G$82, \")\")","v":"(CAS: )"}]
[null,{"$f":"CONCATENATE(ETL!$D$81, \"をした第一種指定物質の数量\")","v":"をした第一種指定物質の数量"},null,null,null,null,null,null,null,null,null,null,null,"区分※",null,null,null,null,null,{"$f":"ETL!$D$87","v":""}]
[null,null,null,null,null,null,null,null,null,null,null,null,null,"数量",null,null,null,null,null,{"$f":"CONCATENATE(ETL!$I$90, \" kg\")","v":"0 kg"},{"$error":"#N/A"},{"$error":"#N/A"},{"$error":"#REF!"},null,null,null,{"$error":"#REF!"},{"$error":"#N/A"},{"$error":"#NAME?"},{"$error":"#N/A"},{"$error":"#N/A"},{"$error":"#N/A"},{"$error":"#N/A"},{"$error":"#N/A"},{"$error":"#NAME?"},null,{"$error":"#N/A"},{"$error":"#N/A"},null,{"$error":"#N/A"},{"$error":"#N/A"},{"$error":"#N/A"}]
[null," （うち直接輸出入したものの数量）",null,null,null,null,null,null,null,null,null,null,null,null,null,null,null,null,null,{"$f":"CONCATENATE(\"（\", IF(OR(ETL!$I$1245 = \"\"), \"\", \" 直接輸出　\" & ETL!$I$1245 & \" kg\"), IF(OR(ETL!$I$1245 = \"\", ETL!$I$1246 = \"\"), \"\", \"　|　\"), IF(OR(ETL!$I$1246 = \"\"), \"\", \" 直接輸入　\" & ETL!$I$1246 & \" kg\"), IF(AND(OR(ETL!$I$1245 = \"\"), OR(ETL!$I$1246 = \"\")), \"　　　　　　　　　　　　　　　　　　　　　　　　　　　　　　　　kg\", \"\"), \" ）\")","v":"（　　　　　　　　　　　　　　　　　　　　　　　　　　　　　　　　kg ）"},{"$error":"#N/A"},{"$error":"#N/A"},{"$error":"#REF!"},null,null,null,{"$error":"#REF!"},{"$error":"#N/A"},{"$error":"#NAME?"},{"$error":"#N/A"},{"$error":"#N/A"},{"$error":"#N/A"},{"$error":"#N/A"},{"$error":"#N/A"},{"$error":"#NAME?"},null,{"$error":"#N/A"},{"$error":"#N/A"},null,{"$error":"#N/A"},{"$error":"#N/A"},{"$error":"#N/A"}]
[null,{"$f":"CONCATENATE(\"事業所内の当該第一種指定物質の\", ETL!$D$81, \"施設の数及び位置\")","v":"事業所内の当該第一種指定物質の施設の数及び位置"},null,null,null,null,null,null,null,null,null,null,null,null,null,null,null,null,null," 数",null,null,{"$f":"ETL!$D$88","v":1},null,null,null,null,null,null,null,null,"位置",null,null,{"$f":"ETL!$D$89","v":"別添資料のとおり"}]
[null,{"$f":"CONCATENATE(\"当該\", ETL!$D$81, \"施設ごとの当該第一種指定物質の\", ETL!$D$81, \"数量及び製造にあってはその製造能力\")","v":"当該施設ごとの当該第一種指定物質の数量及び製造にあってはその製造能力"},null,null,null,null,null,null,null,null,null,null,null,null,null,null,null,null,null,"数量",null,null,{"$f":"IF(ETL!$G$91=\"\", \"\",CONCATENATE(\"(\", ETL!$G$91, \" )\"))","v":""},null,null,null,{"$f":"IF(ETL!$G$94=\"\", \"\",CONCATENATE(\"(\", ETL!$G$94, \" )\"))","v":""},null,null,null,{"$f":"IF(ETL!$G$97=\"\",\"\",CONCATENATE(\"(\",ETL!$G$97,\" )\"))","v":""},null,null,null,{"$f":"IF(ETL!$G$100=\"\", \"\", CONCATENATE(\"(\", ETL!$G$100, \" )\"))","v":""},null,null,null,{"$f":"IF(ETL!$G$103=\"\", \"\", CONCATENATE(\"(\", ETL!$G$103, \" )\"))","v":""}]
[null,null,null,null,null,null,null,null,null,null,null,null,null,null,null,null,null,null,null,null,null,null,{"$f":"CONCATENATE(ETL!$I$92, \" kg\")","v":"0 kg"},null,null,null,{"$f":"IF(ETL!$I$95=\"\", \"\", CONCATENATE(ETL!$I$95, \" kg\"))","v":""},null,null,null,{"$f":"IF(ETL!$I$98=\"\", \"\", CONCATENATE(ETL!$I$98, \" kg\"))","v":""},null,null,null,{"$f":"IF(ETL!$I$101=\"\", \"\", CONCATENATE(ETL!$I$101, \" kg\"))","v":""},null,null,null,{"$f":"IF(ETL!$I$104=\"\", \"\", CONCATENATE(ETL!$I$104, \" kg\"))","v":""}]
[null,null,null,null,null,null,null,null,null,null,null,null,null,null,null,null,null,null,null,"能力",null,null,{"$f":"IF(ETL!$I$93=\"\",\"\",CONCATENATE(ETL!$I$93, \" kg／年\"))","v":"0 kg／年"},null,null,null,{"$f":"IF(ETL!$I$96=\"\", \"\", CONCATENATE(ETL!$I$96, \" kg／年\"))","v":""},null,null,null,{"$f":"IF(ETL!$I$99=\"\", \"\", CONCATENATE(ETL!$I$99, \" kg／年\"))","v":""},null,null,null,{"$f":"IF(ETL!$I$102=\"\", \"\", CONCATENATE(ETL!$I$102, \" kg／年\"))","v":""},null,null,null,{"$f":"IF(ETL!$I$105=\"\", \"\", CONCATENATE(ETL!$I$105, \" kg／年\"))","v":""}]
[null,"備考　１",null,null,null,"用紙の大きさは、日本産業規格Ａ４とすること。"]
[null,"　　　　２",null,null,null,"区分については、製造等にあっては製造、抽出、精製の別を、使用にあっては第１８条第２項第１号及び第２号の別を記載すること。"]
[null,"様式第１７（第１７条、第１８条関係）"]
[]
[null,{"$f":"CONCATENATE(ETL!$D$109, \"実績届出書\")","v":"実績届出書"}]
[]
[]
[null,null,null,null,null,null,null,null,null,null,null,null,null,null,null,null,null,null,null,null,null,null,null,null,null,null,null,null,null,null,null,null,{"$f":"ETL!$G$4","v":{"$error":"#NUM!"}}]
[]
[]
[null,"経済産業大臣殿"]
[null,null,null,null,null,null,null,null,null,null,null,null,null,"氏名または名称及び法人にあっては、その代表者の氏名",null,null,null,null,null,null,null,null,null,null,{"$f":"ETL!$D$7","v":""}]
[]
[null,null,null,null,null,null,null,null,null,null,null,null,null,null,null,null,null,null,null,null,null,null,null,null,{"$f":"ETL!$G$8","v":""},null,null,null,null,null,null,null,null,null,null,null,null,null,null,null,null,"印"]
[]
[null,null,null,null,null,null,null,null,null,null,null,null,null,"住所",null,null,null,null,null,null,null,null,null,null,{"$f":"ETL!$D$11","v":""}]
[]
[]
[null,"　化学兵器の禁止及び特定物質の規制等に関する法律第２５条（第２６条において準用する第２５条）の規定により次のとおり届け出ます。"]
[null,{"$f":"CONCATENATE(ETL!$D$109, \"をした事業所の名称\")","v":"をした事業所の名称"},null,null,null,null,null,null,null,null,null,null,null,null,null,null,null,null,null,{"$f":"ETL!$D$59","v":""}]
[null,{"$f":"CONCATENATE(ETL!$D$109, \"をした事業所の所在地\")","v":"をした事業所の所在地"},null,null,null,null,null,null,null,null,null,null,null,null,null,null,null,null,null,{"$f":"ETL!$G$63","v":""}]
[null,{"$f":"CONCATENATE(ETL!$D$109, \"をした第一種指定物質\")","v":"をした第一種指定物質"},null,null,null,null,null,null,null,null,null,null,null,null,null,null,null,null,null,{"$f":"ETL!$G$114","v":""}]
[null,null,null,null,null,null,null,null,null,null,null,null,null,null,null,null,null,null,null,{"$f":"CONCATENATE(\"(CAS: \", ETL!$G$110, \")\")","v":"(CAS: )"}]
[null,{"$f":"CONCATENATE(ETL!$D$109, \"をした第一種指定物質の数量\")","v":"をした第一種指定物質の数量"},null,null,null,null,null,null,null,null,null,null,null,"区分※",null,null,null,null,null,{"$f":"ETL!$D$115","v":""}]
[null,null,null,null,null,null,null,null,null,null,null,null,null,"数量",null,null,null,null,null,{"$f":"CONCATENATE(ETL!$I$118, \" kg\")","v":"0 kg"},{"$error":"#N/A"},{"$error":"#N/A"},{"$error":"#REF!"},null,null,null,{"$error":"#REF!"},{"$error":"#N/A"},{"$error":"#NAME?"},{"$error":"#N/A"},{"$error":"#N/A"},{"$error":"#N/A"},{"$error":"#N/A"},{"$error":"#N/A"},{"$error":"#NAME?"},null,{"$error":"#N/A"},{"$error":"#N/A"},null,{"$error":"#N/A"},{"$error":"#N/A"},{"$error":"#N/A"}]
[null," （うち直接輸出入したものの数量）",null,null,null,null,null,null,null,null,null,null,null,null,null,null,null,null,null,{"$f":"CONCATENATE(\"（\", IF(OR(ETL!$I$1248 = \"\"), \"\", \" 直接輸出　\" & ETL!$I$1248 & \" kg\"), IF(OR(ETL!$I$1248 = \"\", ETL!$I$1249 = \"\"), \"\", \"　|　\"), IF(OR(ETL!$I$1249 = \"\"), \"\", \" 直接輸入　\" & ETL!$I$1249 & \" kg\"), IF(AND(OR(ETL!$I$1248 = \"\"), OR(ETL!$I$1249 = \"\")), \"　　　　　　　　　　　　　　　　　　　　　　　　　　　　　　　　kg\", \"\"), \" ）\")","v":"（　　　　　　　　　　　　　　　　　　　　　　　　　　　　　　　　kg ）"},{"$error":"#N/A"},{"$error":"#N/A"},{"$error":"#REF!"},null,null,null,{"$error":"#REF!"},{"$error":"#N/A"},{"$error":"#NAME?"},{"$error":"#N/A"},{"$error":"#N/A"},{"$error":"#N/A"},{"$error":"#N/A"},{"$error":"#N/A"},{"$error":"#NAME?"},null,{"$error":"#N/A"},{"$error":"#N/A"},null,{"$error":"#N/A"},{"$error":"#N/A"},{"$error":"#N/A"}]
[null,{"$f":"CONCATENATE(\"事業所内の当該第一種指定物質の\", ETL!$D$109, \"施設の数及び位置\")","v":"事業所内の当該第一種指定物質の施設の数及び位置"},null,null,null,null,null,null,null,null,null,null,null,null,null,null,null,null,null," 数",null,null,{"$f":"ETL!$D$116","v":1},null,null,null,null,null,null,null,null,"位置",null,null,{"$f":"ETL!$D$117","v":"別添資料のとおり"}]
[null,{"$f":"CONCATENATE(\"当該\", ETL!$D$109, \"施設ごとの当該第一種指定物質の\", ETL!$D$109, \"数量及び製造にあってはその製造能力\")","v":"当該施設ごとの当該第一種指定物質の数量及び製造にあってはその製造能力"},null,null,null,null,null,null,null,null,null,null,null,null,null,null,null,null,null,"数量",null,null,{"$f":"IF(ETL!$G$119=\"\", \"\",CONCATENATE(\"(\", ETL!$G$119, \" )\"))","v":""},null,null,null,{"$f":"IF(ETL!$G$122=\"\", \"\", CONCATENATE(\"(\", ETL!$G$122, \" )\"))","v":""},null,null,null,{"$f":"IF(ETL!$G$125=\"\", \"\", CONCATENATE(\"(\", ETL!$G$125, \" )\"))","v":""},null,null,null,{"$f":"IF(ETL!$G$128=\"\", \"\", CONCATENATE(\"(\", ETL!$G$128, \" )\"))","v":""},null,null,null,{"$f":"IF(ETL!$G$131=\"\", \"\", CONCATENATE(\"(\", ETL!$G$131, \" )\"))","v":""}]
[null,null,null,null,null,null,null,null,null,null,null,null,null,null,null,null,null,null,null,null,null,null,{"$f":"CONCATENATE(ETL!$I$120, \" kg\")","v":"0 kg"},null,null,null,{"$f":"IF(ETL!$I$123=\"\", \"\", CONCATENATE(ETL!$I$123, \" kg\"))","v":""},null,null,null,{"$f":"IF(ETL!$I$126=\"\", \"\", CONCATENATE(ETL!$I$126, \" kg\"))","v":""},null,null,null,{"$f":"IF(ETL!$I$129=\"\", \"\", CONCATENATE(ETL!$I$129, \" kg\"))","v":""},null,null,null,{"$f":"IF(ETL!$I$132=\"\", \"\", CONCATENATE(ETL!$I$132, \" kg\"))","v":""}]
[null,null,null,null,null,null,null,null,null,null,null,null,null,null,null,null,null,null,null,"能力",null,null,{"$f":"IF(ETL!$I$121=\"\", \"\", CONCATENATE(ETL!$I$121, \" kg／年\"))","v":"0 kg／年"},null,null,null,{"$f":"IF(ETL!$I$124=\"\", \"\", CONCATENATE(ETL!$I$124, \" kg／年\"))","v":""},null,null,null,{"$f":"IF(ETL!$I$127=\"\", \"\", CONCATENATE(ETL!$I$127, \" kg／年\"))","v":""},null,null,null,{"$f":"IF(ETL!$I$130=\"\", \"\", CONCATENATE(ETL!$I$130, \" kg／年\"))","v":""},null,null,null,{"$f":"IF(ETL!$I$133=\"\", \"\", CONCATENATE(ETL!$I$133, \" kg／年\"))","v":""}]
[null,"備考　１",null,null,null,"用紙の大きさは、日本産業規格Ａ４とすること。"]
[null,"　　　　２",null,null,null,"区分については、製造等にあっては製造、抽出、精製の別を、使用にあっては第１８条第２項第１号及び第２号の別を記載すること。"]
[null,"様式第１７（第１７条、第１８条関係）"]
[]
[null,{"$f":"CONCATENATE(ETL!$D$137, \"実績届出書\")","v":"実績届出書"}]
[]
[]
[null,null,null,null,null,null,null,null,null,null,null,null,null,null,null,null,null,null,null,null,null,null,null,null,null,null,null,null,null,null,null,null,{"$f":"ETL!$G$4","v":{"$error":"#NUM!"}}]
[]
[]
[null,"経済産業大臣殿"]
[null,null,null,null,null,null,null,null,null,null,null,null,null,"氏名または名称及び法人にあっては、その代表者の氏名",null,null,null,null,null,null,null,null,null,null,{"$f":"ETL!$D$7","v":""}]
[]
[null,null,null,null,null,null,null,null,null,null,null,null,null,null,null,null,null,null,null,null,null,null,null,null,{"$f":"ETL!$G$8","v":""},null,null,null,null,null,null,null,null,null,null,null,null,null,null,null,null,"印"]
[]
[null,null,null,null,null,null,null,null,null,null,null,null,null,"住所",null,null,null,null,null,null,null,null,null,null,{"$f":"ETL!$D$11","v":""}]
[]
[]
[null,"　化学兵器の禁止及び特定物質の規制等に関する法律第２５条（第２６条において準用する第２５条）の規定により次のとおり届け出ます。"]
[null,{"$f":"CONCATENATE(ETL!$D$137, \"をした事業所の名称\")","v":"をした事業所の名称"},null,null,null,null,null,null,null,null,null,null,null,null,null,null,null,null,null,{"$f":"ETL!$D$59","v":""}]
[null,{"$f":"CONCATENATE(ETL!$D$137, \"をした事業所の所在地\")","v":"をした事業所の所在地"},null,null,null,null,null,null,null,null,null,null,null,null,null,null,null,null,null,{"$f":"ETL!$G$63","v":""}]
[null,{"$f":"CONCATENATE(ETL!$D$137, \"をした第一種指定物質\")","v":"をした第一種指定物質"},null,null,null,null,null,null,null,null,null,null,null,null,null,null,null,null,null,{"$f":"ETL!$G$142","v":""}]
[null,null,null,null,null,null,null,null,null,null,null,null,null,null,null,null,null,null,null,{"$f":"CONCATENATE(\"(CAS: \", ETL!$G$138, \")\")","v":"(CAS: )"}]
[null,{"$f":"CONCATENATE(ETL!$D$137, \"をした第一種指定物質の数量\")","v":"をした第一種指定物質の数量"},null,null,null,null,null,null,null,null,null,null,null,"区分※",null,null,null,null,null,{"$f":"ETL!$D$143","v":""}]
[null,null,null,null,null,null,null,null,null,null,null,null,null,"数量",null,null,null,null,null,{"$f":"CONCATENATE(ETL!$I$146, \" kg\")","v":"0 kg"},{"$error":"#N/A"},{"$error":"#N/A"},{"$error":"#REF!"},null,null,null,{"$error":"#REF!"},{"$error":"#N/A"},{"$error":"#NAME?"},{"$error":"#N/A"},{"$error":"#N/A"},{"$error":"#N/A"},{"$error":"#N/A"},{"$error":"#N/A"},{"$error":"#NAME?"},null,{"$error":"#N/A"},{"$error":"#N/A"},null,{"$error":"#N/A"},{"$error":"#N/A"},{"$error":"#N/A"}]
[null," （うち直接輸出入したものの数量）",null,null,null,null,null,null,null,null,null,null,null,null,null,null,null,null,null,{"$f":"CONCATENATE(\"（\", IF(OR(ETL!$I$1251 = \"\"), \"\", \" 直接輸出　\" & ETL!$I$1251 & \" kg\"), IF(OR(ETL!$I$1251 = \"\", ETL!$I$1252 = \"\"), \"\", \"　|　\"), IF(OR(ETL!$I$1252 = \"\"), \"\", \" 直接輸入　\" & ETL!$I$1252 & \" kg\"), IF(AND(OR(ETL!$I$1251 = \"\"), OR(ETL!$I$1252 = \"\")), \"　　　　　　　　　　　　　　　　　　　　　　　　　　　　　　　　kg\", \"\"), \" ）\")","v":"（　　　　　　　　　　　　　　　　　　　　　　　　　　　　　　　　kg ）"},{"$error":"#N/A"},{"$error":"#N/A"},{"$error":"#REF!"},null,null,null,{"$error":"#REF!"},{"$error":"#N/A"},{"$error":"#NAME?"},{"$error":"#N/A"},{"$error":"#N/A"},{"$error":"#N/A"},{"$error":"#N/A"},{"$error":"#N/A"},{"$error":"#NAME?"},null,{"$error":"#N/A"},{"$error":"#N/A"},null,{"$error":"#N/A"},{"$error":"#N/A"},{"$error":"#N/A"}]
[null,{"$f":"CONCATENATE(\"事業所内の当該第一種指定物質の\", ETL!$D$137, \"施設の数及び位置\")","v":"事業所内の当該第一種指定物質の施設の数及び位置"},null,null,null,null,null,null,null,null,null,null,null,null,null,null,null,null,null," 数",null,null,{"$f":"ETL!$D$144","v":1},null,null,null,null,null,null,null,null,"位置",null,null,{"$f":"ETL!$D$145","v":"別添資料のとおり"}]
[null,{"$f":"CONCATENATE(\"当該\", ETL!$D$137, \"施設ごとの当該第一種指定物質の\", ETL!$D$137, \"数量及び製造にあってはその製造能力\")","v":"当該施設ごとの当該第一種指定物質の数量及び製造にあってはその製造能力"},null,null,null,null,null,null,null,null,null,null,null,null,null,null,null,null,null,"数量",null,null,{"$f":"IF(ETL!$G$147=\"\", \"\",CONCATENATE(\"(\", ETL!$G$147, \" )\"))","v":""},null,null,null,{"$f":"IF(ETL!$G$150=\"\", \"\", CONCATENATE(\"(\", ETL!$G$150, \" )\"))","v":""},null,null,null,{"$f":"IF(ETL!$G$153=\"\", \"\", CONCATENATE(\"(\", ETL!$G$153, \" )\"))","v":""},null,null,null,{"$f":"IF(ETL!$G$156=\"\", \"\", CONCATENATE(\"(\", ETL!$G$156, \" )\"))","v":""},null,null,null,{"$f":"IF(ETL!$G$159=\"\", \"\", CONCATENATE(\"(\", ETL!$G$159, \" )\"))","v":""}]
[null,null,null,null,null,null,null,null,null,null,null,null,null,null,null,null,null,null,null,null,null,null,{"$f":"CONCATENATE(ETL!$I$148, \" kg\")","v":"0 kg"},null,null,null,{"$f":"IF(ETL!$I$151=\"\", \"\", CONCATENATE(ETL!$I$151, \" kg\"))","v":""},null,null,null,{"$f":"IF(ETL!$I$154=\"\", \"\", CONCATENATE(ETL!$I$154, \" kg\"))","v":""},null,null,null,{"$f":"IF(ETL!$I$157=\"\", \"\", CONCATENATE(ETL!$I$157, \" kg\"))","v":""},null,null,null,{"$f":"IF(ETL!$I$160=\"\", \"\", CONCATENATE(ETL!$I$160, \" kg\"))","v":""}]
[null,null,null,null,null,null,null,null,null,null,null,null,null,null,null,null,null,null,null,"能力",null,null,{"$f":"IF(ETL!$I$149=\"\", \"\", CONCATENATE(ETL!$I$149, \" kg／年\"))","v":"0 kg／年"},null,null,null,{"$f":"IF(ETL!$I$152=\"\", \"\", CONCATENATE(ETL!$I$152, \" kg／年\"))","v":""},null,null,null,{"$f":"IF(ETL!$I$155=\"\", \"\", CONCATENATE(ETL!$I$155, \" kg／年\"))","v":""},null,null,null,{"$f":"IF(ETL!$I$158=\"\", \"\", CONCATENATE(ETL!$I$158, \" kg／年\"))","v":""},null,null,null,{"$f":"IF(ETL!$I$161=\"\", \"\", CONCATENATE(ETL!$I$161, \" kg／年\"))","v":""}]
[null,"備考　１",null,null,null,"用紙の大きさは、日本産業規格Ａ４とすること。"]
[null,"　　　　２",null,null,null,"区分については、製造等にあっては製造、抽出、精製の別を、使用にあっては第１８条第２項第１号及び第２号の別を記載すること。"]
[null,"様式第１７（第１７条、第１８条関係）"]
[]
[null,{"$f":"CONCATENATE(ETL!$D$165, \"実績届出書\")","v":"実績届出書"}]
[]
[]
[null,null,null,null,null,null,null,null,null,null,null,null,null,null,null,null,null,null,null,null,null,null,null,null,null,null,null,null,null,null,null,null,{"$f":"ETL!$G$4","v":{"$error":"#NUM!"}}]
[]
[]
[null,"経済産業大臣殿"]
[null,null,null,null,null,null,null,null,null,null,null,null,null,"氏名または名称及び法人にあっては、その代表者の氏名",null,null,null,null,null,null,null,null,null,null,{"$f":"ETL!$D$7","v":""}]
[]
[null,null,null,null,null,null,null,null,null,null,null,null,null,null,null,null,null,null,null,null,null,null,null,null,{"$f":"ETL!$G$8","v":""},null,null,null,null,null,null,null,null,null,null,null,null,null,null,null,null,"印"]
[]
[null,null,null,null,null,null,null,null,null,null,null,null,null,"住所",null,null,null,null,null,null,null,null,null,null,{"$f":"ETL!$D$11","v":""}]
[]
[]
[null,"　化学兵器の禁止及び特定物質の規制等に関する法律第２５条（第２６条において準用する第２５条）の規定により次のとおり届け出ます。"]
[null,{"$f":"CONCATENATE(ETL!$D$165, \"をした事業所の名称\")","v":"をした事業所の名称"},null,null,null,null,null,null,null,null,null,null,null,null,null,null,null,null,null,{"$f":"ETL!$D$59","v":""}]
[null,{"$f":"CONCATENATE(ETL!$D$165, \"をした事業所の所在地\")","v":"をした事業所の所在地"},null,null,null,null,null,null,null,null,null,null,null,null,null,null,null,null,null,{"$f":"ETL!$G$63","v":""}]
[null,{"$f":"CONCATENATE(ETL!$D$165, \"をした第一種指定物質\")","v":"をした第一種指定物質"},null,null,null,null,null,null,null,null,null,null,null,null,null,null,null,null,null,{"$f":"ETL!$G$170","v":""}]
[null,null,null,null,null,null,null,null,null,null,null,null,null,null,null,null,null,null,null,{"$f":"CONCATENATE(\"(CAS: \", ETL!$G$166, \")\")","v":"(CAS: )"}]
[null,{"$f":"CONCATENATE(ETL!$D$165, \"をした第一種指定物質の数量\")","v":"をした第一種指定物質の数量"},null,null,null,null,null,null,null,null,null,null,null,"区分※",null,null,null,null,null,{"$f":"ETL!$D$171","v":""}]
[null,null,null,null,null,null,null,null,null,null,null,null,null,"数量",null,null,null,null,null,{"$f":"CONCATENATE(ETL!$I$174, \" kg\")","v":"0 kg"},{"$error":"#N/A"},{"$error":"#N/A"},{"$error":"#REF!"},null,null,null,{"$error":"#REF!"},{"$error":"#N/A"},{"$error":"#NAME?"},{"$error":"#N/A"},{"$error":"#N/A"},{"$error":"#N/A"},{"$error":"#N/A"},{"$error":"#N/A"},{"$error":"#NAME?"},null,{"$error":"#N/A"},{"$error":"#N/A"},null,{"$error":"#N/A"},{"$error":"#N/A"},{"$error":"#N/A"}]
[null," （うち直接輸出入したものの数量）",null,null,null,null,null,null,null,null,null,null,null,null,null,null,null,null,null,{"$f":"CONCATENATE(\"（\", IF(OR(ETL!$I$1254 = \"\"), \"\", \" 直接輸出　\" & ETL!$I$1254 & \" kg\"), IF(OR(ETL!$I$1254 = \"\", ETL!$I$1255 = \"\"), \"\", \"　|　\"), IF(OR(ETL!$I$1255 = \"\"), \"\", \" 直接輸入　\" & ETL!$I$1255 & \" kg\"), IF(AND(OR(ETL!$I$1254 = \"\"), OR(ETL!$I$1255 = \"\")), \"　　　　　　　　　　　　　　　　　　　　　　　　　　　　　　　　kg\", \"\"), \" ）\")","v":"（　　　　　　　　　　　　　　　　　　　　　　　　　　　　　　　　kg ）"},{"$error":"#N/A"},{"$error":"#N/A"},{"$error":"#REF!"},null,null,null,{"$error":"#REF!"},{"$error":"#N/A"},{"$error":"#NAME?"},{"$error":"#N/A"},{"$error":"#N/A"},{"$error":"#N/A"},{"$error":"#N/A"},{"$error":"#N/A"},{"$error":"#NAME?"},null,{"$error":"#N/A"},{"$error":"#N/A"},null,{"$error":"#N/A"},{"$error":"#N/A"},{"$error":"#N/A"}]
[null,{"$f":"CONCATENATE(\"事業所内の当該第一種指定物質の\", ETL!$D$165, \"施設の数及び位置\")","v":"事業所内の当該第一種指定物質の施設の数及び位置"},null,null,null,null,null,null,null,null,null,null,null,null,null,null,null,null,null," 数",null,null,{"$f":"ETL!$D$172","v":1},null,null,null,null,null,null,null,null,"位置",null,null,{"$f":"ETL!$D$173","v":"別添資料のとおり"}]
[null,{"$f":"CONCATENATE(\"当該\", ETL!$D$165, \"施設ごとの当該第一種指定物質の\", ETL!$D$165, \"数量及び製造にあってはその製造能力\")","v":"当該施設ごとの当該第一種指定物質の数量及び製造にあってはその製造能力"},null,null,null,null,null,null,null,null,null,null,null,null,null,null,null,null,null,"数量",null,null,{"$f":"IF(ETL!$G$175=\"\", \"\",CONCATENATE(\"(\", ETL!$G$175, \" )\"))","v":""},null,null,null,{"$f":"IF(ETL!$G$178=\"\", \"\", CONCATENATE(\"(\", ETL!$G$178, \" )\"))","v":""},null,null,null,{"$f":"IF(ETL!$G$181=\"\", \"\", CONCATENATE(\"(\", ETL!$G$181, \" )\"))","v":""},null,null,null,{"$f":"IF(ETL!$G$184=\"\", \"\", CONCATENATE(\"(\", ETL!$G$184, \" )\"))","v":""},null,null,null,{"$f":"IF(ETL!$G$187=\"\", \"\", CONCATENATE(\"(\", ETL!$G$187, \" )\"))","v":""}]
[null,null,null,null,null,null,null,null,null,null,null,null,null,null,null,null,null,null,null,null,null,null,{"$f":"CONCATENATE(ETL!$I$176, \" kg\")","v":"0 kg"},null,null,null,{"$f":"IF(ETL!$I$179=\"\", \"\", CONCATENATE(ETL!$I$179, \" kg\"))","v":""},null,null,null,{"$f":"IF(ETL!$I$182=\"\", \"\", CONCATENATE(ETL!$I$182, \" kg\"))","v":""},null,null,null,{"$f":"IF(ETL!$I$185=\"\", \"\", CONCATENATE(ETL!$I$185, \" kg\"))","v":""},null,null,null,{"$f":"IF(ETL!$I$188=\"\", \"\", CONCATENATE(ETL!$I$188, \" kg\"))","v":""}]
[null,null,null,null,null,null,null,null,null,null,null,null,null,null,null,null,null,null,null,"能力",null,null,{"$f":"IF(ETL!$I$177=\"\", \"\", CONCATENATE(ETL!$I$177, \" kg／年\"))","v":"0 kg／年"},null,null,null,{"$f":"IF(ETL!$I$180=\"\", \"\", CONCATENATE(ETL!$I$180, \" kg／年\"))","v":""},null,null,null,{"$f":"IF(ETL!$I$183=\"\", \"\", CONCATENATE(ETL!$I$183, \" kg／年\"))","v":""},null,null,null,{"$f":"IF(ETL!$I$186=\"\", \"\", CONCATENATE(ETL!$I$186, \" kg／年\"))","v":""},null,null,null,{"$f":"IF(ETL!$I$189=\"\", \"\", CONCATENATE(ETL!$I$189, \" kg／年\"))","v":""}]
[null,"備考　１",null,null,null,"用紙の大きさは、日本産業規格Ａ４とすること。"]
[null,"　　　　２",null,null,null,"区分については、製造等にあっては製造、抽出、精製の別を、使用にあっては第１８条第２項第１号及び第２号の別を記載すること。"]
[null,"様式第１７（第１７条、第１８条関係）"]
[]
[null,{"$f":"CONCATENATE(ETL!$D$193, \"実績届出書\")","v":"実績届出書"}]
[]
[]
[null,null,null,null,null,null,null,null,null,null,null,null,null,null,null,null,null,null,null,null,null,null,null,null,null,null,null,null,null,null,null,null,{"$f":"ETL!$G$4","v":{"$error":"#NUM!"}}]
[]
[]
[null,"経済産業大臣殿"]
[null,null,null,null,null,null,null,null,null,null,null,null,null,"氏名または名称及び法人にあっては、その代表者の氏名",null,null,null,null,null,null,null,null,null,null,{"$f":"ETL!$D$7","v":""}]
[]
[null,null,null,null,null,null,null,null,null,null,null,null,null,null,null,null,null,null,null,null,null,null,null,null,{"$f":"ETL!$G$8","v":""},null,null,null,null,null,null,null,null,null,null,null,null,null,null,null,null,"印"]
[]
[null,null,null,null,null,null,null,null,null,null,null,null,null,"住所",null,null,null,null,null,null,null,null,null,null,{"$f":"ETL!$D$11","v":""}]
[]
[]
[null,"　化学兵器の禁止及び特定物質の規制等に関する法律第２５条（第２６条において準用する第２５条）の規定により次のとおり届け出ます。"]
[null,{"$f":"CONCATENATE(ETL!$D$193, \"をした事業所の名称\")","v":"をした事業所の名称"},null,null,null,null,null,null,null,null,null,null,null,null,null,null,null,null,null,{"$f":"ETL!$D$59","v":""}]
[null,{"$f":"CONCATENATE(ETL!$D$193, \"をした事業所の所在地\")","v":"をした事業所の所在地"},null,null,null,null,null,null,null,null,null,null,null,null,null,null,null,null,null,{"$f":"ETL!$G$63","v":""}]
[null,{"$f":"CONCATENATE(ETL!$D$193, \"をした第一種指定物質\")","v":"をした第一種指定物質"},null,null,null,null,null,null,null,null,null,null,null,null,null,null,null,null,null,{"$f":"ETL!$G$198","v":""}]
[null,null,null,null,null,null,null,null,null,null,null,null,null,null,null,null,null,null,null,{"$f":"CONCATENATE(\"(CAS: \", ETL!$G$194, \")\")","v":"(CAS: )"}]
[null,{"$f":"CONCATENATE(ETL!$D$193, \"をした第一種指定物質の数量\")","v":"をした第一種指定物質の数量"},null,null,null,null,null,null,null,null,null,null,null,"区分※",null,null,null,null,null,{"$f":"ETL!$D$199","v":""}]
[null,null,null,null,null,null,null,null,null,null,null,null,null,"数量",null,null,null,null,null,{"$f":"CONCATENATE(ETL!$I$202, \" kg\")","v":"0 kg"},{"$error":"#N/A"},{"$error":"#N/A"},{"$error":"#REF!"},null,null,null,{"$error":"#REF!"},{"$error":"#N/A"},{"$error":"#NAME?"},{"$error":"#N/A"},{"$error":"#N/A"},{"$error":"#N/A"},{"$error":"#N/A"},{"$error":"#N/A"},{"$error":"#NAME?"},null,{"$error":"#N/A"},{"$error":"#N/A"},null,{"$error":"#N/A"},{"$error":"#N/A"},{"$error":"#N/A"}]
[null," （うち直接輸出入したものの数量）",null,null,null,null,null,null,null,null,null,null,null,null,null,null,null,null,null,{"$f":"CONCATENATE(\"（\", IF(OR(ETL!$I$1257 = \"\"), \"\", \" 直接輸出　\" & ETL!$I$1257 & \" kg\"), IF(OR(ETL!$I$1257 = \"\", ETL!$I$1258 = \"\"), \"\", \"　|　\"), IF(OR(ETL!$I$1258 = \"\"), \"\", \" 直接輸入　\" & ETL!$I$1258 & \" kg\"), IF(AND(OR(ETL!$I$1257 = \"\"), OR(ETL!$I$1258 = \"\")), \"　　　　　　　　　　　　　　　　　　　　　　　　　　　　　　　　kg\", \"\"), \" ）\")","v":"（　　　　　　　　　　　　　　　　　　　　　　　　　　　　　　　　kg ）"},{"$error":"#N/A"},{"$error":"#N/A"},{"$error":"#REF!"},null,null,null,{"$error":"#REF!"},{"$error":"#N/A"},{"$error":"#NAME?"},{"$error":"#N/A"},{"$error":"#N/A"},{"$error":"#N/A"},{"$error":"#N/A"},{"$error":"#N/A"},{"$error":"#NAME?"},null,{"$error":"#N/A"},{"$error":"#N/A"},null,{"$error":"#N/A"},{"$error":"#N/A"},{"$error":"#N/A"}]
[null,{"$f":"CONCATENATE(\"事業所内の当該第一種指定物質の\", ETL!$D$193, \"施設の数及び位置\")","v":"事業所内の当該第一種指定物質の施設の数及び位置"},null,null,null,null,null,null,null,null,null,null,null,null,null,null,null,null,null," 数",null,null,{"$f":"ETL!$D$200","v":1},null,null,null,null,null,null,null,null,"位置",null,null,{"$f":"ETL!$D$201","v":"別添資料のとおり"}]
[null,{"$f":"CONCATENATE(\"当該\", ETL!$D$193, \"施設ごとの当該第一種指定物質の\", ETL!$D$193, \"数量及び製造にあってはその製造能力\")","v":"当該施設ごとの当該第一種指定物質の数量及び製造にあってはその製造能力"},null,null,null,null,null,null,null,null,null,null,null,null,null,null,null,null,null,"数量",null,null,{"$f":"IF(ETL!$G$203=\"\", \"\",CONCATENATE(\"(\", ETL!$G$203, \" )\"))","v":""},null,null,null,{"$f":"IF(ETL!$G$206=\"\", \"\", CONCATENATE(\"(\", ETL!$G$206, \" )\"))","v":""},null,null,null,{"$f":"IF(ETL!$G$209=\"\", \"\", CONCATENATE(\"(\", ETL!$G$209, \" )\"))","v":""},null,null,null,{"$f":"IF(ETL!$G$212=\"\", \"\", CONCATENATE(\"(\", ETL!$G$212, \" )\"))","v":""},null,null,null,{"$f":"IF(ETL!$G$215=\"\", \"\", CONCATENATE(\"(\", ETL!$G$215, \" )\"))","v":""}]
[null,null,null,null,null,null,null,null,null,null,null,null,null,null,null,null,null,null,null,null,null,null,{"$f":"CONCATENATE(ETL!$I$204, \" kg\")","v":"0 kg"},null,null,null,{"$f":"IF(ETL!$I$207=\"\", \"\", CONCATENATE(ETL!$I$207, \" kg\"))","v":""},null,null,null,{"$f":"IF(ETL!$I$210=\"\", \"\", CONCATENATE(ETL!$I$210, \" kg\"))","v":""},null,null,null,{"$f":"IF(ETL!$I$213=\"\", \"\", CONCATENATE(ETL!$I$213, \" kg\"))","v":""},null,null,null,{"$f":"IF(ETL!$I$216=\"\", \"\", CONCATENATE(ETL!$I$216, \" kg\"))","v":""}]
[null,null,null,null,null,null,null,null,null,null,null,null,null,null,null,null,null,null,null,"能力",null,null,{"$f":"IF(ETL!$I$205=\"\", \"\", CONCATENATE(ETL!$I$205, \" kg／年\"))","v":"0 kg／年"},null,null,null,{"$f":"IF(ETL!$I$208=\"\", \"\", CONCATENATE(ETL!$I$208, \" kg／年\"))","v":""},null,null,null,{"$f":"IF(ETL!$I$211=\"\", \"\", CONCATENATE(ETL!$I$211, \" kg／年\"))","v":""},null,null,null,{"$f":"IF(ETL!$I$214=\"\", \"\", CONCATENATE(ETL!$I$214, \" kg／年\"))","v":""},null,null,null,{"$f":"IF(ETL!$I$217=\"\", \"\", CONCATENATE(ETL!$I$217, \" kg／年\"))","v":""}]
[null,"備考　１",null,null,null,"用紙の大きさは、日本産業規格Ａ４とすること。"]
[null,"　　　　２",null,null,null,"区分については、製造等にあっては製造、抽出、精製の別を、使用にあっては第１８条第２項第１号及び第２号の別を記載すること。"]
[null,"様式第１７（第１７条、第１８条関係）"]
[]
[null,{"$f":"CONCATENATE(ETL!$D$221, \"実績届出書\")","v":"実績届出書"}]
[]
[]
[null,null,null,null,null,null,null,null,null,null,null,null,null,null,null,null,null,null,null,null,null,null,null,null,null,null,null,null,null,null,null,null,{"$f":"ETL!$G$4","v":{"$error":"#NUM!"}}]
[]
[]
[null,"経済産業大臣殿"]
[null,null,null,null,null,null,null,null,null,null,null,null,null,"氏名または名称及び法人にあっては、その代表者の氏名",null,null,null,null,null,null,null,null,null,null,{"$f":"ETL!$D$7","v":""}]
[]
[null,null,null,null,null,null,null,null,null,null,null,null,null,null,null,null,null,null,null,null,null,null,null,null,{"$f":"ETL!$G$8","v":""},null,null,null,null,null,null,null,null,null,null,null,null,null,null,null,null,"印"]
[]
[null,null,null,null,null,null,null,null,null,null,null,null,null,"住所",null,null,null,null,null,null,null,null,null,null,{"$f":"ETL!$D$11","v":""}]
[]
[]
[null,"　化学兵器の禁止及び特定物質の規制等に関する法律第２５条（第２６条において準用する第２５条）の規定により次のとおり届け出ます。"]
[null,{"$f":"CONCATENATE(ETL!$D$221, \"をした事業所の名称\")","v":"をした事業所の名称"},null,null,null,null,null,null,null,null,null,null,null,null,null,null,null,null,null,{"$f":"ETL!$D$59","v":""}]
[null,{"$f":"CONCATENATE(ETL!$D$221, \"をした事業所の所在地\")","v":"をした事業所の所在地"},null,null,null,null,null,null,null,null,null,null,null,null,null,null,null,null,null,{"$f":"ETL!$G$63","v":""}]
[null,{"$f":"CONCATENATE(ETL!$D$221, \"をした第一種指定物質\")","v":"をした第一種指定物質"},null,null,null,null,null,null,null,null,null,null,null,null,null,null,null,null,null,{"$f":"ETL!$G$226","v":""}]
[null,null,null,null,null,null,null,null,null,null,null,null,null,null,null,null,null,null,null,{"$f":"CONCATENATE(\"(CAS: \", ETL!$G$222, \")\")","v":"(CAS: )"}]
[null,{"$f":"CONCATENATE(ETL!$D$221, \"をした第一種指定物質の数量\")","v":"をした第一種指定物質の数量"},null,null,null,null,null,null,null,null,null,null,null,"区分※",null,null,null,null,null,{"$f":"ETL!$D$227","v":""}]
[null,null,null,null,null,null,null,null,null,null,null,null,null,"数量",null,null,null,null,null,{"$f":"CONCATENATE(ETL!$I$230, \" kg\")","v":"0 kg"},{"$error":"#N/A"},{"$error":"#N/A"},{"$error":"#REF!"},null,null,null,{"$error":"#REF!"},{"$error":"#N/A"},{"$error":"#NAME?"},{"$error":"#N/A"},{"$error":"#N/A"},{"$error":"#N/A"},{"$error":"#N/A"},{"$error":"#N/A"},{"$error":"#NAME?"},null,{"$error":"#N/A"},{"$error":"#N/A"},null,{"$error":"#N/A"},{"$error":"#N/A"},{"$error":"#N/A"}]
[null," （うち直接輸出入したものの数量）",null,null,null,null,null,null,null,null,null,null,null,null,null,null,null,null,null,{"$f":"CONCATENATE(\"（\", IF(OR(ETL!$I$1260 = \"\"), \"\", \" 直接輸出　\" & ETL!$I$1260 & \" kg\"), IF(OR(ETL!$I$1260 = \"\", ETL!$I$1261 = \"\"), \"\", \"　|　\"), IF(OR(ETL!$I$1261 = \"\"), \"\", \" 直接輸入　\" & ETL!$I$1261 & \" kg\"), IF(AND(OR(ETL!$I$1260 = \"\"), OR(ETL!$I$1261 = \"\")), \"　　　　　　　　　　　　　　　　　　　　　　　　　　　　　　　　kg\", \"\"), \" ）\")","v":"（　　　　　　　　　　　　　　　　　　　　　　　　　　　　　　　　kg ）"},{"$error":"#N/A"},{"$error":"#N/A"},{"$error":"#REF!"},null,null,null,{"$error":"#REF!"},{"$error":"#N/A"},{"$error":"#NAME?"},{"$error":"#N/A"},{"$error":"#N/A"},{"$error":"#N/A"},{"$error":"#N/A"},{"$error":"#N/A"},{"$error":"#NAME?"},null,{"$error":"#N/A"},{"$error":"#N/A"},null,{"$error":"#N/A"},{"$error":"#N/A"},{"$error":"#N/A"}]
[null,{"$f":"CONCATENATE(\"事業所内の当該第一種指定物質の\", ETL!$D$221, \"施設の数及び位置\")","v":"事業所内の当該第一種指定物質の施設の数及び位置"},null,null,null,null,null,null,null,null,null,null,null,null,null,null,null,null,null," 数",null,null,{"$f":"ETL!$D$228","v":1},null,null,null,null,null,null,null,null,"位置",null,null,{"$f":"ETL!$D$229","v":"別添資料のとおり"}]
[null,{"$f":"CONCATENATE(\"当該\", ETL!$D$221, \"施設ごとの当該第一種指定物質の\", ETL!$D$221, \"数量及び製造にあってはその製造能力\")","v":"当該施設ごとの当該第一種指定物質の数量及び製造にあってはその製造能力"},null,null,null,null,null,null,null,null,null,null,null,null,null,null,null,null,null,"数量",null,null,{"$f":"IF(ETL!$G$231=\"\", \"\",CONCATENATE(\"(\", ETL!$G$231, \" )\"))","v":""},null,null,null,{"$f":"IF(ETL!$G$234=\"\", \"\", CONCATENATE(\"(\", ETL!$G$234, \" )\"))","v":""},null,null,null,{"$f":"IF(ETL!$G$237=\"\", \"\", CONCATENATE(\"(\", ETL!$G$237, \" )\"))","v":""},null,null,null,{"$f":"IF(ETL!$G$240=\"\", \"\", CONCATENATE(\"(\", ETL!$G$240, \" )\"))","v":""},null,null,null,{"$f":"IF(ETL!$G$243=\"\", \"\", CONCATENATE(\"(\", ETL!$G$243, \" )\"))","v":""}]
[null,null,null,null,null,null,null,null,null,null,null,null,null,null,null,null,null,null,null,null,null,null,{"$f":"CONCATENATE(ETL!$I$232, \" kg\")","v":"0 kg"},null,null,null,{"$f":"IF(ETL!$I$235=\"\", \"\", CONCATENATE(ETL!$I$235, \" kg\"))","v":""},null,null,null,{"$f":"IF(ETL!$I$238=\"\", \"\", CONCATENATE(ETL!$I$238, \" kg\"))","v":""},null,null,null,{"$f":"IF(ETL!$I$241=\"\", \"\", CONCATENATE(ETL!$I$241, \" kg\"))","v":""},null,null,null,{"$f":"IF(ETL!$I$244=\"\", \"\", CONCATENATE(ETL!$I$244, \" kg\"))","v":""}]
[null,null,null,null,null,null,null,null,null,null,null,null,null,null,null,null,null,null,null,"能力",null,null,{"$f":"IF(ETL!$I$233=\"\", \"\", CONCATENATE(ETL!$I$233, \" kg／年\"))","v":"0 kg／年"},null,null,null,{"$f":"IF(ETL!$I$236=\"\", \"\", CONCATENATE(ETL!$I$236, \" kg／年\"))","v":""},null,null,null,{"$f":"IF(ETL!$I$239=\"\", \"\", CONCATENATE(ETL!$I$239, \" kg／年\"))","v":""},null,null,null,{"$f":"IF(ETL!$I$242=\"\", \"\", CONCATENATE(ETL!$I$242, \" kg／年\"))","v":""},null,null,null,{"$f":"IF(ETL!$I$245=\"\", \"\", CONCATENATE(ETL!$I$245, \" kg／年\"))","v":""}]
[null,"備考　１",null,null,null,"用紙の大きさは、日本産業規格Ａ４とすること。"]
[null,"　　　　２",null,null,null,"区分については、製造等にあっては製造、抽出、精製の別を、使用にあっては第１８条第２項第１号及び第２号の別を記載すること。"]
[null,"様式第１７（第１７条、第１８条関係）"]
[]
[null,{"$f":"CONCATENATE(ETL!$D$249, \"実績届出書\")","v":"実績届出書"}]
[]
[]
[null,null,null,null,null,null,null,null,null,null,null,null,null,null,null,null,null,null,null,null,null,null,null,null,null,null,null,null,null,null,null,null,{"$f":"ETL!$G$4","v":{"$error":"#NUM!"}}]
[]
[]
[null,"経済産業大臣殿"]
[null,null,null,null,null,null,null,null,null,null,null,null,null,"氏名または名称及び法人にあっては、その代表者の氏名",null,null,null,null,null,null,null,null,null,null,{"$f":"ETL!$D$7","v":""}]
[]
[null,null,null,null,null,null,null,null,null,null,null,null,null,null,null,null,null,null,null,null,null,null,null,null,{"$f":"ETL!$G$8","v":""},null,null,null,null,null,null,null,null,null,null,null,null,null,null,null,null,"印"]
[]
[null,null,null,null,null,null,null,null,null,null,null,null,null,"住所",null,null,null,null,null,null,null,null,null,null,{"$f":"ETL!$D$11","v":""}]
[]
[]
[null,"　化学兵器の禁止及び特定物質の規制等に関する法律第２５条（第２６条において準用する第２５条）の規定により次のとおり届け出ます。"]
[null,{"$f":"CONCATENATE(ETL!$D$249, \"をした事業所の名称\")","v":"をした事業所の名称"},null,null,null,null,null,null,null,null,null,null,null,null,null,null,null,null,null,{"$f":"ETL!$D$59","v":""}]
[null,{"$f":"CONCATENATE(ETL!$D$249, \"をした事業所の所在地\")","v":"をした事業所の所在地"},null,null,null,null,null,null,null,null,null,null,null,null,null,null,null,null,null,{"$f":"ETL!$G$63","v":""}]
[null,{"$f":"CONCATENATE(ETL!$D$249, \"をした第一種指定物質\")","v":"をした第一種指定物質"},null,null,null,null,null,null,null,null,null,null,null,null,null,null,null,null,null,{"$f":"ETL!$G$254","v":""}]
[null,null,null,null,null,null,null,null,null,null,null,null,null,null,null,null,null,null,null,{"$f":"CONCATENATE(\"(CAS: \", ETL!$G$250, \")\")","v":"(CAS: )"}]
[null,{"$f":"CONCATENATE(ETL!$D$249, \"をした第一種指定物質の数量\")","v":"をした第一種指定物質の数量"},null,null,null,null,null,null,null,null,null,null,null,"区分※",null,null,null,null,null,{"$f":"ETL!$D$255","v":""}]
[null,null,null,null,null,null,null,null,null,null,null,null,null,"数量",null,null,null,null,null,{"$f":"CONCATENATE(ETL!$I$258, \" kg\")","v":"0 kg"},{"$error":"#N/A"},{"$error":"#N/A"},{"$error":"#REF!"},null,null,null,{"$error":"#REF!"},{"$error":"#N/A"},{"$error":"#NAME?"},{"$error":"#N/A"},{"$error":"#N/A"},{"$error":"#N/A"},{"$error":"#N/A"},{"$error":"#N/A"},{"$error":"#NAME?"},null,{"$error":"#N/A"},{"$error":"#N/A"},null,{"$error":"#N/A"},{"$error":"#N/A"},{"$error":"#N/A"}]
[null," （うち直接輸出入したものの数量）",null,null,null,null,null,null,null,null,null,null,null,null,null,null,null,null,null,{"$f":"CONCATENATE(\"（\", IF(OR(ETL!$I$1263 = \"\"), \"\", \" 直接輸出　\" & ETL!$I$1263 & \" kg\"), IF(OR(ETL!$I$1263 = \"\", ETL!$I$1264 = \"\"), \"\", \"　|　\"), IF(OR(ETL!$I$1264 = \"\"), \"\", \" 直接輸入　\" & ETL!$I$1264 & \" kg\"), IF(AND(OR(ETL!$I$1263 = \"\"), OR(ETL!$I$1264 = \"\")), \"　　　　　　　　　　　　　　　　　　　　　　　　　　　　　　　　kg\", \"\"), \" ）\")","v":"（　　　　　　　　　　　　　　　　　　　　　　　　　　　　　　　　kg ）"},{"$error":"#N/A"},{"$error":"#N/A"},{"$error":"#REF!"},null,null,null,{"$error":"#REF!"},{"$error":"#N/A"},{"$error":"#NAME?"},{"$error":"#N/A"},{"$error":"#N/A"},{"$error":"#N/A"},{"$error":"#N/A"},{"$error":"#N/A"},{"$error":"#NAME?"},null,{"$error":"#N/A"},{"$error":"#N/A"},null,{"$error":"#N/A"},{"$error":"#N/A"},{"$error":"#N/A"}]
[null,{"$f":"CONCATENATE(\"事業所内の当該第一種指定物質の\", ETL!$D$249, \"施設の数及び位置\")","v":"事業所内の当該第一種指定物質の施設の数及び位置"},null,null,null,null,null,null,null,null,null,null,null,null,null,null,null,null,null," 数",null,null,{"$f":"ETL!$D$256","v":1},null,null,null,null,null,null,null,null,"位置",null,null,{"$f":"ETL!$D$257","v":"別添資料のとおり"}]
[null,{"$f":"CONCATENATE(\"当該\", ETL!$D$249, \"施設ごとの当該第一種指定物質の\", ETL!$D$249, \"数量及び製造にあってはその製造能力\")","v":"当該施設ごとの当該第一種指定物質の数量及び製造にあってはその製造能力"},null,null,null,null,null,null,null,null,null,null,null,null,null,null,null,null,null,"数量",null,null,{"$f":"IF(ETL!$G$259=\"\", \"\",CONCATENATE(\"(\", ETL!$G$259, \" )\"))","v":""},null,null,null,{"$f":"IF(ETL!$G$262=\"\", \"\", CONCATENATE(\"(\", ETL!$G$262, \" )\"))","v":""},null,null,null,{"$f":"IF(ETL!$G$265=\"\", \"\", CONCATENATE(\"(\", ETL!$G$265, \" )\"))","v":""},null,null,null,{"$f":"IF(ETL!$G$268=\"\", \"\", CONCATENATE(\"(\", ETL!$G$268, \" )\"))","v":""},null,null,null,{"$f":"IF(ETL!$G$271=\"\", \"\", CONCATENATE(\"(\", ETL!$G$271, \" )\"))","v":""}]
[null,null,null,null,null,null,null,null,null,null,null,null,null,null,null,null,null,null,null,null,null,null,{"$f":"CONCATENATE(ETL!$I$260, \" kg\")","v":"0 kg"},null,null,null,{"$f":"IF(ETL!$I$263=\"\", \"\", CONCATENATE(ETL!$I$263, \" kg\"))","v":""},null,null,null,{"$f":"IF(ETL!$I$266=\"\", \"\", CONCATENATE(ETL!$I$266, \" kg\"))","v":""},null,null,null,{"$f":"IF(ETL!$I$269=\"\", \"\", CONCATENATE(ETL!$I$269, \" kg\"))","v":""},null,null,null,{"$f":"IF(ETL!$I$272=\"\", \"\", CONCATENATE(ETL!$I$272, \" kg\"))","v":""}]
[null,null,null,null,null,null,null,null,null,null,null,null,null,null,null,null,null,null,null,"能力",null,null,{"$f":"IF(ETL!$I$261=\"\", \"\", CONCATENATE(ETL!$I$261, \" kg／年\"))","v":"0 kg／年"},null,null,null,{"$f":"IF(ETL!$I$264=\"\", \"\", CONCATENATE(ETL!$I$264, \" kg／年\"))","v":""},null,null,null,{"$f":"IF(ETL!$I$267=\"\", \"\", CONCATENATE(ETL!$I$267, \" kg／年\"))","v":""},null,null,null,{"$f":"IF(ETL!$I$270=\"\", \"\", CONCATENATE(ETL!$I$270, \" kg／年\"))","v":""},null,null,null,{"$f":"IF(ETL!$I$273=\"\", \"\", CONCATENATE(ETL!$I$273, \" kg／年\"))","v":""}]
[null,"備考　１",null,null,null,"用紙の大きさは、日本産業規格Ａ４とすること。"]
[null,"　　　　２",null,null,null,"区分については、製造等にあっては製造、抽出、精製の別を、使用にあっては第１８条第２項第１号及び第２号の別を記載すること。"]
["（別紙様式１）","様式第１７（第１７条、第１８条関係）"]
[]
[null,{"$f":"CONCATENATE(ETL!$D$277, \"実績届出書\")","v":"実績届出書"}]
[]
[]
[null,null,null,null,null,null,null,null,null,null,null,null,null,null,null,null,null,null,null,null,null,null,null,null,null,null,null,null,null,null,null,null,{"$f":"ETL!$G$4","v":{"$error":"#NUM!"}}]
[]
[]
[null,"経済産業大臣殿"]
[null,null,null,null,null,null,null,null,null,null,null,null,null,"氏名または名称及び法人にあっては、その代表者の氏名",null,null,null,null,null,null,null,null,null,null,{"$f":"ETL!$D$7","v":""}]
[]
[null,null,null,null,null,null,null,null,null,null,null,null,null,null,null,null,null,null,null,null,null,null,null,null,{"$f":"ETL!$G$8","v":""},null,null,null,null,null,null,null,null,null,null,null,null,null,null,null,null,"印"]
[]
[null,null,null,null,null,null,null,null,null,null,null,null,null,"住所",null,null,null,null,null,null,null,null,null,null,{"$f":"ETL!$D$11","v":""}]
[]
[]
[null,"　化学兵器の禁止及び特定物質の規制等に関する法律第２５条（第２６条において準用する第２５条）の規定により次のとおり届け出ます。"]
[null,{"$f":"CONCATENATE(ETL!$D$277, \"をした事業所の名称\")","v":"をした事業所の名称"},null,null,null,null,null,null,null,null,null,null,null,null,null,null,null,null,null,{"$f":"ETL!$D$59","v":""}]
[null,{"$f":"CONCATENATE(ETL!$D$277, \"をした事業所の所在地\")","v":"をした事業所の所在地"},null,null,null,null,null,null,null,null,null,null,null,null,null,null,null,null,null,{"$f":"ETL!$G$63","v":""}]
[null,{"$f":"CONCATENATE(ETL!$D$277, \"をした第一種指定物質\")","v":"をした第一種指定物質"},null,null,null,null,null,null,null,null,null,null,null,null,null,null,null,null,null,{"$f":"ETL!$G$282","v":""}]
[null,null,null,null,null,null,null,null,null,null,null,null,null,null,null,null,null,null,null,{"$f":"CONCATENATE(\"(CAS: \", ETL!$G$278, \")\")","v":"(CAS: )"}]
[null,{"$f":"CONCATENATE(ETL!$D$277, \"をした第一種指定物質の数量\")","v":"をした第一種指定物質の数量"},null,null,null,null,null,null,null,null,null,null,null,"区分※",null,null,null,null,null,{"$f":"ETL!$D$283","v":""}]
[null,null,null,null,null,null,null,null,null,null,null,null,null,"数量",null,null,null,null,null,{"$f":"CONCATENATE(ETL!$I$286, \" kg\")","v":"0 kg"},{"$error":"#N/A"},{"$error":"#N/A"},{"$error":"#REF!"},null,null,null,{"$error":"#REF!"},{"$error":"#N/A"},{"$error":"#NAME?"},{"$error":"#N/A"},{"$error":"#N/A"},{"$error":"#N/A"},{"$error":"#N/A"},{"$error":"#N/A"},{"$error":"#NAME?"},null,{"$error":"#N/A"},{"$error":"#N/A"},null,{"$error":"#N/A"},{"$error":"#N/A"},{"$error":"#N/A"}]
[null," （うち直接輸出入したものの数量）",null,null,null,null,null,null,null,null,null,null,null,null,null,null,null,null,null,{"$f":"CONCATENATE(\"（\", IF(OR(ETL!$I$1266 = \"\"), \"\", \" 直接輸出　\" & ETL!$I$1266 & \" kg\"), IF(OR(ETL!$I$1266 = \"\", ETL!$I$1267 = \"\"), \"\", \"　|　\"), IF(OR(ETL!$I$1267 = \"\"), \"\", \" 直接輸入　\" & ETL!$I$1267 & \" kg\"), IF(AND(OR(ETL!$I$1266 = \"\"), OR(ETL!$I$1267 = \"\")), \"　　　　　　　　　　　　　　　　　　　　　　　　　　　　　　　　kg\", \"\"), \" ）\")","v":"（　　　　　　　　　　　　　　　　　　　　　　　　　　　　　　　　kg ）"},{"$error":"#N/A"},{"$error":"#N/A"},{"$error":"#REF!"},null,null,null,{"$error":"#REF!"},{"$error":"#N/A"},{"$error":"#NAME?"},{"$error":"#N/A"},{"$error":"#N/A"},{"$error":"#N/A"},{"$error":"#N/A"},{"$error":"#N/A"},{"$error":"#NAME?"},null,{"$error":"#N/A"},{"$error":"#N/A"},null,{"$error":"#N/A"},{"$error":"#N/A"},{"$error":"#N/A"}]
[null,{"$f":"CONCATENATE(\"事業所内の当該第一種指定物質の\", ETL!$D$277, \"施設の数及び位置\")","v":"事業所内の当該第一種指定物質の施設の数及び位置"},null,null,null,null,null,null,null,null,null,null,null,null,null,null,null,null,null," 数",null,null,{"$f":"ETL!$D$284","v":1},null,null,null,null,null,null,null,null,"位置",null,null,{"$f":"ETL!$D$285","v":"別添資料のとおり"}]
[null,{"$f":"CONCATENATE(\"当該\", ETL!$D$277, \"施設ごとの当該第一種指定物質の\", ETL!$D$277, \"数量及び製造にあってはその製造能力\")","v":"当該施設ごとの当該第一種指定物質の数量及び製造にあってはその製造能力"},null,null,null,null,null,null,null,null,null,null,null,null,null,null,null,null,null,"数量",null,null,{"$f":"IF(ETL!$G$287=\"\", \"\",CONCATENATE(\"(\", ETL!$G$287, \" )\"))","v":""},null,null,null,{"$f":"IF(ETL!$G$290=\"\", \"\", CONCATENATE(\"(\", ETL!$G$290, \" )\"))","v":""},null,null,null,{"$f":"IF(ETL!$G$293=\"\", \"\", CONCATENATE(\"(\", ETL!$G$293, \" )\"))","v":""},null,null,null,{"$f":"IF(ETL!$G$296=\"\", \"\", CONCATENATE(\"(\", ETL!$G$296, \" )\"))","v":""},null,null,null,{"$f":"IF(ETL!$G$299=\"\", \"\", CONCATENATE(\"(\", ETL!$G$299, \" )\"))","v":""}]
[null,null,null,null,null,null,null,null,null,null,null,null,null,null,null,null,null,null,null,null,null,null,{"$f":"CONCATENATE(ETL!$I$288, \" kg\")","v":"0 kg"},null,null,null,{"$f":"IF(ETL!$I$291=\"\", \"\", CONCATENATE(ETL!$I$291, \" kg\"))","v":""},null,null,null,{"$f":"IF(ETL!$I$294=\"\", \"\", CONCATENATE(ETL!$I$294, \" kg\"))","v":""},null,null,null,{"$f":"IF(ETL!$I$297=\"\", \"\", CONCATENATE(ETL!$I$297, \" kg\"))","v":""},null,null,null,{"$f":"IF(ETL!$I$300=\"\", \"\", CONCATENATE(ETL!$I$300, \" kg\"))","v":""}]
[null,null,null,null,null,null,null,null,null,null,null,null,null,null,null,null,null,null,null,"能力",null,null,{"$f":"IF(ETL!$I$289=\"\", \"\", CONCATENATE(ETL!$I$289, \" kg／年\"))","v":"0 kg／年"},null,null,null,{"$f":"IF(ETL!$I$292=\"\", \"\", CONCATENATE(ETL!$I$292, \" kg／年\"))","v":""},null,null,null,{"$f":"IF(ETL!$I$295=\"\", \"\", CONCATENATE(ETL!$I$295, \" kg／年\"))","v":""},null,null,null,{"$f":"IF(ETL!$I$298=\"\", \"\", CONCATENATE(ETL!$I$298, \" kg／年\"))","v":""},null,null,null,{"$f":"IF(ETL!$I$301=\"\", \"\", CONCATENATE(ETL!$I$301, \" kg／年\"))","v":""}]
[null,"備考　１",null,null,null,"用紙の大きさは、日本産業規格Ａ４とすること。"]
[null,"　　　　２",null,null,null,"区分については、製造等にあっては製造、抽出、精製の別を、使用にあっては第１８条第２項第１号及び第２号の別を記載すること。"]
[null,"様式第１７（第１７条、第１８条関係）"]
[]
[null,{"$f":"CONCATENATE(ETL!$D$305, \"実績届出書\")","v":"実績届出書"}]
[]
[]
[null,null,null,null,null,null,null,null,null,null,null,null,null,null,null,null,null,null,null,null,null,null,null,null,null,null,null,null,null,null,null,null,{"$f":"ETL!$G$4","v":{"$error":"#NUM!"}}]
[]
[]
[null,"経済産業大臣殿"]
[null,null,null,null,null,null,null,null,null,null,null,null,null,"氏名または名称及び法人にあっては、その代表者の氏名",null,null,null,null,null,null,null,null,null,null,{"$f":"ETL!$D$7","v":""}]
[]
[null,null,null,null,null,null,null,null,null,null,null,null,null,null,null,null,null,null,null,null,null,null,null,null,{"$f":"ETL!$G$8","v":""},null,null,null,null,null,null,null,null,null,null,null,null,null,null,null,null,"印"]
[]
[null,null,null,null,null,null,null,null,null,null,null,null,null,"住所",null,null,null,null,null,null,null,null,null,null,{"$f":"ETL!$D$11","v":""}]
[]
[]
[null,"　化学兵器の禁止及び特定物質の規制等に関する法律第２５条（第２６条において準用する第２５条）の規定により次のとおり届け出ます。"]
[null,{"$f":"CONCATENATE(ETL!$D$305, \"をした事業所の名称\")","v":"をした事業所の名称"},null,null,null,null,null,null,null,null,null,null,null,null,null,null,null,null,null,{"$f":"ETL!$D$59","v":""}]
[null,{"$f":"CONCATENATE(ETL!$D$305, \"をした事業所の所在地\")","v":"をした事業所の所在地"},null,null,null,null,null,null,null,null,null,null,null,null,null,null,null,null,null,{"$f":"ETL!$G$63","v":""}]
[null,{"$f":"CONCATENATE(ETL!$D$305, \"をした第一種指定物質\")","v":"をした第一種指定物質"},null,null,null,null,null,null,null,null,null,null,null,null,null,null,null,null,null,{"$f":"ETL!$G$310","v":""}]
[null,null,null,null,null,null,null,null,null,null,null,null,null,null,null,null,null,null,null,{"$f":"CONCATENATE(\"(CAS: \", ETL!$G$306, \")\")","v":"(CAS: )"}]
[null,{"$f":"CONCATENATE(ETL!$D$305, \"をした第一種指定物質の数量\")","v":"をした第一種指定物質の数量"},null,null,null,null,null,null,null,null,null,null,null,"区分※",null,null,null,null,null,{"$f":"ETL!$D$311","v":""}]
[null,null,null,null,null,null,null,null,null,null,null,null,null,"数量",null,null,null,null,null,{"$f":"CONCATENATE(ETL!$I$314, \" kg\")","v":"0 kg"},{"$error":"#N/A"},{"$error":"#N/A"},{"$error":"#REF!"},null,null,null,{"$error":"#REF!"},{"$error":"#N/A"},{"$error":"#NAME?"},{"$error":"#N/A"},{"$error":"#N/A"},{"$error":"#N/A"},{"$error":"#N/A"},{"$error":"#N/A"},{"$error":"#NAME?"},null,{"$error":"#N/A"},{"$error":"#N/A"},null,{"$error":"#N/A"},{"$error":"#N/A"},{"$error":"#N/A"}]
[null," （うち直接輸出入したものの数量）",null,null,null,null,null,null,null,null,null,null,null,null,null,null,null,null,null,{"$f":"CONCATENATE(\"（\", IF(OR(ETL!$I$1269 = \"\"), \"\", \" 直接輸出　\" & ETL!$I$1269 & \" kg\"), IF(OR(ETL!$I$1269 = \"\", ETL!$I$1270 = \"\"), \"\", \"　|　\"), IF(OR(ETL!$I$1270 = \"\"), \"\", \" 直接輸入　\" & ETL!$I$1270 & \" kg\"), IF(AND(OR(ETL!$I$1269 = \"\"), OR(ETL!$I$1270 = \"\")), \"　　　　　　　　　　　　　　　　　　　　　　　　　　　　　　　　kg\", \"\"), \" ）\")","v":"（　　　　　　　　　　　　　　　　　　　　　　　　　　　　　　　　kg ）"},{"$error":"#N/A"},{"$error":"#N/A"},{"$error":"#REF!"},null,null,null,{"$error":"#REF!"},{"$error":"#N/A"},{"$error":"#NAME?"},{"$error":"#N/A"},{"$error":"#N/A"},{"$error":"#N/A"},{"$error":"#N/A"},{"$error":"#N/A"},{"$error":"#NAME?"},null,{"$error":"#N/A"},{"$error":"#N/A"},null,{"$error":"#N/A"},{"$error":"#N/A"},{"$error":"#N/A"}]
[null,{"$f":"CONCATENATE(\"事業所内の当該第一種指定物質の\", ETL!$D$305, \"施設の数及び位置\")","v":"事業所内の当該第一種指定物質の施設の数及び位置"},null,null,null,null,null,null,null,null,null,null,null,null,null,null,null,null,null," 数",null,null,{"$f":"ETL!$D$312","v":1},null,null,null,null,null,null,null,null,"位置",null,null,{"$f":"ETL!$D$313","v":"別添資料のとおり"}]
[null,{"$f":"CONCATENATE(\"当該\", ETL!$D$305, \"施設ごとの当該第一種指定物質の\", ETL!$D$305, \"数量及び製造にあってはその製造能力\")","v":"当該施設ごとの当該第一種指定物質の数量及び製造にあってはその製造能力"},null,null,null,null,null,null,null,null,null,null,null,null,null,null,null,null,null,"数量",null,null,{"$f":"IF(ETL!$G$315=\"\", \"\",CONCATENATE(\"(\", ETL!$G$315, \" )\"))","v":""},null,null,null,{"$f":"IF(ETL!$G$318=\"\", \"\", CONCATENATE(\"(\", ETL!$G$318, \" )\"))","v":""},null,null,null,{"$f":"IF(ETL!$G$321=\"\", \"\", CONCATENATE(\"(\", ETL!$G$321, \" )\"))","v":""},null,null,null,{"$f":"IF(ETL!$G$324=\"\", \"\", CONCATENATE(\"(\", ETL!$G$324, \" )\"))","v":""},null,null,null,{"$f":"IF(ETL!$G$327=\"\", \"\", CONCATENATE(\"(\", ETL!$G$327, \" )\"))","v":""}]
[null,null,null,null,null,null,null,null,null,null,null,null,null,null,null,null,null,null,null,null,null,null,{"$f":"CONCATENATE(ETL!$I$316, \" kg\")","v":"0 kg"},null,null,null,{"$f":"IF(ETL!$I$319=\"\", \"\", CONCATENATE(ETL!$I$319, \" kg\"))","v":""},null,null,null,{"$f":"IF(ETL!$I$322=\"\", \"\", CONCATENATE(ETL!$I$322, \" kg\"))","v":""},null,null,null,{"$f":"IF(ETL!$I$325=\"\", \"\", CONCATENATE(ETL!$I$325, \" kg\"))","v":""},null,null,null,{"$f":"IF(ETL!$I$328=\"\", \"\", CONCATENATE(ETL!$I$328, \" kg\"))","v":""}]
[null,null,null,null,null,null,null,null,null,null,null,null,null,null,null,null,null,null,null,"能力",null,null,{"$f":"IF(ETL!$I$317=\"\", \"\", CONCATENATE(ETL!$I$317, \" kg／年\"))","v":"0 kg／年"},null,null,null,{"$f":"IF(ETL!$I$320=\"\", \"\", CONCATENATE(ETL!$I$320, \" kg／年\"))","v":""},null,null,null,{"$f":"IF(ETL!$I$323=\"\", \"\", CONCATENATE(ETL!$I$323, \" kg／年\"))","v":""},null,null,null,{"$f":"IF(ETL!$I$326=\"\", \"\", CONCATENATE(ETL!$I$326, \" kg／年\"))","v":""},null,null,null,{"$f":"IF(ETL!$I$329=\"\", \"\", CONCATENATE(ETL!$I$329, \" kg／年\"))","v":""}]
[null,"備考　１",null,null,null,"用紙の大きさは、日本産業規格Ａ４とすること。"]
[null,"　　　　２",null,null,null,"区分については、製造等にあっては製造、抽出、精製の別を、使用にあっては第１８条第２項第１号及び第２号の別を記載すること。"]
[null,"様式第１７（第１７条、第１８条関係）"]
[]
[null,{"$f":"CONCATENATE(ETL!$D$333, \"実績届出書\")","v":"実績届出書"}]
[]
[]
[null,null,null,null,null,null,null,null,null,null,null,null,null,null,null,null,null,null,null,null,null,null,null,null,null,null,null,null,null,null,null,null,{"$f":"ETL!$G$4","v":{"$error":"#NUM!"}}]
[]
[]
[null,"経済産業大臣殿"]
[null,null,null,null,null,null,null,null,null,null,null,null,null,"氏名または名称及び法人にあっては、その代表者の氏名",null,null,null,null,null,null,null,null,null,null,{"$f":"ETL!$D$7","v":""}]
[]
[null,null,null,null,null,null,null,null,null,null,null,null,null,null,null,null,null,null,null,null,null,null,null,null,{"$f":"ETL!$G$8","v":""},null,null,null,null,null,null,null,null,null,null,null,null,null,null,null,null,"印"]
[]
[null,null,null,null,null,null,null,null,null,null,null,null,null,"住所",null,null,null,null,null,null,null,null,null,null,{"$f":"ETL!$D$11","v":""}]
[]
[]
[null,"　化学兵器の禁止及び特定物質の規制等に関する法律第２５条（第２６条において準用する第２５条）の規定により次のとおり届け出ます。"]
[null,{"$f":"CONCATENATE(ETL!$D$333, \"をした事業所の名称\")","v":"をした事業所の名称"},null,null,null,null,null,null,null,null,null,null,null,null,null,null,null,null,null,{"$f":"ETL!$D$59","v":""}]
[null,{"$f":"CONCATENATE(ETL!$D$333, \"をした事業所の所在地\")","v":"をした事業所の所在地"},null,null,null,null,null,null,null,null,null,null,null,null,null,null,null,null,null,{"$f":"ETL!$G$63","v":""}]
[null,{"$f":"CONCATENATE(ETL!$D$333, \"をした第一種指定物質\")","v":"をした第一種指定物質"},null,null,null,null,null,null,null,null,null,null,null,null,null,null,null,null,null,{"$f":"ETL!$G$338","v":""}]
[null,null,null,null,null,null,null,null,null,null,null,null,null,null,null,null,null,null,null,{"$f":"CONCATENATE(\"(CAS: \", ETL!$G$334, \")\")","v":"(CAS: )"}]
[null,{"$f":"CONCATENATE(ETL!$D$333, \"をした第一種指定物質の数量\")","v":"をした第一種指定物質の数量"},null,null,null,null,null,null,null,null,null,null,null,"区分※",null,null,null,null,null,{"$f":"ETL!$D$339","v":""}]
[null,null,null,null,null,null,null,null,null,null,null,null,null,"数量",null,null,null,null,null,{"$f":"CONCATENATE(ETL!$I$342, \" kg\")","v":"0 kg"},{"$error":"#N/A"},{"$error":"#N/A"},{"$error":"#REF!"},null,null,null,{"$error":"#REF!"},{"$error":"#N/A"},{"$error":"#NAME?"},{"$error":"#N/A"},{"$error":"#N/A"},{"$error":"#N/A"},{"$error":"#N/A"},{"$error":"#N/A"},{"$error":"#NAME?"},null,{"$error":"#N/A"},{"$error":"#N/A"},null,{"$error":"#N/A"},{"$error":"#N/A"},{"$error":"#N/A"}]
[null," （うち直接輸出入したものの数量）",null,null,null,null,null,null,null,null,null,null,null,null,null,null,null,null,null,{"$f":"CONCATENATE(\"（\", IF(OR(ETL!$I$1272 = \"\"), \"\", \" 直接輸出　\" & ETL!$I$1272 & \" kg\"), IF(OR(ETL!$I$1272 = \"\", ETL!$I$1273 = \"\"), \"\", \"　|　\"), IF(OR(ETL!$I$1273 = \"\"), \"\", \" 直接輸入　\" & ETL!$I$1273 & \" kg\"), IF(AND(OR(ETL!$I$1272 = \"\"), OR(ETL!$I$1273 = \"\")), \"　　　　　　　　　　　　　　　　　　　　　　　　　　　　　　　　kg\", \"\"), \" ）\")","v":"（　　　　　　　　　　　　　　　　　　　　　　　　　　　　　　　　kg ）"},{"$error":"#N/A"},{"$error":"#N/A"},{"$error":"#REF!"},null,null,null,{"$error":"#REF!"},{"$error":"#N/A"},{"$error":"#NAME?"},{"$error":"#N/A"},{"$error":"#N/A"},{"$error":"#N/A"},{"$error":"#N/A"},{"$error":"#N/A"},{"$error":"#NAME?"},null,{"$error":"#N/A"},{"$error":"#N/A"},null,{"$error":"#N/A"},{"$error":"#N/A"},{"$error":"#N/A"}]
[null,{"$f":"CONCATENATE(\"事業所内の当該第一種指定物質の\", ETL!$D$333, \"施設の数及び位置\")","v":"事業所内の当該第一種指定物質の施設の数及び位置"},null,null,null,null,null,null,null,null,null,null,null,null,null,null,null,null,null," 数",null,null,{"$f":"ETL!$D$340","v":1},null,null,null,null,null,null,null,null,"位置",null,null,{"$f":"ETL!$D$341","v":"別添資料のとおり"}]
[null,{"$f":"CONCATENATE(\"当該\", ETL!$D$333, \"施設ごとの当該第一種指定物質の\", ETL!$D$333, \"数量及び製造にあってはその製造能力\")","v":"当該施設ごとの当該第一種指定物質の数量及び製造にあってはその製造能力"},null,null,null,null,null,null,null,null,null,null,null,null,null,null,null,null,null,"数量",null,null,{"$f":"IF(ETL!$G$343=\"\", \"\",CONCATENATE(\"(\", ETL!$G$343, \" )\"))","v":""},null,null,null,{"$f":"IF(ETL!$G$346=\"\", \"\", CONCATENATE(\"(\", ETL!$G$346, \" )\"))","v":""},null,null,null,{"$f":"IF(ETL!$G$349=\"\", \"\", CONCATENATE(\"(\", ETL!$G$349, \" )\"))","v":""},null,null,null,{"$f":"IF(ETL!$G$352=\"\", \"\", CONCATENATE(\"(\", ETL!$G$352, \" )\"))","v":""},null,null,null,{"$f":"IF(ETL!$G$355=\"\", \"\", CONCATENATE(\"(\", ETL!$G$355, \" )\"))","v":""}]
[null,null,null,null,null,null,null,null,null,null,null,null,null,null,null,null,null,null,null,null,null,null,{"$f":"CONCATENATE(ETL!$I$344, \" kg\")","v":"0 kg"},null,null,null,{"$f":"IF(ETL!$I$347=\"\", \"\", CONCATENATE(ETL!$I$347, \" kg\"))","v":""},null,null,null,{"$f":"IF(ETL!$I$350=\"\", \"\", CONCATENATE(ETL!$I$350, \" kg\"))","v":""},null,null,null,{"$f":"IF(ETL!$I$353=\"\", \"\", CONCATENATE(ETL!$I$353, \" kg\"))","v":""},null,null,null,{"$f":"IF(ETL!$I$356=\"\", \"\", CONCATENATE(ETL!$I$356, \" kg\"))","v":""}]
[null,null,null,null,null,null,null,null,null,null,null,null,null,null,null,null,null,null,null,"能力",null,null,{"$f":"IF(ETL!$I$345=\"\", \"\", CONCATENATE(ETL!$I$345, \" kg／年\"))","v":"0 kg／年"},null,null,null,{"$f":"IF(ETL!$I$348=\"\", \"\", CONCATENATE(ETL!$I$348, \" kg／年\"))","v":""},null,null,null,{"$f":"IF(ETL!$I$351=\"\", \"\", CONCATENATE(ETL!$I$351, \" kg／年\"))","v":""},null,null,null,{"$f":"IF(ETL!$I$354=\"\", \"\", CONCATENATE(ETL!$I$354, \" kg／年\"))","v":""},null,null,null,{"$f":"IF(ETL!$I$357=\"\", \"\", CONCATENATE(ETL!$I$357, \" kg／年\"))","v":""}]
[null,"備考　１",null,null,null,"用紙の大きさは、日本産業規格Ａ４とすること。"]
[null,"　　　　２",null,null,null,"区分については、製造等にあっては製造、抽出、精製の別を、使用にあっては第１８条第２項第１号及び第２号の別を記載すること。"]

{"sheet":"【自動入力】Form2.2","index":7,"n_rows":30,"n_cols":45,"rows_kept":30,"cut":false,"hidden":false,"merged":[[6,0,6,45],[0,34,0,37],[0,38,0,39],[0,40,0,41],[0,42,0,43],[0,44,0,45],[2,0,2,45],[3,0,3,45],[4,0,4,45],[5,0,5,45],[0,19,0,33],[15,0,15,10],[15,11,15,45],[7,0,7,45],[8,0,8,16],[8,17,8,24],[8,25,8,45],[9,0,9,45],[10,0,10,10],[10,11,10,45],[11,0,11,45],[12,0,12,45],[13,0,13,10],[13,11,13,45],[14,0,14,45],[16,0,16,45],[17,0,17,10],[17,11,17,45],[18,0,18,45],[19,0,19,10],[19,11,19,22],[19,23,19,45],[35,0,35,45],[29,0,29,40],[29,41,29,42],[29,43,29,45],[30,0,30,45],[31,0,33,45],[34,0,34,25],[34,26,34,28],[34,30,34,38],[34,39,34,41],[34,43,34,45],[28,0,28,45],[21,0,21,45],[23,6,23,7],[23,10,23,11],[23,14,23,17],[23,29,23,31],[23,34,23,35],[23,38,23,41],[24,0,24,45],[25,0,25,35],[25,36,25,45],[26,11,26,45],[27,0,27,45]]}
[null,null,null,null,null,null,null,null,null,null,null,null,null,null,null,null,null,null,null,"届出日 （西暦：ccyy-mm-dd）",null,null,null,null,null,null,null,null,null,null,null,null,null,null,{"$f":"ETL!$D$3","v":0},null,null,null,"－",null,{"$f":"ETL!$D$4","v":0},null,"－",null,{"$f":"ETL!$D$5","v":0}]
[]
["Form 2.2: Declaration of Schedule 2 Plant Sites "]
[]
[]
["Ensure to complete one form for each plant site."]
[]
[]
["Plant Site Code:",null,null,null,null,null,null,null,null,null,null,null,null,null,null,null,null,{"$f":"ETL!$D$61","v":""}]
[]
["Name of Plant Site: ",null,null,null,null,null,null,null,null,null,null,{"$f":"ETL!$D$60","v":""}]
[]
["The name of the owner, company, or enterprise operating the plant site:"]
[null,null,null,null,null,null,null,null,null,null,null,{"$f":"ETL!$D$8","v":""}]
[]
["Street address:",null,null,null,null,null,null,null,null,null,null,{"$f":"ETL!$D$67","v":""}]
[]
["City/district:",null,null,null,null,null,null,null,null,null,null,{"$f":"ETL!$D$65","v":""}]
[]
["Province/state/other:",null,null,null,null,null,null,null,null,null,null,{"$f":"ETL!$D$63","v":""}]
[]
["Latitude, longitude/Precise location:"]
[]
[null,"Latitude:",null,null,null,null,{"$f":"ETL!$D$68","v":0},null,"／",null,{"$f":"ETL!$D$69","v":0},null,"／",null,{"$f":"ETL!$D$70","v":0},null,null,null,null,"N",null,null,null,"Longitude:",null,null,null,null,null,{"$f":"ETL!$D$71","v":0},null,null,"／",null,{"$f":"ETL!$D$72","v":0},null,"／",null,{"$f":"ETL!$D$73","v":0},null,null,null,null,"E"]
[]
["Identify the attachement for additional information on this plant site (if available):"]
[null,null,null,null,null,null,null,null,null,null,null,{"$f":"ETL!$D$74","v":""}]
[]
[]
["Number of declared Schedule 3 Plants at the plant site:",null,null,null,null,null,null,null,null,null,null,null,null,null,null,null,null,null,null,null,null,null,null,null,null,null,null,null,null,null,null,null,null,null,null,null,null,null,null,null,null,{"$f":"ETL!$D$362","v":0}]

{"sheet":"【自動入力】Form2.3","index":8,"n_rows":422,"n_cols":45,"rows_kept":422,"cut":false,"hidden":false,"merged":[[206,18,206,45],[249,18,249,45],[292,18,292,45],[335,18,335,45],[378,18,378,45],[421,18,421,45],[0,44,0,45],[2,0,2,45],[3,0,3,45],[4,0,4,45],[5,0,5,45],[6,0,6,45],[0,34,0,37],[0,38,0,39],[0,40,0,41],[0,42,0,43],[11,0,11,45],[12,0,12,14],[12,15,12,45],[13,0,13,45],[14,0,14,45],[15,0,15,14],[15,15,15,45],[7,0,7,45],[8,0,8,16],[8,17,8,26],[8,27,8,45],[9,0,9,45],[10,0,10,16],[10,17,10,24],[10,25,10,45],[26,15,26,45],[27,0,27,45],[28,0,28,45],[29,0,29,45],[30,0,30,45],[31,0,31,45],[16,0,16,45],[17,0,17,45],[18,15,19,45],[21,17,21,45],[23,17,23,45],[25,0,25,45],[35,0,35,45],[36,0,36,45],[37,0,37,45],[38,0,38,45],[39,0,39,45],[40,0,40,45],[32,0,33,45],[45,0,45,45],[34,18,34,45],[46,0,46,45],[47,0,47,45],[48,0,48,45],[49,0,49,45],[50,0,50,45],[41,0,41,45],[42,0,42,45],[43,34,43,37],[43,38,43,39],[43,40,43,41],[43,42,43,43],[43,44,43,45],[54,0,54,45],[55,0,55,14],[55,15,55,45],[56,0,56,45],[57,0,57,45],[58,0,58,14],[58,15,58,45],[51,0,51,16],[51,17,51,26],[51,27,51,45],[52,0,52,45],[53,0,53,16],[53,17,53,24],[53,25,53,45],[69,15,69,45],[70,0,70,45],[71,0,71,45],[72,0,72,45],[73,0,73,45],[74,0,74,45],[59,0,59,45],[60,0,60,45],[61,15,62,45],[64,17,64,45],[66,17,66,45],[68,0,68,45],[78,0,78,45],[79,0,79,45],[80,0,80,45],[81,0,81,45],[82,0,82,45],[83,0,83,45],[75,0,76,45],[88,0,88,45],[77,18,77,45],[89,0,89,45],[90,0,90,45],[91,0,91,45],[92,0,92,45],[93,0,93,45],[84,0,84,45],[85,0,85,45],[86,34,86,37],[86,38,86,39],[86,40,86,41],[86,42,86,43],[86,44,86,45],[97,0,97,45],[98,0,98,14],[98,15,98,45],[99,0,99,45],[100,0,100,45],[101,0,101,14],[101,15,101,45],[94,0,94,16],[94,17,94,26],[94,27,94,45],[95,0,95,45],[96,0,96,16],[96,17,96,24],[96,25,96,45],[118,0,119,45],[112,15,112,45],[113,0,113,45],[114,0,114,45],[115,0,115,45],[116,0,116,45],[117,0,117,45],[102,0,102,45],[103,0,103,45],[104,15,105,45],[107,17,107,45],[109,17,109,45],[111,0,111,45],[120,18,120,45],[184,0,184,14],[184,15,184,45],[185,0,185,45],[187,0,187,14],[187,15,187,45],[179,0,179,45],[180,0,180,16],[127,0,127,45],[121,0,121,45],[122,0,122,45],[123,0,123,45],[124,0,124,45],[125,0,125,45],[126,0,126,45],[164,0,164,45],[165,0,165,45],[166,0,166,45],[167,0,167,45],[168,0,168,45],[181,0,181,45],[183,0,183,45],[182,0,182,16],[182,17,182,24],[182,25,182,45],[204,0,205,45],[202,0,202,45],[203,0,203,45],[161,0,162,45],[178,0,178,45],[180,17,180,26],[180,27,180,45],[197,0,197,45],[199,0,199,45],[200,0,200,45],[201,0,201,45],[198,15,198,45],[193,17,193,45],[189,0,189,45],[190,15,191,45],[195,17,195,45],[188,0,188,45],[186,0,186,45],[174,0,174,45],[175,0,175,45],[176,0,176,45],[177,0,177,45],[169,0,169,45],[136,0,136,45],[137,0,137,16],[137,17,137,26],[253,0,253,45],[254,0,254,45],[0,19,0,33],[0,0,0,18],[43,0,43,18],[43,19,43,33],[86,0,86,18],[86,19,86,33],[128,0,128,45],[250,0,250,45],[251,0,251,45],[252,0,252,45],[247,0,248,45],[244,0,244,45],[245,0,245,45],[129,0,129,18],[129,19,129,33],[129,34,129,37],[129,38,129,39],[129,40,129,41],[129,42,129,43],[207,0,207,45],[208,0,208,45],[209,0,209,45],[210,0,210,45],[211,0,211,45],[129,44,129,45],[160,0,160,45],[155,15,155,45],[156,0,156,45],[157,0,157,45],[158,0,158,45],[159,0,159,45],[145,0,145,45],[146,0,146,45],[142,0,142,45],[143,0,143,45],[137,27,137,45],[138,0,138,45],[131,0,131,45],[132,0,132,45],[133,0,133,45],[134,0,134,45],[135,0,135,45],[144,0,144,14],[139,0,139,16],[139,17,139,24],[139,25,139,45],[140,0,140,45],[141,0,141,14],[141,15,141,45],[172,0,172,18],[172,19,172,33],[172,34,172,37],[172,38,172,39],[172,40,172,41],[172,42,172,43],[172,44,172,45],[170,0,170,45],[171,0,171,45],[144,15,144,45],[147,15,148,45],[150,17,150,45],[152,17,152,45],[154,0,154,45],[163,18,163,45],[226,0,226,45],[227,0,227,14],[227,15,227,45],[223,0,223,16],[223,17,223,26],[223,27,223,45],[221,0,221,45],[220,0,220,45],[224,0,224,45],[225,0,225,16],[225,17,225,24],[225,25,225,45],[212,0,212,45],[213,0,213,45],[215,0,215,18],[215,19,215,33],[215,34,215,37],[215,38,215,39],[215,40,215,41],[215,42,215,43],[222,0,222,45],[214,0,214,45],[217,0,217,45],[218,0,218,45],[219,0,219,45],[215,44,215,45],[246,0,246,45],[240,0,240,45],[242,0,242,45],[243,0,243,45],[238,17,238,45],[241,15,241,45],[228,0,228,45],[229,0,229,45],[231,0,231,45],[232,0,232,45],[233,15,234,45],[236,17,236,45],[230,0,230,14],[230,15,230,45],[260,0,260,45],[261,0,261,45],[262,0,262,45],[263,0,263,45],[255,0,255,45],[256,0,256,45],[257,0,257,45],[258,0,258,18],[258,19,258,33],[258,34,258,37],[258,38,258,39],[258,40,258,41],[258,42,258,43],[258,44,258,45],[268,0,268,16],[268,17,268,24],[268,25,268,45],[269,0,269,45],[270,0,270,14],[270,15,270,45],[264,0,264,45],[265,0,265,45],[266,0,266,16],[266,17,266,26],[266,27,266,45],[267,0,267,45],[276,15,277,45],[279,17,279,45],[281,17,281,45],[283,0,283,45],[284,15,284,45],[285,0,285,45],[271,0,271,45],[272,0,272,45],[273,0,273,14],[273,15,273,45],[274,0,274,45],[275,0,275,45],[293,0,293,45],[294,0,294,45],[295,0,295,45],[296,0,296,45],[297,0,297,45],[298,0,298,45],[286,0,286,45],[287,0,287,45],[288,0,288,45],[289,0,289,45],[290,0,291,45],[303,0,303,45],[304,0,304,45],[305,0,305,45],[306,0,306,45],[307,0,307,45],[308,0,308,45],[299,0,299,45],[300,0,300,45],[301,0,301,18],[301,19,301,33],[301,34,301,37],[301,38,301,39],[301,40,301,41],[301,42,301,43],[301,44,301,45],[312,0,312,45],[313,0,313,14],[313,15,313,45],[314,0,314,45],[315,0,315,45],[316,0,316,14],[316,15,316,45],[309,0,309,16],[309,17,309,26],[309,27,309,45],[310,0,310,45],[311,0,311,16],[311,17,311,24],[311,25,311,45],[327,15,327,45],[328,0,328,45],[329,0,329,45],[330,0,330,45],[331,0,331,45],[332,0,332,45],[317,0,317,45],[318,0,318,45],[319,15,320,45],[322,17,322,45],[324,17,324,45],[326,0,326,45],[336,0,336,45],[337,0,337,45],[338,0,338,45],[339,0,339,45],[340,0,340,45],[341,0,341,45],[333,0,334,45],[346,0,346,45],[347,0,347,45],[348,0,348,45],[349,0,349,45],[350,0,350,45],[351,0,351,45],[342,0,342,45],[343,0,343,45],[344,0,344,18],[344,19,344,33],[344,34,344,37],[344,38,344,39],[344,40,344,41],[344,42,344,43],[344,44,344,45],[355,0,355,45],[356,0,356,14],[356,15,356,45],[357,0,357,45],[358,0,358,45],[359,0,359,14],[359,15,359,45],[352,0,352,16],[352,17,352,26],[352,27,352,45],[353,0,353,45],[354,0,354,16],[354,17,354,24],[354,25,354,45],[370,15,370,45],[371,0,371,45],[372,0,372,45],[373,0,373,45],[374,0,374,45],[375,0,375,45],[360,0,360,45],[361,0,361,45],[362,15,363,45],[365,17,365,45],[367,17,367,45],[369,0,369,45],[379,0,379,45],[380,0,380,45],[381,0,381,45],[382,0,382,45],[383,0,383,45],[384,0,384,45],[376,0,377,45],[389,0,389,45],[390,0,390,45],[391,0,391,45],[392,0,392,45],[393,0,393,45],[394,0,394,45],[385,0,385,45],[386,0,386,45],[387,0,387,18],[387,19,387,33],[387,34,387,37],[387,38,387,39],[387,40,387,41],[387,42,387,43],[387,44,387,45],[398,0,398,45],[399,0,399,14],[399,15,399,45],[400,0,400,45],[401,0,401,45],[402,0,402,14],[402,15,402,45],[395,0,395,16],[395,17,395,26],[395,27,395,45],[396,0,396,45],[397,0,397,16],[397,17,397,24],[397,25,397,45],[413,15,413,45],[414,0,414,45],[415,0,415,45],[416,0,416,45],[417,0,417,45],[418,0,418,45],[403,0,403,45],[404,0,404,45],[405,15,406,45],[408,17,408,45],[410,17,410,45],[412,0,412,45],[428,0,428,45],[429,0,429,45],[422,0,422,45],[423,0,423,45],[424,0,424,45],[425,0,425,45],[426,0,426,45],[427,0,427,45],[419,0,420,45]]}
[null,null,null,null,null,null,null,null,null,null,null,null,null,null,null,null,null,null,null,"届出日 （西暦：ccyy-mm-dd）",null,null,null,null,null,null,null,null,null,null,null,null,null,null,{"$f":"ETL!$D$3","v":0},null,null,null,"－",null,{"$f":"ETL!$D$4","v":0},null,"－",null,{"$f":"ETL!$D$5","v":0}]
[]
["Form 2.3: Declaration of Schedule 2 Plant(s)"]
[]
[]
["Ensure to complete one form for each plant."]
[]
[]
["Plant Code:",null,null,null,null,null,null,null,null,null,null,null,null,null,null,null,null,{"$f":"ETL!$D$367","v":""}]
[]
["Plant Site Code:",null,null,null,null,null,null,null,null,null,null,null,null,null,null,null,null,{"$f":"ETL!$D$61","v":""}]
[]
["Name of plant:",null,null,null,null,null,null,null,null,null,null,null,null,null,null,{"$f":"ETL!$D$366","v":""}]
[]
["The name of the owner, company, or enterprise operating the plant:"]
[null,null,null,null,null,null,null,null,null,null,null,null,null,null,null,{"$f":"ETL!$D$8","v":""}]
[]
["The precise location of the plant within the plant site:"]
[null,null,null,null,null,null,null,null,null,null,null,null,null,null,null,{"$f":"ETL!$D$368","v":""}]
[]
[]
[null,null,"Specific structure number, if any:",null,null,null,null,null,null,null,null,null,null,null,null,null,null,{"$f":"ETL!$D$369","v":""}]
[]
[null,null,"Specific building number, if any:",null,null,null,null,null,null,null,null,null,null,null,null,null,null,{"$f":"ETL!$D$370","v":""}]
[]
["Identify the attachements for additional information on a voluntary basis on this plant (if available):"]
[null,null,null,null,null,null,null,null,null,null,null,null,null,null,null,{"$f":"ETL!$D$371","v":""}]
[]
[]
[]
["Main activities of Schedule 2 plants:"]
[]
["Use product group codes (see Appendix 4) to describe main activities of the plant in terms of product group(s):"]
[]
[null,null,null,null,null,null,null,null,null,null,null,null,null,null,null,null,null,null,{"$f":"ETL!$G$402","v":""}]
[]
[]
[]
[]
[]
[]
[]
[]
[null,null,null,null,null,null,null,null,null,null,null,null,null,null,null,null,null,null,null,"届出日 （西暦：ccyy-mm-dd）",null,null,null,null,null,null,null,null,null,null,null,null,null,null,{"$f":"ETL!$D$3","v":0},null,null,null,"－",null,{"$f":"ETL!$D$4","v":0},null,"－",null,{"$f":"ETL!$D$5","v":0}]
[]
["Form 2.3: Declaration of Schedule 2 Plant(s)"]
[]
[]
["Ensure to complete one form for each plant."]
[]
[]
["Plant Code:",null,null,null,null,null,null,null,null,null,null,null,null,null,null,null,null,{"$f":"ETL!$D$416","v":""}]
[]
["Plant Site Code:",null,null,null,null,null,null,null,null,null,null,null,null,null,null,null,null,{"$f":"ETL!$D$61","v":""}]
[]
["Name of plant:",null,null,null,null,null,null,null,null,null,null,null,null,null,null,{"$f":"ETL!$D$415","v":""}]
[]
["The name of the owner, company, or enterprise operating the plant:"]
[null,null,null,null,null,null,null,null,null,null,null,null,null,null,null,{"$f":"ETL!$D$8","v":""}]
[]
["The precise location of the plant within the plant site:"]
[null,null,null,null,null,null,null,null,null,null,null,null,null,null,null,{"$f":"ETL!$D$417","v":""}]
[]
[]
[null,null,"Specific structure number, if any:",null,null,null,null,null,null,null,null,null,null,null,null,null,null,{"$f":"ETL!$D$418","v":""}]
[]
[null,null,"Specific building number, if any:",null,null,null,null,null,null,null,null,null,null,null,null,null,null,{"$f":"ETL!$D$419","v":""}]
[]
["Identify the attachements for additional information on a voluntary basis on this plant (if available):"]
[null,null,null,null,null,null,null,null,null,null,null,null,null,null,null,{"$f":"ETL!$D$420","v":""}]
[]
[]
[]
["Main activities of Schedule 2 plants:"]
[]
["Use product group codes (see Appendix 4) to describe main activities of the plant in terms of product group(s):"]
[]
[null,null,null,null,null,null,null,null,null,null,null,null,null,null,null,null,null,null,{"$f":"ETL!$G$451","v":""}]
[]
[]
[]
[]
[]
[]
[]
[]
[null,null,null,null,null,null,null,null,null,null,null,null,null,null,null,null,null,null,null,"届出日 （西暦：ccyy-mm-dd）",null,null,null,null,null,null,null,null,null,null,null,null,null,null,{"$f":"ETL!$D$3","v":0},null,null,null,"－",null,{"$f":"ETL!$D$4","v":0},null,"－",null,{"$f":"ETL!$D$5","v":0}]
[]
["Form 2.3: Declaration of Schedule 2 Plant(s)"]
[]
[]
["Ensure to complete one form for each plant."]
[]
[]
["Plant Code:",null,null,null,null,null,null,null,null,null,null,null,null,null,null,null,null,{"$f":"ETL!$D$465","v":""}]
[]
["Plant Site Code:",null,null,null,null,null,null,null,null,null,null,null,null,null,null,null,null,{"$f":"ETL!$D$61","v":""}]
[]
["Name of plant:",null,null,null,null,null,null,null,null,null,null,null,null,null,null,{"$f":"ETL!$D$464","v":""}]
[]
["The name of the owner, company, or enterprise operating the plant:"]
[null,null,null,null,null,null,null,null,null,null,null,null,null,null,null,{"$f":"ETL!$D$8","v":""}]
[]
["The precise location of the plant within the plant site:"]
[null,null,null,null,null,null,null,null,null,null,null,null,null,null,null,{"$f":"ETL!$D$466","v":""}]
[]
[]
[null,null,"Specific structure number, if any:",null,null,null,null,null,null,null,null,null,null,null,null,null,null,{"$f":"ETL!$D$467","v":""}]
[]
[null,null,"Specific building number, if any:",null,null,null,null,null,null,null,null,null,null,null,null,null,null,{"$f":"ETL!$D$468","v":""}]
[]
["Identify the attachements for additional information on a voluntary basis on this plant (if available):"]
[null,null,null,null,null,null,null,null,null,null,null,null,null,null,null,{"$f":"ETL!$D$469","v":""}]
[]
[]
[]
["Main activities of Schedule 2 plants:"]
[]
["Use product group codes (see Appendix 4) to describe main activities of the plant in terms of product group(s):"]
[]
[null,null,null,null,null,null,null,null,null,null,null,null,null,null,null,null,null,null,{"$f":"ETL!$G$500","v":""}]
[]
[]
[]
[]
[]
[]
[]
[]
[null,null,null,null,null,null,null,null,null,null,null,null,null,null,null,null,null,null,null,"届出日 （西暦：ccyy-mm-dd）",null,null,null,null,null,null,null,null,null,null,null,null,null,null,{"$f":"ETL!$D$3","v":0},null,null,null,"－",null,{"$f":"ETL!$D$4","v":0},null,"－",null,{"$f":"ETL!$D$5","v":0}]
[]
["Form 2.3: Declaration of Schedule 2 Plant(s)"]
[]
[]
["Ensure to complete one form for each plant."]
[]
[]
["Plant Code:",null,null,null,null,null,null,null,null,null,null,null,null,null,null,null,null,{"$f":"ETL!$D$514","v":""}]
[]
["Plant Site Code:",null,null,null,null,null,null,null,null,null,null,null,null,null,null,null,null,{"$f":"ETL!$D$61","v":""}]
[]
["Name of plant:",null,null,null,null,null,null,null,null,null,null,null,null,null,null,{"$f":"ETL!$D$513","v":""}]
[]
["The name of the owner, company, or enterprise operating the plant:"]
[null,null,null,null,null,null,null,null,null,null,null,null,null,null,null,{"$f":"ETL!$D$8","v":""}]
[]
["The precise location of the plant within the plant site:"]
[null,null,null,null,null,null,null,null,null,null,null,null,null,null,null,{"$f":"ETL!$D$515","v":""}]
[]
[]
[null,null,"Specific structure number, if any:",null,null,null,null,null,null,null,null,null,null,null,null,null,null,{"$f":"ETL!$D$516","v":""}]
[]
[null,null,"Specific building number, if any:",null,null,null,null,null,null,null,null,null,null,null,null,null,null,{"$f":"ETL!$D$517","v":""}]
[]
["Identify the attachements for additional information on a voluntary basis on this plant (if available):"]
[null,null,null,null,null,null,null,null,null,null,null,null,null,null,null,{"$f":"ETL!$D$518","v":""}]
[]
[]
[]
["Main activities of Schedule 2 plants:"]
[]
["Use product group codes (see Appendix 4) to describe main activities of the plant in terms of product group(s):"]
[]
[null,null,null,null,null,null,null,null,null,null,null,null,null,null,null,null,null,null,{"$f":"ETL!$G$549","v":""}]
[]
[]
[]
[]
[]
[]
[]
[]
[null,null,null,null,null,null,null,null,null,null,null,null,null,null,null,null,null,null,null,"届出日 （西暦：ccyy-mm-dd）",null,null,null,null,null,null,null,null,null,null,null,null,null,null,{"$f":"ETL!$D$3","v":0},null,null,null,"－",null,{"$f":"ETL!$D$4","v":0},null,"－",null,{"$f":"ETL!$D$5","v":0}]
[]
["Form 2.3: Declaration of Schedule 2 Plant(s)"]
[]
[]
["Ensure to complete one form for each plant."]
[]
[]
["Plant Code:",null,null,null,null,null,null,null,null,null,null,null,null,null,null,null,null,{"$f":"ETL!$D$563","v":""}]
[]
["Plant Site Code:",null,null,null,null,null,null,null,null,null,null,null,null,null,null,null,null,{"$f":"ETL!$D$61","v":""}]
[]
["Name of plant:",null,null,null,null,null,null,null,null,null,null,null,null,null,null,{"$f":"ETL!$D$562","v":""}]
[]
["The name of the owner, company, or enterprise operating the plant:"]
[null,null,null,null,null,null,null,null,null,null,null,null,null,null,null,{"$f":"ETL!$D$8","v":""}]
[]
["The precise location of the plant within the plant site:"]
[null,null,null,null,null,null,null,null,null,null,null,null,null,null,null,{"$f":"ETL!$D$564","v":""}]
[]
[]
[null,null,"Specific structure number, if any:",null,null,null,null,null,null,null,null,null,null,null,null,null,null,{"$f":"ETL!$D$565","v":""}]
[]
[null,null,"Specific building number, if any:",null,null,null,null,null,null,null,null,null,null,null,null,null,null,{"$f":"ETL!$D$566","v":""}]
[]
["Identify the attachements for additional information on a voluntary basis on this plant (if available):"]
[null,null,null,null,null,null,null,null,null,null,null,null,null,null,null,{"$f":"ETL!$D$567","v":""}]
[]
[]
[]
["Main activities of Schedule 2 plants:"]
[]
["Use product group codes (see Appendix 4) to describe main activities of the plant in terms of product group(s):"]
[]
[null,null,null,null,null,null,null,null,null,null,null,null,null,null,null,null,null,null,{"$f":"ETL!$G$598","v":""}]
[]
[]
[]
[]
[]
[]
[]
[]
[null,null,null,null,null,null,null,null,null,null,null,null,null,null,null,null,null,null,null,"届出日 （西暦：ccyy-mm-dd）",null,null,null,null,null,null,null,null,null,null,null,null,null,null,{"$f":"ETL!$D$3","v":0},null,null,null,"－",null,{"$f":"ETL!$D$4","v":0},null,"－",null,{"$f":"ETL!$D$5","v":0}]
[]
["Form 2.3: Declaration of Schedule 2 Plant(s)"]
[]
[]
["Ensure to complete one form for each plant."]
[]
[]
["Plant Code:",null,null,null,null,null,null,null,null,null,null,null,null,null,null,null,null,{"$f":"ETL!$D$612","v":""}]
[]
["Plant Site Code:",null,null,null,null,null,null,null,null,null,null,null,null,null,null,null,null,{"$f":"ETL!$D$61","v":""}]
[]
["Name of plant:",null,null,null,null,null,null,null,null,null,null,null,null,null,null,{"$f":"ETL!$D$611","v":""}]
[]
["The name of the owner, company, or enterprise operating the plant:"]
[null,null,null,null,null,null,null,null,null,null,null,null,null,null,null,{"$f":"ETL!$D$8","v":""}]
[]
["The precise location of the plant within the plant site:"]
[null,null,null,null,null,null,null,null,null,null,null,null,null,null,null,{"$f":"ETL!$D$613","v":""}]
[]
[]
[null,null,"Specific structure number, if any:",null,null,null,null,null,null,null,null,null,null,null,null,null,null,{"$f":"ETL!$D$614","v":""}]
[]
[null,null,"Specific building number, if any:",null,null,null,null,null,null,null,null,null,null,null,null,null,null,{"$f":"ETL!$D$615","v":""}]
[]
["Identify the attachements for additional information on a voluntary basis on this plant (if available):"]
[null,null,null,null,null,null,null,null,null,null,null,null,null,null,null,{"$f":"ETL!$D$616","v":""}]
[]
[]
[]
["Main activities of Schedule 2 plants:"]
[]
["Use product group codes (see Appendix 4) to describe main activities of the plant in terms of product group(s):"]
[]
[null,null,null,null,null,null,null,null,null,null,null,null,null,null,null,null,null,null,{"$f":"ETL!$G$647","v":""}]
[]
[]
[]
[]
[]
[]
[]
[]
[null,null,null,null,null,null,null,null,null,null,null,null,null,null,null,null,null,null,null,"届出日 （西暦：ccyy-mm-dd）",null,null,null,null,null,null,null,null,null,null,null,null,null,null,{"$f":"ETL!$D$3","v":0},null,null,null,"－",null,{"$f":"ETL!$D$4","v":0},null,"－",null,{"$f":"ETL!$D$5","v":0}]
[]
["Form 2.3: Declaration of Schedule 2 Plant(s)"]
[]
[]
["Ensure to complete one form for each plant."]
[]
[]
["Plant Code:",null,null,null,null,null,null,null,null,null,null,null,null,null,null,null,null,{"$f":"ETL!$D$661","v":""}]
[]
["Plant Site Code:",null,null,null,null,null,null,null,null,null,null,null,null,null,null,null,null,{"$f":"ETL!$D$61","v":""}]
[]
["Name of plant:",null,null,null,null,null,null,null,null,null,null,null,null,null,null,{"$f":"ETL!$D$660","v":""}]
[]
["The name of the owner, company, or enterprise operating the plant:"]
[null,null,null,null,null,null,null,null,null,null,null,null,null,null,null,{"$f":"ETL!$D$8","v":""}]
[]
["The precise location of the plant within the plant site:"]
[null,null,null,null,null,null,null,null,null,null,null,null,null,null,null,{"$f":"ETL!$D$662","v":""}]
[]
[]
[null,null,"Specific structure number, if any:",null,null,null,null,null,null,null,null,null,null,null,null,null,null,{"$f":"ETL!$D$663","v":""}]
[]
[null,null,"Specific building number, if any:",null,null,null,null,null,null,null,null,null,null,null,null,null,null,{"$f":"ETL!$D$664","v":""}]
[]
["Identify the attachements for additional information on a voluntary basis on this plant (if available):"]
[null,null,null,null,null,null,null,null,null,null,null,null,null,null,null,{"$f":"ETL!$D$665","v":""}]
[]
[]
[]
["Main activities of Schedule 2 plants:"]
[]
["Use product group codes (see Appendix 4) to describe main activities of the plant in terms of product group(s):"]
[]
[null,null,null,null,null,null,null,null,null,null,null,null,null,null,null,null,null,null,{"$f":"ETL!$G$696","v":""}]
[]
[]
[]
[]
[]
[]
[]
[]
[null,null,null,null,null,null,null,null,null,null,null,null,null,null,null,null,null,null,null,"届出日 （西暦：ccyy-mm-dd）",null,null,null,null,null,null,null,null,null,null,null,null,null,null,{"$f":"ETL!$D$3","v":0},null,null,null,"－",null,{"$f":"ETL!$D$4","v":0},null,"－",null,{"$f":"ETL!$D$5","v":0}]
[]
["Form 2.3: Declaration of Schedule 2 Plant(s)"]
[]
[]
["Ensure to complete one form for each plant."]
[]
[]
["Plant Code:",null,null,null,null,null,null,null,null,null,null,null,null,null,null,null,null,{"$f":"ETL!$D$710","v":""}]
[]
["Plant Site Code:",null,null,null,null,null,null,null,null,null,null,null,null,null,null,null,null,{"$f":"ETL!$D$61","v":""}]
[]
["Name of plant:",null,null,null,null,null,null,null,null,null,null,null,null,null,null,{"$f":"ETL!$D$709","v":""}]
[]
["The name of the owner, company, or enterprise operating the plant:"]
[null,null,null,null,null,null,null,null,null,null,null,null,null,null,null,{"$f":"ETL!$D$8","v":""}]
[]
["The precise location of the plant within the plant site:"]
[null,null,null,null,null,null,null,null,null,null,null,null,null,null,null,{"$f":"ETL!$D$711","v":""}]
[]
[]
[null,null,"Specific structure number, if any:",null,null,null,null,null,null,null,null,null,null,null,null,null,null,{"$f":"ETL!$D$712","v":""}]
[]
[null,null,"Specific building number, if any:",null,null,null,null,null,null,null,null,null,null,null,null,null,null,{"$f":"ETL!$D$713","v":""}]
[]
["Identify the attachements for additional information on a voluntary basis on this plant (if available):"]
[null,null,null,null,null,null,null,null,null,null,null,null,null,null,null,{"$f":"ETL!$D$714","v":""}]
[]
[]
[]
["Main activities of Schedule 2 plants:"]
[]
["Use product group codes (see Appendix 4) to describe main activities of the plant in terms of product group(s):"]
[]
[null,null,null,null,null,null,null,null,null,null,null,null,null,null,null,null,null,null,{"$f":"ETL!$G$745","v":""}]
[]
[]
[]
[]
[]
[]
[]
[]
[null,null,null,null,null,null,null,null,null,null,null,null,null,null,null,null,null,null,null,"届出日 （西暦：ccyy-mm-dd）",null,null,null,null,null,null,null,null,null,null,null,null,null,null,{"$f":"ETL!$D$3","v":0},null,null,null,"－",null,{"$f":"ETL!$D$4","v":0},null,"－",null,{"$f":"ETL!$D$5","v":0}]
[]
["Form 2.3: Declaration of Schedule 2 Plant(s)"]
[]
[]
["Ensure to complete one form for each plant."]
[]
[]
["Plant Code:",null,null,null,null,null,null,null,null,null,null,null,null,null,null,null,null,{"$f":"ETL!$D$759","v":""}]
[]
["Plant Site Code:",null,null,null,null,null,null,null,null,null,null,null,null,null,null,null,null,{"$f":"ETL!$D$61","v":""}]
[]
["Name of plant:",null,null,null,null,null,null,null,null,null,null,null,null,null,null,{"$f":"ETL!$D$758","v":""}]
[]
["The name of the owner, company, or enterprise operating the plant:"]
[null,null,null,null,null,null,null,null,null,null,null,null,null,null,null,{"$f":"ETL!$D$8","v":""}]
[]
["The precise location of the plant within the plant site:"]
[null,null,null,null,null,null,null,null,null,null,null,null,null,null,null,{"$f":"ETL!$D$760","v":""}]
[]
[]
[null,null,"Specific structure number, if any:",null,null,null,null,null,null,null,null,null,null,null,null,null,null,{"$f":"ETL!$D$761","v":""}]
[]
[null,null,"Specific building number, if any:",null,null,null,null,null,null,null,null,null,null,null,null,null,null,{"$f":"ETL!$D$762","v":""}]
[]
["Identify the attachements for additional information on a voluntary basis on this plant (if available):"]
[null,null,null,null,null,null,null,null,null,null,null,null,null,null,null,{"$f":"ETL!$D$763","v":""}]
[]
[]
[]
["Main activities of Schedule 2 plants:"]
[]
["Use product group codes (see Appendix 4) to describe main activities of the plant in terms of product group(s):"]
[]
[null,null,null,null,null,null,null,null,null,null,null,null,null,null,null,null,null,null,{"$f":"ETL!$G$794","v":""}]
[]
[]
[]
[]
[]
[]
[]
[]
[null,null,null,null,null,null,null,null,null,null,null,null,null,null,null,null,null,null,null,"届出日 （西暦：ccyy-mm-dd）",null,null,null,null,null,null,null,null,null,null,null,null,null,null,{"$f":"ETL!$D$3","v":0},null,null,null,"－",null,{"$f":"ETL!$D$4","v":0},null,"－",null,{"$f":"ETL!$D$5","v":0}]
[]
["Form 2.3: Declaration of Schedule 2 Plant(s)"]
[]
[]
["Ensure to complete one form for each plant."]
[]
[]
["Plant Code:",null,null,null,null,null,null,null,null,null,null,null,null,null,null,null,null,{"$f":"ETL!$D$808","v":""}]
[]
["Plant Site Code:",null,null,null,null,null,null,null,null,null,null,null,null,null,null,null,null,{"$f":"ETL!$D$61","v":""}]
[]
["Name of plant:",null,null,null,null,null,null,null,null,null,null,null,null,null,null,{"$f":"ETL!$D$807","v":""}]
[]
["The name of the owner, company, or enterprise operating the plant:"]
[null,null,null,null,null,null,null,null,null,null,null,null,null,null,null,{"$f":"ETL!$D$8","v":""}]
[]
["The precise location of the plant within the plant site:"]
[null,null,null,null,null,null,null,null,null,null,null,null,null,null,null,{"$f":"ETL!$D$809","v":""}]
[]
[]
[null,null,"Specific structure number, if any:",null,null,null,null,null,null,null,null,null,null,null,null,null,null,{"$f":"ETL!$D$810","v":""}]
[]
[null,null,"Specific building number, if any:",null,null,null,null,null,null,null,null,null,null,null,null,null,null,{"$f":"ETL!$D$811","v":""}]
[]
["Identify the attachements for additional information on a voluntary basis on this plant (if available):"]
[null,null,null,null,null,null,null,null,null,null,null,null,null,null,null,{"$f":"ETL!$D$812","v":""}]
[]
[]
[]
["Main activities of Schedule 2 plants:"]
[]
["Use product group codes (see Appendix 4) to describe main activities of the plant in terms of product group(s):"]
[]
[null,null,null,null,null,null,null,null,null,null,null,null,null,null,null,null,null,null,{"$f":"ETL!$G$843","v":""}]

{"sheet":"【自動入力】Form2.3.1","index":9,"n_rows":468,"n_cols":45,"rows_kept":468,"cut":false,"hidden":false,"merged":[[0,44,0,45],[1,0,1,45],[2,0,2,45],[3,0,3,45],[4,0,5,45],[6,0,6,45],[0,19,0,33],[0,0,0,18],[0,34,0,37],[0,38,0,39],[0,40,0,41],[0,42,0,43],[11,0,11,45],[12,0,12,45],[13,0,13,45],[14,0,15,45],[16,0,16,45],[17,0,17,14],[17,20,17,22],[17,30,17,32],[7,0,7,45],[8,0,8,16],[8,17,8,26],[8,27,8,45],[9,0,9,45],[10,0,10,16],[10,17,10,24],[10,25,10,45],[17,23,17,24],[17,33,17,34],[33,36,33,38],[33,41,33,43],[29,0,29,45],[30,0,30,45],[31,0,32,45],[33,0,33,28],[33,29,33,30],[33,34,33,35],[33,39,33,40],[46,0,46,45],[47,34,47,37],[47,38,47,39],[47,40,47,41],[47,42,47,43],[47,44,47,45],[47,0,47,18],[47,19,47,33],[34,0,34,45],[41,0,41,45],[42,0,42,45],[43,0,43,45],[44,0,45,45],[55,0,55,16],[55,17,55,26],[55,27,55,45],[56,0,56,45],[57,0,57,16],[57,17,57,24],[57,25,57,45],[48,0,48,45],[49,0,49,45],[50,0,50,45],[51,0,52,45],[53,0,53,45],[54,0,54,45],[58,0,58,45],[59,0,59,45],[60,0,60,45],[61,0,62,45],[63,0,63,45],[64,0,64,14],[64,20,64,22],[64,30,64,32],[64,23,64,24],[64,33,64,34],[65,0,65,45],[66,0,66,14],[66,20,66,22],[66,30,66,32],[67,0,67,45],[68,0,68,14],[68,20,68,22],[68,30,68,32],[66,23,66,24],[66,33,66,34],[68,23,68,24],[68,33,68,34],[76,0,76,45],[77,0,77,45],[78,0,79,45],[80,0,80,28],[80,29,80,30],[80,34,80,35],[80,39,80,40],[69,0,69,45],[70,0,70,45],[71,0,71,45],[72,0,72,45],[73,0,73,45],[75,0,75,45],[74,23,74,24],[74,33,74,34],[97,0,97,45],[103,0,103,45],[95,0,95,45],[81,0,81,45],[90,0,90,45],[80,41,80,43],[88,0,88,45],[89,0,89,45],[91,0,92,45],[80,31,80,33],[80,36,80,38],[94,44,94,45],[96,0,96,45],[98,0,99,45],[100,0,100,45],[101,0,101,45],[102,0,102,16],[102,17,102,26],[102,27,102,45],[94,0,94,18],[94,19,94,33],[94,34,94,37],[112,0,112,45],[113,0,113,14],[113,20,113,22],[113,30,113,32],[108,0,109,45],[110,0,110,45],[113,33,113,34],[104,25,104,45],[106,0,106,45],[104,0,104,16],[105,0,105,45],[104,17,104,24],[119,0,119,45],[120,0,120,45],[122,0,122,45],[124,0,124,45],[135,0,135,45],[136,0,136,45],[137,0,137,45],[141,38,141,39],[141,40,141,41],[141,42,141,43],[141,44,141,45],[127,39,127,40],[127,41,127,43],[128,0,128,45],[162,20,162,22],[162,30,162,32],[158,0,158,14],[158,20,158,22],[154,0,154,45],[147,0,147,45],[148,0,148,45],[152,0,152,45],[149,0,149,16],[149,17,149,26],[149,27,149,45],[150,0,150,45],[151,0,151,16],[151,17,151,24],[151,25,151,45],[153,0,153,45],[155,0,156,45],[169,0,169,45],[170,0,170,45],[171,0,171,45],[172,0,173,45],[174,41,174,43],[182,0,182,45],[183,0,183,45],[184,0,184,45],[185,0,186,45],[174,0,174,28],[174,29,174,30],[174,31,174,33],[174,34,174,35],[174,36,174,38],[174,39,174,40],[175,0,175,45],[208,0,208,45],[209,0,209,14],[209,20,209,22],[192,0,193,45],[194,0,194,45],[189,0,189,45],[190,0,190,45],[188,42,188,43],[188,44,188,45],[191,0,191,45],[188,0,188,18],[188,19,188,33],[188,34,188,37],[188,38,188,39],[188,40,188,41],[198,17,198,24],[198,25,198,45],[199,0,199,45],[202,0,203,45],[209,23,209,24],[209,30,209,32],[209,33,209,34],[222,0,222,45],[221,39,221,40],[221,41,221,43],[206,0,206,45],[210,0,210,45],[207,0,207,14],[207,20,207,22],[195,0,195,45],[197,0,197,45],[200,0,200,45],[201,0,201,45],[196,0,196,16],[196,17,196,26],[196,27,196,45],[198,0,198,16],[204,0,204,45],[205,0,205,14],[205,20,205,22],[205,23,205,24],[205,30,205,32],[205,33,205,34],[207,23,207,24],[207,30,207,32],[207,33,207,34],[248,0,248,45],[249,0,250,45],[251,0,251,45],[252,0,252,14],[252,20,252,22],[252,23,252,24],[252,30,252,32],[252,33,252,34],[229,0,229,45],[230,0,230,45],[231,0,231,45],[232,0,233,45],[244,0,244,45],[246,0,246,45],[245,0,245,16],[245,17,245,24],[245,25,245,45],[247,0,247,45],[242,0,242,45],[237,0,237,45],[238,0,238,45],[235,44,235,45],[236,0,236,45],[239,0,240,45],[254,23,254,24],[254,30,254,32],[254,33,254,34],[256,0,256,14],[256,20,256,22],[256,23,256,24],[256,30,256,32],[256,33,256,34],[253,0,253,45],[265,0,265,45],[269,0,269,45],[111,0,111,14],[111,20,111,22],[111,23,111,24],[111,30,111,32],[111,33,111,34],[113,23,113,24],[266,0,267,45],[268,0,268,28],[268,29,268,30],[268,31,268,33],[263,0,263,45],[264,0,264,45],[255,0,255,45],[259,0,259,45],[254,0,254,14],[254,20,254,22],[257,0,257,45],[258,0,258,45],[260,0,260,45],[261,0,261,45],[262,23,262,24],[262,33,262,34],[18,0,18,45],[19,0,19,14],[19,20,19,22],[19,30,19,32],[20,0,20,45],[21,0,21,14],[21,20,21,22],[21,30,21,32],[94,38,94,39],[94,40,94,41],[94,42,94,43],[19,23,19,24],[19,33,19,34],[21,23,21,24],[21,33,21,34],[27,23,27,24],[27,33,27,34],[33,31,33,33],[22,0,22,45],[23,0,23,45],[24,0,24,45],[25,0,25,45],[26,0,26,45],[28,0,28,45],[114,0,114,45],[115,0,115,14],[115,20,115,22],[115,30,115,32],[116,0,116,45],[115,23,115,24],[115,33,115,34],[107,0,107,45],[142,0,142,45],[117,0,117,45],[121,23,121,24],[121,33,121,34],[123,0,123,45],[125,0,126,45],[127,0,127,28],[127,29,127,30],[127,31,127,33],[127,34,127,35],[127,36,127,38],[138,0,139,45],[141,0,141,18],[141,19,141,33],[141,34,141,37],[118,0,118,45],[143,0,143,45],[145,0,146,45],[144,0,144,45],[162,23,162,24],[162,33,162,34],[164,0,164,45],[166,0,166,45],[168,23,168,24],[168,33,168,34],[158,23,158,24],[158,30,158,32],[158,33,158,34],[159,0,159,45],[160,0,160,14],[160,20,160,22],[160,23,160,24],[160,30,160,32],[160,33,160,34],[163,0,163,45],[165,0,165,45],[167,0,167,45],[157,0,157,45],[161,0,161,45],[162,0,162,14],[211,0,211,45],[213,0,213,45],[215,23,215,24],[215,33,215,34],[219,0,220,45],[221,0,221,28],[221,29,221,30],[221,31,221,33],[221,34,221,35],[221,36,221,38],[212,0,212,45],[214,0,214,45],[216,0,216,45],[217,0,217,45],[218,0,218,45],[241,0,241,45],[243,0,243,16],[243,17,243,26],[243,27,243,45],[235,0,235,18],[235,19,235,33],[235,34,235,37],[235,38,235,39],[235,40,235,41],[235,42,235,43],[282,38,282,39],[282,40,282,41],[282,42,282,43],[282,44,282,45],[283,0,283,45],[284,0,284,45],[268,34,268,35],[268,36,268,38],[268,39,268,40],[268,41,268,43],[276,0,276,45],[278,0,278,45],[277,0,277,45],[279,0,280,45],[282,0,282,18],[282,19,282,33],[282,34,282,37],[292,0,292,16],[292,17,292,24],[292,25,292,45],[293,0,293,45],[294,0,294,45],[295,0,295,45],[285,0,285,45],[286,0,287,45],[289,0,289,45],[290,0,290,16],[290,17,290,26],[290,27,290,45],[291,0,291,45],[288,0,288,45],[300,0,300,45],[301,0,301,14],[301,20,301,22],[301,23,301,24],[301,30,301,32],[301,33,301,34],[296,0,297,45],[298,0,298,45],[299,0,299,14],[299,20,299,22],[299,23,299,24],[299,30,299,32],[299,33,299,34],[304,0,304,45],[305,0,305,45],[306,0,306,45],[307,0,307,45],[308,0,308,45],[309,23,309,24],[309,33,309,34],[302,0,302,45],[303,0,303,14],[303,20,303,22],[303,23,303,24],[303,30,303,32],[303,33,303,34],[315,41,315,43],[316,0,316,45],[323,0,323,45],[324,0,324,45],[325,0,325,45],[326,0,327,45],[310,0,310,45],[311,0,311,45],[312,0,312,45],[313,0,314,45],[315,0,315,28],[315,29,315,30],[315,31,315,33],[315,34,315,35],[315,36,315,38],[315,39,315,40],[336,0,336,45],[337,0,337,16],[337,17,337,26],[337,27,337,45],[338,0,338,45],[339,0,339,16],[339,17,339,24],[339,25,339,45],[329,44,329,45],[330,0,330,45],[331,0,331,45],[332,0,332,45],[333,0,334,45],[335,0,335,45],[329,0,329,18],[329,19,329,33],[329,34,329,37],[329,38,329,39],[329,40,329,41],[329,42,329,43],[347,0,347,45],[348,0,348,14],[348,20,348,22],[348,23,348,24],[348,30,348,32],[348,33,348,34],[340,0,340,45],[341,0,341,45],[342,0,342,45],[343,0,344,45],[345,0,345,45],[346,0,346,14],[346,20,346,22],[346,23,346,24],[346,30,346,32],[346,33,346,34],[351,0,351,45],[352,0,352,45],[353,0,353,45],[354,0,354,45],[355,0,355,45],[356,23,356,24],[356,33,356,34],[349,0,349,45],[350,0,350,14],[350,20,350,22],[350,23,350,24],[350,30,350,32],[350,33,350,34],[362,41,362,43],[363,0,363,45],[370,0,370,45],[371,0,371,45],[372,0,372,45],[373,0,374,45],[357,0,357,45],[358,0,358,45],[359,0,359,45],[360,0,361,45],[362,0,362,28],[362,29,362,30],[362,31,362,33],[362,34,362,35],[362,36,362,38],[362,39,362,40],[383,0,383,45],[384,0,384,16],[384,17,384,26],[384,27,384,45],[385,0,385,45],[386,0,386,16],[386,17,386,24],[386,25,386,45],[376,44,376,45],[377,0,377,45],[378,0,378,45],[379,0,379,45],[380,0,381,45],[382,0,382,45],[376,0,376,18],[376,19,376,33],[376,34,376,37],[376,38,376,39],[376,40,376,41],[376,42,376,43],[394,0,394,45],[395,0,395,14],[395,20,395,22],[395,23,395,24],[395,30,395,32],[395,33,395,34],[387,0,387,45],[388,0,388,45],[389,0,389,45],[390,0,391,45],[392,0,392,45],[393,0,393,14],[393,20,393,22],[393,23,393,24],[393,30,393,32],[393,33,393,34],[398,0,398,45],[399,0,399,45],[400,0,400,45],[401,0,401,45],[402,0,402,45],[403,23,403,24],[403,33,403,34],[396,0,396,45],[397,0,397,14],[397,20,397,22],[397,23,397,24],[397,30,397,32],[397,33,397,34],[409,41,409,43],[410,0,410,45],[417,0,417,45],[418,0,418,45],[419,0,419,45],[420,0,421,45],[404,0,404,45],[405,0,405,45],[406,0,406,45],[407,0,408,45],[409,0,409,28],[409,29,409,30],[409,31,409,33],[409,34,409,35],[409,36,409,38],[409,39,409,40],[430,0,430,45],[431,0,431,16],[431,17,431,26],[431,27,431,45],[432,0,432,45],[433,0,433,16],[433,17,433,24],[433,25,433,45],[423,44,423,45],[424,0,424,45],[425,0,425,45],[426,0,426,45],[427,0,428,45],[429,0,429,45],[423,0,423,18],[423,19,423,33],[423,34,423,37],[423,38,423,39],[423,40,423,41],[423,42,423,43],[441,0,441,45],[442,0,442,14],[442,20,442,22],[442,23,442,24],[442,30,442,32],[442,33,442,34],[434,0,434,45],[435,0,435,45],[436,0,436,45],[437,0,438,45],[439,0,439,45],[440,0,440,14],[440,20,440,22],[440,23,440,24],[440,30,440,32],[440,33,440,34],[445,0,445,45],[446,0,446,45],[447,0,447,45],[448,0,448,45],[449,0,449,45],[450,23,450,24],[450,33,450,34],[443,0,443,45],[444,0,444,14],[444,20,444,22],[444,23,444,24],[444,30,444,32],[444,33,444,34],[456,41,456,43],[457,0,457,45],[464,0,464,45],[465,0,465,45],[466,0,466,45],[467,0,468,45],[451,0,451,45],[452,0,452,45],[453,0,453,45],[454,0,455,45],[456,0,456,28],[456,29,456,30],[456,31,456,33],[456,34,456,35],[456,36,456,38],[456,39,456,40]]}
[null,null,null,null,null,null,null,null,null,null,null,null,null,null,null,null,null,null,null,"届出日 （西暦：ccyy-mm-dd）",null,null,null,null,null,null,null,null,null,null,null,null,null,null,{"$f":"ETL!$D$3","v":0},null,null,null,"－",null,{"$f":"ETL!$D$4","v":0},null,"－",null,{"$f":"ETL!$D$5","v":0}]
[]
["Form 2.3.1: Plant Activities in Relation to Declared Schedule 2 Chemicals "]
[]
["Ensure to complete as many forms as necessary in order to declare the activities of each Schedule 2 plant at the plant site."]
[]
[]
[]
["Plant Code:",null,null,null,null,null,null,null,null,null,null,null,null,null,null,null,null,{"$f":"ETL!$D$367","v":""}]
[]
["Plant Site Code:",null,null,null,null,null,null,null,null,null,null,null,null,null,null,null,null,{"$f":"ETL!$D$61","v":""}]
[]
[]
[]
["Indicate below whether the plant produces, processes, or consumes the declared Schedule 2 chemical(s):"]
[]
[]
["　　　　　Production:",null,null,null,null,null,null,null,null,null,null,null,null,null,null,null,null,null,null,null,"Yes",null,null,{"$f":"IF(ETL!$G$407=\"Y\",\"✓\",\"\")","v":""},null,null,null,null,null,null,"No",null,null,{"$f":"IF(ETL!$G$407=\"N\",\"✓\",\"\")","v":""}]
[]
["　　　　　Processing:",null,null,null,null,null,null,null,null,null,null,null,null,null,null,null,null,null,null,null,"Yes",null,null,{"$f":"IF(ETL!$G$408=\"Y\",\"✓\",\"\")","v":""},null,null,null,null,null,null,"No",null,null,{"$f":"IF(ETL!$G$408=\"N\",\"✓\",\"\")","v":""}]
[]
["　　　　　Consumption:",null,null,null,null,null,null,null,null,null,null,null,null,null,null,null,null,null,null,null,"Yes",null,null,{"$f":"IF(ETL!$G$409=\"Y\",\"✓\",\"\")","v":""},null,null,null,null,null,null,"No",null,null,{"$f":"IF(ETL!$G$409=\"N\",\"✓\",\"\")","v":""}]
[]
[]
[]
["Is this plant dedicated to such activities or is it multipurpose? "]
[]
[null,null,null,null,null,null,null,null,null,null,null,null,null,null,null,null,null,null,null,null,null,"Dedicated",null,{"$f":"IF(ETL!$G$410=\"Dedicated\",\"✓\",\"\")","v":""},null,null,null,null,null,null,null,"Multipurpose",null,{"$f":"IF(ETL!$G$410=\"Multipurpose\",\"✓\",\"\")","v":""}]
[]
[]
[]
["Specify other activities at the plant in relation to the declared Schedule 2 chemical(s), if any: \n(use appropriate Appendix 3 codes B04-B06 or specify)"]
[]
[null,null,null,null,null,null,null,null,null,null,null,null,null,null,null,null,null,null,null,null,null,null,null,null,null,null,null,null,null,"B",null,{"$f":"ETL!$H$411","v":""},null,null,"B",null,{"$f":"ETL!$H$412","v":""},null,null,"B",null,{"$f":"ETL!$H$413","v":""}]
[]
[]
[]
[]
[]
[]
[]
[]
[]
[]
["Ensure to declare in the following Form 2.3.2. the production capacity of this plant for each declared Schedule 2 chemical produced or anticipated to be produced at the plant."]
[]
[]
[null,null,null,null,null,null,null,null,null,null,null,null,null,null,null,null,null,null,null,"届出日 （西暦：ccyy-mm-dd）",null,null,null,null,null,null,null,null,null,null,null,null,null,null,{"$f":"ETL!$D$3","v":0},null,null,null,"－",null,{"$f":"ETL!$D$4","v":0},null,"－",null,{"$f":"ETL!$D$5","v":0}]
[]
["Form 2.3.1: Plant Activities in Relation to Declared Schedule 2 Chemicals "]
[]
["Ensure to complete as many forms as necessary in order to declare the activities of each Schedule 2 plant at the plant site."]
[]
[]
[]
["Plant Code:",null,null,null,null,null,null,null,null,null,null,null,null,null,null,null,null,{"$f":"ETL!$D$416","v":""}]
[]
["Plant Site Code:",null,null,null,null,null,null,null,null,null,null,null,null,null,null,null,null,{"$f":"ETL!$D$61","v":""}]
[]
[]
[]
["Indicate below whether the plant produces, processes, or consumes the declared Schedule 2 chemical(s):"]
[]
[]
["　　　　　Production:",null,null,null,null,null,null,null,null,null,null,null,null,null,null,null,null,null,null,null,"Yes",null,null,{"$f":"IF(ETL!$G$456=\"Y\",\"✓\",\"\")","v":""},null,null,null,null,null,null,"No",null,null,{"$f":"IF(ETL!$G$456=\"N\",\"✓\",\"\")","v":""}]
[]
["　　　　　Processing:",null,null,null,null,null,null,null,null,null,null,null,null,null,null,null,null,null,null,null,"Yes",null,null,{"$f":"IF(ETL!$G$457=\"Y\",\"✓\",\"\")","v":""},null,null,null,null,null,null,"No",null,null,{"$f":"IF(ETL!$G$457=\"N\",\"✓\",\"\")","v":""}]
[]
["　　　　　Consumption:",null,null,null,null,null,null,null,null,null,null,null,null,null,null,null,null,null,null,null,"Yes",null,null,{"$f":"IF(ETL!$G$458=\"Y\",\"✓\",\"\")","v":""},null,null,null,null,null,null,"No",null,null,{"$f":"IF(ETL!$G$458=\"N\",\"✓\",\"\")","v":""}]
[]
[]
[]
["Is this plant dedicated to such activities or is it multipurpose? "]
[]
[null,null,null,null,null,null,null,null,null,null,null,null,null,null,null,null,null,null,null,null,null,"Dedicated",null,{"$f":"IF(ETL!$G$459=\"Dedicated\",\"✓\",\"\")","v":""},null,null,null,null,null,null,null,"Multipurpose",null,{"$f":"IF(ETL!$G$459=\"Multipurpose\",\"✓\",\"\")","v":""}]
[]
[]
[]
["Specify other activities at the plant in relation to the declared Schedule 2 chemical(s), if any: \n(use appropriate Appendix 3 codes B04-B06 or specify)"]
[]
[null,null,null,null,null,null,null,null,null,null,null,null,null,null,null,null,null,null,null,null,null,null,null,null,null,null,null,null,null,"B",null,{"$f":"ETL!$H$460","v":""},null,null,"B",null,{"$f":"ETL!$H$461","v":""},null,null,"B",null,{"$f":"ETL!$H$462","v":""}]
[]
[]
[]
[]
[]
[]
[]
[]
[]
[]
["Ensure to declare in the following Form 2.3.2. the production capacity of this plant for each declared Schedule 2 chemical produced or anticipated to be produced at the plant."]
[]
[]
[null,null,null,null,null,null,null,null,null,null,null,null,null,null,null,null,null,null,null,"届出日 （西暦：ccyy-mm-dd）",null,null,null,null,null,null,null,null,null,null,null,null,null,null,{"$f":"ETL!$D$3","v":0},null,null,null,"－",null,{"$f":"ETL!$D$4","v":0},null,"－",null,{"$f":"ETL!$D$5","v":0}]
[]
["Form 2.3.1: Plant Activities in Relation to Declared Schedule 2 Chemicals "]
[]
["Ensure to complete as many forms as necessary in order to declare the activities of each Schedule 2 plant at the plant site."]
[]
[]
[]
["Plant Code:",null,null,null,null,null,null,null,null,null,null,null,null,null,null,null,null,{"$f":"ETL!$D$465","v":""}]
[]
["Plant Site Code:",null,null,null,null,null,null,null,null,null,null,null,null,null,null,null,null,{"$f":"ETL!$D$61","v":""}]
[]
[]
[]
["Indicate below whether the plant produces, processes, or consumes the declared Schedule 2 chemical(s):"]
[]
[]
["　　　　　Production:",null,null,null,null,null,null,null,null,null,null,null,null,null,null,null,null,null,null,null,"Yes",null,null,{"$f":"IF(ETL!$G$505=\"Y\",\"✓\",\"\")","v":""},null,null,null,null,null,null,"No",null,null,{"$f":"IF(ETL!$G$505=\"N\",\"✓\",\"\")","v":""}]
[]
["　　　　　Processing:",null,null,null,null,null,null,null,null,null,null,null,null,null,null,null,null,null,null,null,"Yes",null,null,{"$f":"IF(ETL!$G$506=\"Y\",\"✓\",\"\")","v":""},null,null,null,null,null,null,"No",null,null,{"$f":"IF(ETL!$G$506=\"N\",\"✓\",\"\")","v":""}]
[]
["　　　　　Consumption:",null,null,null,null,null,null,null,null,null,null,null,null,null,null,null,null,null,null,null,"Yes",null,null,{"$f":"IF(ETL!$G$507=\"Y\",\"✓\",\"\")","v":""},null,null,null,null,null,null,"No",null,null,{"$f":"IF(ETL!$G$507=\"N\",\"✓\",\"\")","v":""}]
[]
[]
[]
["Is this plant dedicated to such activities or is it multipurpose? "]
[]
[null,null,null,null,null,null,null,null,null,null,null,null,null,null,null,null,null,null,null,null,null,"Dedicated",null,{"$f":"IF(ETL!$G$508=\"Dedicated\",\"✓\",\"\")","v":""},null,null,null,null,null,null,null,"Multipurpose",null,{"$f":"IF(ETL!$G$508=\"Multipurpose\",\"✓\",\"\")","v":""}]
[]
[]
[]
["Specify other activities at the plant in relation to the declared Schedule 2 chemical(s), if any: \n(use appropriate Appendix 3 codes B04-B06 or specify)"]
[]
[null,null,null,null,null,null,null,null,null,null,null,null,null,null,null,null,null,null,null,null,null,null,null,null,null,null,null,null,null,"B",null,{"$f":"ETL!$H$509","v":""},null,null,"B",null,{"$f":"ETL!$H$510","v":""},null,null,"B",null,{"$f":"ETL!$H$511","v":""}]
[]
[]
[]
[]
[]
[]
[]
[]
[]
[]
["Ensure to declare in the following Form 2.3.2. the production capacity of this plant for each declared Schedule 2 chemical produced or anticipated to be produced at the plant."]
[]
[]
[null,null,null,null,null,null,null,null,null,null,null,null,null,null,null,null,null,null,null,"届出日 （西暦：ccyy-mm-dd）",null,null,null,null,null,null,null,null,null,null,null,null,null,null,{"$f":"ETL!$D$3","v":0},null,null,null,"－",null,{"$f":"ETL!$D$4","v":0},null,"－",null,{"$f":"ETL!$D$5","v":0}]
[]
["Form 2.3.1: Plant Activities in Relation to Declared Schedule 2 Chemicals "]
[]
["Ensure to complete as many forms as necessary in order to declare the activities of each Schedule 2 plant at the plant site."]
[]
[]
[]
["Plant Code:",null,null,null,null,null,null,null,null,null,null,null,null,null,null,null,null,{"$f":"ETL!$D$514","v":""}]
[]
["Plant Site Code:",null,null,null,null,null,null,null,null,null,null,null,null,null,null,null,null,{"$f":"ETL!$D$61","v":""}]
[]
[]
[]
["Indicate below whether the plant produces, processes, or consumes the declared Schedule 2 chemical(s):"]
[]
[]
["　　　　　Production:",null,null,null,null,null,null,null,null,null,null,null,null,null,null,null,null,null,null,null,"Yes",null,null,{"$f":"IF(ETL!$G$554=\"Y\",\"✓\",\"\")","v":""},null,null,null,null,null,null,"No",null,null,{"$f":"IF(ETL!$G$554=\"N\",\"✓\",\"\")","v":""}]
[]
["　　　　　Processing:",null,null,null,null,null,null,null,null,null,null,null,null,null,null,null,null,null,null,null,"Yes",null,null,{"$f":"IF(ETL!$G$555=\"Y\",\"✓\",\"\")","v":""},null,null,null,null,null,null,"No",null,null,{"$f":"IF(ETL!$G$555=\"N\",\"✓\",\"\")","v":""}]
[]
["　　　　　Consumption:",null,null,null,null,null,null,null,null,null,null,null,null,null,null,null,null,null,null,null,"Yes",null,null,{"$f":"IF(ETL!$G$556=\"Y\",\"✓\",\"\")","v":""},null,null,null,null,null,null,"No",null,null,{"$f":"IF(ETL!$G$556=\"N\",\"✓\",\"\")","v":""}]
[]
[]
[]
["Is this plant dedicated to such activities or is it multipurpose? "]
[]
[null,null,null,null,null,null,null,null,null,null,null,null,null,null,null,null,null,null,null,null,null,"Dedicated",null,{"$f":"IF(ETL!$G$557=\"Dedicated\",\"✓\",\"\")","v":""},null,null,null,null,null,null,null,"Multipurpose",null,{"$f":"IF(ETL!$G$557=\"Multipurpose\",\"✓\",\"\")","v":""}]
[]
[]
[]
["Specify other activities at the plant in relation to the declared Schedule 2 chemical(s), if any: \n(use appropriate Appendix 3 codes B04-B06 or specify)"]
[]
[null,null,null,null,null,null,null,null,null,null,null,null,null,null,null,null,null,null,null,null,null,null,null,null,null,null,null,null,null,"B",null,{"$f":"ETL!$H$558","v":""},null,null,"B",null,{"$f":"ETL!$H$559","v":""},null,null,"B",null,{"$f":"ETL!$H$560","v":""}]
[]
[]
[]
[]
[]
[]
[]
[]
[]
[]
["Ensure to declare in the following Form 2.3.2. the production capacity of this plant for each declared Schedule 2 chemical produced or anticipated to be produced at the plant."]
[]
[]
[null,null,null,null,null,null,null,null,null,null,null,null,null,null,null,null,null,null,null,"届出日 （西暦：ccyy-mm-dd）",null,null,null,null,null,null,null,null,null,null,null,null,null,null,{"$f":"ETL!$D$3","v":0},null,null,null,"－",null,{"$f":"ETL!$D$4","v":0},null,"－",null,{"$f":"ETL!$D$5","v":0}]
[]
["Form 2.3.1: Plant Activities in Relation to Declared Schedule 2 Chemicals "]
[]
["Ensure to complete as many forms as necessary in order to declare the activities of each Schedule 2 plant at the plant site."]
[]
[]
[]
["Plant Code:",null,null,null,null,null,null,null,null,null,null,null,null,null,null,null,null,{"$f":"ETL!$D$563","v":""}]
[]
["Plant Site Code:",null,null,null,null,null,null,null,null,null,null,null,null,null,null,null,null,{"$f":"ETL!$D$61","v":""}]
[]
[]
[]
["Indicate below whether the plant produces, processes, or consumes the declared Schedule 2 chemical(s):"]
[]
[]
["　　　　　Production:",null,null,null,null,null,null,null,null,null,null,null,null,null,null,null,null,null,null,null,"Yes",null,null,{"$f":"IF(ETL!$G$603=\"Y\",\"✓\",\"\")","v":""},null,null,null,null,null,null,"No",null,null,{"$f":"IF(ETL!$G$603=\"N\",\"✓\",\"\")","v":""}]
[]
["　　　　　Processing:",null,null,null,null,null,null,null,null,null,null,null,null,null,null,null,null,null,null,null,"Yes",null,null,{"$f":"IF(ETL!$G$604=\"Y\",\"✓\",\"\")","v":""},null,null,null,null,null,null,"No",null,null,{"$f":"IF(ETL!$G$604=\"N\",\"✓\",\"\")","v":""}]
[]
["　　　　　Consumption:",null,null,null,null,null,null,null,null,null,null,null,null,null,null,null,null,null,null,null,"Yes",null,null,{"$f":"IF(ETL!$G$605=\"Y\",\"✓\",\"\")","v":""},null,null,null,null,null,null,"No",null,null,{"$f":"IF(ETL!$G$605=\"N\",\"✓\",\"\")","v":""}]
[]
[]
[]
["Is this plant dedicated to such activities or is it multipurpose? "]
[]
[null,null,null,null,null,null,null,null,null,null,null,null,null,null,null,null,null,null,null,null,null,"Dedicated",null,{"$f":"IF(ETL!$G$606=\"Dedicated\",\"✓\",\"\")","v":""},null,null,null,null,null,null,null,"Multipurpose",null,{"$f":"IF(ETL!$G$606=\"Multipurpose\",\"✓\",\"\")","v":""}]
[]
[]
[]
["Specify other activities at the plant in relation to the declared Schedule 2 chemical(s), if any: \n(use appropriate Appendix 3 codes B04-B06 or specify)"]
[]
[null,null,null,null,null,null,null,null,null,null,null,null,null,null,null,null,null,null,null,null,null,null,null,null,null,null,null,null,null,"B",null,{"$f":"ETL!$H$607","v":""},null,null,"B",null,{"$f":"ETL!$H$608","v":""},null,null,"B",null,{"$f":"ETL!$H$609","v":""}]
[]
[]
[]
[]
[]
[]
[]
[]
[]
[]
["Ensure to declare in the following Form 2.3.2. the production capacity of this plant for each declared Schedule 2 chemical produced or anticipated to be produced at the plant."]
[]
[]
[null,null,null,null,null,null,null,null,null,null,null,null,null,null,null,null,null,null,null,"届出日 （西暦：ccyy-mm-dd）",null,null,null,null,null,null,null,null,null,null,null,null,null,null,{"$f":"ETL!$D$3","v":0},null,null,null,"－",null,{"$f":"ETL!$D$4","v":0},null,"－",null,{"$f":"ETL!$D$5","v":0}]
[]
["Form 2.3.1: Plant Activities in Relation to Declared Schedule 2 Chemicals "]
[]
["Ensure to complete as many forms as necessary in order to declare the activities of each Schedule 2 plant at the plant site."]
[]
[]
[]
["Plant Code:",null,null,null,null,null,null,null,null,null,null,null,null,null,null,null,null,{"$f":"ETL!$D$612","v":""}]
[]
["Plant Site Code:",null,null,null,null,null,null,null,null,null,null,null,null,null,null,null,null,{"$f":"ETL!$D$61","v":""}]
[]
[]
[]
["Indicate below whether the plant produces, processes, or consumes the declared Schedule 2 chemical(s):"]
[]
[]
["　　　　　Production:",null,null,null,null,null,null,null,null,null,null,null,null,null,null,null,null,null,null,null,"Yes",null,null,{"$f":"IF(ETL!$G$652=\"Y\",\"✓\",\"\")","v":""},null,null,null,null,null,null,"No",null,null,{"$f":"IF(ETL!$G$652=\"N\",\"✓\",\"\")","v":""}]
[]
["　　　　　Processing:",null,null,null,null,null,null,null,null,null,null,null,null,null,null,null,null,null,null,null,"Yes",null,null,{"$f":"IF(ETL!$G$653=\"Y\",\"✓\",\"\")","v":""},null,null,null,null,null,null,"No",null,null,{"$f":"IF(ETL!$G$653=\"N\",\"✓\",\"\")","v":""}]
[]
["　　　　　Consumption:",null,null,null,null,null,null,null,null,null,null,null,null,null,null,null,null,null,null,null,"Yes",null,null,{"$f":"IF(ETL!$G$654=\"Y\",\"✓\",\"\")","v":""},null,null,null,null,null,null,"No",null,null,{"$f":"IF(ETL!$G$654=\"N\",\"✓\",\"\")","v":""}]
[]
[]
[]
["Is this plant dedicated to such activities or is it multipurpose? "]
[]
[null,null,null,null,null,null,null,null,null,null,null,null,null,null,null,null,null,null,null,null,null,"Dedicated",null,{"$f":"IF(ETL!$G$655=\"Dedicated\",\"✓\",\"\")","v":""},null,null,null,null,null,null,null,"Multipurpose",null,{"$f":"IF(ETL!$G$655=\"Multipurpose\",\"✓\",\"\")","v":""}]
[]
[]
[]
["Specify other activities at the plant in relation to the declared Schedule 2 chemical(s), if any: \n(use appropriate Appendix 3 codes B04-B06 or specify)"]
[]
[null,null,null,null,null,null,null,null,null,null,null,null,null,null,null,null,null,null,null,null,null,null,null,null,null,null,null,null,null,"B",null,{"$f":"ETL!$H$656","v":""},null,null,"B",null,{"$f":"ETL!$H$657","v":""},null,null,"B",null,{"$f":"ETL!$H$658","v":""}]
[]
[]
[]
[]
[]
[]
[]
[]
[]
[]
["Ensure to declare in the following Form 2.3.2. the production capacity of this plant for each declared Schedule 2 chemical produced or anticipated to be produced at the plant."]
[]
[]
[null,null,null,null,null,null,null,null,null,null,null,null,null,null,null,null,null,null,null,"届出日 （西暦：ccyy-mm-dd）",null,null,null,null,null,null,null,null,null,null,null,null,null,null,{"$f":"ETL!$D$3","v":0},null,null,null,"－",null,{"$f":"ETL!$D$4","v":0},null,"－",null,{"$f":"ETL!$D$5","v":0}]
[]
["Form 2.3.1: Plant Activities in Relation to Declared Schedule 2 Chemicals "]
[]
["Ensure to complete as many forms as necessary in order to declare the activities of each Schedule 2 plant at the plant site."]
[]
[]
[]
["Plant Code:",null,null,null,null,null,null,null,null,null,null,null,null,null,null,null,null,{"$f":"ETL!$D$661","v":""}]
[]
["Plant Site Code:",null,null,null,null,null,null,null,null,null,null,null,null,null,null,null,null,{"$f":"ETL!$D$61","v":""}]
[]
[]
[]
["Indicate below whether the plant produces, processes, or consumes the declared Schedule 2 chemical(s):"]
[]
[]
["　　　　　Production:",null,null,null,null,null,null,null,null,null,null,null,null,null,null,null,null,null,null,null,"Yes",null,null,{"$f":"IF(ETL!$G$701=\"Y\",\"✓\",\"\")","v":""},null,null,null,null,null,null,"No",null,null,{"$f":"IF(ETL!$G$701=\"N\",\"✓\",\"\")","v":""}]
[]
["　　　　　Processing:",null,null,null,null,null,null,null,null,null,null,null,null,null,null,null,null,null,null,null,"Yes",null,null,{"$f":"IF(ETL!$G$702=\"Y\",\"✓\",\"\")","v":""},null,null,null,null,null,null,"No",null,null,{"$f":"IF(ETL!$G$702=\"N\",\"✓\",\"\")","v":""}]
[]
["　　　　　Consumption:",null,null,null,null,null,null,null,null,null,null,null,null,null,null,null,null,null,null,null,"Yes",null,null,{"$f":"IF(ETL!$G$703=\"Y\",\"✓\",\"\")","v":""},null,null,null,null,null,null,"No",null,null,{"$f":"IF(ETL!$G$703=\"N\",\"✓\",\"\")","v":""}]
[]
[]
[]
["Is this plant dedicated to such activities or is it multipurpose? "]
[]
[null,null,null,null,null,null,null,null,null,null,null,null,null,null,null,null,null,null,null,null,null,"Dedicated",null,{"$f":"IF(ETL!$G$704=\"Dedicated\",\"✓\",\"\")","v":""},null,null,null,null,null,null,null,"Multipurpose",null,{"$f":"IF(ETL!$G$704=\"Multipurpose\",\"✓\",\"\")","v":""}]
[]
[]
[]
["Specify other activities at the plant in relation to the declared Schedule 2 chemical(s), if any: \n(use appropriate Appendix 3 codes B04-B06 or specify)"]
[]
[null,null,null,null,null,null,null,null,null,null,null,null,null,null,null,null,null,null,null,null,null,null,null,null,null,null,null,null,null,"B",null,{"$f":"ETL!$H$705","v":""},null,null,"B",null,{"$f":"ETL!$H$706","v":""},null,null,"B",null,{"$f":"ETL!$H$707","v":""}]
[]
[]
[]
[]
[]
[]
[]
[]
[]
[]
["Ensure to declare in the following Form 2.3.2. the production capacity of this plant for each declared Schedule 2 chemical produced or anticipated to be produced at the plant."]
[]
[]
[null,null,null,null,null,null,null,null,null,null,null,null,null,null,null,null,null,null,null,"届出日 （西暦：ccyy-mm-dd）",null,null,null,null,null,null,null,null,null,null,null,null,null,null,{"$f":"ETL!$D$3","v":0},null,null,null,"－",null,{"$f":"ETL!$D$4","v":0},null,"－",null,{"$f":"ETL!$D$5","v":0}]
[]
["Form 2.3.1: Plant Activities in Relation to Declared Schedule 2 Chemicals "]
[]
["Ensure to complete as many forms as necessary in order to declare the activities of each Schedule 2 plant at the plant site."]
[]
[]
[]
["Plant Code:",null,null,null,null,null,null,null,null,null,null,null,null,null,null,null,null,{"$f":"ETL!$D$710","v":""}]
[]
["Plant Site Code:",null,null,null,null,null,null,null,null,null,null,null,null,null,null,null,null,{"$f":"ETL!$D$61","v":""}]
[]
[]
[]
["Indicate below whether the plant produces, processes, or consumes the declared Schedule 2 chemical(s):"]
[]
[]
["　　　　　Production:",null,null,null,null,null,null,null,null,null,null,null,null,null,null,null,null,null,null,null,"Yes",null,null,{"$f":"IF(ETL!$G$750=\"Y\",\"✓\",\"\")","v":""},null,null,null,null,null,null,"No",null,null,{"$f":"IF(ETL!$G$750=\"N\",\"✓\",\"\")","v":""}]
[]
["　　　　　Processing:",null,null,null,null,null,null,null,null,null,null,null,null,null,null,null,null,null,null,null,"Yes",null,null,{"$f":"IF(ETL!$G$751=\"Y\",\"✓\",\"\")","v":""},null,null,null,null,null,null,"No",null,null,{"$f":"IF(ETL!$G$751=\"N\",\"✓\",\"\")","v":""}]
[]
["　　　　　Consumption:",null,null,null,null,null,null,null,null,null,null,null,null,null,null,null,null,null,null,null,"Yes",null,null,{"$f":"IF(ETL!$G$752=\"Y\",\"✓\",\"\")","v":""},null,null,null,null,null,null,"No",null,null,{"$f":"IF(ETL!$G$752=\"N\",\"✓\",\"\")","v":""}]
[]
[]
[]
["Is this plant dedicated to such activities or is it multipurpose? "]
[]
[null,null,null,null,null,null,null,null,null,null,null,null,null,null,null,null,null,null,null,null,null,"Dedicated",null,{"$f":"IF(ETL!$G$753=\"Dedicated\",\"✓\",\"\")","v":""},null,null,null,null,null,null,null,"Multipurpose",null,{"$f":"IF(ETL!$G$753=\"Multipurpose\",\"✓\",\"\")","v":""}]
[]
[]
[]
["Specify other activities at the plant in relation to the declared Schedule 2 chemical(s), if any: \n(use appropriate Appendix 3 codes B04-B06 or specify)"]
[]
[null,null,null,null,null,null,null,null,null,null,null,null,null,null,null,null,null,null,null,null,null,null,null,null,null,null,null,null,null,"B",null,{"$f":"ETL!$H$754","v":""},null,null,"B",null,{"$f":"ETL!$H$755","v":""},null,null,"B",null,{"$f":"ETL!$H$756","v":""}]
[]
[]
[]
[]
[]
[]
[]
[]
[]
[]
["Ensure to declare in the following Form 2.3.2. the production capacity of this plant for each declared Schedule 2 chemical produced or anticipated to be produced at the plant."]
[]
[]
[null,null,null,null,null,null,null,null,null,null,null,null,null,null,null,null,null,null,null,"届出日 （西暦：ccyy-mm-dd）",null,null,null,null,null,null,null,null,null,null,null,null,null,null,{"$f":"ETL!$D$3","v":0},null,null,null,"－",null,{"$f":"ETL!$D$4","v":0},null,"－",null,{"$f":"ETL!$D$5","v":0}]
[]
["Form 2.3.1: Plant Activities in Relation to Declared Schedule 2 Chemicals "]
[]
["Ensure to complete as many forms as necessary in order to declare the activities of each Schedule 2 plant at the plant site."]
[]
[]
[]
["Plant Code:",null,null,null,null,null,null,null,null,null,null,null,null,null,null,null,null,{"$f":"ETL!$D$759","v":""}]
[]
["Plant Site Code:",null,null,null,null,null,null,null,null,null,null,null,null,null,null,null,null,{"$f":"ETL!$D$61","v":""}]
[]
[]
[]
["Indicate below whether the plant produces, processes, or consumes the declared Schedule 2 chemical(s):"]
[]
[]
["　　　　　Production:",null,null,null,null,null,null,null,null,null,null,null,null,null,null,null,null,null,null,null,"Yes",null,null,{"$f":"IF(ETL!$G$799=\"Y\",\"✓\",\"\")","v":""},null,null,null,null,null,null,"No",null,null,{"$f":"IF(ETL!$G$799=\"N\",\"✓\",\"\")","v":""}]
[]
["　　　　　Processing:",null,null,null,null,null,null,null,null,null,null,null,null,null,null,null,null,null,null,null,"Yes",null,null,{"$f":"IF(ETL!$G$800=\"Y\",\"✓\",\"\")","v":""},null,null,null,null,null,null,"No",null,null,{"$f":"IF(ETL!$G$800=\"N\",\"✓\",\"\")","v":""}]
[]
["　　　　　Consumption:",null,null,null,null,null,null,null,null,null,null,null,null,null,null,null,null,null,null,null,"Yes",null,null,{"$f":"IF(ETL!$G$801=\"Y\",\"✓\",\"\")","v":""},null,null,null,null,null,null,"No",null,null,{"$f":"IF(ETL!$G$801=\"N\",\"✓\",\"\")","v":""}]
[]
[]
[]
["Is this plant dedicated to such activities or is it multipurpose? "]
[]
[null,null,null,null,null,null,null,null,null,null,null,null,null,null,null,null,null,null,null,null,null,"Dedicated",null,{"$f":"IF(ETL!$G$802=\"Dedicated\",\"✓\",\"\")","v":""},null,null,null,null,null,null,null,"Multipurpose",null,{"$f":"IF(ETL!$G$802=\"Multipurpose\",\"✓\",\"\")","v":""}]
[]
[]
[]
["Specify other activities at the plant in relation to the declared Schedule 2 chemical(s), if any: \n(use appropriate Appendix 3 codes B04-B06 or specify)"]
[]
[null,null,null,null,null,null,null,null,null,null,null,null,null,null,null,null,null,null,null,null,null,null,null,null,null,null,null,null,null,"B",null,{"$f":"ETL!$H$803","v":""},null,null,"B",null,{"$f":"ETL!$H$804","v":""},null,null,"B",null,{"$f":"ETL!$H$805","v":""}]
[]
[]
[]
[]
[]
[]
[]
[]
[]
[]
["Ensure to declare in the following Form 2.3.2. the production capacity of this plant for each declared Schedule 2 chemical produced or anticipated to be produced at the plant."]
[]
[]
[null,null,null,null,null,null,null,null,null,null,null,null,null,null,null,null,null,null,null,"届出日 （西暦：ccyy-mm-dd）",null,null,null,null,null,null,null,null,null,null,null,null,null,null,{"$f":"ETL!$D$3","v":0},null,null,null,"－",null,{"$f":"ETL!$D$4","v":0},null,"－",null,{"$f":"ETL!$D$5","v":0}]
[]
["Form 2.3.1: Plant Activities in Relation to Declared Schedule 2 Chemicals "]
[]
["Ensure to complete as many forms as necessary in order to declare the activities of each Schedule 2 plant at the plant site."]
[]
[]
[]
["Plant Code:",null,null,null,null,null,null,null,null,null,null,null,null,null,null,null,null,{"$f":"ETL!$D$808","v":""}]
[]
["Plant Site Code:",null,null,null,null,null,null,null,null,null,null,null,null,null,null,null,null,{"$f":"ETL!$D$61","v":""}]
[]
[]
[]
["Indicate below whether the plant produces, processes, or consumes the declared Schedule 2 chemical(s):"]
[]
[]
["　　　　　Production:",null,null,null,null,null,null,null,null,null,null,null,null,null,null,null,null,null,null,null,"Yes",null,null,{"$f":"IF(ETL!$G$848=\"Y\",\"✓\",\"\")","v":""},null,null,null,null,null,null,"No",null,null,{"$f":"IF(ETL!$G$848=\"N\",\"✓\",\"\")","v":""}]
[]
["　　　　　Processing:",null,null,null,null,null,null,null,null,null,null,null,null,null,null,null,null,null,null,null,"Yes",null,null,{"$f":"IF(ETL!$G$849=\"Y\",\"✓\",\"\")","v":""},null,null,null,null,null,null,"No",null,null,{"$f":"IF(ETL!$G$849=\"N\",\"✓\",\"\")","v":""}]
[]
["　　　　　Consumption:",null,null,null,null,null,null,null,null,null,null,null,null,null,null,null,null,null,null,null,"Yes",null,null,{"$f":"IF(ETL!$G$850=\"Y\",\"✓\",\"\")","v":""},null,null,null,null,null,null,"No",null,null,{"$f":"IF(ETL!$G$850=\"N\",\"✓\",\"\")","v":""}]
[]
[]
[]
["Is this plant dedicated to such activities or is it multipurpose? "]
[]
[null,null,null,null,null,null,null,null,null,null,null,null,null,null,null,null,null,null,null,null,null,"Dedicated",null,{"$f":"IF(ETL!$G$851=\"Dedicated\",\"✓\",\"\")","v":""},null,null,null,null,null,null,null,"Multipurpose",null,{"$f":"IF(ETL!$G$851=\"Multipurpose\",\"✓\",\"\")","v":""}]
[]
[]
[]
["Specify other activities at the plant in relation to the declared Schedule 2 chemical(s), if any: \n(use appropriate Appendix 3 codes B04-B06 or specify)"]
[]
[null,null,null,null,null,null,null,null,null,null,null,null,null,null,null,null,null,null,null,null,null,null,null,null,null,null,null,null,null,"B",null,{"$f":"ETL!$H$852","v":""},null,null,"B",null,{"$f":"ETL!$H$853","v":""},null,null,"B",null,{"$f":"ETL!$H$854","v":""}]
[]
[]
[]
[]
[]
[]
[]
[]
[]
[]
["Ensure to declare in the following Form 2.3.2. the production capacity of this plant for each declared Schedule 2 chemical produced or anticipated to be produced at the plant."]

{"sheet":"【自動入力】Form2.3.2","index":10,"n_rows":979,"n_cols":45,"rows_kept":979,"cut":false,"hidden":false,"merged":[[11,0,11,16],[11,17,11,24],[30,11,32,45],[33,0,33,45],[0,44,0,45],[1,0,1,45],[2,0,2,45],[3,0,3,45],[4,0,6,45],[8,0,8,45],[0,34,0,37],[0,38,0,39],[0,40,0,41],[0,42,0,43],[22,11,22,19],[22,25,22,45],[23,0,23,45],[24,0,24,45],[25,0,25,45],[19,0,19,45],[20,11,20,16],[20,19,20,20],[20,23,20,24],[20,27,20,45],[21,0,21,45],[12,0,12,45],[14,0,14,45],[15,0,15,45],[16,0,18,10],[16,11,18,45],[9,0,9,16],[9,17,9,26],[9,27,9,45],[10,0,10,45],[54,27,54,28],[49,0,49,45],[50,11,50,19],[50,25,50,45],[51,0,51,45],[52,0,52,45],[53,0,53,45],[43,0,43,45],[44,0,46,10],[44,11,46,45],[47,0,47,45],[48,11,48,16],[48,19,48,20],[48,23,48,24],[48,27,48,45],[11,25,11,45],[37,0,37,45],[38,0,38,45],[39,0,39,45],[41,0,41,45],[42,0,42,45],[34,11,34,16],[34,19,34,20],[34,23,34,24],[34,27,34,45],[35,0,35,45],[36,11,36,19],[36,25,36,45],[27,0,27,45],[28,0,28,45],[29,0,29,45],[30,0,32,10],[64,11,64,19],[64,25,64,45],[65,0,65,45],[66,0,66,45],[67,0,67,45],[68,18,68,19],[68,27,68,28],[61,0,61,45],[62,11,62,16],[62,19,62,20],[62,23,62,24],[62,27,62,45],[63,0,63,45],[55,0,55,45],[56,0,56,45],[57,0,57,45],[58,0,60,10],[58,11,60,45],[79,0,79,45],[80,0,80,45],[81,0,81,45],[83,0,83,45],[84,0,84,45],[82,18,82,19],[82,27,82,28],[76,11,76,16],[76,19,76,20],[76,23,76,24],[76,27,76,45],[77,0,77,45],[78,11,78,19],[78,25,78,45],[69,0,69,45],[70,0,70,45],[71,0,71,45],[72,0,74,10],[72,11,74,45],[75,0,75,45],[96,18,96,19],[96,27,96,28],[91,0,91,45],[92,11,92,19],[92,25,92,45],[93,0,93,45],[94,0,94,45],[95,0,95,45],[98,0,98,18],[98,19,98,33],[85,0,85,45],[86,0,88,10],[86,11,88,45],[89,0,89,45],[90,11,90,16],[90,19,90,20],[90,23,90,24],[90,27,90,45],[108,0,108,45],[109,0,109,16],[109,17,109,24],[109,25,109,45],[110,0,110,45],[111,18,111,19],[111,27,111,28],[99,0,99,45],[100,0,100,45],[101,0,101,45],[102,0,104,45],[106,0,106,45],[107,0,107,16],[107,17,107,26],[107,27,107,45],[98,34,98,37],[98,38,98,39],[98,40,98,41],[98,42,98,43],[98,44,98,45],[125,0,125,45],[126,0,126,45],[127,0,127,45],[128,0,130,10],[128,11,130,45],[119,0,119,45],[120,11,120,19],[120,25,120,45],[121,0,121,45],[122,0,122,45],[123,0,123,45],[112,0,112,45],[113,0,113,45],[114,0,116,10],[114,11,116,45],[117,0,117,45],[118,11,118,16],[118,19,118,20],[118,23,118,24],[118,27,118,45],[124,18,124,19],[124,27,124,28],[139,0,139,45],[140,0,140,45],[141,0,141,45],[142,0,144,10],[142,11,144,45],[145,0,145,45],[134,11,134,19],[134,25,134,45],[135,0,135,45],[136,0,136,45],[137,0,137,45],[138,18,138,19],[138,27,138,28],[131,0,131,45],[132,11,132,16],[132,19,132,20],[132,23,132,24],[132,27,132,45],[133,0,133,45],[155,0,155,45],[156,0,158,10],[156,11,158,45],[159,0,159,45],[160,11,160,16],[160,19,160,20],[160,23,160,24],[160,27,160,45],[149,0,149,45],[150,0,150,45],[151,0,151,45],[153,0,153,45],[154,0,154,45],[152,18,152,19],[152,27,152,28],[146,11,146,16],[146,19,146,20],[146,23,146,24],[146,27,146,45],[147,0,147,45],[148,11,148,19],[148,25,148,45],[195,0,195,45],[193,0,193,45],[194,18,194,19],[194,27,194,28],[196,0,196,18],[191,0,191,45],[192,0,192,45],[189,0,189,45],[190,11,190,19],[190,25,190,45],[196,42,196,43],[196,44,196,45],[176,11,176,19],[176,25,176,45],[166,18,166,19],[166,27,166,28],[161,0,161,45],[162,11,162,19],[162,25,162,45],[163,0,163,45],[164,0,164,45],[165,0,165,45],[187,0,187,45],[188,11,188,16],[188,19,188,20],[188,23,188,24],[188,27,188,45],[167,0,167,45],[170,0,172,10],[170,11,172,45],[173,0,173,45],[174,11,174,16],[235,0,235,45],[236,18,236,19],[233,0,233,45],[234,0,234,45],[231,0,231,45],[232,11,232,19],[232,25,232,45],[224,0,224,45],[209,18,209,19],[209,27,209,28],[211,0,211,45],[212,0,214,10],[204,0,204,45],[206,0,206,45],[207,0,207,16],[207,17,207,24],[207,25,207,45],[229,0,229,45],[230,11,230,16],[230,19,230,20],[230,23,230,24],[230,27,230,45],[220,0,220,45],[223,0,223,45],[218,11,218,19],[218,25,218,45],[221,0,221,45],[222,18,222,19],[217,0,217,45],[208,0,208,45],[210,0,210,45],[236,27,236,28],[271,0,271,45],[263,0,263,45],[265,0,265,45],[264,18,264,19],[264,27,264,28],[266,0,266,45],[267,0,267,45],[268,0,270,10],[268,11,270,45],[272,11,272,16],[272,19,272,20],[272,23,272,24],[272,27,272,45],[248,0,248,45],[246,11,246,19],[246,25,246,45],[247,0,247,45],[249,0,249,45],[250,27,250,28],[252,0,252,45],[253,0,253,45],[254,0,256,10],[254,11,256,45],[258,11,258,16],[258,19,258,20],[258,23,258,24],[258,27,258,45],[285,0,285,45],[282,0,284,10],[282,11,284,45],[286,11,286,16],[277,0,277,45],[279,0,279,45],[278,18,278,19],[278,27,278,28],[280,0,280,45],[281,0,281,45],[273,0,273,45],[275,0,275,45],[274,11,274,19],[274,25,274,45],[276,0,276,45],[296,0,296,45],[298,0,300,45],[294,34,294,37],[294,38,294,39],[294,40,294,41],[294,42,294,43],[294,44,294,45],[295,0,295,45],[286,19,286,20],[286,23,286,24],[286,27,286,45],[288,11,288,19],[288,25,288,45],[290,0,290,45],[366,0,368,10],[366,11,368,45],[369,0,369,45],[351,0,351,45],[352,0,354,10],[352,11,354,45],[355,0,355,45],[356,11,356,16],[356,19,356,20],[356,23,356,24],[332,0,332,45],[333,0,333,45],[331,0,331,45],[334,18,334,19],[334,27,334,28],[335,0,335,45],[329,0,329,45],[330,11,330,19],[330,25,330,45],[362,18,362,19],[362,27,362,28],[357,0,357,45],[360,0,360,45],[361,0,361,45],[358,11,358,19],[358,25,358,45],[359,0,359,45],[346,0,346,45],[347,0,347,45],[348,18,348,19],[348,27,348,28],[349,0,349,45],[350,0,350,45],[363,0,363,45],[364,0,364,45],[365,0,365,45],[407,0,407,45],[402,0,402,45],[403,0,403,16],[403,17,403,24],[403,25,403,45],[404,0,404,45],[395,0,395,45],[388,0,388,45],[389,0,389,45],[393,0,393,45],[390,18,390,19],[385,0,385,45],[386,11,386,19],[386,25,386,45],[387,0,387,45],[371,0,371,45],[370,11,370,16],[370,19,370,20],[370,23,370,24],[370,27,370,45],[356,27,356,45],[374,0,374,45],[376,18,376,19],[376,27,376,28],[375,0,375,45],[377,0,377,45],[378,0,378,45],[379,0,379,45],[0,19,0,33],[0,0,0,18],[13,18,13,19],[13,27,13,28],[26,18,26,19],[26,27,26,28],[40,18,40,19],[40,27,40,28],[54,18,54,19],[439,0,439,45],[441,0,441,45],[436,0,438,10],[436,11,438,45],[440,11,440,16],[440,19,440,20],[431,0,431,45],[435,0,435,45],[425,0,425,45],[427,0,427,45],[429,0,429,45],[430,0,430,45],[426,11,426,16],[426,19,426,20],[426,23,426,24],[426,27,426,45],[422,0,424,10],[196,19,196,33],[196,34,196,37],[196,38,196,39],[196,40,196,41],[184,0,186,10],[184,11,186,45],[174,19,174,20],[174,23,174,24],[174,27,174,45],[181,0,181,45],[182,0,182,45],[183,0,183,45],[177,0,177,45],[179,0,179,45],[178,0,178,45],[180,18,180,19],[180,27,180,28],[168,0,168,45],[169,0,169,45],[175,0,175,45],[222,27,222,28],[225,0,225,45],[226,0,228,10],[226,11,228,45],[212,11,214,45],[215,0,215,45],[216,11,216,16],[216,19,216,20],[216,23,216,24],[216,27,216,45],[197,0,197,45],[198,0,198,45],[199,0,199,45],[200,0,202,45],[205,0,205,16],[205,17,205,26],[205,27,205,45],[219,0,219,45],[240,0,242,10],[240,11,242,45],[243,0,243,45],[244,11,244,16],[244,19,244,20],[244,23,244,24],[244,27,244,45],[237,0,237,45],[238,0,238,45],[239,0,239,45],[245,0,245,45],[262,0,262,45],[257,0,257,45],[259,0,259,45],[261,0,261,45],[260,11,260,19],[260,25,260,45],[251,0,251,45],[250,18,250,19],[302,0,302,45],[293,0,293,45],[297,0,297,45],[294,0,294,18],[294,19,294,33],[287,0,287,45],[289,0,289,45],[291,0,291,45],[292,18,292,19],[292,27,292,28],[323,0,323,45],[308,0,308,45],[313,0,313,45],[314,27,314,45],[314,11,314,16],[314,19,314,20],[303,0,303,16],[303,17,303,26],[303,27,303,45],[304,0,304,45],[324,0,326,10],[324,11,326,45],[327,0,327,45],[328,11,328,16],[328,19,328,20],[328,23,328,24],[328,27,328,45],[314,23,314,24],[316,11,316,19],[318,0,318,45],[320,18,320,19],[320,27,320,28],[321,0,321,45],[305,25,305,45],[307,18,307,19],[307,27,307,28],[309,0,309,45],[310,0,312,10],[310,11,312,45],[305,0,305,16],[305,17,305,24],[319,0,319,45],[322,0,322,45],[315,0,315,45],[316,25,316,45],[317,0,317,45],[306,0,306,45],[336,0,336,45],[337,0,337,45],[338,0,340,10],[338,11,340,45],[341,0,341,45],[342,11,342,16],[342,19,342,20],[342,23,342,24],[342,27,342,45],[343,0,343,45],[344,11,344,19],[344,25,344,45],[345,0,345,45],[390,27,390,28],[391,0,391,45],[392,0,392,18],[392,19,392,33],[392,34,392,37],[392,38,392,39],[392,40,392,41],[392,42,392,43],[392,44,392,45],[380,0,382,10],[380,11,382,45],[383,0,383,45],[384,11,384,16],[384,19,384,20],[384,23,384,24],[384,27,384,45],[372,11,372,19],[372,25,372,45],[373,0,373,45],[394,0,394,45],[396,0,398,45],[400,0,400,45],[401,0,401,16],[401,17,401,26],[401,27,401,45],[422,11,424,45],[415,0,415,45],[416,0,416,45],[417,0,417,45],[421,0,421,45],[418,18,418,19],[418,27,418,28],[419,0,419,45],[420,0,420,45],[411,0,411,45],[413,0,413,45],[448,0,448,45],[449,0,449,45],[440,23,440,24],[440,27,440,45],[442,11,442,19],[442,25,442,45],[443,0,443,45],[444,0,444,45],[428,11,428,19],[428,25,428,45],[432,18,432,19],[432,27,432,28],[433,0,433,45],[434,0,434,45],[405,18,405,19],[405,27,405,28],[406,0,406,45],[408,0,410,10],[408,11,410,45],[412,11,412,16],[412,19,412,20],[412,23,412,24],[412,27,412,45],[414,11,414,19],[414,25,414,45],[468,11,468,16],[468,19,468,20],[468,23,468,24],[468,27,468,45],[469,0,469,45],[460,18,460,19],[460,27,460,28],[461,0,461,45],[462,0,462,45],[463,0,463,45],[464,0,466,10],[464,11,466,45],[455,0,455,45],[456,11,456,19],[456,25,456,45],[457,0,457,45],[458,0,458,45],[459,0,459,45],[450,0,452,10],[450,11,452,45],[453,0,453,45],[454,11,454,16],[454,19,454,20],[454,23,454,24],[454,27,454,45],[445,0,445,45],[446,18,446,19],[446,27,446,28],[447,0,447,45],[482,11,482,16],[482,19,482,20],[482,23,482,24],[482,27,482,45],[483,0,483,45],[484,11,484,19],[484,25,484,45],[475,0,475,45],[476,0,476,45],[477,0,477,45],[478,0,480,10],[478,11,480,45],[481,0,481,45],[470,11,470,19],[470,25,470,45],[471,0,471,45],[472,0,472,45],[473,0,473,45],[474,18,474,19],[474,27,474,28],[467,0,467,45],[490,44,490,45],[491,0,491,45],[492,0,492,45],[493,0,493,45],[494,0,496,45],[498,0,498,45],[490,0,490,18],[490,19,490,33],[490,34,490,37],[490,38,490,39],[490,40,490,41],[490,42,490,43],[485,0,485,45],[486,0,486,45],[487,0,487,45],[488,18,488,19],[488,27,488,28],[489,0,489,45],[509,0,509,45],[510,11,510,16],[510,19,510,20],[510,23,510,24],[510,27,510,45],[511,0,511,45],[502,0,502,45],[503,18,503,19],[503,27,503,28],[504,0,504,45],[505,0,505,45],[506,0,508,10],[506,11,508,45],[499,0,499,16],[499,17,499,26],[499,27,499,45],[500,0,500,45],[501,0,501,16],[501,17,501,24],[501,25,501,45],[524,11,524,16],[524,19,524,20],[524,23,524,24],[524,27,524,45],[525,0,525,45],[526,11,526,19],[526,25,526,45],[517,0,517,45],[518,0,518,45],[519,0,519,45],[520,0,522,10],[520,11,522,45],[523,0,523,45],[512,11,512,19],[512,25,512,45],[513,0,513,45],[514,0,514,45],[515,0,515,45],[516,18,516,19],[516,27,516,28],[539,0,539,45],[540,11,540,19],[540,25,540,45],[541,0,541,45],[542,0,542,45],[543,0,543,45],[532,0,532,45],[533,0,533,45],[534,0,536,10],[534,11,536,45],[537,0,537,45],[538,11,538,16],[538,19,538,20],[538,23,538,24],[538,27,538,45],[527,0,527,45],[528,0,528,45],[529,0,529,45],[530,18,530,19],[530,27,530,28],[531,0,531,45],[554,11,554,19],[554,25,554,45],[555,0,555,45],[556,0,556,45],[557,0,557,45],[558,18,558,19],[558,27,558,28],[551,0,551,45],[552,11,552,16],[552,19,552,20],[552,23,552,24],[552,27,552,45],[553,0,553,45],[544,18,544,19],[544,27,544,28],[545,0,545,45],[546,0,546,45],[547,0,547,45],[548,0,550,10],[548,11,550,45],[569,0,569,45],[570,0,570,45],[571,0,571,45],[572,18,572,19],[572,27,572,28],[573,0,573,45],[566,11,566,16],[566,19,566,20],[566,23,566,24],[566,27,566,45],[567,0,567,45],[568,11,568,19],[568,25,568,45],[559,0,559,45],[560,0,560,45],[561,0,561,45],[562,0,564,10],[562,11,564,45],[565,0,565,45],[586,18,586,19],[586,27,586,28],[587,0,587,45],[588,0,588,18],[588,19,588,33],[588,34,588,37],[588,38,588,39],[588,40,588,41],[588,42,588,43],[588,44,588,45],[581,0,581,45],[582,11,582,19],[582,25,582,45],[583,0,583,45],[584,0,584,45],[585,0,585,45],[574,0,574,45],[575,0,575,45],[576,0,578,10],[576,11,578,45],[579,0,579,45],[580,11,580,16],[580,19,580,20],[580,23,580,24],[580,27,580,45],[602,0,602,45],[603,0,603,45],[604,0,606,10],[604,11,606,45],[607,0,607,45],[608,11,608,16],[608,19,608,20],[608,23,608,24],[608,27,608,45],[598,0,598,45],[599,0,599,16],[599,17,599,24],[599,25,599,45],[600,0,600,45],[601,18,601,19],[601,27,601,28],[589,0,589,45],[590,0,590,45],[591,0,591,45],[592,0,594,45],[596,0,596,45],[597,0,597,16],[597,17,597,26],[597,27,597,45],[621,0,621,45],[622,11,622,16],[622,19,622,20],[622,23,622,24],[622,27,622,45],[623,0,623,45],[614,18,614,19],[614,27,614,28],[615,0,615,45],[616,0,616,45],[617,0,617,45],[618,0,620,10],[618,11,620,45],[609,0,609,45],[610,11,610,19],[610,25,610,45],[611,0,611,45],[612,0,612,45],[613,0,613,45],[636,11,636,16],[636,19,636,20],[636,23,636,24],[636,27,636,45],[637,0,637,45],[638,11,638,19],[638,25,638,45],[629,0,629,45],[630,0,630,45],[631,0,631,45],[632,0,634,10],[632,11,634,45],[635,0,635,45],[624,11,624,19],[624,25,624,45],[625,0,625,45],[626,0,626,45],[627,0,627,45],[628,18,628,19],[628,27,628,28],[651,0,651,45],[652,11,652,19],[652,25,652,45],[653,0,653,45],[654,0,654,45],[655,0,655,45],[644,0,644,45],[645,0,645,45],[646,0,648,10],[646,11,648,45],[649,0,649,45],[650,11,650,16],[650,19,650,20],[650,23,650,24],[650,27,650,45],[639,0,639,45],[640,0,640,45],[641,0,641,45],[642,18,642,19],[642,27,642,28],[643,0,643,45],[666,11,666,19],[666,25,666,45],[667,0,667,45],[668,0,668,45],[669,0,669,45],[670,18,670,19],[670,27,670,28],[663,0,663,45],[664,11,664,16],[664,19,664,20],[664,23,664,24],[664,27,664,45],[665,0,665,45],[656,18,656,19],[656,27,656,28],[657,0,657,45],[658,0,658,45],[659,0,659,45],[660,0,662,10],[660,11,662,45],[681,0,681,45],[682,0,682,45],[683,0,683,45],[684,18,684,19],[684,27,684,28],[685,0,685,45],[678,11,678,16],[678,19,678,20],[678,23,678,24],[678,27,678,45],[679,0,679,45],[680,11,680,19],[680,25,680,45],[671,0,671,45],[672,0,672,45],[673,0,673,45],[674,0,676,10],[674,11,676,45],[677,0,677,45],[698,0,698,45],[699,18,699,19],[699,27,699,28],[700,0,700,45],[701,0,701,45],[702,0,704,10],[702,11,704,45],[695,0,695,16],[695,17,695,26],[695,27,695,45],[696,0,696,45],[697,0,697,16],[697,17,697,24],[697,25,697,45],[686,44,686,45],[687,0,687,45],[688,0,688,45],[689,0,689,45],[690,0,692,45],[694,0,694,45],[686,0,686,18],[686,19,686,33],[686,34,686,37],[686,38,686,39],[686,40,686,41],[686,42,686,43],[713,0,713,45],[714,0,714,45],[715,0,715,45],[716,0,718,10],[716,11,718,45],[719,0,719,45],[708,11,708,19],[708,25,708,45],[709,0,709,45],[710,0,710,45],[711,0,711,45],[712,18,712,19],[712,27,712,28],[705,0,705,45],[706,11,706,16],[706,19,706,20],[706,23,706,24],[706,27,706,45],[707,0,707,45],[728,0,728,45],[729,0,729,45],[730,0,732,10],[730,11,732,45],[733,0,733,45],[734,11,734,16],[734,19,734,20],[734,23,734,24],[734,27,734,45],[723,0,723,45],[724,0,724,45],[725,0,725,45],[726,18,726,19],[726,27,726,28],[727,0,727,45],[720,11,720,16],[720,19,720,20],[720,23,720,24],[720,27,720,45],[721,0,721,45],[722,11,722,19],[722,25,722,45],[747,0,747,45],[748,11,748,16],[748,19,748,20],[748,23,748,24],[748,27,748,45],[749,0,749,45],[740,18,740,19],[740,27,740,28],[741,0,741,45],[742,0,742,45],[743,0,743,45],[744,0,746,10],[744,11,746,45],[735,0,735,45],[736,11,736,19],[736,25,736,45],[737,0,737,45],[738,0,738,45],[739,0,739,45],[762,11,762,16],[762,19,762,20],[762,23,762,24],[762,27,762,45],[763,0,763,45]],"merged_total":1299,"flags":["merged_cut"]}
[null,null,null,null,null,null,null,null,null,null,null,null,null,null,null,null,null,null,null,"届出日 （西暦：ccyy-mm-dd）",null,null,null,null,null,null,null,null,null,null,null,null,null,null,{"$f":"ETL!$D$3","v":0},null,null,null,"－",null,{"$f":"ETL!$D$4","v":0},null,"－",null,{"$f":"ETL!$D$5","v":0}]
[]
["Form 2.3.2: Production Capacity of the Plant for Each Declared Schedule 2 Chemical"]
[]
["Ensure to repeat the following block of information as many times as necessary in order to daclare the production capacity of the plant for each declared Schecule 2 chemical produced or anticipatetd to be produced at the plant."]
[]
[]
[]
[]
["Plant Code:",null,null,null,null,null,null,null,null,null,null,null,null,null,null,null,null,{"$f":"ETL!$D$367","v":""}]
[]
["Plant Site Code:",null,null,null,null,null,null,null,null,null,null,null,null,null,null,null,null,{"$f":"ETL!$D$61","v":""}]
[]
["Unit of weight:",null,null,null,null,null,null,null,null,null,null,null,null,null,null,null,"Tonne",null,"レ",null,null,null,null,null,null,"Kg"]
[]
[]
["IUPAC chemical name:",null,null,null,null,null,null,null,null,null,null,{"$f":"ETL!$D$374","v":""}]
[]
[]
[]
["CAS registry number:",null,null,null,null,null,null,null,null,null,null,{"$f":"ETL!$K$372","v":""},null,null,null,null,null,"-",null,{"$f":"ETL!$L$372","v":""},null,"-",null,{"$f":"ETL!$M$372","v":""}]
[]
["Production capacity:",null,null,null,null,null,null,null,null,null,null,{"$f":"ETL!$I$375","v":""},null,null,null,null,null,null,null,null," t"]
[]
["Calculation method:"]
[]
[null,null,null,null,null,null,null,null,null,null,null,null,null,null,null,null,"Name plate",null,{"$f":"IF(ETL!$G$376=\"Name Plate\",\"✓\",\"\")","v":""},null,null,null,null,null,null,"Design",null,{"$f":"IF(ETL!$G$376=\"Design\",\"✓\",\"\")","v":""}]
[]
[]
[]
["IUPAC chemical name:",null,null,null,null,null,null,null,null,null,null,{"$f":"ETL!$D$379","v":""}]
[]
[]
[]
["CAS registry number:",null,null,null,null,null,null,null,null,null,null,{"$f":"ETL!$K$377","v":""},null,null,null,null,null,"-",null,{"$f":"ETL!$L$377","v":""},null,"-",null,{"$f":"ETL!$M$377","v":""}]
[]
["Production capacity:",null,null,null,null,null,null,null,null,null,null,{"$f":"ETL!$I$380","v":""},null,null,null,null,null,null,null,null," t"]
[]
["Calculation method:"]
[]
[null,null,null,null,null,null,null,null,null,null,null,null,null,null,null,null,"Name plate",null,{"$f":"IF(ETL!$G$381=\"Name Plate\",\"✓\",\"\")","v":""},null,null,null,null,null,null,"Design",null,{"$f":"IF(ETL!$G$381=\"Design\",\"✓\",\"\")","v":""}]
[]
[]
[]
["IUPAC chemical name:",null,null,null,null,null,null,null,null,null,null,{"$f":"ETL!$D$384","v":""}]
[]
[]
[]
["CAS registry number:",null,null,null,null,null,null,null,null,null,null,{"$f":"ETL!$K$382","v":""},null,null,null,null,null,"-",null,{"$f":"ETL!$L$382","v":""},null,"-",null,{"$f":"ETL!$M$382","v":""}]
[]
["Production capacity:",null,null,null,null,null,null,null,null,null,null,{"$f":"ETL!$I$385","v":""},null,null,null,null,null,null,null,null," t"]
[]
["Calculation method:"]
[]
[null,null,null,null,null,null,null,null,null,null,null,null,null,null,null,null,"Name plate",null,{"$f":"IF(ETL!$G$386=\"Name Plate\",\"✓\",\"\")","v":""},null,null,null,null,null,null,"Design",null,{"$f":"IF(ETL!$G$386=\"Design\",\"✓\",\"\")","v":""}]
[]
[]
[]
["IUPAC chemical name:",null,null,null,null,null,null,null,null,null,null,{"$f":"ETL!$D$389","v":""}]
[]
[]
[]
["CAS registry number:",null,null,null,null,null,null,null,null,null,null,{"$f":"ETL!$K$387","v":""},null,null,null,null,null,"-",null,{"$f":"ETL!$L$387","v":""},null,"-",null,{"$f":"ETL!$M$387","v":""}]
[]
["Production capacity:",null,null,null,null,null,null,null,null,null,null,{"$f":"ETL!$I$390","v":""},null,null,null,null,null,null,null,null," t"]
[]
["Calculation method:"]
[]
[null,null,null,null,null,null,null,null,null,null,null,null,null,null,null,null,"Name plate",null,{"$f":"IF(ETL!$G$391=\"Name Plate\",\"✓\",\"\")","v":""},null,null,null,null,null,null,"Design",null,{"$f":"IF(ETL!$G$391=\"Design\",\"✓\",\"\")","v":""}]
[]
[]
[]
["IUPAC chemical name:",null,null,null,null,null,null,null,null,null,null,{"$f":"ETL!$D$394","v":""}]
[]
[]
[]
["CAS registry number:",null,null,null,null,null,null,null,null,null,null,{"$f":"ETL!$K$392","v":""},null,null,null,null,null,"-",null,{"$f":"ETL!$L$392","v":""},null,"-",null,{"$f":"ETL!$M$392","v":""}]
[]
["Production capacity:",null,null,null,null,null,null,null,null,null,null,{"$f":"ETL!$I$395","v":""},null,null,null,null,null,null,null,null," t"]
[]
["Calculation method:"]
[]
[null,null,null,null,null,null,null,null,null,null,null,null,null,null,null,null,"Name plate",null,{"$f":"IF(ETL!$G$396=\"Name Plate\",\"✓\",\"\")","v":""},null,null,null,null,null,null,"Design",null,{"$f":"IF(ETL!$G$396=\"Design\",\"✓\",\"\")","v":""}]
[]
[]
[]
["IUPAC chemical name:",null,null,null,null,null,null,null,null,null,null,{"$f":"ETL!$D$399","v":""}]
[]
[]
[]
["CAS registry number:",null,null,null,null,null,null,null,null,null,null,{"$f":"ETL!$K$397","v":""},null,null,null,null,null,"-",null,{"$f":"ETL!$L$397","v":""},null,"-",null,{"$f":"ETL!$M$397","v":""}]
[]
["Production capacity:",null,null,null,null,null,null,null,null,null,null,{"$f":"ETL!$I$400","v":""},null,null,null,null,null,null,null,null," t"]
[]
["Calculation method:"]
[]
[null,null,null,null,null,null,null,null,null,null,null,null,null,null,null,null,"Name plate",null,{"$f":"IF(ETL!$G$401=\"Name Plate\",\"✓\",\"\")","v":""},null,null,null,null,null,null,"Design",null,{"$f":"IF(ETL!$G$401=\"Design\",\"✓\",\"\")","v":""}]
[]
[null,null,null,null,null,null,null,null,null,null,null,null,null,null,null,null,null,null,null,"届出日 （西暦：ccyy-mm-dd）",null,null,null,null,null,null,null,null,null,null,null,null,null,null,{"$f":"ETL!$D$3","v":0},null,null,null,"－",null,{"$f":"ETL!$D$4","v":0},null,"－",null,{"$f":"ETL!$D$5","v":0}]
[]
["Form 2.3.2: Production Capacity of the Plant for Each Declared Schedule 2 Chemical"]
[]
["Ensure to repeat the following block of information as many times as necessary in order to daclare the production capacity of the plant for each declared Schecule 2 chemical produced or anticipatetd to be produced at the plant."]
[]
[]
[]
[]
["Plant Code:",null,null,null,null,null,null,null,null,null,null,null,null,null,null,null,null,{"$f":"ETL!$D$416","v":""}]
[]
["Plant Site Code:",null,null,null,null,null,null,null,null,null,null,null,null,null,null,null,null,{"$f":"ETL!$D$61","v":""}]
[]
["Unit of weight:",null,null,null,null,null,null,null,null,null,null,null,null,null,null,null,"Tonne",null,"レ",null,null,null,null,null,null,"Kg"]
[]
[]
["IUPAC chemical name:",null,null,null,null,null,null,null,null,null,null,{"$f":"ETL!$D$423","v":""}]
[]
[]
[]
["CAS registry number:",null,null,null,null,null,null,null,null,null,null,{"$f":"ETL!$K$421","v":""},null,null,null,null,null,"-",null,{"$f":"ETL!$L$421","v":""},null,"-",null,{"$f":"ETL!$M$421","v":""}]
[]
["Production capacity:",null,null,null,null,null,null,null,null,null,null,{"$f":"ETL!$I$424","v":""},null,null,null,null,null,null,null,null," t"]
[]
["Calculation method:"]
[]
[null,null,null,null,null,null,null,null,null,null,null,null,null,null,null,null,"Name plate",null,{"$f":"IF(ETL!$G$425=\"Name Plate\",\"✓\",\"\")","v":""},null,null,null,null,null,null,"Design",null,{"$f":"IF(ETL!$G$425=\"Design\",\"✓\",\"\")","v":""}]
[]
[]
[]
["IUPAC chemical name:",null,null,null,null,null,null,null,null,null,null,{"$f":"ETL!$D$428","v":""}]
[]
[]
[]
["CAS registry number:",null,null,null,null,null,null,null,null,null,null,{"$f":"ETL!$K$426","v":""},null,null,null,null,null,"-",null,{"$f":"ETL!$L$426","v":""},null,"-",null,{"$f":"ETL!$M$426","v":""}]
[]
["Production capacity:",null,null,null,null,null,null,null,null,null,null,{"$f":"ETL!$I$429","v":""},null,null,null,null,null,null,null,null," t"]
[]
["Calculation method:"]
[]
[null,null,null,null,null,null,null,null,null,null,null,null,null,null,null,null,"Name plate",null,{"$f":"IF(ETL!$G$430=\"Name Plate\",\"✓\",\"\")","v":""},null,null,null,null,null,null,"Design",null,{"$f":"IF(ETL!$G$430=\"Design\",\"✓\",\"\")","v":""}]
[]
[]
[]
["IUPAC chemical name:",null,null,null,null,null,null,null,null,null,null,{"$f":"ETL!$D$433","v":""}]
[]
[]
[]
["CAS registry number:",null,null,null,null,null,null,null,null,null,null,{"$f":"ETL!$K$431","v":""},null,null,null,null,null,"-",null,{"$f":"ETL!$L$431","v":""},null,"-",null,{"$f":"ETL!$M$431","v":""}]
[]
["Production capacity:",null,null,null,null,null,null,null,null,null,null,{"$f":"ETL!$I$434","v":""},null,null,null,null,null,null,null,null," t"]
[]
["Calculation method:"]
[]
[null,null,null,null,null,null,null,null,null,null,null,null,null,null,null,null,"Name plate",null,{"$f":"IF(ETL!$G$435=\"Name Plate\",\"✓\",\"\")","v":""},null,null,null,null,null,null,"Design",null,{"$f":"IF(ETL!$G$435=\"Design\",\"✓\",\"\")","v":""}]
[]
[]
[]
["IUPAC chemical name:",null,null,null,null,null,null,null,null,null,null,{"$f":"ETL!$D$438","v":""}]
[]
[]
[]
["CAS registry number:",null,null,null,null,null,null,null,null,null,null,{"$f":"ETL!$K$436","v":""},null,null,null,null,null,"-",null,{"$f":"ETL!$L$436","v":""},null,"-",null,{"$f":"ETL!$M$436","v":""}]
[]
["Production capacity:",null,null,null,null,null,null,null,null,null,null,{"$f":"ETL!$I$439","v":""},null,null,null,null,null,null,null,null," t"]
[]
["Calculation method:"]
[]
[null,null,null,null,null,null,null,null,null,null,null,null,null,null,null,null,"Name plate",null,{"$f":"IF(ETL!$G$440=\"Name Plate\",\"✓\",\"\")","v":""},null,null,null,null,null,null,"Design",null,{"$f":"IF(ETL!$G$440=\"Design\",\"✓\",\"\")","v":""}]
[]
[]
[]
["IUPAC chemical name:",null,null,null,null,null,null,null,null,null,null,{"$f":"ETL!$D$443","v":""}]
[]
[]
[]
["CAS registry number:",null,null,null,null,null,null,null,null,null,null,{"$f":"ETL!$K$441","v":""},null,null,null,null,null,"-",null,{"$f":"ETL!$L$441","v":""},null,"-",null,{"$f":"ETL!$M$441","v":""}]
[]
["Production capacity:",null,null,null,null,null,null,null,null,null,null,{"$f":"ETL!$I$444","v":""},null,null,null,null,null,null,null,null," t"]
[]
["Calculation method:"]
[]
[null,null,null,null,null,null,null,null,null,null,null,null,null,null,null,null,"Name plate",null,{"$f":"IF(ETL!$G$445=\"Name Plate\",\"✓\",\"\")","v":""},null,null,null,null,null,null,"Design",null,{"$f":"IF(ETL!$G$445=\"Design\",\"✓\",\"\")","v":""}]
[]
[]
[]
["IUPAC chemical name:",null,null,null,null,null,null,null,null,null,null,{"$f":"ETL!$D$448","v":""}]
[]
[]
[]
["CAS registry number:",null,null,null,null,null,null,null,null,null,null,{"$f":"ETL!$K$446","v":""},null,null,null,null,null,"-",null,{"$f":"ETL!$L$446","v":""},null,"-",null,{"$f":"ETL!$M$446","v":""}]
[]
["Production capacity:",null,null,null,null,null,null,null,null,null,null,{"$f":"ETL!$I$449","v":""},null,null,null,null,null,null,null,null," t"]
[]
["Calculation method:"]
[]
[null,null,null,null,null,null,null,null,null,null,null,null,null,null,null,null,"Name plate",null,{"$f":"IF(ETL!$G$450=\"Name Plate\",\"✓\",\"\")","v":""},null,null,null,null,null,null,"Design",null,{"$f":"IF(ETL!$G$450=\"Design\",\"✓\",\"\")","v":""}]
[]
[null,null,null,null,null,null,null,null,null,null,null,null,null,null,null,null,null,null,null,"届出日 （西暦：ccyy-mm-dd）",null,null,null,null,null,null,null,null,null,null,null,null,null,null,{"$f":"ETL!$D$3","v":0},null,null,null,"－",null,{"$f":"ETL!$D$4","v":0},null,"－",null,{"$f":"ETL!$D$5","v":0}]
[]
["Form 2.3.2: Production Capacity of the Plant for Each Declared Schedule 2 Chemical"]
[]
["Ensure to repeat the following block of information as many times as necessary in order to daclare the production capacity of the plant for each declared Schecule 2 chemical produced or anticipatetd to be produced at the plant."]
[]
[]
[]
[]
["Plant Code:",null,null,null,null,null,null,null,null,null,null,null,null,null,null,null,null,{"$f":"ETL!$D$465","v":""}]
[]
["Plant Site Code:",null,null,null,null,null,null,null,null,null,null,null,null,null,null,null,null,{"$f":"ETL!$D$61","v":""}]
[]
["Unit of weight:",null,null,null,null,null,null,null,null,null,null,null,null,null,null,null,"Tonne",null,"レ",null,null,null,null,null,null,"Kg"]
[]
[]
["IUPAC chemical name:",null,null,null,null,null,null,null,null,null,null,{"$f":"ETL!$D$472","v":""}]
[]
[]
[]
["CAS registry number:",null,null,null,null,null,null,null,null,null,null,{"$f":"ETL!$K$470","v":""},null,null,null,null,null,"-",null,{"$f":"ETL!$L$470","v":""},null,"-",null,{"$f":"ETL!$M$470","v":""}]
[]
["Production capacity:",null,null,null,null,null,null,null,null,null,null,{"$f":"ETL!$I$473","v":""},null,null,null,null,null,null,null,null," t"]
[]
["Calculation method:"]
[]
[null,null,null,null,null,null,null,null,null,null,null,null,null,null,null,null,"Name plate",null,{"$f":"IF(ETL!$G$474=\"Name Plate\",\"✓\",\"\")","v":""},null,null,null,null,null,null,"Design",null,{"$f":"IF(ETL!$G$474=\"Design\",\"✓\",\"\")","v":""}]
[]
[]
[]
["IUPAC chemical name:",null,null,null,null,null,null,null,null,null,null,{"$f":"ETL!$D$477","v":""}]
[]
[]
[]
["CAS registry number:",null,null,null,null,null,null,null,null,null,null,{"$f":"ETL!$K$475","v":""},null,null,null,null,null,"-",null,{"$f":"ETL!$L$475","v":""},null,"-",null,{"$f":"ETL!$M$475","v":""}]
[]
["Production capacity:",null,null,null,null,null,null,null,null,null,null,{"$f":"ETL!$I$478","v":""},null,null,null,null,null,null,null,null," t"]
[]
["Calculation method:"]
[]
[null,null,null,null,null,null,null,null,null,null,null,null,null,null,null,null,"Name plate",null,{"$f":"IF(ETL!$G$479=\"Name Plate\",\"✓\",\"\")","v":""},null,null,null,null,null,null,"Design",null,{"$f":"IF(ETL!$G$479=\"Design\",\"✓\",\"\")","v":""}]
[]
[]
[]
["IUPAC chemical name:",null,null,null,null,null,null,null,null,null,null,{"$f":"ETL!$D$482","v":""}]
[]
[]
[]
["CAS registry number:",null,null,null,null,null,null,null,null,null,null,{"$f":"ETL!$K$480","v":""},null,null,null,null,null,"-",null,{"$f":"ETL!$L$480","v":""},null,"-",null,{"$f":"ETL!$M$480","v":""}]
[]
["Production capacity:",null,null,null,null,null,null,null,null,null,null,{"$f":"ETL!$I$483","v":""},null,null,null,null,null,null,null,null," t"]
[]
["Calculation method:"]
[]
[null,null,null,null,null,null,null,null,null,null,null,null,null,null,null,null,"Name plate",null,{"$f":"IF(ETL!$G$484=\"Name Plate\",\"✓\",\"\")","v":""},null,null,null,null,null,null,"Design",null,{"$f":"IF(ETL!$G$484=\"Design\",\"✓\",\"\")","v":""}]
[]
[]
[]
["IUPAC chemical name:",null,null,null,null,null,null,null,null,null,null,{"$f":"ETL!$D$487","v":""}]
[]
[]
[]
["CAS registry number:",null,null,null,null,null,null,null,null,null,null,{"$f":"ETL!$K$485","v":""},null,null,null,null,null,"-",null,{"$f":"ETL!$L$485","v":""},null,"-",null,{"$f":"ETL!$M$485","v":""}]
[]
["Production capacity:",null,null,null,null,null,null,null,null,null,null,{"$f":"ETL!$I$488","v":""},null,null,null,null,null,null,null,null," t"]
[]
["Calculation method:"]
[]
[null,null,null,null,null,null,null,null,null,null,null,null,null,null,null,null,"Name plate",null,{"$f":"IF(ETL!$G$489=\"Name Plate\",\"✓\",\"\")","v":""},null,null,null,null,null,null,"Design",null,{"$f":"IF(ETL!$G$489=\"Design\",\"✓\",\"\")","v":""}]
[]
[]
[]
["IUPAC chemical name:",null,null,null,null,null,null,null,null,null,null,{"$f":"ETL!$D$492","v":""}]
[]
[]
[]
["CAS registry number:",null,null,null,null,null,null,null,null,null,null,{"$f":"ETL!$K$490","v":""},null,null,null,null,null,"-",null,{"$f":"ETL!$L$490","v":""},null,"-",null,{"$f":"ETL!$M$490","v":""}]
[]
["Production capacity:",null,null,null,null,null,null,null,null,null,null,{"$f":"ETL!$I$493","v":""},null,null,null,null,null,null,null,null," t"]
[]
["Calculation method:"]
[]
[null,null,null,null,null,null,null,null,null,null,null,null,null,null,null,null,"Name plate",null,{"$f":"IF(ETL!$G$494=\"Name Plate\",\"✓\",\"\")","v":""},null,null,null,null,null,null,"Design",null,{"$f":"IF(ETL!$G$494=\"Design\",\"✓\",\"\")","v":""}]
[]
[]
[]
["IUPAC chemical name:",null,null,null,null,null,null,null,null,null,null,{"$f":"ETL!$D$497","v":""}]
[]
[]
[]
["CAS registry number:",null,null,null,null,null,null,null,null,null,null,{"$f":"ETL!$K$495","v":""},null,null,null,null,null,"-",null,{"$f":"ETL!$L$495","v":""},null,"-",null,{"$f":"ETL!$M$495","v":""}]
[]
["Production capacity:",null,null,null,null,null,null,null,null,null,null,{"$f":"ETL!$I$498","v":""},null,null,null,null,null,null,null,null," t"]
[]
["Calculation method:"]
[]
[null,null,null,null,null,null,null,null,null,null,null,null,null,null,null,null,"Name plate",null,{"$f":"IF(ETL!$G$499=\"Name Plate\",\"✓\",\"\")","v":""},null,null,null,null,null,null,"Design",null,{"$f":"IF(ETL!$G$499=\"Design\",\"✓\",\"\")","v":""}]
[]
[null,null,null,null,null,null,null,null,null,null,null,null,null,null,null,null,null,null,null,"届出日 （西暦：ccyy-mm-dd）",null,null,null,null,null,null,null,null,null,null,null,null,null,null,{"$f":"ETL!$D$3","v":0},null,null,null,"－",null,{"$f":"ETL!$D$4","v":0},null,"－",null,{"$f":"ETL!$D$5","v":0}]
[]
["Form 2.3.2: Production Capacity of the Plant for Each Declared Schedule 2 Chemical"]
[]
["Ensure to repeat the following block of information as many times as necessary in order to daclare the production capacity of the plant for each declared Schecule 2 chemical produced or anticipatetd to be produced at the plant."]
[]
[]
[]
[]
["Plant Code:",null,null,null,null,null,null,null,null,null,null,null,null,null,null,null,null,{"$f":"ETL!$D$514","v":""}]
[]
["Plant Site Code:",null,null,null,null,null,null,null,null,null,null,null,null,null,null,null,null,{"$f":"ETL!$D$61","v":""}]
[]
["Unit of weight:",null,null,null,null,null,null,null,null,null,null,null,null,null,null,null,"Tonne",null,"レ",null,null,null,null,null,null,"Kg"]
[]
[]
["IUPAC chemical name:",null,null,null,null,null,null,null,null,null,null,{"$f":"ETL!$D$521","v":""}]
[]
[]
[]
["CAS registry number:",null,null,null,null,null,null,null,null,null,null,{"$f":"ETL!$K$519","v":""},null,null,null,null,null,"-",null,{"$f":"ETL!$L$519","v":""},null,"-",null,{"$f":"ETL!$M$519","v":""}]
[]
["Production capacity:",null,null,null,null,null,null,null,null,null,null,{"$f":"ETL!$I$522","v":""},null,null,null,null,null,null,null,null," t"]
[]
["Calculation method:"]
[]
[null,null,null,null,null,null,null,null,null,null,null,null,null,null,null,null,"Name plate",null,{"$f":"IF(ETL!$G$523=\"Name Plate\",\"✓\",\"\")","v":""},null,null,null,null,null,null,"Design",null,{"$f":"IF(ETL!$G$523=\"Design\",\"✓\",\"\")","v":""}]
[]
[]
[]
["IUPAC chemical name:",null,null,null,null,null,null,null,null,null,null,{"$f":"ETL!$D$526","v":""}]
[]
[]
[]
["CAS registry number:",null,null,null,null,null,null,null,null,null,null,{"$f":"ETL!$K$524","v":""},null,null,null,null,null,"-",null,{"$f":"ETL!$L$524","v":""},null,"-",null,{"$f":"ETL!$M$524","v":""}]
[]
["Production capacity:",null,null,null,null,null,null,null,null,null,null,{"$f":"ETL!$I$527","v":""},null,null,null,null,null,null,null,null," t"]
[]
["Calculation method:"]
[]
[null,null,null,null,null,null,null,null,null,null,null,null,null,null,null,null,"Name plate",null,{"$f":"IF(ETL!$G$528=\"Name Plate\",\"✓\",\"\")","v":""},null,null,null,null,null,null,"Design",null,{"$f":"IF(ETL!$G$528=\"Design\",\"✓\",\"\")","v":""}]
[]
[]
[]
["IUPAC chemical name:",null,null,null,null,null,null,null,null,null,null,{"$f":"ETL!$D$531","v":""}]
[]
[]
[]
["CAS registry number:",null,null,null,null,null,null,null,null,null,null,{"$f":"ETL!$K$529","v":""},null,null,null,null,null,"-",null,{"$f":"ETL!$L$529","v":""},null,"-",null,{"$f":"ETL!$M$529","v":""}]
[]
["Production capacity:",null,null,null,null,null,null,null,null,null,null,{"$f":"ETL!$I$532","v":""},null,null,null,null,null,null,null,null," t"]
[]
["Calculation method:"]
[]
[null,null,null,null,null,null,null,null,null,null,null,null,null,null,null,null,"Name plate",null,{"$f":"IF(ETL!$G$533=\"Name Plate\",\"✓\",\"\")","v":""},null,null,null,null,null,null,"Design",null,{"$f":"IF(ETL!$G$533=\"Design\",\"✓\",\"\")","v":""}]
[]
[]
[]
["IUPAC chemical name:",null,null,null,null,null,null,null,null,null,null,{"$f":"ETL!$D$536","v":""}]
[]
[]
[]
["CAS registry number:",null,null,null,null,null,null,null,null,null,null,{"$f":"ETL!$K$534","v":""},null,null,null,null,null,"-",null,{"$f":"ETL!$L$534","v":""},null,"-",null,{"$f":"ETL!$M$534","v":""}]
[]
["Production capacity:",null,null,null,null,null,null,null,null,null,null,{"$f":"ETL!$I$537","v":""},null,null,null,null,null,null,null,null," t"]
[]
["Calculation method:"]
[]
[null,null,null,null,null,null,null,null,null,null,null,null,null,null,null,null,"Name plate",null,{"$f":"IF(ETL!$G$538=\"Name Plate\",\"✓\",\"\")","v":""},null,null,null,null,null,null,"Design",null,{"$f":"IF(ETL!$G$538=\"Design\",\"✓\",\"\")","v":""}]
[]
[]
[]
["IUPAC chemical name:",null,null,null,null,null,null,null,null,null,null,{"$f":"ETL!$D$541","v":""}]
[]
[]
[]
["CAS registry number:",null,null,null,null,null,null,null,null,null,null,{"$f":"ETL!$K$539","v":""},null,null,null,null,null,"-",null,{"$f":"ETL!$L$539","v":""},null,"-",null,{"$f":"ETL!$M$539","v":""}]
[]
["Production capacity:",null,null,null,null,null,null,null,null,null,null,{"$f":"ETL!$I$542","v":""},null,null,null,null,null,null,null,null," t"]
[]
["Calculation method:"]
[]
[null,null,null,null,null,null,null,null,null,null,null,null,null,null,null,null,"Name plate",null,{"$f":"IF(ETL!$G$543=\"Name Plate\",\"✓\",\"\")","v":""},null,null,null,null,null,null,"Design",null,{"$f":"IF(ETL!$G$543=\"Design\",\"✓\",\"\")","v":""}]
[]
[]
[]
["IUPAC chemical name:",null,null,null,null,null,null,null,null,null,null,{"$f":"ETL!$D$546","v":""}]
[]
[]
[]
["CAS registry number:",null,null,null,null,null,null,null,null,null,null,{"$f":"ETL!$K$544","v":""},null,null,null,null,null,"-",null,{"$f":"ETL!$L$544","v":""},null,"-",null,{"$f":"ETL!$M$544","v":""}]
[]
["Production capacity:",null,null,null,null,null,null,null,null,null,null,{"$f":"ETL!$I$547","v":""},null,null,null,null,null,null,null,null," t"]
[]
["Calculation method:"]
[]
[null,null,null,null,null,null,null,null,null,null,null,null,null,null,null,null,"Name plate",null,{"$f":"IF(ETL!$G$548=\"Name Plate\",\"✓\",\"\")","v":""},null,null,null,null,null,null,"Design",null,{"$f":"IF(ETL!$G$548=\"Design\",\"✓\",\"\")","v":""}]
[]
[null,null,null,null,null,null,null,null,null,null,null,null,null,null,null,null,null,null,null,"届出日 （西暦：ccyy-mm-dd）",null,null,null,null,null,null,null,null,null,null,null,null,null,null,{"$f":"ETL!$D$3","v":0},null,null,null,"－",null,{"$f":"ETL!$D$4","v":0},null,"－",null,{"$f":"ETL!$D$5","v":0}]
[]
["Form 2.3.2: Production Capacity of the Plant for Each Declared Schedule 2 Chemical"]
[]
["Ensure to repeat the following block of information as many times as necessary in order to daclare the production capacity of the plant for each declared Schecule 2 chemical produced or anticipatetd to be produced at the plant."]
[]
[]
[]
[]
["Plant Code:",null,null,null,null,null,null,null,null,null,null,null,null,null,null,null,null,{"$f":"ETL!$D$563","v":""}]
[]
["Plant Site Code:",null,null,null,null,null,null,null,null,null,null,null,null,null,null,null,null,{"$f":"ETL!$D$61","v":""}]
[]
["Unit of weight:",null,null,null,null,null,null,null,null,null,null,null,null,null,null,null,"Tonne",null,"レ",null,null,null,null,null,null,"Kg"]
[]
[]
["IUPAC chemical name:",null,null,null,null,null,null,null,null,null,null,{"$f":"ETL!$D$570","v":""}]
[]
[]
[]
["CAS registry number:",null,null,null,null,null,null,null,null,null,null,{"$f":"ETL!$K$568","v":""},null,null,null,null,null,"-",null,{"$f":"ETL!$L$568","v":""},null,"-",null,{"$f":"ETL!$M$568","v":""}]
[]
["Production capacity:",null,null,null,null,null,null,null,null,null,null,{"$f":"ETL!$I$571","v":""},null,null,null,null,null,null,null,null," t"]
[]
["Calculation method:"]
[]
[null,null,null,null,null,null,null,null,null,null,null,null,null,null,null,null,"Name plate",null,{"$f":"IF(ETL!$G$572=\"Name Plate\",\"✓\",\"\")","v":""},null,null,null,null,null,null,"Design",null,{"$f":"IF(ETL!$G$572=\"Design\",\"✓\",\"\")","v":""}]
[]
[]
[]
["IUPAC chemical name:",null,null,null,null,null,null,null,null,null,null,{"$f":"ETL!$D$575","v":""}]
[]
[]
[]
["CAS registry number:",null,null,null,null,null,null,null,null,null,null,{"$f":"ETL!$K$573","v":""},null,null,null,null,null,"-",null,{"$f":"ETL!$L$573","v":""},null,"-",null,{"$f":"ETL!$M$573","v":""}]
[]
["Production capacity:",null,null,null,null,null,null,null,null,null,null,{"$f":"ETL!$I$576","v":""},null,null,null,null,null,null,null,null," t"]
[]
["Calculation method:"]
[]
[null,null,null,null,null,null,null,null,null,null,null,null,null,null,null,null,"Name plate",null,{"$f":"IF(ETL!$G$577=\"Name Plate\",\"✓\",\"\")","v":""},null,null,null,null,null,null,"Design",null,{"$f":"IF(ETL!$G$577=\"Design\",\"✓\",\"\")","v":""}]
[]
[]
[]
["IUPAC chemical name:",null,null,null,null,null,null,null,null,null,null,{"$f":"ETL!$D$580","v":""}]
[]
[]
[]
["CAS registry number:",null,null,null,null,null,null,null,null,null,null,{"$f":"ETL!$K$578","v":""},null,null,null,null,null,"-",null,{"$f":"ETL!$L$578","v":""},null,"-",null,{"$f":"ETL!$M$578","v":""}]
[]
["Production capacity:",null,null,null,null,null,null,null,null,null,null,{"$f":"ETL!$I$581","v":""},null,null,null,null,null,null,null,null," t"]
[]
["Calculation method:"]
[]
[null,null,null,null,null,null,null,null,null,null,null,null,null,null,null,null,"Name plate",null,{"$f":"IF(ETL!$G$582=\"Name Plate\",\"✓\",\"\")","v":""},null,null,null,null,null,null,"Design",null,{"$f":"IF(ETL!$G$582=\"Design\",\"✓\",\"\")","v":""}]
[]
[]
[]
["IUPAC chemical name:",null,null,null,null,null,null,null,null,null,null,{"$f":"ETL!$D$585","v":""}]
[]
[]
[]
["CAS registry number:",null,null,null,null,null,null,null,null,null,null,{"$f":"ETL!$K$583","v":""},null,null,null,null,null,"-",null,{"$f":"ETL!$L$583","v":""},null,"-",null,{"$f":"ETL!$M$583","v":""}]
[]
["Production capacity:",null,null,null,null,null,null,null,null,null,null,{"$f":"ETL!$I$586","v":""},null,null,null,null,null,null,null,null," t"]
[]
["Calculation method:"]
[]
[null,null,null,null,null,null,null,null,null,null,null,null,null,null,null,null,"Name plate",null,{"$f":"IF(ETL!$G$587=\"Name Plate\",\"✓\",\"\")","v":""},null,null,null,null,null,null,"Design",null,{"$f":"IF(ETL!$G$587=\"Design\",\"✓\",\"\")","v":""}]
[]
[]
[]
["IUPAC chemical name:",null,null,null,null,null,null,null,null,null,null,{"$f":"ETL!$D$590","v":""}]
[]
[]
[]
["CAS registry number:",null,null,null,null,null,null,null,null,null,null,{"$f":"ETL!$K$588","v":""},null,null,null,null,null,"-",null,{"$f":"ETL!$L$588","v":""},null,"-",null,{"$f":"ETL!$M$588","v":""}]
[]
["Production capacity:",null,null,null,null,null,null,null,null,null,null,{"$f":"ETL!$I$591","v":""},null,null,null,null,null,null,null,null," t"]
[]
["Calculation method:"]
[]
[null,null,null,null,null,null,null,null,null,null,null,null,null,null,null,null,"Name plate",null,{"$f":"IF(ETL!$G$592=\"Name Plate\",\"✓\",\"\")","v":""},null,null,null,null,null,null,"Design",null,{"$f":"IF(ETL!$G$592=\"Design\",\"✓\",\"\")","v":""}]
[]
[]
[]
["IUPAC chemical name:",null,null,null,null,null,null,null,null,null,null,{"$f":"ETL!$D$595","v":""}]
[]
[]
[]
["CAS registry number:",null,null,null,null,null,null,null,null,null,null,{"$f":"ETL!$K$593","v":""},null,null,null,null,null,"-",null,{"$f":"ETL!$L$593","v":""},null,"-",null,{"$f":"ETL!$M$593","v":""}]
[]
["Production capacity:",null,null,null,null,null,null,null,null,null,null,{"$f":"ETL!$I$596","v":""},null,null,null,null,null,null,null,null," t"]
[]
["Calculation method:"]
[]
[null,null,null,null,null,null,null,null,null,null,null,null,null,null,null,null,"Name plate",null,{"$f":"IF(ETL!$G$597=\"Name Plate\",\"✓\",\"\")","v":""},null,null,null,null,null,null,"Design",null,{"$f":"IF(ETL!$G$597=\"Design\",\"✓\",\"\")","v":""}]
[]
[null,null,null,null,null,null,null,null,null,null,null,null,null,null,null,null,null,null,null,"届出日 （西暦：ccyy-mm-dd）",null,null,null,null,null,null,null,null,null,null,null,null,null,null,{"$f":"ETL!$D$3","v":0},null,null,null,"－",null,{"$f":"ETL!$D$4","v":0},null,"－",null,{"$f":"ETL!$D$5","v":0}]
[]
["Form 2.3.2: Production Capacity of the Plant for Each Declared Schedule 2 Chemical"]
[]
["Ensure to repeat the following block of information as many times as necessary in order to daclare the production capacity of the plant for each declared Schecule 2 chemical produced or anticipatetd to be produced at the plant."]
[]
[]
[]
[]
["Plant Code:",null,null,null,null,null,null,null,null,null,null,null,null,null,null,null,null,{"$f":"ETL!$D$612","v":""}]
[]
["Plant Site Code:",null,null,null,null,null,null,null,null,null,null,null,null,null,null,null,null,{"$f":"ETL!$D$61","v":""}]
[]
["Unit of weight:",null,null,null,null,null,null,null,null,null,null,null,null,null,null,null,"Tonne",null,"レ",null,null,null,null,null,null,"Kg"]
[]
[]
["IUPAC chemical name:",null,null,null,null,null,null,null,null,null,null,{"$f":"ETL!$D$619","v":""}]
[]
[]
[]
["CAS registry number:",null,null,null,null,null,null,null,null,null,null,{"$f":"ETL!$K$617","v":""},null,null,null,null,null,"-",null,{"$f":"ETL!$L$617","v":""},null,"-",null,{"$f":"ETL!$M$617","v":""}]
[]
["Production capacity:",null,null,null,null,null,null,null,null,null,null,{"$f":"ETL!$I$620","v":""},null,null,null,null,null,null,null,null," t"]
[]
["Calculation method:"]
[]
[null,null,null,null,null,null,null,null,null,null,null,null,null,null,null,null,"Name plate",null,{"$f":"IF(ETL!$G$621=\"Name Plate\",\"✓\",\"\")","v":""},null,null,null,null,null,null,"Design",null,{"$f":"IF(ETL!$G$621=\"Design\",\"✓\",\"\")","v":""}]
[]
[]
[]
["IUPAC chemical name:",null,null,null,null,null,null,null,null,null,null,{"$f":"ETL!$D$624","v":""}]
[]
[]
[]
["CAS registry number:",null,null,null,null,null,null,null,null,null,null,{"$f":"ETL!$K$622","v":""},null,null,null,null,null,"-",null,{"$f":"ETL!$L$622","v":""},null,"-",null,{"$f":"ETL!$M$622","v":""}]
[]
["Production capacity:",null,null,null,null,null,null,null,null,null,null,{"$f":"ETL!$I$625","v":""},null,null,null,null,null,null,null,null," t"]
[]
["Calculation method:"]
[]
[null,null,null,null,null,null,null,null,null,null,null,null,null,null,null,null,"Name plate",null,{"$f":"IF(ETL!$G$626=\"Name Plate\",\"✓\",\"\")","v":""},null,null,null,null,null,null,"Design",null,{"$f":"IF(ETL!$G$626=\"Design\",\"✓\",\"\")","v":""}]
[]
[]
[]
["IUPAC chemical name:",null,null,null,null,null,null,null,null,null,null,{"$f":"ETL!$D$629","v":""}]
[]
[]
[]
["CAS registry number:",null,null,null,null,null,null,null,null,null,null,{"$f":"ETL!$K$627","v":""},null,null,null,null,null,"-",null,{"$f":"ETL!$L$627","v":""},null,"-",null,{"$f":"ETL!$M$627","v":""}]
[]
["Production capacity:",null,null,null,null,null,null,null,null,null,null,{"$f":"ETL!$I$630","v":""},null,null,null,null,null,null,null,null," t"]
[]
["Calculation method:"]
[]
[null,null,null,null,null,null,null,null,null,null,null,null,null,null,null,null,"Name plate",null,{"$f":"IF(ETL!$G$631=\"Name Plate\",\"✓\",\"\")","v":""},null,null,null,null,null,null,"Design",null,{"$f":"IF(ETL!$G$631=\"Design\",\"✓\",\"\")","v":""}]
[]
[]
[]
["IUPAC chemical name:",null,null,null,null,null,null,null,null,null,null,{"$f":"ETL!$D$634","v":""}]
[]
[]
[]
["CAS registry number:",null,null,null,null,null,null,null,null,null,null,{"$f":"ETL!$K$632","v":""},null,null,null,null,null,"-",null,{"$f":"ETL!$L$632","v":""},null,"-",null,{"$f":"ETL!$M$632","v":""}]
[]
["Production capacity:",null,null,null,null,null,null,null,null,null,null,{"$f":"ETL!$I$635","v":""},null,null,null,null,null,null,null,null," t"]
[]
["Calculation method:"]
[]
[null,null,null,null,null,null,null,null,null,null,null,null,null,null,null,null,"Name plate",null,{"$f":"IF(ETL!$G$636=\"Name Plate\",\"✓\",\"\")","v":""},null,null,null,null,null,null,"Design",null,{"$f":"IF(ETL!$G$636=\"Design\",\"✓\",\"\")","v":""}]
[]
[]
[]
["IUPAC chemical name:",null,null,null,null,null,null,null,null,null,null,{"$f":"ETL!$D$639","v":""}]
[]
[]
[]
["CAS registry number:",null,null,null,null,null,null,null,null,null,null,{"$f":"ETL!$K$637","v":""},null,null,null,null,null,"-",null,{"$f":"ETL!$L$637","v":""},null,"-",null,{"$f":"ETL!$M$637","v":""}]
[]
["Production capacity:",null,null,null,null,null,null,null,null,null,null,{"$f":"ETL!$I$640","v":""},null,null,null,null,null,null,null,null," t"]
[]
["Calculation method:"]
[]
[null,null,null,null,null,null,null,null,null,null,null,null,null,null,null,null,"Name plate",null,{"$f":"IF(ETL!$G$641=\"Name Plate\",\"✓\",\"\")","v":""},null,null,null,null,null,null,"Design",null,{"$f":"IF(ETL!$G$641=\"Design\",\"✓\",\"\")","v":""}]
[]
[]
[]
["IUPAC chemical name:",null,null,null,null,null,null,null,null,null,null,{"$f":"ETL!$D$644","v":""}]
[]
[]
[]
["CAS registry number:",null,null,null,null,null,null,null,null,null,null,{"$f":"ETL!$K$642","v":""},null,null,null,null,null,"-",null,{"$f":"ETL!$L$642","v":""},null,"-",null,{"$f":"ETL!$M$642","v":""}]
[]
["Production capacity:",null,null,null,null,null,null,null,null,null,null,{"$f":"ETL!$I$645","v":""},null,null,null,null,null,null,null,null," t"]
[]
["Calculation method:"]
[]
[null,null,null,null,null,null,null,null,null,null,null,null,null,null,null,null,"Name plate",null,{"$f":"IF(ETL!$G$646=\"Name Plate\",\"✓\",\"\")","v":""},null,null,null,null,null,null,"Design",null,{"$f":"IF(ETL!$G$646=\"Design\",\"✓\",\"\")","v":""}]
[]
[null,null,null,null,null,null,null,null,null,null,null,null,null,null,null,null,null,null,null,"届出日 （西暦：ccyy-mm-dd）",null,null,null,null,null,null,null,null,null,null,null,null,null,null,{"$f":"ETL!$D$3","v":0},null,null,null,"－",null,{"$f":"ETL!$D$4","v":0},null,"－",null,{"$f":"ETL!$D$5","v":0}]
[]
["Form 2.3.2: Production Capacity of the Plant for Each Declared Schedule 2 Chemical"]
[]
["Ensure to repeat the following block of information as many times as necessary in order to daclare the production capacity of the plant for each declared Schecule 2 chemical produced or anticipatetd to be produced at the plant."]
[]
[]
[]
[]
["Plant Code:",null,null,null,null,null,null,null,null,null,null,null,null,null,null,null,null,{"$f":"ETL!$D$661","v":""}]
[]
["Plant Site Code:",null,null,null,null,null,null,null,null,null,null,null,null,null,null,null,null,{"$f":"ETL!$D$61","v":""}]
[]
["Unit of weight:",null,null,null,null,null,null,null,null,null,null,null,null,null,null,null,"Tonne",null,"レ",null,null,null,null,null,null,"Kg"]
[]
[]
["IUPAC chemical name:",null,null,null,null,null,null,null,null,null,null,{"$f":"ETL!$D$668","v":""}]
[]
[]
[]
["CAS registry number:",null,null,null,null,null,null,null,null,null,null,{"$f":"ETL!$K$666","v":""},null,null,null,null,null,"-",null,{"$f":"ETL!$L$666","v":""},null,"-",null,{"$f":"ETL!$M$666","v":""}]
[]
["Production capacity:",null,null,null,null,null,null,null,null,null,null,{"$f":"ETL!$I$669","v":""},null,null,null,null,null,null,null,null," t"]
[]
["Calculation method:"]
[]
[null,null,null,null,null,null,null,null,null,null,null,null,null,null,null,null,"Name plate",null,{"$f":"IF(ETL!$G$670=\"Name Plate\",\"✓\",\"\")","v":""},null,null,null,null,null,null,"Design",null,{"$f":"IF(ETL!$G$670=\"Design\",\"✓\",\"\")","v":""}]
[]
[]
[]
["IUPAC chemical name:",null,null,null,null,null,null,null,null,null,null,{"$f":"ETL!$D$673","v":""}]
[]
[]
[]
["CAS registry number:",null,null,null,null,null,null,null,null,null,null,{"$f":"ETL!$K$671","v":""},null,null,null,null,null,"-",null,{"$f":"ETL!$L$671","v":""},null,"-",null,{"$f":"ETL!$M$671","v":""}]
[]
["Production capacity:",null,null,null,null,null,null,null,null,null,null,{"$f":"ETL!$I$674","v":""},null,null,null,null,null,null,null,null," t"]
[]
["Calculation method:"]
[]
[null,null,null,null,null,null,null,null,null,null,null,null,null,null,null,null,"Name plate",null,{"$f":"IF(ETL!$G$675=\"Name Plate\",\"✓\",\"\")","v":""},null,null,null,null,null,null,"Design",null,{"$f":"IF(ETL!$G$675=\"Design\",\"✓\",\"\")","v":""}]
[]
[]
[]
["IUPAC chemical name:",null,null,null,null,null,null,null,null,null,null,{"$f":"ETL!$D$678","v":""}]
[]
[]
[]
["CAS registry number:",null,null,null,null,null,null,null,null,null,null,{"$f":"ETL!$K$676","v":""},null,null,null,null,null,"-",null,{"$f":"ETL!$L$676","v":""},null,"-",null,{"$f":"ETL!$M$676","v":""}]
[]
["Production capacity:",null,null,null,null,null,null,null,null,null,null,{"$f":"ETL!$I$679","v":""},null,null,null,null,null,null,null,null," t"]
[]
["Calculation method:"]
[]
[null,null,null,null,null,null,null,null,null,null,null,null,null,null,null,null,"Name plate",null,{"$f":"IF(ETL!$G$680=\"Name Plate\",\"✓\",\"\")","v":""},null,null,null,null,null,null,"Design",null,{"$f":"IF(ETL!$G$680=\"Design\",\"✓\",\"\")","v":""}]
[]
[]
[]
["IUPAC chemical name:",null,null,null,null,null,null,null,null,null,null,{"$f":"ETL!$D$683","v":""}]
[]
[]
[]
["CAS registry number:",null,null,null,null,null,null,null,null,null,null,{"$f":"ETL!$K$681","v":""},null,null,null,null,null,"-",null,{"$f":"ETL!$L$681","v":""},null,"-",null,{"$f":"ETL!$M$681","v":""}]
[]
["Production capacity:",null,null,null,null,null,null,null,null,null,null,{"$f":"ETL!$I$684","v":""},null,null,null,null,null,null,null,null," t"]
[]
["Calculation method:"]
[]
[null,null,null,null,null,null,null,null,null,null,null,null,null,null,null,null,"Name plate",null,{"$f":"IF(ETL!$G$685=\"Name Plate\",\"✓\",\"\")","v":""},null,null,null,null,null,null,"Design",null,{"$f":"IF(ETL!$G$685=\"Design\",\"✓\",\"\")","v":""}]
[]
[]
[]
["IUPAC chemical name:",null,null,null,null,null,null,null,null,null,null,{"$f":"ETL!$D$688","v":""}]
[]
[]
[]
["CAS registry number:",null,null,null,null,null,null,null,null,null,null,{"$f":"ETL!$K$686","v":""},null,null,null,null,null,"-",null,{"$f":"ETL!$L$686","v":""},null,"-",null,{"$f":"ETL!$M$686","v":""}]
[]
["Production capacity:",null,null,null,null,null,null,null,null,null,null,{"$f":"ETL!$I$689","v":""},null,null,null,null,null,null,null,null," t"]
[]
["Calculation method:"]
[]
[null,null,null,null,null,null,null,null,null,null,null,null,null,null,null,null,"Name plate",null,{"$f":"IF(ETL!$G$690=\"Name Plate\",\"✓\",\"\")","v":""},null,null,null,null,null,null,"Design",null,{"$f":"IF(ETL!$G$690=\"Design\",\"✓\",\"\")","v":""}]
[]
[]
[]
["IUPAC chemical name:",null,null,null,null,null,null,null,null,null,null,{"$f":"ETL!$D$693","v":""}]
[]
[]
[]
["CAS registry number:",null,null,null,null,null,null,null,null,null,null,{"$f":"ETL!$K$691","v":""},null,null,null,null,null,"-",null,{"$f":"ETL!$L$691","v":""},null,"-",null,{"$f":"ETL!$M$691","v":""}]
[]
["Production capacity:",null,null,null,null,null,null,null,null,null,null,{"$f":"ETL!$I$694","v":""},null,null,null,null,null,null,null,null," t"]
[]
["Calculation method:"]
[]
[null,null,null,null,null,null,null,null,null,null,null,null,null,null,null,null,"Name plate",null,{"$f":"IF(ETL!$G$695=\"Name Plate\",\"✓\",\"\")","v":""},null,null,null,null,null,null,"Design",null,{"$f":"IF(ETL!$G$695=\"Design\",\"✓\",\"\")","v":""}]
[]
[null,null,null,null,null,null,null,null,null,null,null,null,null,null,null,null,null,null,null,"届出日 （西暦：ccyy-mm-dd）",null,null,null,null,null,null,null,null,null,null,null,null,null,null,{"$f":"ETL!$D$3","v":0},null,null,null,"－",null,{"$f":"ETL!$D$4","v":0},null,"－",null,{"$f":"ETL!$D$5","v":0}]
[]
["Form 2.3.2: Production Capacity of the Plant for Each Declared Schedule 2 Chemical"]
[]
["Ensure to repeat the following block of information as many times as necessary in order to daclare the production capacity of the plant for each declared Schecule 2 chemical produced or anticipatetd to be produced at the plant."]
[]
[]
[]
[]
["Plant Code:",null,null,null,null,null,null,null,null,null,null,null,null,null,null,null,null,{"$f":"ETL!$D$710","v":""}]
[]
["Plant Site Code:",null,null,null,null,null,null,null,null,null,null,null,null,null,null,null,null,{"$f":"ETL!$D$61","v":""}]
[]
["Unit of weight:",null,null,null,null,null,null,null,null,null,null,null,null,null,null,null,"Tonne",null,"レ",null,null,null,null,null,null,"Kg"]
[]
[]
["IUPAC chemical name:",null,null,null,null,null,null,null,null,null,null,{"$f":"ETL!$D$717","v":""}]
[]
[]
[]
["CAS registry number:",null,null,null,null,null,null,null,null,null,null,{"$f":"ETL!$K$715","v":""},null,null,null,null,null,"-",null,{"$f":"ETL!$L$715","v":""},null,"-",null,{"$f":"ETL!$M$715","v":""}]
[]
["Production capacity:",null,null,null,null,null,null,null,null,null,null,{"$f":"ETL!$I$718","v":""},null,null,null,null,null,null,null,null," t"]
[]
["Calculation method:"]
[]
[null,null,null,null,null,null,null,null,null,null,null,null,null,null,null,null,"Name plate",null,{"$f":"IF(ETL!$G$719=\"Name Plate\",\"✓\",\"\")","v":""},null,null,null,null,null,null,"Design",null,{"$f":"IF(ETL!$G$719=\"Design\",\"✓\",\"\")","v":""}]
[]
[]
[]
["IUPAC chemical name:",null,null,null,null,null,null,null,null,null,null,{"$f":"ETL!$D$722","v":""}]
[]
[]
[]
["CAS registry number:",null,null,null,null,null,null,null,null,null,null,{"$f":"ETL!$K$720","v":""},null,null,null,null,null,"-",null,{"$f":"ETL!$L$720","v":""},null,"-",null,{"$f":"ETL!$M$720","v":""}]
[]
["Production capacity:",null,null,null,null,null,null,null,null,null,null,{"$f":"ETL!$I$723","v":""},null,null,null,null,null,null,null,null," t"]
[]
["Calculation method:"]
[]
[null,null,null,null,null,null,null,null,null,null,null,null,null,null,null,null,"Name plate",null,{"$f":"IF(ETL!$G$724=\"Name Plate\",\"✓\",\"\")","v":""},null,null,null,null,null,null,"Design",null,{"$f":"IF(ETL!$G$724=\"Design\",\"✓\",\"\")","v":""}]
[]
[]
[]
["IUPAC chemical name:",null,null,null,null,null,null,null,null,null,null,{"$f":"ETL!$D$727","v":""}]
[]
[]
[]
["CAS registry number:",null,null,null,null,null,null,null,null,null,null,{"$f":"ETL!$K$725","v":""},null,null,null,null,null,"-",null,{"$f":"ETL!$L$725","v":""},null,"-",null,{"$f":"ETL!$M$725","v":""}]
[]
["Production capacity:",null,null,null,null,null,null,null,null,null,null,{"$f":"ETL!$I$728","v":""},null,null,null,null,null,null,null,null," t"]
[]
["Calculation method:"]
[]
[null,null,null,null,null,null,null,null,null,null,null,null,null,null,null,null,"Name plate",null,{"$f":"IF(ETL!$G$729=\"Name Plate\",\"✓\",\"\")","v":""},null,null,null,null,null,null,"Design",null,{"$f":"IF(ETL!$G$729=\"Design\",\"✓\",\"\")","v":""}]
[]
[]
[]
["IUPAC chemical name:",null,null,null,null,null,null,null,null,null,null,{"$f":"ETL!$D$732","v":""}]
[]
[]
[]
["CAS registry number:",null,null,null,null,null,null,null,null,null,null,{"$f":"ETL!$K$730","v":""},null,null,null,null,null,"-",null,{"$f":"ETL!$L$730","v":""},null,"-",null,{"$f":"ETL!$M$730","v":""}]
[]
["Production capacity:",null,null,null,null,null,null,null,null,null,null,{"$f":"ETL!$I$733","v":""},null,null,null,null,null,null,null,null," t"]
[]
["Calculation method:"]
[]
[null,null,null,null,null,null,null,null,null,null,null,null,null,null,null,null,"Name plate",null,{"$f":"IF(ETL!$G$734=\"Name Plate\",\"✓\",\"\")","v":""},null,null,null,null,null,null,"Design",null,{"$f":"IF(ETL!$G$734=\"Design\",\"✓\",\"\")","v":""}]
[]
[]
[]
["IUPAC chemical name:",null,null,null,null,null,null,null,null,null,null,{"$f":"ETL!$D$737","v":""}]
[]
[]
[]
["CAS registry number:",null,null,null,null,null,null,null,null,null,null,{"$f":"ETL!$K$735","v":""},null,null,null,null,null,"-",null,{"$f":"ETL!$L$735","v":""},null,"-",null,{"$f":"ETL!$M$735","v":""}]
[]
["Production capacity:",null,null,null,null,null,null,null,null,null,null,{"$f":"ETL!$I$738","v":""},null,null,null,null,null,null,null,null," t"]
[]
["Calculation method:"]
[]
[null,null,null,null,null,null,null,null,null,null,null,null,null,null,null,null,"Name plate",null,{"$f":"IF(ETL!$G$739=\"Name Plate\",\"✓\",\"\")","v":""},null,null,null,null,null,null,"Design",null,{"$f":"IF(ETL!$G$739=\"Design\",\"✓\",\"\")","v":""}]
[]
[]
[]
["IUPAC chemical name:",null,null,null,null,null,null,null,null,null,null,{"$f":"ETL!$D$742","v":""}]
[]
[]
[]
["CAS registry number:",null,null,null,null,null,null,null,null,null,null,{"$f":"ETL!$K$740","v":""},null,null,null,null,null,"-",null,{"$f":"ETL!$L$740","v":""},null,"-",null,{"$f":"ETL!$M$740","v":""}]
[]
["Production capacity:",null,null,null,null,null,null,null,null,null,null,{"$f":"ETL!$I$743","v":""},null,null,null,null,null,null,null,null," t"]
[]
["Calculation method:"]
[]
[null,null,null,null,null,null,null,null,null,null,null,null,null,null,null,null,"Name plate",null,{"$f":"IF(ETL!$G$744=\"Name Plate\",\"✓\",\"\")","v":""},null,null,null,null,null,null,"Design",null,{"$f":"IF(ETL!$G$744=\"Design\",\"✓\",\"\")","v":""}]
[]
[null,null,null,null,null,null,null,null,null,null,null,null,null,null,null,null,null,null,null,"届出日 （西暦：ccyy-mm-dd）",null,null,null,null,null,null,null,null,null,null,null,null,null,null,{"$f":"ETL!$D$3","v":0},null,null,null,"－",null,{"$f":"ETL!$D$4","v":0},null,"－",null,{"$f":"ETL!$D$5","v":0}]
[]
["Form 2.3.2: Production Capacity of the Plant for Each Declared Schedule 2 Chemical"]
[]
["Ensure to repeat the following block of information as many times as necessary in order to daclare the production capacity of the plant for each declared Schecule 2 chemical produced or anticipatetd to be produced at the plant."]
[]
[]
[]
[]
["Plant Code:",null,null,null,null,null,null,null,null,null,null,null,null,null,null,null,null,{"$f":"ETL!$D$759","v":""}]
[]
["Plant Site Code:",null,null,null,null,null,null,null,null,null,null,null,null,null,null,null,null,{"$f":"ETL!$D$61","v":""}]
[]
["Unit of weight:",null,null,null,null,null,null,null,null,null,null,null,null,null,null,null,"Tonne",null,"レ",null,null,null,null,null,null,"Kg"]
[]
[]
["IUPAC chemical name:",null,null,null,null,null,null,null,null,null,null,{"$f":"ETL!$D$766","v":""}]
[]
[]
[]
["CAS registry number:",null,null,null,null,null,null,null,null,null,null,{"$f":"ETL!$K$764","v":""},null,null,null,null,null,"-",null,{"$f":"ETL!$L$764","v":""},null,"-",null,{"$f":"ETL!$M$764","v":""}]
[]
["Production capacity:",null,null,null,null,null,null,null,null,null,null,{"$f":"ETL!$I$767","v":""},null,null,null,null,null,null,null,null," t"]
[]
["Calculation method:"]
[]
[null,null,null,null,null,null,null,null,null,null,null,null,null,null,null,null,"Name plate",null,{"$f":"IF(ETL!$G$768=\"Name Plate\",\"✓\",\"\")","v":""},null,null,null,null,null,null,"Design",null,{"$f":"IF(ETL!$G$768=\"Design\",\"✓\",\"\")","v":""}]
[]
[]
[]
["IUPAC chemical name:",null,null,null,null,null,null,null,null,null,null,{"$f":"ETL!$D$771","v":""}]
[]
[]
[]
["CAS registry number:",null,null,null,null,null,null,null,null,null,null,{"$f":"ETL!$K$769","v":""},null,null,null,null,null,"-",null,{"$f":"ETL!$L$769","v":""},null,"-",null,{"$f":"ETL!$M$769","v":""}]
[]
["Production capacity:",null,null,null,null,null,null,null,null,null,null,{"$f":"ETL!$I$772","v":""},null,null,null,null,null,null,null,null," t"]
[]
["Calculation method:"]
[]
[null,null,null,null,null,null,null,null,null,null,null,null,null,null,null,null,"Name plate",null,{"$f":"IF(ETL!$G$773=\"Name Plate\",\"✓\",\"\")","v":""},null,null,null,null,null,null,"Design",null,{"$f":"IF(ETL!$G$773=\"Design\",\"✓\",\"\")","v":""}]
[]
[]
[]
["IUPAC chemical name:",null,null,null,null,null,null,null,null,null,null,{"$f":"ETL!$D$776","v":""}]
[]
[]
[]
["CAS registry number:",null,null,null,null,null,null,null,null,null,null,{"$f":"ETL!$K$774","v":""},null,null,null,null,null,"-",null,{"$f":"ETL!$L$774","v":""},null,"-",null,{"$f":"ETL!$M$774","v":""}]
[]
["Production capacity:",null,null,null,null,null,null,null,null,null,null,{"$f":"ETL!$I$777","v":""},null,null,null,null,null,null,null,null," t"]
[]
["Calculation method:"]
[]
[null,null,null,null,null,null,null,null,null,null,null,null,null,null,null,null,"Name plate",null,{"$f":"IF(ETL!$G$778=\"Name Plate\",\"✓\",\"\")","v":""},null,null,null,null,null,null,"Design",null,{"$f":"IF(ETL!$G$778=\"Design\",\"✓\",\"\")","v":""}]
[]
[]
[]
["IUPAC chemical name:",null,null,null,null,null,null,null,null,null,null,{"$f":"ETL!$D$781","v":""}]
[]
[]
[]
["CAS registry number:",null,null,null,null,null,null,null,null,null,null,{"$f":"ETL!$K$779","v":""},null,null,null,null,null,"-",null,{"$f":"ETL!$L$779","v":""},null,"-",null,{"$f":"ETL!$M$779","v":""}]
[]
["Production capacity:",null,null,null,null,null,null,null,null,null,null,{"$f":"ETL!$I$782","v":""},null,null,null,null,null,null,null,null," t"]
[]
["Calculation method:"]
[]
[null,null,null,null,null,null,null,null,null,null,null,null,null,null,null,null,"Name plate",null,{"$f":"IF(ETL!$G$783=\"Name Plate\",\"✓\",\"\")","v":""},null,null,null,null,null,null,"Design",null,{"$f":"IF(ETL!$G$783=\"Design\",\"✓\",\"\")","v":""}]
[]
[]
[]
["IUPAC chemical name:",null,null,null,null,null,null,null,null,null,null,{"$f":"ETL!$D$786","v":""}]
[]
[]
[]
["CAS registry number:",null,null,null,null,null,null,null,null,null,null,{"$f":"ETL!$K$784","v":""},null,null,null,null,null,"-",null,{"$f":"ETL!$L$784","v":""},null,"-",null,{"$f":"ETL!$M$784","v":""}]
[]
["Production capacity:",null,null,null,null,null,null,null,null,null,null,{"$f":"ETL!$I$787","v":""},null,null,null,null,null,null,null,null," t"]
[]
["Calculation method:"]
[]
[null,null,null,null,null,null,null,null,null,null,null,null,null,null,null,null,"Name plate",null,{"$f":"IF(ETL!$G$788=\"Name Plate\",\"✓\",\"\")","v":""},null,null,null,null,null,null,"Design",null,{"$f":"IF(ETL!$G$788=\"Design\",\"✓\",\"\")","v":""}]
[]
[]
[]
["IUPAC chemical name:",null,null,null,null,null,null,null,null,null,null,{"$f":"ETL!$D$791","v":""}]
[]
[]
[]
["CAS registry number:",null,null,null,null,null,null,null,null,null,null,{"$f":"ETL!$K$789","v":""},null,null,null,null,null,"-",null,{"$f":"ETL!$L$789","v":""},null,"-",null,{"$f":"ETL!$M$789","v":""}]
[]
["Production capacity:",null,null,null,null,null,null,null,null,null,null,{"$f":"ETL!$I$792","v":""},null,null,null,null,null,null,null,null," t"]
[]
["Calculation method:"]
[]
[null,null,null,null,null,null,null,null,null,null,null,null,null,null,null,null,"Name plate",null,{"$f":"IF(ETL!$G$793=\"Name Plate\",\"✓\",\"\")","v":""},null,null,null,null,null,null,"Design",null,{"$f":"IF(ETL!$G$793=\"Design\",\"✓\",\"\")","v":""}]
[]
[null,null,null,null,null,null,null,null,null,null,null,null,null,null,null,null,null,null,null,"届出日 （西暦：ccyy-mm-dd）",null,null,null,null,null,null,null,null,null,null,null,null,null,null,{"$f":"ETL!$D$3","v":0},null,null,null,"－",null,{"$f":"ETL!$D$4","v":0},null,"－",null,{"$f":"ETL!$D$5","v":0}]
[]
["Form 2.3.2: Production Capacity of the Plant for Each Declared Schedule 2 Chemical"]
[]
["Ensure to repeat the following block of information as many times as necessary in order to daclare the production capacity of the plant for each declared Schecule 2 chemical produced or anticipatetd to be produced at the plant."]
[]
[]
[]
[]
["Plant Code:",null,null,null,null,null,null,null,null,null,null,null,null,null,null,null,null,{"$f":"ETL!$D$808","v":""}]
[]
["Plant Site Code:",null,null,null,null,null,null,null,null,null,null,null,null,null,null,null,null,{"$f":"ETL!$D$61","v":""}]
[]
["Unit of weight:",null,null,null,null,null,null,null,null,null,null,null,null,null,null,null,"Tonne",null,"レ",null,null,null,null,null,null,"Kg"]
[]
[]
["IUPAC chemical name:",null,null,null,null,null,null,null,null,null,null,{"$f":"ETL!$D$815","v":""}]
[]
[]
[]
["CAS registry number:",null,null,null,null,null,null,null,null,null,null,{"$f":"ETL!$K$813","v":""},null,null,null,null,null,"-",null,{"$f":"ETL!$L$813","v":""},null,"-",null,{"$f":"ETL!$M$813","v":""}]
[]
["Production capacity:",null,null,null,null,null,null,null,null,null,null,{"$f":"ETL!$I$816","v":""},null,null,null,null,null,null,null,null," t"]
[]
["Calculation method:"]
[]
[null,null,null,null,null,null,null,null,null,null,null,null,null,null,null,null,"Name plate",null,{"$f":"IF(ETL!$G$817=\"Name Plate\",\"✓\",\"\")","v":""},null,null,null,null,null,null,"Design",null,{"$f":"IF(ETL!$G$817=\"Design\",\"✓\",\"\")","v":""}]
[]
[]
[]
["IUPAC chemical name:",null,null,null,null,null,null,null,null,null,null,{"$f":"ETL!$D$820","v":""}]
[]
[]
[]
["CAS registry number:",null,null,null,null,null,null,null,null,null,null,{"$f":"ETL!$K$818","v":""},null,null,null,null,null,"-",null,{"$f":"ETL!$L$818","v":""},null,"-",null,{"$f":"ETL!$M$818","v":""}]
[]
["Production capacity:",null,null,null,null,null,null,null,null,null,null,{"$f":"ETL!$I$821","v":""},null,null,null,null,null,null,null,null," t"]
[]
["Calculation method:"]
[]
[null,null,null,null,null,null,null,null,null,null,null,null,null,null,null,null,"Name plate",null,{"$f":"IF(ETL!$G$822=\"Name Plate\",\"✓\",\"\")","v":""},null,null,null,null,null,null,"Design",null,{"$f":"IF(ETL!$G$822=\"Design\",\"✓\",\"\")","v":""}]
[]
[]
[]
["IUPAC chemical name:",null,null,null,null,null,null,null,null,null,null,{"$f":"ETL!$D$825","v":""}]
[]
[]
[]
["CAS registry number:",null,null,null,null,null,null,null,null,null,null,{"$f":"ETL!$K$823","v":""},null,null,null,null,null,"-",null,{"$f":"ETL!$L$823","v":""},null,"-",null,{"$f":"ETL!$M$823","v":""}]
[]
["Production capacity:",null,null,null,null,null,null,null,null,null,null,{"$f":"ETL!$I$826","v":""},null,null,null,null,null,null,null,null," t"]
[]
["Calculation method:"]
[]
[null,null,null,null,null,null,null,null,null,null,null,null,null,null,null,null,"Name plate",null,{"$f":"IF(ETL!$G$827=\"Name Plate\",\"✓\",\"\")","v":""},null,null,null,null,null,null,"Design",null,{"$f":"IF(ETL!$G$827=\"Design\",\"✓\",\"\")","v":""}]
[]
[]
[]
["IUPAC chemical name:",null,null,null,null,null,null,null,null,null,null,{"$f":"ETL!$D$830","v":""}]
[]
[]
[]
["CAS registry number:",null,null,null,null,null,null,null,null,null,null,{"$f":"ETL!$K$828","v":""},null,null,null,null,null,"-",null,{"$f":"ETL!$L$828","v":""},null,"-",null,{"$f":"ETL!$M$828","v":""}]
[]
["Production capacity:",null,null,null,null,null,null,null,null,null,null,{"$f":"ETL!$I$831","v":""},null,null,null,null,null,null,null,null," t"]
[]
["Calculation method:"]
[]
[null,null,null,null,null,null,null,null,null,null,null,null,null,null,null,null,"Name plate",null,{"$f":"IF(ETL!$G$832=\"Name Plate\",\"✓\",\"\")","v":""},null,null,null,null,null,null,"Design",null,{"$f":"IF(ETL!$G$832=\"Design\",\"✓\",\"\")","v":""}]
[]
[]
[]
["IUPAC chemical name:",null,null,null,null,null,null,null,null,null,null,{"$f":"ETL!$D$835","v":""}]
[]
[]
[]
["CAS registry number:",null,null,null,null,null,null,null,null,null,null,{"$f":"ETL!$K$833","v":""},null,null,null,null,null,"-",null,{"$f":"ETL!$L$833","v":""},null,"-",null,{"$f":"ETL!$M$833","v":""}]
[]
["Production capacity:",null,null,null,null,null,null,null,null,null,null,{"$f":"ETL!$I$836","v":""},null,null,null,null,null,null,null,null," t"]
[]
["Calculation method:"]
[]
[null,null,null,null,null,null,null,null,null,null,null,null,null,null,null,null,"Name plate",null,{"$f":"IF(ETL!$G$837=\"Name Plate\",\"✓\",\"\")","v":""},null,null,null,null,null,null,"Design",null,{"$f":"IF(ETL!$G$837=\"Design\",\"✓\",\"\")","v":""}]
[]
[]
[]
["IUPAC chemical name:",null,null,null,null,null,null,null,null,null,null,{"$f":"ETL!$D$840","v":""}]
[]
[]
[]
["CAS registry number:",null,null,null,null,null,null,null,null,null,null,{"$f":"ETL!$K$838","v":""},null,null,null,null,null,"-",null,{"$f":"ETL!$L$838","v":""},null,"-",null,{"$f":"ETL!$M$838","v":""}]
[]
["Production capacity:",null,null,null,null,null,null,null,null,null,null,{"$f":"ETL!$I$841","v":""},null,null,null,null,null,null,null,null," t"]
[]
["Calculation method:"]
[]
[null,null,null,null,null,null,null,null,null,null,null,null,null,null,null,null,"Name plate",null,{"$f":"IF(ETL!$G$842=\"Name Plate\",\"✓\",\"\")","v":""},null,null,null,null,null,null,"Design",null,{"$f":"IF(ETL!$G$742=\"Design\",\"✓\",\"\")","v":""}]

{"sheet":"【自動入力】Form2.4","index":11,"n_rows":639,"n_cols":45,"rows_kept":639,"cut":false,"hidden":false,"merged":[[424,16,424,43],[443,16,443,43],[488,16,488,43],[507,16,507,43],[552,16,552,43],[571,16,571,43],[616,16,616,43],[635,16,635,43],[59,16,59,43],[104,16,104,43],[123,16,123,43],[168,16,168,43],[187,16,187,43],[232,16,232,43],[251,16,251,43],[296,16,296,43],[315,16,315,43],[633,2,634,45],[563,37,563,38],[565,24,565,26],[565,27,565,28],[490,33,490,34],[490,39,490,40],[593,0,593,45],[563,24,563,26],[563,27,563,28],[563,34,563,36],[595,0,595,45],[569,2,570,45],[565,34,565,36],[573,2,573,45],[574,11,574,45],[588,0,588,45],[589,0,591,10],[577,0,577,45],[578,0,579,45],[589,12,591,45],[587,0,587,45],[557,0,557,45],[558,21,558,23],[627,37,627,38],[558,41,558,43],[565,37,565,38],[567,24,567,26],[567,27,567,28],[567,34,567,36],[567,37,567,38],[585,0,585,45],[575,0,575,45],[576,19,576,33],[576,34,576,37],[576,38,576,39],[576,40,576,41],[576,42,576,43],[576,44,576,45],[572,0,572,45],[558,25,558,27],[558,29,558,31],[558,33,558,35],[558,37,558,39],[559,0,559,45],[560,2,561,45],[530,12,530,45],[531,0,531,45],[536,12,536,17],[536,20,536,21],[536,24,536,25],[536,27,536,45],[538,0,539,45],[548,0,548,45],[540,27,540,28],[540,37,540,38],[541,0,541,45],[542,12,542,21],[542,34,542,43],[542,44,542,45],[544,12,544,21],[544,34,544,43],[544,44,544,45],[546,12,546,21],[547,0,547,45],[524,0,524,45],[525,0,527,10],[505,2,506,45],[508,0,508,45],[509,2,509,45],[510,11,510,45],[533,0,534,10],[533,12,534,45],[431,0,431,45],[491,0,491,45],[493,0,493,45],[458,17,458,20],[458,28,458,45],[459,0,459,45],[461,12,463,45],[465,0,465,45],[466,0,466,6],[466,12,466,45],[467,0,467,45],[480,44,480,45],[522,17,522,20],[522,28,522,45],[523,0,523,45],[525,12,527,45],[529,0,529,45],[530,0,530,6],[485,0,485,45],[486,2,487,45],[489,0,489,45],[461,0,463,10],[421,0,421,45],[422,2,423,45],[435,37,435,38],[437,24,437,26],[437,27,437,28],[437,34,437,36],[437,37,437,38],[439,24,439,26],[439,27,439,28],[439,34,439,36],[439,37,439,38],[425,0,425,45],[426,33,426,34],[426,39,426,40],[427,0,427,45],[429,0,429,45],[430,21,430,23],[430,25,430,27],[430,29,430,31],[430,33,430,35],[430,37,430,39],[430,41,430,43],[432,2,433,45],[435,24,435,26],[435,27,435,28],[435,34,435,36],[448,38,448,39],[448,40,448,41],[448,42,448,43],[448,44,448,45],[447,0,447,45],[448,19,448,33],[448,34,448,37],[441,2,442,45],[444,0,444,45],[445,2,445,45],[446,11,446,45],[460,0,460,45],[449,0,449,45],[450,0,451,45],[453,0,454,45],[455,0,455,45],[456,0,456,16],[456,17,456,24],[456,25,456,45],[457,0,457,45],[352,44,352,45],[354,12,354,21],[355,0,355,45],[357,0,357,45],[363,0,363,45],[377,2,378,45],[380,0,380,45],[375,34,375,36],[375,37,375,38],[358,2,359,45],[361,0,361,45],[362,33,362,34],[362,39,362,40],[365,0,365,45],[360,16,360,43],[379,16,379,43],[381,2,381,45],[382,11,382,45],[367,0,367,45],[368,2,369,45],[371,24,371,26],[371,27,371,28],[371,34,371,36],[371,37,371,38],[373,24,373,26],[373,27,373,28],[373,34,373,36],[373,37,373,38],[375,24,375,26],[375,27,375,28],[303,0,303,45],[304,2,305,45],[297,0,297,45],[309,24,309,26],[292,0,292,45],[328,17,328,24],[328,25,328,45],[346,0,347,45],[316,0,316,45],[317,2,317,45],[318,11,318,45],[309,27,309,28],[309,34,309,36],[309,37,309,38],[311,24,311,26],[311,27,311,28],[311,34,311,36],[311,37,311,38],[313,2,314,45],[344,20,344,21],[344,24,344,25],[344,27,344,45],[298,33,298,34],[320,34,320,37],[290,12,290,21],[291,0,291,45],[293,0,293,45],[280,12,280,17],[280,20,280,21],[280,24,280,25],[301,0,301,45],[302,21,302,23],[302,25,302,27],[302,29,302,31],[302,33,302,35],[302,37,302,39],[302,41,302,43],[298,39,298,40],[299,0,299,45],[256,42,256,43],[256,44,256,45],[265,0,265,45],[261,0,262,45],[258,0,259,45],[257,0,257,45],[307,24,307,26],[307,27,307,28],[307,34,307,36],[307,37,307,38],[267,0,267,45],[269,12,271,45],[273,0,273,45],[274,0,274,6],[274,12,274,45],[269,0,271,10],[268,0,268,45],[275,0,275,45],[277,0,278,10],[277,12,278,45],[294,2,295,45],[288,12,288,21],[288,34,288,43],[288,44,288,45],[238,41,238,43],[252,0,252,45],[253,2,253,45],[254,11,254,45],[266,17,266,20],[266,28,266,45],[255,0,255,45],[247,34,247,36],[247,37,247,38],[245,24,245,26],[245,27,245,28],[245,34,245,36],[245,37,245,38],[247,24,247,26],[247,27,247,28],[249,2,250,45],[263,0,263,45],[264,0,264,16],[264,17,264,24],[264,25,264,45],[256,19,256,33],[256,34,256,37],[256,38,256,39],[256,40,256,41],[192,38,192,39],[192,40,192,41],[192,42,192,43],[192,44,192,45],[239,0,239,45],[240,2,241,45],[243,24,243,26],[243,27,243,28],[243,34,243,36],[243,37,243,38],[216,27,216,45],[218,0,219,45],[220,27,220,28],[220,37,220,38],[221,0,221,45],[222,12,222,21],[222,34,222,43],[222,44,222,45],[224,12,224,21],[224,34,224,43],[224,44,224,45],[226,12,226,21],[227,0,227,45],[229,0,229,45],[175,0,175,45],[176,2,177,45],[193,0,193,45],[194,0,195,45],[197,0,198,45],[179,24,179,26],[179,27,179,28],[179,34,179,36],[179,37,179,38],[185,2,186,45],[188,0,188,45],[189,2,189,45],[190,11,190,45],[181,24,181,26],[181,27,181,28],[181,34,181,36],[181,37,181,38],[183,24,183,26],[183,27,183,28],[183,34,183,36],[183,37,183,38],[191,0,191,45],[192,19,192,33],[192,34,192,37],[157,0,157,45],[158,12,158,21],[158,34,158,43],[158,44,158,45],[160,12,160,21],[160,34,160,43],[160,44,160,45],[162,12,162,21],[163,0,163,45],[165,0,165,45],[166,2,167,45],[174,25,174,27],[174,29,174,31],[174,33,174,35],[174,37,174,39],[174,41,174,43],[102,2,103,45],[124,0,124,45],[125,2,125,45],[126,11,126,45],[138,17,138,20],[138,28,138,45],[128,42,128,43],[128,44,128,45],[127,0,127,45],[110,21,110,23],[110,25,110,27],[110,29,110,31],[110,33,110,35],[110,37,110,39],[110,41,110,43],[111,0,111,45],[112,2,113,45],[149,12,150,45],[74,17,74,20],[74,28,74,45],[75,0,75,45],[77,12,79,45],[81,0,81,45],[82,0,82,6],[82,12,82,45],[121,2,122,45],[117,37,117,38],[119,24,119,26],[119,27,119,28],[119,34,119,36],[119,37,119,38],[100,0,100,45],[101,0,101,45],[141,0,143,10],[130,0,131,45],[133,0,134,45],[128,19,128,33],[128,34,128,37],[128,38,128,39],[128,40,128,41],[139,0,139,45],[141,12,143,45],[115,34,115,36],[115,37,115,38],[117,24,117,26],[117,27,117,28],[117,34,117,36],[115,24,115,26],[115,27,115,28],[105,0,105,45],[106,33,106,34],[106,39,106,40],[107,0,107,45],[109,0,109,45],[129,0,129,45],[135,0,135,45],[98,12,98,21],[99,0,99,45],[83,0,83,45],[85,0,86,10],[85,12,86,45],[88,12,88,17],[88,20,88,21],[88,24,88,25],[88,27,88,45],[90,0,91,45],[92,27,92,28],[92,37,92,38],[93,0,93,45],[94,12,94,21],[94,34,94,43],[94,44,94,45],[96,12,96,21],[96,34,96,43],[96,44,96,45],[65,0,65,45],[60,0,60,45],[61,2,61,45],[62,11,62,45],[64,19,64,33],[64,44,64,45],[63,0,63,45],[64,34,64,37],[37,0,37,45],[38,2,39,45],[41,0,41,45],[43,0,43,45],[45,0,45,45],[46,21,46,23],[46,25,46,27],[46,29,46,31],[46,33,46,35],[46,37,46,39],[42,33,42,34],[42,39,42,40],[64,38,64,39],[64,40,64,41],[64,42,64,43],[51,27,51,28],[55,27,55,28],[55,37,55,38],[55,24,55,26],[55,34,55,36],[57,2,58,45],[30,44,30,45],[32,34,32,43],[32,44,32,45],[34,12,34,21],[35,0,35,45],[53,27,53,28],[51,37,51,38],[53,37,53,38],[47,0,47,45],[48,2,49,45],[51,24,51,26],[51,34,51,36],[53,24,53,26],[53,34,53,36],[40,16,40,43],[18,12,18,45],[21,12,22,45],[28,27,28,28],[28,37,28,38],[9,0,9,45],[12,0,12,45],[13,0,15,10],[0,44,0,45],[1,0,1,45],[2,0,3,45],[5,0,6,45],[7,0,7,45],[8,0,8,16],[8,17,8,24],[8,25,8,45],[0,34,0,37],[0,38,0,39],[0,40,0,41],[0,42,0,43],[0,19,0,33],[10,17,10,20],[10,28,10,45],[11,0,11,45],[13,12,15,45],[17,0,17,45],[36,0,36,45],[73,0,73,45],[76,0,76,45],[77,0,79,10],[66,0,67,45],[69,0,70,45],[71,0,71,45],[72,0,72,16],[72,17,72,24],[72,25,72,45],[32,12,32,21],[46,41,46,43],[18,0,18,6],[19,0,19,45],[21,0,22,10],[24,12,24,17],[24,20,24,21],[24,24,24,25],[24,27,24,45],[26,0,27,45],[29,0,29,45],[30,12,30,21],[30,34,30,43],[169,0,169,45],[170,33,170,34],[170,39,170,40],[171,0,171,45],[173,0,173,45],[174,21,174,23],[140,0,140,45],[136,25,136,45],[137,0,137,45],[152,12,152,17],[152,20,152,21],[152,24,152,25],[152,27,152,45],[145,0,145,45],[146,0,146,6],[136,0,136,16],[136,17,136,24],[164,0,164,45],[154,0,155,45],[156,27,156,28],[156,37,156,38],[146,12,146,45],[147,0,147,45],[149,0,150,10],[199,0,199,45],[200,0,200,16],[200,17,200,24],[200,25,200,45],[201,0,201,45],[204,0,204,45],[205,0,207,10],[216,12,216,17],[216,20,216,21],[202,17,202,20],[202,28,202,45],[203,0,203,45],[205,12,207,45],[209,0,209,45],[216,24,216,25],[320,38,320,39],[320,40,320,41],[320,42,320,43],[320,44,320,45],[333,12,335,45],[337,0,337,45],[210,0,210,6],[210,12,210,45],[211,0,211,45],[228,0,228,45],[213,0,214,10],[213,12,214,45],[230,2,231,45],[233,0,233,45],[234,33,234,34],[234,39,234,40],[235,0,235,45],[237,0,237,45],[238,21,238,23],[238,25,238,27],[238,29,238,31],[238,33,238,35],[238,37,238,39],[321,0,321,45],[383,0,383,45],[384,19,384,33],[384,34,384,37],[384,38,384,39],[384,40,384,41],[384,42,384,43],[384,44,384,45],[280,27,280,45],[282,0,283,45],[284,27,284,28],[284,37,284,38],[285,0,285,45],[286,12,286,21],[286,34,286,43],[286,44,286,45],[352,34,352,43],[329,0,329,45],[332,0,332,45],[333,0,335,10],[330,17,330,20],[330,28,330,45],[331,0,331,45],[319,0,319,45],[320,19,320,33],[322,0,323,45],[325,0,326,45],[327,0,327,45],[366,21,366,23],[366,25,366,27],[366,29,366,31],[366,33,366,35],[366,37,366,39],[366,41,366,43],[348,37,348,38],[349,0,349,45],[350,12,350,21],[350,34,350,43],[350,44,350,45],[352,12,352,21],[338,0,338,6],[338,12,338,45],[339,0,339,45],[341,0,342,10],[341,12,342,45],[344,12,344,17],[328,0,328,16],[356,0,356,45],[348,27,348,28],[397,0,399,10],[385,0,385,45],[386,0,387,45],[389,0,390,45],[391,0,391,45],[392,0,392,16],[392,17,392,24],[392,25,392,45],[405,0,406,10],[405,12,406,45],[393,0,393,45],[401,0,401,45],[402,0,402,6],[402,12,402,45],[403,0,403,45],[396,0,396,45],[394,17,394,20],[394,28,394,45],[395,0,395,45],[397,12,399,45],[408,12,408,17],[408,20,408,21],[408,24,408,25],[408,27,408,45],[410,0,411,45],[420,0,420,45],[412,27,412,28],[412,37,412,38],[413,0,413,45],[414,12,414,21],[414,34,414,43],[414,44,414,45],[416,12,416,21],[416,34,416,43],[416,44,416,45],[418,12,418,21],[419,0,419,45],[469,12,470,45],[472,12,472,17],[472,20,472,21],[472,24,472,25],[472,27,472,45],[474,0,475,45],[484,0,484,45],[476,27,476,28],[476,37,476,38],[477,0,477,45],[478,12,478,21],[478,34,478,43],[478,44,478,45],[480,12,480,21],[480,34,480,43],[482,12,482,21],[483,0,483,45],[469,0,470,10],[494,21,494,23],[494,25,494,27],[494,29,494,31],[494,33,494,35],[494,37,494,39],[494,41,494,43],[495,0,495,45],[496,2,497,45],[499,24,499,26],[499,27,499,28],[499,34,499,36],[499,37,499,38],[501,24,501,26],[501,27,501,28],[501,34,501,36],[501,37,501,38],[503,24,503,26],[503,27,503,28],[503,34,503,36],[503,37,503,38],[521,0,521,45],[513,0,513,45],[514,0,515,45],[517,0,518,45],[519,0,519,45],[520,0,520,16],[520,17,520,24],[520,25,520,45],[511,0,511,45],[512,19,512,33],[512,34,512,37],[512,38,512,39],[512,40,512,41],[512,42,512,43],[512,44,512,45],[549,0,549,45],[550,2,551,45],[553,0,553,45],[554,33,554,34],[554,39,554,40],[555,0,555,45],[602,0,603,45],[604,27,604,28],[604,37,604,38],[594,0,594,6],[594,12,594,45],[597,0,598,10],[597,12,598,45],[600,12,600,17],[600,20,600,21],[600,24,600,25],[600,27,600,45],[581,0,582,45],[583,0,583,45],[584,0,584,16],[584,17,584,24],[584,25,584,45],[586,17,586,20],[586,28,586,45],[639,0,639,45],[613,0,613,45],[614,2,615,45],[617,0,617,45],[618,33,618,34],[618,39,618,40],[619,0,619,45],[621,0,621,45],[622,21,622,23],[622,25,622,27],[622,29,622,31],[622,33,622,35],[622,37,622,39],[622,41,622,43],[623,0,623,45],[624,2,625,45],[627,24,627,26],[627,27,627,28],[629,34,629,36],[629,37,629,38],[636,0,636,45],[637,2,637,45],[638,11,638,45],[629,24,629,26],[631,24,631,26],[631,27,631,28],[631,34,631,36],[631,37,631,38],[627,34,627,36],[629,27,629,28],[605,0,605,45],[606,12,606,21],[606,34,606,43],[606,44,606,45],[608,12,608,21],[608,34,608,43],[608,44,608,45],[612,0,612,45],[610,12,610,21],[611,0,611,45]]}
[null,null,null,null,null,null,null,null,null,null,null,null,null,null,null,null,null,null,null,"届出日 （西暦：ccyy-mm-dd）",null,null,null,null,null,null,null,null,null,null,null,null,null,null,{"$f":"ETL!$D$3","v":0},null,null,null,"－",null,{"$f":"ETL!$D$4","v":0},null,"－",null,{"$f":"ETL!$D$5","v":0}]
[]
["Form 2.4: Information on Each Schedule 2 Chemical above the Declaration Threshold \n                 at the Plant Site"]
[]
[]
["For initial declarations ensure to provide this information for each of the previous three calendar years.\nEnsure to complete as many forms as necessary in order to declare all Schedule 2 chemicals at the plant site."]
[]
[]
["Plant Site Code：",null,null,null,null,null,null,null,null,null,null,null,null,null,null,null,null,{"$f":"ETL!$D$61","v":""}]
[]
["The year to which the data relates:",null,null,null,null,null,null,null,null,null,null,null,null,null,null,null,null,{"$f":"ETL!$D$6","v":0}]
[]
[]
["IUPAC chemical name：",null,null,null,null,null,null,null,null,null,null,null,{"$f":"ETL!$D$860","v":""}]
[]
[]
[]
["Common or trade name of the chemical used by the facility:"]
[null,null,null,null,null,null,null,null,null,null,null,null,{"$f":"ETL!$D$861","v":""}]
[]
["If chemical is not contained in handbook for chemicals, identify attachment for structural formula:"]
[null,null,null,null,null,null,null,null,null,null,null,null,{"$f":"ETL!$D$862","v":""}]
[]
[]
["CAS registry number:",null,null,null,null,null,null,null,null,null,null,null,{"$f":"ETL!$I$858","v":""},null,null,null,null,null,"-",null,{"$f":"ETL!$I$859","v":""},null,"-",null,{"$f":"ETL!$I$860","v":""}]
[]
["Total amounts of Schedule 2 chemical produced, processed, consumed, imported or exported by the plant site."]
[]
[null,null,"Unit of weight",null,null,null,null,null,null,null,null,null,null,null,null,null,null,null,null,null,null,null,null,null,null,"Tonne",null,"レ",null,null,null,null,null,null,null,"Kg"]
[]
[null,null,null,"Quantity produced:",null,null,null,null,null,null,null,null,{"$f":"ETL!$I$863","v":"0"},null,null,null,null,null,null,null,null,null," t",null,null,"Quantity imported:",null,null,null,null,null,null,null,null,{"$f":"ETL!$I$866","v":"0"},null,null,null,null,null,null,null,null,null," t"]
[]
[null,null,null,"Quantity processed:",null,null,null,null,null,null,null,null,{"$f":"ETL!$I$864","v":"0"},null,null,null,null,null,null,null,null,null," t",null,null,"Quantity exported:",null,null,null,null,null,null,null,null,{"$f":"ETL!$I$867","v":"0"},null,null,null,null,null,null,null,null,null," t"]
[]
[null,null,null,"Quantity consumed:",null,null,null,null,null,null,null,null,{"$f":"ETL!$I$865","v":"0"},null,null,null,null,null,null,null,null,null," t"]
["\\"]
["Purposes for which the chemical was produced, processed or consumed"]
[]
[null,null,"(i) Processing and consumption of Schedule 2 chemical on site; specify product type \n(use product group codes in Appendix 4):"]
[]
[null,null,null,null,null,null,null,null,null,null,null,null,null,null,null,null,{"$f":"ETL!$G$868","v":""}]
[]
[null,null,"(ii) Direct export of the Schedule 2 chemical off the plant site?",null,null,null,null,null,null,null,null,null,null,null,null,null,null,null,null,null,null,null,null,null,null,null,null,null,null,null,"Yes",null,null,{"$f":"IF(ETL!$G$873=\"Y\",\"✓\",\"\")","v":""},null,null,"No",null,null,{"$f":"IF(ETL!$G$873=\"N\",\"✓\",\"\")","v":""}]
[]
[null,null,null,"If YES, specify States involved (use country codes in Appendix 1): "]
[]
[null,null,null,null,null,null,null,null,null,null,null,null,null,null,null,null,null,null,null,null,null,{"$f":"ETL!$G$874","v":""},null,null,null,{"$f":"ETL!$G$875","v":""},null,null,null,{"$f":"ETL!$G$876","v":""},null,null,null,{"$f":"ETL!$G$877","v":""},null,null,null,{"$f":"ETL!$G$878","v":""},null,null,null,{"$f":"ETL!$G$879","v":""}]
[]
[null,null,"(iii) Sale or transfer of the Schedule 2 chemical within the territory or to any other place under the jurisdiction or control of the State Party (indicate destination below):"]
[]
[]
[null,null,null,null,"Other industry:",null,null,null,null,null,null,null,null,null,null,null,null,null,null,null,null,null,null,null,"Yes",null,null,{"$f":"IF(ETL!$G$880=\"Y\",\"✓\",\"\")","v":""},null,null,null,null,null,null,"No",null,null,{"$f":"IF(ETL!$G$880=\"N\",\"✓\",\"\")","v":""}]
[]
[null,null,null,null,"Trader:",null,null,null,null,null,null,null,null,null,null,null,null,null,null,null,null,null,null,null,"Yes",null,null,{"$f":"IF(ETL!$G$881=\"Y\",\"✓\",\"\")","v":""},null,null,null,null,null,null,"No",null,null,{"$f":"IF(ETL!$G$881=\"N\",\"✓\",\"\")","v":""}]
[]
[null,null,null,null,"Other destination:",null,null,null,null,null,null,null,null,null,null,null,null,null,null,null,null,null,null,null,"Yes",null,null,{"$f":"IF(ETL!$G$882=\"Y\",\"✓\",\"\")","v":""},null,null,null,null,null,null,"No",null,null,{"$f":"IF(ETL!$G$882=\"N\",\"✓\",\"\")","v":""}]
[]
[null,null,"Final product types derived from sold/transferred Schedule 2 chemical, if possible (use product group codes in Appendix 4):"]
[]
[null,null,null,null,null,null,null,null,null,null,null,null,null,null,null,null,{"$f":"ETL!$G$883","v":""}]
[]
[null,null,"(iv) Other purpose (specify) for which the Schedule 2 chemical was produced, processed or consumed:"]
[null,null,null,null,null,null,null,null,null,null,null,{"$f":"ETL!$D$888","v":""}]
[]
[null,null,null,null,null,null,null,null,null,null,null,null,null,null,null,null,null,null,null,"届出日 （西暦：ccyy-mm-dd）",null,null,null,null,null,null,null,null,null,null,null,null,null,null,{"$f":"ETL!$D$3","v":0},null,null,null,"－",null,{"$f":"ETL!$D$4","v":0},null,"－",null,{"$f":"ETL!$D$5","v":0}]
[]
["Form 2.4: Information on Each Schedule 2 Chemical above the Declaration Threshold \n                 at the Plant Site"]
[]
[]
["For initial declarations ensure to provide this information for each of the previous three calendar years.\nEnsure to complete as many forms as necessary in order to declare all Schedule 2 chemicals at the plant site."]
[]
[]
["Plant Site Code：",null,null,null,null,null,null,null,null,null,null,null,null,null,null,null,null,{"$f":"ETL!$D$61","v":""}]
[]
["The year to which the data relates:",null,null,null,null,null,null,null,null,null,null,null,null,null,null,null,null,{"$f":"ETL!$D$6","v":0}]
[]
[]
["IUPAC chemical name：",null,null,null,null,null,null,null,null,null,null,null,{"$f":"ETL!$D$892","v":""}]
[]
[]
[]
["Common or trade name of the chemical used by the facility:"]
[null,null,null,null,null,null,null,null,null,null,null,null,{"$f":"ETL!$D$893","v":""}]
[]
["If chemical is not contained in handbook for chemicals, identify attachment for structural formula:"]
[null,null,null,null,null,null,null,null,null,null,null,null,{"$f":"ETL!$D$894","v":""}]
[]
[]
["CAS registry number:",null,null,null,null,null,null,null,null,null,null,null,{"$f":"ETL!$I$890","v":""},null,null,null,null,null,"-",null,{"$f":"ETL!$I$891","v":""},null,"-",null,{"$f":"ETL!$I$892","v":""}]
[]
["Total amounts of Schedule 2 chemical produced, processed, consumed, imported or exported by the plant site."]
[]
[null,null,"Unit of weight",null,null,null,null,null,null,null,null,null,null,null,null,null,null,null,null,null,null,null,null,null,null,"Tonne",null,"レ",null,null,null,null,null,null,null,"Kg"]
[]
[null,null,null,"Quantity produced:",null,null,null,null,null,null,null,null,{"$f":"ETL!$I$895","v":"0"},null,null,null,null,null,null,null,null,null," t",null,null,"Quantity imported:",null,null,null,null,null,null,null,null,{"$f":"ETL!$I$898","v":"0"},null,null,null,null,null,null,null,null,null," t"]
[]
[null,null,null,"Quantity processed:",null,null,null,null,null,null,null,null,{"$f":"ETL!$I$896","v":"0"},null,null,null,null,null,null,null,null,null," t",null,null,"Quantity exported:",null,null,null,null,null,null,null,null,{"$f":"ETL!$I$899","v":"0"},null,null,null,null,null,null,null,null,null," t"]
[]
[null,null,null,"Quantity consumed:",null,null,null,null,null,null,null,null,{"$f":"ETL!$I$897","v":"0"},null,null,null,null,null,null,null,null,null," t"]
["\\"]
["Purposes for which the chemical was produced, processed or consumed"]
[]
[null,null,"(i) Processing and consumption of Schedule 2 chemical on site; specify product type \n(use product group codes in Appendix 4):"]
[]
[null,null,null,null,null,null,null,null,null,null,null,null,null,null,null,null,{"$f":"ETL!$G$900","v":""}]
[]
[null,null,"(ii) Direct export of the Schedule 2 chemical off the plant site?",null,null,null,null,null,null,null,null,null,null,null,null,null,null,null,null,null,null,null,null,null,null,null,null,null,null,null,"Yes",null,null,{"$f":"IF(ETL!$G$905=\"Y\",\"✓\",\"\")","v":""},null,null,"No",null,null,{"$f":"IF(ETL!$G$905=\"N\",\"✓\",\"\")","v":""}]
[]
[null,null,null,"If YES, specify States involved (use country codes in Appendix 1): "]
[]
[null,null,null,null,null,null,null,null,null,null,null,null,null,null,null,null,null,null,null,null,null,{"$f":"ETL!$G$906","v":""},null,null,null,{"$f":"ETL!$G$907","v":""},null,null,null,{"$f":"ETL!$G$908","v":""},null,null,null,{"$f":"ETL!$G$909","v":""},null,null,null,{"$f":"ETL!$G$910","v":""},null,null,null,{"$f":"ETL!$G$911","v":""}]
[]
[null,null,"(iii) Sale or transfer of the Schedule 2 chemical within the territory or to any other place under the jurisdiction or control of the State Party (indicate destination below):"]
[]
[]
[null,null,null,null,"Other industry:",null,null,null,null,null,null,null,null,null,null,null,null,null,null,null,null,null,null,null,"Yes",null,null,{"$f":"IF(ETL!$G$912=\"Y\",\"✓\",\"\")","v":""},null,null,null,null,null,null,"No",null,null,{"$f":"IF(ETL!$G$912=\"N\",\"✓\",\"\")","v":""}]
[]
[null,null,null,null,"Trader:",null,null,null,null,null,null,null,null,null,null,null,null,null,null,null,null,null,null,null,"Yes",null,null,{"$f":"IF(ETL!$G$913=\"Y\",\"✓\",\"\")","v":""},null,null,null,null,null,null,"No",null,null,{"$f":"IF(ETL!$G$913=\"N\",\"✓\",\"\")","v":""}]
[]
[null,null,null,null,"Other destination:",null,null,null,null,null,null,null,null,null,null,null,null,null,null,null,null,null,null,null,"Yes",null,null,{"$f":"IF(ETL!$G$914=\"Y\",\"✓\",\"\")","v":""},null,null,null,null,null,null,"No",null,null,{"$f":"IF(ETL!$G$914=\"N\",\"✓\",\"\")","v":""}]
[]
[null,null,"Final product types derived from sold/transferred Schedule 2 chemical, if possible (use product group codes in Appendix 4):"]
[]
[null,null,null,null,null,null,null,null,null,null,null,null,null,null,null,null,{"$f":"ETL!$G$915","v":""}]
[]
[null,null,"(iv) Other purpose (specify) for which the Schedule 2 chemical was produced, processed or consumed:"]
[null,null,null,null,null,null,null,null,null,null,null,{"$f":"ETL!$D$920","v":""}]
[]
[null,null,null,null,null,null,null,null,null,null,null,null,null,null,null,null,null,null,null,"届出日 （西暦：ccyy-mm-dd）",null,null,null,null,null,null,null,null,null,null,null,null,null,null,{"$f":"ETL!$D$3","v":0},null,null,null,"－",null,{"$f":"ETL!$D$4","v":0},null,"－",null,{"$f":"ETL!$D$5","v":0}]
[]
["Form 2.4: Information on Each Schedule 2 Chemical above the Declaration Threshold \n                 at the Plant Site"]
[]
[]
["For initial declarations ensure to provide this information for each of the previous three calendar years.\nEnsure to complete as many forms as necessary in order to declare all Schedule 2 chemicals at the plant site."]
[]
[]
["Plant Site Code：",null,null,null,null,null,null,null,null,null,null,null,null,null,null,null,null,{"$f":"ETL!$D$61","v":""}]
[]
["The year to which the data relates:",null,null,null,null,null,null,null,null,null,null,null,null,null,null,null,null,{"$f":"ETL!$D$6","v":0}]
[]
[]
["IUPAC chemical name：",null,null,null,null,null,null,null,null,null,null,null,{"$f":"ETL!$D$924","v":""}]
[]
[]
[]
["Common or trade name of the chemical used by the facility:"]
[null,null,null,null,null,null,null,null,null,null,null,null,{"$f":"ETL!$D$925","v":""}]
[]
["If chemical is not contained in handbook for chemicals, identify attachment for structural formula:"]
[null,null,null,null,null,null,null,null,null,null,null,null,{"$f":"ETL!$D$926","v":""}]
[]
[]
["CAS registry number:",null,null,null,null,null,null,null,null,null,null,null,{"$f":"ETL!$I$922","v":""},null,null,null,null,null,"-",null,{"$f":"ETL!$I$923","v":""},null,"-",null,{"$f":"ETL!$I$924","v":""}]
[]
["Total amounts of Schedule 2 chemical produced, processed, consumed, imported or exported by the plant site."]
[]
[null,null,"Unit of weight",null,null,null,null,null,null,null,null,null,null,null,null,null,null,null,null,null,null,null,null,null,null,"Tonne",null,"レ",null,null,null,null,null,null,null,"Kg"]
[]
[null,null,null,"Quantity produced:",null,null,null,null,null,null,null,null,{"$f":"ETL!$I$927","v":"0"},null,null,null,null,null,null,null,null,null," t",null,null,"Quantity imported:",null,null,null,null,null,null,null,null,{"$f":"ETL!$I$930","v":"0"},null,null,null,null,null,null,null,null,null," t"]
[]
[null,null,null,"Quantity processed:",null,null,null,null,null,null,null,null,{"$f":"ETL!$I$928","v":"0"},null,null,null,null,null,null,null,null,null," t",null,null,"Quantity exported:",null,null,null,null,null,null,null,null,{"$f":"ETL!$I$931","v":"0"},null,null,null,null,null,null,null,null,null," t"]
[]
[null,null,null,"Quantity consumed:",null,null,null,null,null,null,null,null,{"$f":"ETL!$I$929","v":"0"},null,null,null,null,null,null,null,null,null," t"]
["\\"]
["Purposes for which the chemical was produced, processed or consumed"]
[]
[null,null,"(i) Processing and consumption of Schedule 2 chemical on site; specify product type \n(use product group codes in Appendix 4):"]
[]
[null,null,null,null,null,null,null,null,null,null,null,null,null,null,null,null,{"$f":"ETL!$G$932","v":""}]
[]
[null,null,"(ii) Direct export of the Schedule 2 chemical off the plant site?",null,null,null,null,null,null,null,null,null,null,null,null,null,null,null,null,null,null,null,null,null,null,null,null,null,null,null,"Yes",null,null,{"$f":"IF(ETL!$G$937=\"Y\",\"✓\",\"\")","v":""},null,null,"No",null,null,{"$f":"IF(ETL!$G$937=\"N\",\"✓\",\"\")","v":""}]
[]
[null,null,null,"If YES, specify States involved (use country codes in Appendix 1): "]
[]
[null,null,null,null,null,null,null,null,null,null,null,null,null,null,null,null,null,null,null,null,null,{"$f":"ETL!$G$938","v":""},null,null,null,{"$f":"ETL!$G$939","v":""},null,null,null,{"$f":"ETL!$G$940","v":""},null,null,null,{"$f":"ETL!$G$941","v":""},null,null,null,{"$f":"ETL!$G$942","v":""},null,null,null,{"$f":"ETL!$G$943","v":""}]
[]
[null,null,"(iii) Sale or transfer of the Schedule 2 chemical within the territory or to any other place under the jurisdiction or control of the State Party (indicate destination below):"]
[]
[]
[null,null,null,null,"Other industry:",null,null,null,null,null,null,null,null,null,null,null,null,null,null,null,null,null,null,null,"Yes",null,null,{"$f":"IF(ETL!$G$944=\"Y\",\"✓\",\"\")","v":""},null,null,null,null,null,null,"No",null,null,{"$f":"IF(ETL!$G$944=\"N\",\"✓\",\"\")","v":""}]
[]
[null,null,null,null,"Trader:",null,null,null,null,null,null,null,null,null,null,null,null,null,null,null,null,null,null,null,"Yes",null,null,{"$f":"IF(ETL!$G$945=\"Y\",\"✓\",\"\")","v":""},null,null,null,null,null,null,"No",null,null,{"$f":"IF(ETL!$G$945=\"N\",\"✓\",\"\")","v":""}]
[]
[null,null,null,null,"Other destination:",null,null,null,null,null,null,null,null,null,null,null,null,null,null,null,null,null,null,null,"Yes",null,null,{"$f":"IF(ETL!$G$946=\"Y\",\"✓\",\"\")","v":""},null,null,null,null,null,null,"No",null,null,{"$f":"IF(ETL!$G$946=\"N\",\"✓\",\"\")","v":""}]
[]
[null,null,"Final product types derived from sold/transferred Schedule 2 chemical, if possible (use product group codes in Appendix 4):"]
[]
[null,null,null,null,null,null,null,null,null,null,null,null,null,null,null,null,{"$f":"ETL!$G$947","v":""}]
[]
[null,null,"(iv) Other purpose (specify) for which the Schedule 2 chemical was produced, processed or consumed:"]
[null,null,null,null,null,null,null,null,null,null,null,{"$f":"ETL!$D$952","v":""}]
[]
[null,null,null,null,null,null,null,null,null,null,null,null,null,null,null,null,null,null,null,"届出日 （西暦：ccyy-mm-dd）",null,null,null,null,null,null,null,null,null,null,null,null,null,null,{"$f":"ETL!$D$3","v":0},null,null,null,"－",null,{"$f":"ETL!$D$4","v":0},null,"－",null,{"$f":"ETL!$D$5","v":0}]
[]
["Form 2.4: Information on Each Schedule 2 Chemical above the Declaration Threshold \n                 at the Plant Site"]
[]
[]
["For initial declarations ensure to provide this information for each of the previous three calendar years.\nEnsure to complete as many forms as necessary in order to declare all Schedule 2 chemicals at the plant site."]
[]
[]
["Plant Site Code：",null,null,null,null,null,null,null,null,null,null,null,null,null,null,null,null,{"$f":"ETL!$D$61","v":""}]
[]
["The year to which the data relates:",null,null,null,null,null,null,null,null,null,null,null,null,null,null,null,null,{"$f":"ETL!$D$6","v":0}]
[]
[]
["IUPAC chemical name：",null,null,null,null,null,null,null,null,null,null,null,{"$f":"ETL!$D$956","v":""}]
[]
[]
[]
["Common or trade name of the chemical used by the facility:"]
[null,null,null,null,null,null,null,null,null,null,null,null,{"$f":"ETL!$D$957","v":""}]
[]
["If chemical is not contained in handbook for chemicals, identify attachment for structural formula:"]
[null,null,null,null,null,null,null,null,null,null,null,null,{"$f":"ETL!$D$958","v":""}]
[]
[]
["CAS registry number:",null,null,null,null,null,null,null,null,null,null,null,{"$f":"ETL!$I$954","v":""},null,null,null,null,null,"-",null,{"$f":"ETL!$I$955","v":""},null,"-",null,{"$f":"ETL!$I$956","v":""}]
[]
["Total amounts of Schedule 2 chemical produced, processed, consumed, imported or exported by the plant site."]
[]
[null,null,"Unit of weight",null,null,null,null,null,null,null,null,null,null,null,null,null,null,null,null,null,null,null,null,null,null,"Tonne",null,"レ",null,null,null,null,null,null,null,"Kg"]
[]
[null,null,null,"Quantity produced:",null,null,null,null,null,null,null,null,{"$f":"ETL!$I$959","v":"0"},null,null,null,null,null,null,null,null,null," t",null,null,"Quantity imported:",null,null,null,null,null,null,null,null,{"$f":"ETL!$I$962","v":"0"},null,null,null,null,null,null,null,null,null," t"]
[]
[null,null,null,"Quantity processed:",null,null,null,null,null,null,null,null,{"$f":"ETL!$I$960","v":"0"},null,null,null,null,null,null,null,null,null," t",null,null,"Quantity exported:",null,null,null,null,null,null,null,null,{"$f":"ETL!$I$963","v":"0"},null,null,null,null,null,null,null,null,null," t"]
[]
[null,null,null,"Quantity consumed:",null,null,null,null,null,null,null,null,{"$f":"ETL!$I$961","v":"0"},null,null,null,null,null,null,null,null,null," t"]
["\\"]
["Purposes for which the chemical was produced, processed or consumed"]
[]
[null,null,"(i) Processing and consumption of Schedule 2 chemical on site; specify product type \n(use product group codes in Appendix 4):"]
[]
[null,null,null,null,null,null,null,null,null,null,null,null,null,null,null,null,{"$f":"ETL!$G$964","v":""}]
[]
[null,null,"(ii) Direct export of the Schedule 2 chemical off the plant site?",null,null,null,null,null,null,null,null,null,null,null,null,null,null,null,null,null,null,null,null,null,null,null,null,null,null,null,"Yes",null,null,{"$f":"IF(ETL!$G$969=\"Y\",\"✓\",\"\")","v":""},null,null,"No",null,null,{"$f":"IF(ETL!$G$969=\"N\",\"✓\",\"\")","v":""}]
[]
[null,null,null,"If YES, specify States involved (use country codes in Appendix 1): "]
[]
[null,null,null,null,null,null,null,null,null,null,null,null,null,null,null,null,null,null,null,null,null,{"$f":"ETL!$G$970","v":""},null,null,null,{"$f":"ETL!$G$971","v":""},null,null,null,{"$f":"ETL!$G$972","v":""},null,null,null,{"$f":"ETL!$G$973","v":""},null,null,null,{"$f":"ETL!$G$974","v":""},null,null,null,{"$f":"ETL!$G$975","v":""}]
[]
[null,null,"(iii) Sale or transfer of the Schedule 2 chemical within the territory or to any other place under the jurisdiction or control of the State Party (indicate destination below):"]
[]
[]
[null,null,null,null,"Other industry:",null,null,null,null,null,null,null,null,null,null,null,null,null,null,null,null,null,null,null,"Yes",null,null,{"$f":"IF(ETL!$G$976=\"Y\",\"✓\",\"\")","v":""},null,null,null,null,null,null,"No",null,null,{"$f":"IF(ETL!$G$976=\"N\",\"✓\",\"\")","v":""}]
[]
[null,null,null,null,"Trader:",null,null,null,null,null,null,null,null,null,null,null,null,null,null,null,null,null,null,null,"Yes",null,null,{"$f":"IF(ETL!$G$977=\"Y\",\"✓\",\"\")","v":""},null,null,null,null,null,null,"No",null,null,{"$f":"IF(ETL!$G$977=\"N\",\"✓\",\"\")","v":""}]
[]
[null,null,null,null,"Other destination:",null,null,null,null,null,null,null,null,null,null,null,null,null,null,null,null,null,null,null,"Yes",null,null,{"$f":"IF(ETL!$G$978=\"Y\",\"✓\",\"\")","v":""},null,null,null,null,null,null,"No",null,null,{"$f":"IF(ETL!$G$978=\"N\",\"✓\",\"\")","v":""}]
[]
[null,null,"Final product types derived from sold/transferred Schedule 2 chemical, if possible (use product group codes in Appendix 4):"]
[]
[null,null,null,null,null,null,null,null,null,null,null,null,null,null,null,null,{"$f":"ETL!$G$979","v":""}]
[]
[null,null,"(iv) Other purpose (specify) for which the Schedule 2 chemical was produced, processed or consumed:"]
[null,null,null,null,null,null,null,null,null,null,null,{"$f":"ETL!$D$984","v":""}]
[]
[null,null,null,null,null,null,null,null,null,null,null,null,null,null,null,null,null,null,null,"届出日 （西暦：ccyy-mm-dd）",null,null,null,null,null,null,null,null,null,null,null,null,null,null,{"$f":"ETL!$D$3","v":0},null,null,null,"－",null,{"$f":"ETL!$D$4","v":0},null,"－",null,{"$f":"ETL!$D$5","v":0}]
[]
["Form 2.4: Information on Each Schedule 2 Chemical above the Declaration Threshold \n                 at the Plant Site"]
[]
[]
["For initial declarations ensure to provide this information for each of the previous three calendar years.\nEnsure to complete as many forms as necessary in order to declare all Schedule 2 chemicals at the plant site."]
[]
[]
["Plant Site Code：",null,null,null,null,null,null,null,null,null,null,null,null,null,null,null,null,{"$f":"ETL!$D$61","v":""}]
[]
["The year to which the data relates:",null,null,null,null,null,null,null,null,null,null,null,null,null,null,null,null,{"$f":"ETL!$D$6","v":0}]
[]
[]
["IUPAC chemical name：",null,null,null,null,null,null,null,null,null,null,null,{"$f":"ETL!$D$988","v":""}]
[]
[]
[]
["Common or trade name of the chemical used by the facility:"]
[null,null,null,null,null,null,null,null,null,null,null,null,{"$f":"ETL!$D$989","v":""}]
[]
["If chemical is not contained in handbook for chemicals, identify attachment for structural formula:"]
[null,null,null,null,null,null,null,null,null,null,null,null,{"$f":"ETL!$D$990","v":""}]
[]
[]
["CAS registry number:",null,null,null,null,null,null,null,null,null,null,null,{"$f":"ETL!$I$986","v":""},null,null,null,null,null,"-",null,{"$f":"ETL!$I$987","v":""},null,"-",null,{"$f":"ETL!$I$988","v":""}]
[]
["Total amounts of Schedule 2 chemical produced, processed, consumed, imported or exported by the plant site."]
[]
[null,null,"Unit of weight",null,null,null,null,null,null,null,null,null,null,null,null,null,null,null,null,null,null,null,null,null,null,"Tonne",null,"レ",null,null,null,null,null,null,null,"Kg"]
[]
[null,null,null,"Quantity produced:",null,null,null,null,null,null,null,null,{"$f":"ETL!$I$991","v":"0"},null,null,null,null,null,null,null,null,null," t",null,null,"Quantity imported:",null,null,null,null,null,null,null,null,{"$f":"ETL!$I$994","v":"0"},null,null,null,null,null,null,null,null,null," t"]
[]
[null,null,null,"Quantity processed:",null,null,null,null,null,null,null,null,{"$f":"ETL!$I$992","v":"0"},null,null,null,null,null,null,null,null,null," t",null,null,"Quantity exported:",null,null,null,null,null,null,null,null,{"$f":"ETL!$I$995","v":"0"},null,null,null,null,null,null,null,null,null," t"]
[]
[null,null,null,"Quantity consumed:",null,null,null,null,null,null,null,null,{"$f":"ETL!$I$993","v":"0"},null,null,null,null,null,null,null,null,null," t"]
["\\"]
["Purposes for which the chemical was produced, processed or consumed"]
[]
[null,null,"(i) Processing and consumption of Schedule 2 chemical on site; specify product type \n(use product group codes in Appendix 4):"]
[]
[null,null,null,null,null,null,null,null,null,null,null,null,null,null,null,null,{"$f":"ETL!$G$996","v":""}]
[]
[null,null,"(ii) Direct export of the Schedule 2 chemical off the plant site?",null,null,null,null,null,null,null,null,null,null,null,null,null,null,null,null,null,null,null,null,null,null,null,null,null,null,null,"Yes",null,null,{"$f":"IF(ETL!$G$1001=\"Y\",\"✓\",\"\")","v":""},null,null,"No",null,null,{"$f":"IF(ETL!$G$1001=\"N\",\"✓\",\"\")","v":""}]
[]
[null,null,null,"If YES, specify States involved (use country codes in Appendix 1): "]
[]
[null,null,null,null,null,null,null,null,null,null,null,null,null,null,null,null,null,null,null,null,null,{"$f":"ETL!$G$1002","v":""},null,null,null,{"$f":"ETL!$G$1003","v":""},null,null,null,{"$f":"ETL!$G$1004","v":""},null,null,null,{"$f":"ETL!$G$1005","v":""},null,null,null,{"$f":"ETL!$G$1006","v":""},null,null,null,{"$f":"ETL!$G$1007","v":""}]
[]
[null,null,"(iii) Sale or transfer of the Schedule 2 chemical within the territory or to any other place under the jurisdiction or control of the State Party (indicate destination below):"]
[]
[]
[null,null,null,null,"Other industry:",null,null,null,null,null,null,null,null,null,null,null,null,null,null,null,null,null,null,null,"Yes",null,null,{"$f":"IF(ETL!$G$1008=\"Y\",\"✓\",\"\")","v":""},null,null,null,null,null,null,"No",null,null,{"$f":"IF(ETL!$G$1008=\"N\",\"✓\",\"\")","v":""}]
[]
[null,null,null,null,"Trader:",null,null,null,null,null,null,null,null,null,null,null,null,null,null,null,null,null,null,null,"Yes",null,null,{"$f":"IF(ETL!$G$1009=\"Y\",\"✓\",\"\")","v":""},null,null,null,null,null,null,"No",null,null,{"$f":"IF(ETL!$G$1009=\"N\",\"✓\",\"\")","v":""}]
[]
[null,null,null,null,"Other destination:",null,null,null,null,null,null,null,null,null,null,null,null,null,null,null,null,null,null,null,"Yes",null,null,{"$f":"IF(ETL!$G$1010=\"Y\",\"✓\",\"\")","v":""},null,null,null,null,null,null,"No",null,null,{"$f":"IF(ETL!$G$1010=\"N\",\"✓\",\"\")","v":""}]
[]
[null,null,"Final product types derived from sold/transferred Schedule 2 chemical, if possible (use product group codes in Appendix 4):"]
[]
[null,null,null,null,null,null,null,null,null,null,null,null,null,null,null,null,{"$f":"ETL!$G$1011","v":""}]
[]
[null,null,"(iv) Other purpose (specify) for which the Schedule 2 chemical was produced, processed or consumed:"]
[null,null,null,null,null,null,null,null,null,null,null,{"$f":"ETL!$D$1016","v":""}]
[]
[null,null,null,null,null,null,null,null,null,null,null,null,null,null,null,null,null,null,null,"届出日 （西暦：ccyy-mm-dd）",null,null,null,null,null,null,null,null,null,null,null,null,null,null,{"$f":"ETL!$D$3","v":0},null,null,null,"－",null,{"$f":"ETL!$D$4","v":0},null,"－",null,{"$f":"ETL!$D$5","v":0}]
[]
["Form 2.4: Information on Each Schedule 2 Chemical above the Declaration Threshold \n                 at the Plant Site"]
[]
[]
["For initial declarations ensure to provide this information for each of the previous three calendar years.\nEnsure to complete as many forms as necessary in order to declare all Schedule 2 chemicals at the plant site."]
[]
[]
["Plant Site Code：",null,null,null,null,null,null,null,null,null,null,null,null,null,null,null,null,{"$f":"ETL!$D$61","v":""}]
[]
["The year to which the data relates:",null,null,null,null,null,null,null,null,null,null,null,null,null,null,null,null,{"$f":"ETL!$D$6","v":0}]
[]
[]
["IUPAC chemical name：",null,null,null,null,null,null,null,null,null,null,null,{"$f":"ETL!$D$1020","v":""}]
[]
[]
[]
["Common or trade name of the chemical used by the facility:"]
[null,null,null,null,null,null,null,null,null,null,null,null,{"$f":"ETL!$D$1021","v":""}]
[]
["If chemical is not contained in handbook for chemicals, identify attachment for structural formula:"]
[null,null,null,null,null,null,null,null,null,null,null,null,{"$f":"ETL!$D$1022","v":""}]
[]
[]
["CAS registry number:",null,null,null,null,null,null,null,null,null,null,null,{"$f":"ETL!$I$1018","v":""},null,null,null,null,null,"-",null,{"$f":"ETL!$I$1019","v":""},null,"-",null,{"$f":"ETL!$I$1020","v":""}]
[]
["Total amounts of Schedule 2 chemical produced, processed, consumed, imported or exported by the plant site."]
[]
[null,null,"Unit of weight",null,null,null,null,null,null,null,null,null,null,null,null,null,null,null,null,null,null,null,null,null,null,"Tonne",null,"レ",null,null,null,null,null,null,null,"Kg"]
[]
[null,null,null,"Quantity produced:",null,null,null,null,null,null,null,null,{"$f":"ETL!$I$1023","v":"0"},null,null,null,null,null,null,null,null,null," t",null,null,"Quantity imported:",null,null,null,null,null,null,null,null,{"$f":"ETL!$I$1026","v":"0"},null,null,null,null,null,null,null,null,null," t"]
[]
[null,null,null,"Quantity processed:",null,null,null,null,null,null,null,null,{"$f":"ETL!$I$1024","v":"0"},null,null,null,null,null,null,null,null,null," t",null,null,"Quantity exported:",null,null,null,null,null,null,null,null,{"$f":"ETL!$I$1027","v":"0"},null,null,null,null,null,null,null,null,null," t"]
[]
[null,null,null,"Quantity consumed:",null,null,null,null,null,null,null,null,{"$f":"ETL!$I$1025","v":"0"},null,null,null,null,null,null,null,null,null," t"]
["\\"]
["Purposes for which the chemical was produced, processed or consumed"]
[]
[null,null,"(i) Processing and consumption of Schedule 2 chemical on site; specify product type \n(use product group codes in Appendix 4):"]
[]
[null,null,null,null,null,null,null,null,null,null,null,null,null,null,null,null,{"$f":"ETL!$G$1028","v":""}]
[]
[null,null,"(ii) Direct export of the Schedule 2 chemical off the plant site?",null,null,null,null,null,null,null,null,null,null,null,null,null,null,null,null,null,null,null,null,null,null,null,null,null,null,null,"Yes",null,null,{"$f":"IF(ETL!$G$1033=\"Y\",\"✓\",\"\")","v":""},null,null,"No",null,null,{"$f":"IF(ETL!$G$1033=\"N\",\"✓\",\"\")","v":""}]
[]
[null,null,null,"If YES, specify States involved (use country codes in Appendix 1): "]
[]
[null,null,null,null,null,null,null,null,null,null,null,null,null,null,null,null,null,null,null,null,null,{"$f":"ETL!$G$1034","v":""},null,null,null,{"$f":"ETL!$G$1035","v":""},null,null,null,{"$f":"ETL!$G$1036","v":""},null,null,null,{"$f":"ETL!$G$1037","v":""},null,null,null,{"$f":"ETL!$G$1038","v":""},null,null,null,{"$f":"ETL!$G$1039","v":""}]
[]
[null,null,"(iii) Sale or transfer of the Schedule 2 chemical within the territory or to any other place under the jurisdiction or control of the State Party (indicate destination below):"]
[]
[]
[null,null,null,null,"Other industry:",null,null,null,null,null,null,null,null,null,null,null,null,null,null,null,null,null,null,null,"Yes",null,null,{"$f":"IF(ETL!$G$1040=\"Y\",\"✓\",\"\")","v":""},null,null,null,null,null,null,"No",null,null,{"$f":"IF(ETL!$G$1040=\"N\",\"✓\",\"\")","v":""}]
[]
[null,null,null,null,"Trader:",null,null,null,null,null,null,null,null,null,null,null,null,null,null,null,null,null,null,null,"Yes",null,null,{"$f":"IF(ETL!$G$1041=\"Y\",\"✓\",\"\")","v":""},null,null,null,null,null,null,"No",null,null,{"$f":"IF(ETL!$G$1041=\"N\",\"✓\",\"\")","v":""}]
[]
[null,null,null,null,"Other destination:",null,null,null,null,null,null,null,null,null,null,null,null,null,null,null,null,null,null,null,"Yes",null,null,{"$f":"IF(ETL!$G$1042=\"Y\",\"✓\",\"\")","v":""},null,null,null,null,null,null,"No",null,null,{"$f":"IF(ETL!$G$1042=\"N\",\"✓\",\"\")","v":""}]
[]
[null,null,"Final product types derived from sold/transferred Schedule 2 chemical, if possible (use product group codes in Appendix 4):"]
[]
[null,null,null,null,null,null,null,null,null,null,null,null,null,null,null,null,{"$f":"ETL!$G$1043","v":""}]
[]
[null,null,"(iv) Other purpose (specify) for which the Schedule 2 chemical was produced, processed or consumed:"]
[null,null,null,null,null,null,null,null,null,null,null,{"$f":"ETL!$D$1048","v":""}]
[]
[null,null,null,null,null,null,null,null,null,null,null,null,null,null,null,null,null,null,null,"届出日 （西暦：ccyy-mm-dd）",null,null,null,null,null,null,null,null,null,null,null,null,null,null,{"$f":"ETL!$D$3","v":0},null,null,null,"－",null,{"$f":"ETL!$D$4","v":0},null,"－",null,{"$f":"ETL!$D$5","v":0}]
[]
["Form 2.4: Information on Each Schedule 2 Chemical above the Declaration Threshold \n                 at the Plant Site"]
[]
[]
["For initial declarations ensure to provide this information for each of the previous three calendar years.\nEnsure to complete as many forms as necessary in order to declare all Schedule 2 chemicals at the plant site."]
[]
[]
["Plant Site Code：",null,null,null,null,null,null,null,null,null,null,null,null,null,null,null,null,{"$f":"ETL!$D$61","v":""}]
[]
["The year to which the data relates:",null,null,null,null,null,null,null,null,null,null,null,null,null,null,null,null,{"$f":"ETL!$D$6","v":0}]
[]
[]
["IUPAC chemical name：",null,null,null,null,null,null,null,null,null,null,null,{"$f":"ETL!$D$1052","v":""}]
[]
[]
[]
["Common or trade name of the chemical used by the facility:"]
[null,null,null,null,null,null,null,null,null,null,null,null,{"$f":"ETL!$D$1053","v":""}]
[]
["If chemical is not contained in handbook for chemicals, identify attachment for structural formula:"]
[null,null,null,null,null,null,null,null,null,null,null,null,{"$f":"ETL!$D$1054","v":""}]
[]
[]
["CAS registry number:",null,null,null,null,null,null,null,null,null,null,null,{"$f":"ETL!$I$1050","v":""},null,null,null,null,null,"-",null,{"$f":"ETL!$I$1051","v":""},null,"-",null,{"$f":"ETL!$I$1052","v":""}]
[]
["Total amounts of Schedule 2 chemical produced, processed, consumed, imported or exported by the plant site."]
[]
[null,null,"Unit of weight",null,null,null,null,null,null,null,null,null,null,null,null,null,null,null,null,null,null,null,null,null,null,"Tonne",null,"レ",null,null,null,null,null,null,null,"Kg"]
[]
[null,null,null,"Quantity produced:",null,null,null,null,null,null,null,null,{"$f":"ETL!$I$1055","v":"0"},null,null,null,null,null,null,null,null,null," t",null,null,"Quantity imported:",null,null,null,null,null,null,null,null,{"$f":"ETL!$I$1058","v":"0"},null,null,null,null,null,null,null,null,null," t"]
[]
[null,null,null,"Quantity processed:",null,null,null,null,null,null,null,null,{"$f":"ETL!$I$1056","v":"0"},null,null,null,null,null,null,null,null,null," t",null,null,"Quantity exported:",null,null,null,null,null,null,null,null,{"$f":"ETL!$I$1059","v":"0"},null,null,null,null,null,null,null,null,null," t"]
[]
[null,null,null,"Quantity consumed:",null,null,null,null,null,null,null,null,{"$f":"ETL!$I$1057","v":"0"},null,null,null,null,null,null,null,null,null," t"]
["\\"]
["Purposes for which the chemical was produced, processed or consumed"]
[]
[null,null,"(i) Processing and consumption of Schedule 2 chemical on site; specify product type \n(use product group codes in Appendix 4):"]
[]
[null,null,null,null,null,null,null,null,null,null,null,null,null,null,null,null,{"$f":"ETL!$G$1060","v":""}]
[]
[null,null,"(ii) Direct export of the Schedule 2 chemical off the plant site?",null,null,null,null,null,null,null,null,null,null,null,null,null,null,null,null,null,null,null,null,null,null,null,null,null,null,null,"Yes",null,null,{"$f":"IF(ETL!$G$1065=\"Y\",\"✓\",\"\")","v":""},null,null,"No",null,null,{"$f":"IF(ETL!$G$1065=\"N\",\"✓\",\"\")","v":""}]
[]
[null,null,null,"If YES, specify States involved (use country codes in Appendix 1): "]
[]
[null,null,null,null,null,null,null,null,null,null,null,null,null,null,null,null,null,null,null,null,null,{"$f":"ETL!$G$1066","v":""},null,null,null,{"$f":"ETL!$G$1067","v":""},null,null,null,{"$f":"ETL!$G$1068","v":""},null,null,null,{"$f":"ETL!$G$1069","v":""},null,null,null,{"$f":"ETL!$G$1070","v":""},null,null,null,{"$f":"ETL!$G$1071","v":""}]
[]
[null,null,"(iii) Sale or transfer of the Schedule 2 chemical within the territory or to any other place under the jurisdiction or control of the State Party (indicate destination below):"]
[]
[]
[null,null,null,null,"Other industry:",null,null,null,null,null,null,null,null,null,null,null,null,null,null,null,null,null,null,null,"Yes",null,null,{"$f":"IF(ETL!$G$1072=\"Y\",\"✓\",\"\")","v":""},null,null,null,null,null,null,"No",null,null,{"$f":"IF(ETL!$G$1072=\"N\",\"✓\",\"\")","v":""}]
[]
[null,null,null,null,"Trader:",null,null,null,null,null,null,null,null,null,null,null,null,null,null,null,null,null,null,null,"Yes",null,null,{"$f":"IF(ETL!$G$1073=\"Y\",\"✓\",\"\")","v":""},null,null,null,null,null,null,"No",null,null,{"$f":"IF(ETL!$G$1073=\"N\",\"✓\",\"\")","v":""}]
[]
[null,null,null,null,"Other destination:",null,null,null,null,null,null,null,null,null,null,null,null,null,null,null,null,null,null,null,"Yes",null,null,{"$f":"IF(ETL!$G$1074=\"Y\",\"✓\",\"\")","v":""},null,null,null,null,null,null,"No",null,null,{"$f":"IF(ETL!$G$1074=\"N\",\"✓\",\"\")","v":""}]
[]
[null,null,"Final product types derived from sold/transferred Schedule 2 chemical, if possible (use product group codes in Appendix 4):"]
[]
[null,null,null,null,null,null,null,null,null,null,null,null,null,null,null,null,{"$f":"ETL!$G$1075","v":""}]
[]
[null,null,"(iv) Other purpose (specify) for which the Schedule 2 chemical was produced, processed or consumed:"]
[null,null,null,null,null,null,null,null,null,null,null,{"$f":"ETL!$D$1080","v":""}]
[]
[null,null,null,null,null,null,null,null,null,null,null,null,null,null,null,null,null,null,null,"届出日 （西暦：ccyy-mm-dd）",null,null,null,null,null,null,null,null,null,null,null,null,null,null,{"$f":"ETL!$D$3","v":0},null,null,null,"－",null,{"$f":"ETL!$D$4","v":0},null,"－",null,{"$f":"ETL!$D$5","v":0}]
[]
["Form 2.4: Information on Each Schedule 2 Chemical above the Declaration Threshold \n                 at the Plant Site"]
[]
[]
["For initial declarations ensure to provide this information for each of the previous three calendar years.\nEnsure to complete as many forms as necessary in order to declare all Schedule 2 chemicals at the plant site."]
[]
[]
["Plant Site Code：",null,null,null,null,null,null,null,null,null,null,null,null,null,null,null,null,{"$f":"ETL!$D$61","v":""}]
[]
["The year to which the data relates:",null,null,null,null,null,null,null,null,null,null,null,null,null,null,null,null,{"$f":"ETL!$D$6","v":0}]
[]
[]
["IUPAC chemical name：",null,null,null,null,null,null,null,null,null,null,null,{"$f":"ETL!$D$1084","v":""}]
[]
[]
[]
["Common or trade name of the chemical used by the facility:"]
[null,null,null,null,null,null,null,null,null,null,null,null,{"$f":"ETL!$D$1085","v":""}]
[]
["If chemical is not contained in handbook for chemicals, identify attachment for structural formula:"]
[null,null,null,null,null,null,null,null,null,null,null,null,{"$f":"ETL!$D$1086","v":""}]
[]
[]
["CAS registry number:",null,null,null,null,null,null,null,null,null,null,null,{"$f":"ETL!$I$1082","v":""},null,null,null,null,null,"-",null,{"$f":"ETL!$I$1083","v":""},null,"-",null,{"$f":"ETL!$I$1084","v":""}]
[]
["Total amounts of Schedule 2 chemical produced, processed, consumed, imported or exported by the plant site."]
[]
[null,null,"Unit of weight",null,null,null,null,null,null,null,null,null,null,null,null,null,null,null,null,null,null,null,null,null,null,"Tonne",null,"レ",null,null,null,null,null,null,null,"Kg"]
[]
[null,null,null,"Quantity produced:",null,null,null,null,null,null,null,null,{"$f":"ETL!$I$1087","v":"0"},null,null,null,null,null,null,null,null,null," t",null,null,"Quantity imported:",null,null,null,null,null,null,null,null,{"$f":"ETL!$I$1090","v":"0"},null,null,null,null,null,null,null,null,null," t"]
[]
[null,null,null,"Quantity processed:",null,null,null,null,null,null,null,null,{"$f":"ETL!$I$1088","v":"0"},null,null,null,null,null,null,null,null,null," t",null,null,"Quantity exported:",null,null,null,null,null,null,null,null,{"$f":"ETL!$I$1091","v":"0"},null,null,null,null,null,null,null,null,null," t"]
[]
[null,null,null,"Quantity consumed:",null,null,null,null,null,null,null,null,{"$f":"ETL!$I$1089","v":"0"},null,null,null,null,null,null,null,null,null," t"]
["\\"]
["Purposes for which the chemical was produced, processed or consumed"]
[]
[null,null,"(i) Processing and consumption of Schedule 2 chemical on site; specify product type \n(use product group codes in Appendix 4):"]
[]
[null,null,null,null,null,null,null,null,null,null,null,null,null,null,null,null,{"$f":"ETL!$G$1092","v":""}]
[]
[null,null,"(ii) Direct export of the Schedule 2 chemical off the plant site?",null,null,null,null,null,null,null,null,null,null,null,null,null,null,null,null,null,null,null,null,null,null,null,null,null,null,null,"Yes",null,null,{"$f":"IF(ETL!$G$1097=\"Y\",\"✓\",\"\")","v":""},null,null,"No",null,null,{"$f":"IF(ETL!$G$1097=\"N\",\"✓\",\"\")","v":""}]
[]
[null,null,null,"If YES, specify States involved (use country codes in Appendix 1): "]
[]
[null,null,null,null,null,null,null,null,null,null,null,null,null,null,null,null,null,null,null,null,null,{"$f":"ETL!$G$1098","v":""},null,null,null,{"$f":"ETL!$G$1099","v":""},null,null,null,{"$f":"ETL!$G$1100","v":""},null,null,null,{"$f":"ETL!$G$1101","v":""},null,null,null,{"$f":"ETL!$G$1102","v":""},null,null,null,{"$f":"ETL!$G$1103","v":""}]
[]
[null,null,"(iii) Sale or transfer of the Schedule 2 chemical within the territory or to any other place under the jurisdiction or control of the State Party (indicate destination below):"]
[]
[]
[null,null,null,null,"Other industry:",null,null,null,null,null,null,null,null,null,null,null,null,null,null,null,null,null,null,null,"Yes",null,null,{"$f":"IF(ETL!$G$1104=\"Y\",\"✓\",\"\")","v":""},null,null,null,null,null,null,"No",null,null,{"$f":"IF(ETL!$G$1104=\"N\",\"✓\",\"\")","v":""}]
[]
[null,null,null,null,"Trader:",null,null,null,null,null,null,null,null,null,null,null,null,null,null,null,null,null,null,null,"Yes",null,null,{"$f":"IF(ETL!$G$1105=\"Y\",\"✓\",\"\")","v":""},null,null,null,null,null,null,"No",null,null,{"$f":"IF(ETL!$G$1105=\"N\",\"✓\",\"\")","v":""}]
[]
[null,null,null,null,"Other destination:",null,null,null,null,null,null,null,null,null,null,null,null,null,null,null,null,null,null,null,"Yes",null,null,{"$f":"IF(ETL!$G$1106=\"Y\",\"✓\",\"\")","v":""},null,null,null,null,null,null,"No",null,null,{"$f":"IF(ETL!$G$1106=\"N\",\"✓\",\"\")","v":""}]
[]
[null,null,"Final product types derived from sold/transferred Schedule 2 chemical, if possible (use product group codes in Appendix 4):"]
[]
[null,null,null,null,null,null,null,null,null,null,null,null,null,null,null,null,{"$f":"ETL!$G$1107","v":""}]
[]
[null,null,"(iv) Other purpose (specify) for which the Schedule 2 chemical was produced, processed or consumed:"]
[null,null,null,null,null,null,null,null,null,null,null,{"$f":"ETL!$D$1112","v":""}]
[]
[null,null,null,null,null,null,null,null,null,null,null,null,null,null,null,null,null,null,null,"届出日 （西暦：ccyy-mm-dd）",null,null,null,null,null,null,null,null,null,null,null,null,null,null,{"$f":"ETL!$D$3","v":0},null,null,null,"－",null,{"$f":"ETL!$D$4","v":0},null,"－",null,{"$f":"ETL!$D$5","v":0}]
[]
["Form 2.4: Information on Each Schedule 2 Chemical above the Declaration Threshold \n                 at the Plant Site"]
[]
[]
["For initial declarations ensure to provide this information for each of the previous three calendar years.\nEnsure to complete as many forms as necessary in order to declare all Schedule 2 chemicals at the plant site."]
[]
[]
["Plant Site Code：",null,null,null,null,null,null,null,null,null,null,null,null,null,null,null,null,{"$f":"ETL!$D$61","v":""}]
[]
["The year to which the data relates:",null,null,null,null,null,null,null,null,null,null,null,null,null,null,null,null,{"$f":"ETL!$D$6","v":0}]
[]
[]
["IUPAC chemical name：",null,null,null,null,null,null,null,null,null,null,null,{"$f":"ETL!$D$1116","v":""}]
[]
[]
[]
["Common or trade name of the chemical used by the facility:"]
[null,null,null,null,null,null,null,null,null,null,null,null,{"$f":"ETL!$D$1117","v":""}]
[]
["If chemical is not contained in handbook for chemicals, identify attachment for structural formula:"]
[null,null,null,null,null,null,null,null,null,null,null,null,{"$f":"ETL!$D$1118","v":""}]
[]
[]
["CAS registry number:",null,null,null,null,null,null,null,null,null,null,null,{"$f":"ETL!$I$1114","v":""},null,null,null,null,null,"-",null,{"$f":"ETL!$I$1115","v":""},null,"-",null,{"$f":"ETL!$I$1116","v":""}]
[]
["Total amounts of Schedule 2 chemical produced, processed, consumed, imported or exported by the plant site."]
[]
[null,null,"Unit of weight",null,null,null,null,null,null,null,null,null,null,null,null,null,null,null,null,null,null,null,null,null,null,"Tonne",null,"レ",null,null,null,null,null,null,null,"Kg"]
[]
[null,null,null,"Quantity produced:",null,null,null,null,null,null,null,null,{"$f":"ETL!$I$1119","v":"0"},null,null,null,null,null,null,null,null,null," t",null,null,"Quantity imported:",null,null,null,null,null,null,null,null,{"$f":"ETL!$I$1122","v":"0"},null,null,null,null,null,null,null,null,null," t"]
[]
[null,null,null,"Quantity processed:",null,null,null,null,null,null,null,null,{"$f":"ETL!$I$1120","v":"0"},null,null,null,null,null,null,null,null,null," t",null,null,"Quantity exported:",null,null,null,null,null,null,null,null,{"$f":"ETL!$I$1123","v":"0"},null,null,null,null,null,null,null,null,null," t"]
[]
[null,null,null,"Quantity consumed:",null,null,null,null,null,null,null,null,{"$f":"ETL!$I$1121","v":"0"},null,null,null,null,null,null,null,null,null," t"]
["\\"]
["Purposes for which the chemical was produced, processed or consumed"]
[]
[null,null,"(i) Processing and consumption of Schedule 2 chemical on site; specify product type \n(use product group codes in Appendix 4):"]
[]
[null,null,null,null,null,null,null,null,null,null,null,null,null,null,null,null,{"$f":"ETL!$G$1124","v":""}]
[]
[null,null,"(ii) Direct export of the Schedule 2 chemical off the plant site?",null,null,null,null,null,null,null,null,null,null,null,null,null,null,null,null,null,null,null,null,null,null,null,null,null,null,null,"Yes",null,null,{"$f":"IF(ETL!$G$1129=\"Y\",\"✓\",\"\")","v":""},null,null,"No",null,null,{"$f":"IF(ETL!$G$1129=\"N\",\"✓\",\"\")","v":""}]
[]
[null,null,null,"If YES, specify States involved (use country codes in Appendix 1): "]
[]
[null,null,null,null,null,null,null,null,null,null,null,null,null,null,null,null,null,null,null,null,null,{"$f":"ETL!$G$1130","v":""},null,null,null,{"$f":"ETL!$G$1131","v":""},null,null,null,{"$f":"ETL!$G$1132","v":""},null,null,null,{"$f":"ETL!$G$1133","v":""},null,null,null,{"$f":"ETL!$G$1134","v":""},null,null,null,{"$f":"ETL!$G$1135","v":""}]
[]
[null,null,"(iii) Sale or transfer of the Schedule 2 chemical within the territory or to any other place under the jurisdiction or control of the State Party (indicate destination below):"]
[]
[]
[null,null,null,null,"Other industry:",null,null,null,null,null,null,null,null,null,null,null,null,null,null,null,null,null,null,null,"Yes",null,null,{"$f":"IF(ETL!$G$1136=\"Y\",\"✓\",\"\")","v":""},null,null,null,null,null,null,"No",null,null,{"$f":"IF(ETL!$G$1136=\"N\",\"✓\",\"\")","v":""}]
[]
[null,null,null,null,"Trader:",null,null,null,null,null,null,null,null,null,null,null,null,null,null,null,null,null,null,null,"Yes",null,null,{"$f":"IF(ETL!$G$1137=\"Y\",\"✓\",\"\")","v":""},null,null,null,null,null,null,"No",null,null,{"$f":"IF(ETL!$G$1137=\"N\",\"✓\",\"\")","v":""}]
[]
[null,null,null,null,"Other destination:",null,null,null,null,null,null,null,null,null,null,null,null,null,null,null,null,null,null,null,"Yes",null,null,{"$f":"IF(ETL!$G$1138=\"Y\",\"✓\",\"\")","v":""},null,null,null,null,null,null,"No",null,null,{"$f":"IF(ETL!$G$1138=\"N\",\"✓\",\"\")","v":""}]
[]
[null,null,"Final product types derived from sold/transferred Schedule 2 chemical, if possible (use product group codes in Appendix 4):"]
[]
[null,null,null,null,null,null,null,null,null,null,null,null,null,null,null,null,{"$f":"ETL!$G$1139","v":""}]
[]
[null,null,"(iv) Other purpose (specify) for which the Schedule 2 chemical was produced, processed or consumed:"]
[null,null,null,null,null,null,null,null,null,null,null,{"$f":"ETL!$D$1144","v":""}]
[]
[null,null,null,null,null,null,null,null,null,null,null,null,null,null,null,null,null,null,null,"届出日 （西暦：ccyy-mm-dd）",null,null,null,null,null,null,null,null,null,null,null,null,null,null,{"$f":"ETL!$D$3","v":0},null,null,null,"－",null,{"$f":"ETL!$D$4","v":0},null,"－",null,{"$f":"ETL!$D$5","v":0}]
[]
["Form 2.4: Information on Each Schedule 2 Chemical above the Declaration Threshold \n                 at the Plant Site"]
[]
[]
["For initial declarations ensure to provide this information for each of the previous three calendar years.\nEnsure to complete as many forms as necessary in order to declare all Schedule 2 chemicals at the plant site."]
[]
[]
["Plant Site Code：",null,null,null,null,null,null,null,null,null,null,null,null,null,null,null,null,{"$f":"ETL!$D$61","v":""}]
[]
["The year to which the data relates:",null,null,null,null,null,null,null,null,null,null,null,null,null,null,null,null,{"$f":"ETL!$D$6","v":0}]
[]
[]
["IUPAC chemical name：",null,null,null,null,null,null,null,null,null,null,null,{"$f":"ETL!$D$1148","v":""}]
[]
[]
[]
["Common or trade name of the chemical used by the facility:"]
[null,null,null,null,null,null,null,null,null,null,null,null,{"$f":"ETL!$D$1149","v":""}]
[]
["If chemical is not contained in handbook for chemicals, identify attachment for structural formula:"]
[null,null,null,null,null,null,null,null,null,null,null,null,{"$f":"ETL!$D$1150","v":""}]
[]
[]
["CAS registry number:",null,null,null,null,null,null,null,null,null,null,null,{"$f":"ETL!$I$1146","v":""},null,null,null,null,null,"-",null,{"$f":"ETL!$I$1147","v":""},null,"-",null,{"$f":"ETL!$I$1148","v":""}]
[]
["Total amounts of Schedule 2 chemical produced, processed, consumed, imported or exported by the plant site."]
[]
[null,null,"Unit of weight",null,null,null,null,null,null,null,null,null,null,null,null,null,null,null,null,null,null,null,null,null,null,"Tonne",null,"レ",null,null,null,null,null,null,null,"Kg"]
[]
[null,null,null,"Quantity produced:",null,null,null,null,null,null,null,null,{"$f":"ETL!$I$1151","v":"0"},null,null,null,null,null,null,null,null,null," t",null,null,"Quantity imported:",null,null,null,null,null,null,null,null,{"$f":"ETL!$I$1154","v":"0"},null,null,null,null,null,null,null,null,null," t"]
[]
[null,null,null,"Quantity processed:",null,null,null,null,null,null,null,null,{"$f":"ETL!$I$1152","v":"0"},null,null,null,null,null,null,null,null,null," t",null,null,"Quantity exported:",null,null,null,null,null,null,null,null,{"$f":"ETL!$I$1155","v":"0"},null,null,null,null,null,null,null,null,null," t"]
[]
[null,null,null,"Quantity consumed:",null,null,null,null,null,null,null,null,{"$f":"ETL!$I$1153","v":"0"},null,null,null,null,null,null,null,null,null," t"]
["\\"]
["Purposes for which the chemical was produced, processed or consumed"]
[]
[null,null,"(i) Processing and consumption of Schedule 2 chemical on site; specify product type \n(use product group codes in Appendix 4):"]
[]
[null,null,null,null,null,null,null,null,null,null,null,null,null,null,null,null,{"$f":"ETL!$G$1156","v":""}]
[]
[null,null,"(ii) Direct export of the Schedule 2 chemical off the plant site?",null,null,null,null,null,null,null,null,null,null,null,null,null,null,null,null,null,null,null,null,null,null,null,null,null,null,null,"Yes",null,null,{"$f":"IF(ETL!$G$1161=\"Y\",\"✓\",\"\")","v":""},null,null,"No",null,null,{"$f":"IF(ETL!$G$1161=\"N\",\"✓\",\"\")","v":""}]
[]
[null,null,null,"If YES, specify States involved (use country codes in Appendix 1): "]
[]
[null,null,null,null,null,null,null,null,null,null,null,null,null,null,null,null,null,null,null,null,null,{"$f":"ETL!$G$1162","v":""},null,null,null,{"$f":"ETL!$G$1163","v":""},null,null,null,{"$f":"ETL!$G$1164","v":""},null,null,null,{"$f":"ETL!$G$1165","v":""},null,null,null,{"$f":"ETL!$G$1166","v":""},null,null,null,{"$f":"ETL!$G$1167","v":""}]
[]
[null,null,"(iii) Sale or transfer of the Schedule 2 chemical within the territory or to any other place under the jurisdiction or control of the State Party (indicate destination below):"]
[]
[]
[null,null,null,null,"Other industry:",null,null,null,null,null,null,null,null,null,null,null,null,null,null,null,null,null,null,null,"Yes",null,null,{"$f":"IF(ETL!$G$1168=\"Y\",\"✓\",\"\")","v":""},null,null,null,null,null,null,"No",null,null,{"$f":"IF(ETL!$G$1168=\"N\",\"✓\",\"\")","v":""}]
[]
[null,null,null,null,"Trader:",null,null,null,null,null,null,null,null,null,null,null,null,null,null,null,null,null,null,null,"Yes",null,null,{"$f":"IF(ETL!$G$1169=\"Y\",\"✓\",\"\")","v":""},null,null,null,null,null,null,"No",null,null,{"$f":"IF(ETL!$G$1169=\"N\",\"✓\",\"\")","v":""}]
[]
[null,null,null,null,"Other destination:",null,null,null,null,null,null,null,null,null,null,null,null,null,null,null,null,null,null,null,"Yes",null,null,{"$f":"IF(ETL!$G$1170=\"Y\",\"✓\",\"\")","v":""},null,null,null,null,null,null,"No",null,null,{"$f":"IF(ETL!$G$1170=\"N\",\"✓\",\"\")","v":""}]
[]
[null,null,"Final product types derived from sold/transferred Schedule 2 chemical, if possible (use product group codes in Appendix 4):"]
[]
[null,null,null,null,null,null,null,null,null,null,null,null,null,null,null,null,{"$f":"ETL!$G$1171","v":""}]
[]
[null,null,"(iv) Other purpose (specify) for which the Schedule 2 chemical was produced, processed or consumed:"]
[null,null,null,null,null,null,null,null,null,null,null,{"$f":"ETL!$D$1176","v":""}]