{"text_format":"1","workbook":"xlsx","n_sheets":10,"sheets":["表紙","基本情報・事業所情報の作成","届出・申告書の作成","eAppData","ETL","LIST","【自動入力】様式第18","【自動入力】Form3.2","【自動入力】Form3.3","【自動入力】Form3.4"],"not_rendered":{"charts":0,"images":0,"macros":1,"external_links":0,"defined_names":74,"comments":1,"pivot_tables":0},"unopened":[],"bounds":{"document_bytes":16777216,"sheet_cells":100000,"rows_first":2000,"rows_last":500,"rows_between":2000,"halvings":0,"cell_chars":16384,"cell_head_chars":4096},"cells_cut":0,"cells_raw":0,"read":"whole","date_system":"1900"}

{"sheet":"表紙","index":0,"n_rows":43,"n_cols":27,"rows_kept":43,"cut":false,"hidden":false,"merged":[[1,1,1,26],[4,1,4,26],[10,3,10,10],[13,3,13,26],[14,3,14,10],[16,3,16,26],[17,3,17,15],[20,3,20,15],[21,3,21,15],[22,3,22,15],[19,3,19,26],[42,3,42,7],[39,3,39,17],[24,3,24,26],[30,3,30,26],[33,3,33,26],[34,2,34,26],[29,11,29,17],[25,11,25,26],[27,3,27,26]]}
[null,"Version","2.0.1",null,null,null,null,null,null,null,null,null,null,null,null,null,null,null,null,null,null,null,null,null,null,null,"様式改訂：2024/06/27"]
[null,"化兵法に基づく第二種指定物質（表3剤）の予定届出（様式第１８）および申告書の作成"]
[null,null,"(※）国際機関に申告するための書面（Form）では、化学兵器禁止法の「第二種指定物質」は化学兵器禁止条約では「表３剤（Schedule 3 Chemical）」との用語となっています。"]
[]
[null,"第二種指定物質を製造する事業者は当該活動の予定と実績を経済産業大臣に届け出ることになっています。また、併せて、国際機関に申告するための書面（Form）を提出することとされています。第二種指定物質（表３剤）の予定届出（様式第１８）および申告書の作成に必要な情報を入力して届出書・申告書を作成してください。"]
[]
[]
[null,"届出・申告書の作成・提出手順"]
[]
[null,null,"①","「基本情報・事業所情報の作成」シートで届出・申告する基本情報と事業所情報を入力してください。"]
[null,null,null,"基本情報・事業所情報の入力へ→　"]
[]
[null,null,"②","「届出・申告書の作成」シートで届出・申告する情報を入力してください。"]
[null,null,null,"「様式第18の作成のためのブロック」（21行目）以降は、各ブロックの冒頭で、作成する様式数やプラント数を選択してから入力してください。"]
[null,null,null,"届出・申告書の情報の入力へ→　"]
[]
[null,null,"③","「【自動入力】様式第１８」シートで届出の内容を確認してください。修正が必要な場合は、①または②のシートに入力された情報を修正してください。"]
[null,null,null,"【自動入力】様式第１８へ→"]
[]
[null,null,"④","「【自動入力】Form」の各シートで申告の内容を確認してください。修正が必要な場合は、①または②のシートに入力された情報を修正してください。なお、届出のみの場合は各Formシートの表示内容がなくなります。"]
[null,null,null,"【自動入力】Form3.2　表3剤事業所の申告へ→"]
[null,null,null,"【自動入力】Form3.3　表3剤施設（プラント）の申告へ→"]
[null,null,null,"【自動入力】Form3.4　表3剤に関する予定活動の申告へ→"]
[]
[null,null,"⑤","エクセルファイルを保存してください。なお、ファイルの名称はわかりやすいように変更していただいてかまいませんが、ファイル名先頭の３文字（「Y18」）は変更しないでください（\"18\"は届出様式番号２桁を示しており（実際は届出様式及び国際申告Formの情報を含みます）、当該文字列がないと電子申請が受理されません。）。また、e-Govでは一部の記号文字をファイル名に使うことができません（例：“-”、“_”等。詳細は以下のe-Gov電子申請ウェブサイトを参照ください）。"]
[null,null,null,null,"ファイル名に使用できる文字：",null,null,null,null,null,null,"https://shinsei.e-gov.go.jp/contents/help/notes/filename-letters.html"]
[]
[null,null,"⑥","保存された電子申請用エクセルファイル及び添付資料（事業所内の当該第二種指定物質製造施設の位置、事業所内の製造設備その他の設備の位置を示す図面、当該第二種指定物質の製造工程を説明した書面（必要に応じ、変更点のメモや委任状等）をe-Gov電子申請ウェブサイトから電子申請します。"]
[]
[null,null,null,null,"e-Gov電子申請ウェブサイト：",null,null,null,null,null,null,"https://shinsei.e-gov.go.jp/"]
[null,null,null,"※ご不明な点などございましたら、下記「参考情報」欄の経済産業省ウェブサイトをご参照ください。"]
[]
[null,"注意事項"]
[]
[null,null,"・当該ファイルはマクロ機能を利用しておりますため、マクロ機能を有効に（「コンテンツの有効化」）していただけますようお願いいたします。\n・入力欄のコピー＆ペーストは行わないようにお願いいたします（セルの構造が壊れてしまいますため）。\n・上記①（「基本情報・事業所情報の作成」）及び②（「届出・申告書の作成」）のシートにつきましては、一番右の列（Ｘ列）に自動入力チェック欄がございます。その欄に「未入力」と表示されている箇所がございましたら、同じ行の情報をご入力いただけますようお願いいたします。"]
[]
[null,"参考情報"]
[]
[null,null,"○経済産業省ウェブサイト（化学兵器禁止法　届出・申告関係）"]
[null,null,null,"https://www.meti.go.jp/policy/chemical_management/cwc/todokede.html"]
[]
[null,null,"○gビズID（e-Gov他様々な行政サービスにログインできるサービス）"]
[null,null,null,"https://gbiz-id.go.jp/top/"]

{"sheet":"基本情報・事業所情報の作成","index":1,"n_rows":120,"n_cols":24,"rows_kept":120,"cut":false,"hidden":false,"merged":[[119,21,119,22],[108,1,118,5],[108,6,108,20],[109,21,109,22],[113,21,113,22],[114,21,114,22],[115,21,115,22],[116,21,116,22],[117,21,117,22],[118,21,118,22],[94,3,100,10],[94,21,94,22],[95,21,95,22],[96,21,96,22],[97,21,97,22],[98,21,98,22],[99,21,99,22],[100,21,100,22],[87,3,93,10],[87,21,87,22],[88,21,88,22],[89,21,89,22],[90,21,90,22],[91,21,91,22],[92,21,92,22],[93,21,93,22],[80,3,86,10],[80,21,80,22],[81,21,81,22],[82,21,82,22],[83,21,83,22],[84,21,84,22],[85,21,85,22],[86,21,86,22],[69,3,76,10],[69,21,69,22],[70,21,70,22],[71,21,71,22],[72,21,72,22],[73,21,73,22],[74,21,74,22],[75,21,75,22],[76,21,76,22],[61,3,68,10],[61,21,61,22],[62,21,62,22],[63,21,63,22],[64,21,64,22],[65,21,65,22],[66,21,66,22],[67,21,67,22],[68,21,68,22],[47,21,47,22],[48,21,48,22],[49,21,49,22],[53,3,60,10],[53,21,53,22],[54,21,54,22],[55,21,55,22],[56,21,56,22],[57,21,57,22],[58,21,58,22],[59,21,59,22],[60,21,60,22],[26,2,26,21],[40,3,40,6],[40,8,40,9],[40,11,40,12],[43,3,43,6],[43,8,43,9],[43,11,43,12],[24,2,24,22],[1,1,1,23],[3,2,3,22],[6,3,6,6],[6,7,6,21],[7,7,7,21],[8,7,8,22],[9,3,9,6],[9,7,9,21],[10,7,10,22],[11,3,11,6],[11,7,11,21]]}
[null,null,null,null,null,null,null,null,null,null,null,null,null,null,null,null,null,null,null,null,null,null,null,"様式改訂：2024/06/27"]
[null,"化兵法に基づく届出および申告書の基本情報・事業所情報"]
[]
[null,null,"基本情報・事業所情報の作成シートでは、化兵法に基づく届出および申告書の基本情報と事業所情報を入力してください。"]
[]
[]
[null,null,null,"ピンク",null,null,null," の部分は、入力必須です。"]
[]
[]
[null,null,null,"ブルー",null,null,null," の部分は、設問項目に該当しない場合は、入力不要（空欄可）です。"]
[]
[null,null,null,"グレー",null,null,null," の部分は、入力不要です。"]
[]
[]
[]
[]
[]
[]
[]
[]
[]
[]
[null,"過去または他の化兵法届出で作成した基本情報・事業所情報を自動で転記することができます。"]
[]
[null,null,"①化兵法の届出エクセルファイルを指定してください。（「ファイル選択…」ボタン）\n②「取込」ボタンをクリックすると、「基本情報・事業所情報の作成」「届出・申告書の作成」シートに入力した内容が各シートに転記されます。\n※既に入力済の項目は上書きされますのでご注意ください。(念のため、このファイルのバックアップを取ってから実行することをお勧めします。）"]
[null,null,"転記元ファイル："]
[]
[]
[]
[]
[]
[]
[]
[]
[]
[]
[]
[null,"基本情報を入力してください。"]
[]
[null,"１．届出日を西暦で入力してください。（例：2024年9月15日）",null,null,null,null,null,null,null,null,null,null,null,null,null,null,null,null,null,null,null,null,null,"自動入力チェック"]
[null,null,null,null,null,null,null,"年",null,null,"月",null,null,"日",null,null,null,null,null,null,null,null,null,{"$f":"IF(OR($D41=\"\",$I41=\"\",$L41=\"\"),\"未入力\",\"\")","v":"未入力"}]
[]
[null,"２．届出対象年を西暦４桁で入力してください。（例：2024年9月に届出される翌年分の予定届出では、”2025年”が届出対象年となりますので、”2025”を入力します）",null,null,null,null,null,null,null,null,null,null,null,null,null,null,null,null,null,null,null,null,null,"自動入力チェック"]
[null,null,null,null,null,null,null,"年",null,null,null,null,null,null,null,null,null,null,null,null,null,null,null,{"$f":"IF($D44=\"\",\"未入力\",\"\")","v":"未入力"}]
[null,"３．届出者の情報を入力してください（届出者が法人代表でない場合には、届出を委任された届出者の情報（例：事業所長、工場長）を入力してください。）。"]
[null,null,null,null,null,null,null,null,null,null,null,null,null,null,null,null,null,null,null,null,null,"日本語","英語","自動入力チェック"]
[null,null,null,"氏名または名称",null,null,null,null,null,null,null,null,null,null,null,null,null,null,null,null,null,null,null,{"$f":"FormOnlyAutoChk(届出のみ判定,$V47,$W47, TRUE)","v":"未入力"}]
[null,null,null,"法人にあっては、\nその代表者の役職",null,null,null,null,null,null,null,null,null,null,null,null,null,null,null,null,null,null,null,""]
[null,null,null,"法人にあっては、\nその代表者の氏名",null,null,null,null,null,null,null,null,null,null,null,null,null,null,null,null,null,null,null,""]
[null,null,null,"住所",null,null,null,null,null,null,null,null,null,null,null,null,null,null,null,null,null,null,null,{"$f":"IF($V50=\"\",\"未入力\",\"\")","v":"未入力"}]
[]
[]
[null,"４．届出関係担当者の情報を入力してください。",null,null,null,null,null,null,null,null,null,null,null,null,null,null,null,null,null,null,null,"日本語",null,"自動入力チェック"]
[null,null,null,"担当者の情報①",null,null,null,null,null,null,null,"氏名",null,null,null,null,null,null,null,null,null,null,null,{"$f":"IF($V54=\"\",\"未入力\",\"\")","v":"未入力"}]
[null,null,null,null,null,null,null,null,null,null,null,"郵便番号",null,null,null,null,null,null,null,null,null,null,null,""]
[null,null,null,null,null,null,null,null,null,null,null,"住所",null,null,null,null,null,null,null,null,null,null,null,""]
[null,null,null,null,null,null,null,null,null,null,null,"部署名",null,null,null,null,null,null,null,null,null,null,null,""]
[null,null,null,null,null,null,null,null,null,null,null,"役職",null,null,null,null,null,null,null,null,null,null,null,""]
[null,null,null,null,null,null,null,null,null,null,null,"電話番号",null,null,null,null,null,null,null,null,null,null,null,{"$f":"IF($V59=\"\",\"未入力\",\"\")","v":"未入力"}]
[null,null,null,null,null,null,null,null,null,null,null,"FAX番号",null,null,null,null,null,null,null,null,null,null,null,""]
[null,null,null,null,null,null,null,null,null,null,null,"メールアドレス",null,null,null,null,null,null,null,null,null,null,null,{"$f":"IF($V61=\"\",\"未入力\",\"\")","v":"未入力"}]
[null,null,null,"担当者の情報②",null,null,null,null,null,null,null,"氏名",null,null,null,null,null,null,null,null,null,null,null,""]
[null,null,null,null,null,null,null,null,null,null,null,"郵便番号",null,null,null,null,null,null,null,null,null,null,null,""]
[null,null,null,null,null,null,null,null,null,null,null,"住所",null,null,null,null,null,null,null,null,null,null,null,""]
[null,null,null,null,null,null,null,null,null,null,null,"部署名",null,null,null,null,null,null,null,null,null,null,null,""]
[null,null,null,null,null,null,null,null,null,null,null,"役職",null,null,null,null,null,null,null,null,null,null,null,""]
[null,null,null,null,null,null,null,null,null,null,null,"電話番号",null,null,null,null,null,null,null,null,null,null,null,""]
[null,null,null,null,null,null,null,null,null,null,null,"FAX番号",null,null,null,null,null,null,null,null,null,null,null,""]
[null,null,null,null,null,null,null,null,null,null,null,"メールアドレス",null,null,null,null,null,null,null,null,null,null,null,""]
[null,null,null,"担当者の情報③",null,null,null,null,null,null,null,"氏名",null,null,null,null,null,null,null,null,null,null,null,""]
[null,null,null,null,null,null,null,null,null,null,null,"郵便番号",null,null,null,null,null,null,null,null,null,null,null,""]
[null,null,null,null,null,null,null,null,null,null,null,"住所",null,null,null,null,null,null,null,null,null,null,null,""]
[null,null,null,null,null,null,null,null,null,null,null,"部署名",null,null,null,null,null,null,null,null,null,null,null,""]
[null,null,null,null,null,null,null,null,null,null,null,"役職",null,null,null,null,null,null,null,null,null,null,null,""]
[null,null,null,null,null,null,null,null,null,null,null,"電話番号",null,null,null,null,null,null,null,null,null,null,null,""]
[null,null,null,null,null,null,null,null,null,null,null,"FAX番号",null,null,null,null,null,null,null,null,null,null,null,""]
[null,null,null,null,null,null,null,null,null,null,null,"メールアドレス",null,null,null,null,null,null,null,null,null,null,null,""]
[]
[]
[null,"５．国際検査対応関係担当者の情報を入力してください。",null,null,null,null,null,null,null,null,null,null,null,null,null,null,null,null,null,null,null,"日本語",null,"自動入力チェック"]
[null,null,null,"担当者の情報①",null,null,null,null,null,null,null,"氏名",null,null,null,null,null,null,null,null,null,null,null,{"$f":"FormOnlyAutoChk(届出のみ判定,$V81,\"\", FALSE)","v":"未入力"}]
[null,null,null,null,null,null,null,null,null,null,null,"住所",null,null,null,null,null,null,null,null,null,null,null,""]
[null,null,null,null,null,null,null,null,null,null,null,"部署名",null,null,null,null,null,null,null,null,null,null,null,""]
[null,null,null,null,null,null,null,null,null,null,null,"役職",null,null,null,null,null,null,null,null,null,null,null,""]
[null,null,null,null,null,null,null,null,null,null,null,"電話番号",null,null,null,null,null,null,null,null,null,null,null,{"$f":"FormOnlyAutoChk(届出のみ判定,$V85,\"\", FALSE)","v":"未入力"}]
[null,null,null,null,null,null,null,null,null,null,null,"FAX番号",null,null,null,null,null,null,null,null,null,null,null,""]
[null,null,null,null,null,null,null,null,null,null,null,"メールアドレス",null,null,null,null,null,null,null,null,null,null,null,{"$f":"FormOnlyAutoChk(届出のみ判定,$V87,\"\", FALSE)","v":"未入力"}]
[null,null,null,"担当者の情報②",null,null,null,null,null,null,null,"氏名",null,null,null,null,null,null,null,null,null,null,null,""]
[null,null,null,null,null,null,null,null,null,null,null,"住所",null,null,null,null,null,null,null,null,null,null,null,""]
[null,null,null,null,null,null,null,null,null,null,null,"部署名",null,null,null,null,null,null,null,null,null,null,null,""]
[null,null,null,null,null,null,null,null,null,null,null,"役職",null,null,null,null,null,null,null,null,null,null,null,""]
[null,null,null,null,null,null,null,null,null,null,null,"電話番号",null,null,null,null,null,null,null,null,null,null,null,""]
[null,null,null,null,null,null,null,null,null,null,null,"FAX番号",null,null,null,null,null,null,null,null,null,null,null,""]
[null,null,null,null,null,null,null,null,null,null,null,"メールアドレス",null,null,null,null,null,null,null,null,null,null,null,""]
[null,null,null,"担当者の情報③",null,null,null,null,null,null,null,"氏名",null,null,null,null,null,null,null,null,null,null,null,""]
[null,null,null,null,null,null,null,null,null,null,null,"住所",null,null,null,null,null,null,null,null,null,null,null,""]
[null,null,null,null,null,null,null,null,null,null,null,"部署名",null,null,null,null,null,null,null,null,null,null,null,""]
[null,null,null,null,null,null,null,null,null,null,null,"役職",null,null,null,null,null,null,null,null,null,null,null,""]
[null,null,null,null,null,null,null,null,null,null,null,"電話番号",null,null,null,null,null,null,null,null,null,null,null,""]
[null,null,null,null,null,null,null,null,null,null,null,"FAX番号",null,null,null,null,null,null,null,null,null,null,null,""]
[null,null,null,null,null,null,null,null,null,null,null,"メールアドレス",null,null,null,null,null,null,null,null,null,null,null,""]
[]
[]
[]
[]
[null,"届出を行う事業所の情報を入力してください。"]
[]
[null,null,null,null,null,null,null,null,null,null,null,null,null,null,null,null,null,null,null,null,null,"日本語","英語","自動入力チェック"]
[null,"製造をしようとする事業所の情報",null,null,null,null,"事業所の名称（「会社名 事業所名」で入力）",null,null,null,null,null,null,null,null,null,null,null,null,null,null,null,null,{"$f":"FormOnlyAutoChk(届出のみ判定,$V109,$W109, TRUE)","v":"未入力"}]
[null,null,null,null,null,null,"事業所コード",null,null,null,null,null,null,null,null,null,null,null,null,null,null,null,null,{"$f":"IF($V110=\"\",\"未入力\",\"\")","v":"未入力"}]
[null,null,null,null,null,null,"所在地",null,null,null,null,"都道府県",null,null,null,null,null,null,null,null,null,null,{"$f":"IF(V111=\"\", \"\", IF(eAppData!$D$1=eAppData!$B$5, \"\",VLOOKUP(V111, LIST!B5:D51, 3, FALSE)))","v":""},{"$f":"FormOnlyAutoChk(届出のみ判定,$V111,$W111, TRUE)","v":"未入力"}]
[null,null,null,null,null,null,null,null,null,null,null,"市／区／郡",null,null,null,null,null,null,null,null,null,null,null,{"$f":"FormOnlyAutoChk(届出のみ判定,$V112,$W112, TRUE)","v":"未入力"}]
[null,null,null,null,null,null,null,null,null,null,null,"町村および番地",null,null,null,null,null,null,null,null,null,null,null,{"$f":"FormOnlyAutoChk(届出のみ判定,$V113,$W113, TRUE)","v":"未入力"}]
[null,null,null,null,null,null,null,null,null,null,null,"緯度",null,null,"度",null,null,null,null,null,null,null,null,{"$f":"FormOnlyAutoChk(届出のみ判定,$V114,\"\", FALSE)","v":"未入力"}]
[null,null,null,null,null,null,null,null,null,null,null,null,null,null,"分",null,null,null,null,null,null,null,null,"未入力"]
[null,null,null,null,null,null,null,null,null,null,null,null,null,null,"秒",null,null,null,null,null,null,null,null,"未入力"]
[null,null,null,null,null,null,null,null,null,null,null,"経度",null,null,"度",null,null,null,null,null,null,null,null,"未入力"]
[null,null,null,null,null,null,null,null,null,null,null,null,null,null,"分",null,null,null,null,null,null,null,null,"未入力"]
[null,null,null,null,null,null,null,null,null,null,null,null,null,null,"秒",null,null,null,null,null,null,null,null,"未入力"]
[null,"事業所についての追加的情報（英語で入力）",null,null,null,null,null,null,null,null,null,null,null,null,null,null,null,null,null,null,null,null,null,""]

{"sheet":"届出・申告書の作成","index":2,"n_rows":367,"n_cols":24,"rows_kept":367,"cut":false,"hidden":false,"merged":[[378,2,378,23],[361,1,368,5],[361,6,361,20],[362,6,362,20],[363,6,363,20],[364,6,364,20],[366,6,368,20],[352,1,359,5],[352,6,352,20],[353,6,353,20],[354,6,354,20],[355,6,355,20],[357,6,359,20],[343,1,350,5],[343,6,343,20],[344,6,344,20],[345,6,345,20],[346,6,346,20],[348,6,350,20],[334,1,341,5],[334,6,334,20],[335,6,335,20],[336,6,336,20],[337,6,337,20],[339,6,341,20],[325,1,332,5],[325,6,325,20],[326,6,326,20],[327,6,327,20],[328,6,328,20],[330,6,332,20],[316,1,323,5],[316,6,316,20],[317,6,317,20],[318,6,318,20],[319,6,319,20],[321,6,323,20],[307,1,314,5],[307,6,307,20],[308,6,308,20],[309,6,309,20],[310,6,310,20],[312,6,314,20],[294,3,294,5],[298,1,305,5],[298,6,298,20],[299,6,299,20],[300,6,300,20],[301,6,301,20],[303,6,305,20],[280,1,281,2],[280,11,280,20],[281,11,281,20],[282,11,282,20],[283,11,283,20],[284,11,284,20],[285,11,285,20],[286,11,286,20],[287,11,287,20],[280,3,286,10],[287,3,290,10],[268,1,269,2],[268,11,268,20],[269,11,269,20],[270,11,270,20],[271,11,271,20],[272,11,272,20],[273,11,273,20],[274,11,274,20],[275,11,275,20],[268,3,274,10],[275,3,278,10],[256,1,257,2],[256,11,256,20],[257,11,257,20],[258,11,258,20],[259,11,259,20],[260,11,260,20],[261,11,261,20],[262,11,262,20],[263,11,263,20],[256,3,262,10],[263,3,266,10],[244,1,245,2],[244,11,244,20],[245,11,245,20],[246,11,246,20],[247,11,247,20],[248,11,248,20],[249,11,249,20],[250,11,250,20],[251,11,251,20],[244,3,250,10],[251,3,254,10],[232,1,233,2],[232,11,232,20],[233,11,233,20],[234,11,234,20],[235,11,235,20],[236,11,236,20],[237,11,237,20],[238,11,238,20],[239,11,239,20],[232,3,238,10],[239,3,242,10],[220,1,221,2],[220,11,220,20],[221,11,221,20],[222,11,222,20],[223,11,223,20],[224,11,224,20],[225,11,225,20],[226,11,226,20],[227,11,227,20],[220,3,226,10],[227,3,230,10],[208,1,209,2],[208,11,208,20],[209,11,209,20],[210,11,210,20],[211,11,211,20],[212,11,212,20],[213,11,213,20],[214,11,214,20],[215,11,215,20],[208,3,214,10],[215,3,218,10],[196,1,197,2],[196,11,196,20],[197,11,197,20],[198,11,198,20],[199,11,199,20],[200,11,200,20],[201,11,201,20],[202,11,202,20],[203,11,203,20],[196,3,202,10],[203,3,206,10],[180,10,181,13],[180,14,180,20],[182,6,182,20],[183,6,183,20],[189,21,189,22],[194,3,194,5],[172,14,172,20],[174,10,175,13],[174,14,174,20],[176,10,177,13],[176,14,176,20],[178,10,179,13],[178,14,178,20],[165,1,183,5],[165,6,169,13],[166,14,166,20],[167,14,167,20],[168,14,168,20],[169,14,169,20],[170,6,170,20],[171,6,171,20],[172,6,181,9],[172,10,173,13],[145,1,163,5],[145,6,149,13],[146,14,146,20],[147,14,147,20],[148,14,148,20],[158,10,159,13],[158,14,158,20],[160,10,161,13],[160,14,160,20],[162,6,162,20],[163,6,163,20],[149,14,149,20],[150,6,150,20],[151,6,151,20],[152,6,161,9],[152,10,153,13],[152,14,152,20],[154,10,155,13],[154,14,154,20],[156,10,157,13],[156,14,156,20],[125,1,143,5],[125,6,129,13],[126,14,126,20],[127,14,127,20],[128,14,128,20],[129,14,129,20],[130,6,130,20],[131,6,131,20],[132,6,141,9],[132,10,133,13],[132,14,132,20],[134,10,135,13],[134,14,134,20],[136,10,137,13],[136,14,136,20],[138,10,139,13],[138,14,138,20],[140,10,141,13],[140,14,140,20],[142,6,142,20],[143,6,143,20],[112,14,112,20],[114,10,115,13],[114,14,114,20],[116,10,117,13],[116,14,116,20],[118,10,119,13],[118,14,118,20],[105,1,123,5],[105,6,109,13],[106,14,106,20],[107,14,107,20],[108,14,108,20],[109,14,109,20],[110,6,110,20],[111,6,111,20],[112,6,121,9],[112,10,113,13],[120,10,121,13],[120,14,120,20],[122,6,122,20],[123,6,123,20],[85,1,103,5],[85,6,89,13],[86,14,86,20],[87,14,87,20],[88,14,88,20],[98,10,99,13],[98,14,98,20],[100,10,101,13],[100,14,100,20],[102,6,102,20],[103,6,103,20],[89,14,89,20],[90,6,90,20],[91,6,91,20],[92,6,101,9],[92,10,93,13],[92,14,92,20],[94,10,95,13],[94,14,94,20],[96,10,97,13],[96,14,96,20],[65,1,83,5],[65,6,69,13],[66,14,66,20],[67,14,67,20],[68,14,68,20],[69,14,69,20],[70,6,70,20],[71,6,71,20],[72,6,81,9],[72,10,73,13],[72,14,72,20],[74,10,75,13],[74,14,74,20],[76,10,77,13],[76,14,76,20],[78,10,79,13],[78,14,78,20],[80,10,81,13],[80,14,80,20],[82,6,82,20],[83,6,83,20],[52,14,52,20],[54,10,55,13],[54,14,54,20],[56,10,57,13],[56,14,56,20],[58,10,59,13],[58,14,58,20],[45,1,63,5],[45,6,49,13],[46,14,46,20],[47,14,47,20],[48,14,48,20],[49,14,49,20],[50,6,50,20],[51,6,51,20],[52,6,61,9],[52,10,53,13],[60,10,61,13],[60,14,60,20],[62,6,62,20],[63,6,63,20],[22,3,22,5],[25,1,43,5],[25,6,29,13],[26,14,26,20],[27,14,27,20],[28,14,28,20],[29,14,29,20],[30,6,30,20],[31,6,31,20],[32,6,41,9],[38,10,39,13],[38,14,38,20],[40,10,41,13],[40,14,40,20],[42,6,42,20],[43,6,43,20],[32,10,33,13],[32,14,32,20],[34,10,35,13],[34,14,34,20],[36,10,37,13],[36,14,36,20],[9,3,9,6],[9,7,9,21],[10,7,10,22],[11,3,11,6],[11,7,11,21],[17,21,17,22],[1,1,1,23],[3,2,3,22],[6,3,6,6],[6,7,6,21],[7,7,7,21],[8,7,8,22]]}
[null,null,null,null,null,null,null,null,null,null,null,null,null,null,null,null,null,null,null,null,null,null,null,"様式改訂：2024/06/27"]
[null,"化兵法に基づく第二種指定物質（表3剤）の予定届出（様式第１８）および申告書の作成"]
[]
[null,null,"第二種指定物質を製造する事業者は当該活動の予定と実績を経済産業大臣に届け出ることになっています。また、併せて提出することとされている国際機関に申告するための書面（Form）では、化学兵器禁止法の「第二種指定物質」は化学兵器禁止条約では「表３剤（Schedule 3 Chemical）」との用語となっています。\n届出・申告書の作成シートでは、第二種指定物質（表３剤）の予定届出（様式第18）および申告書の作成に必要な情報を入力してください。"]
[]
[]
[null,null,null,"ピンク",null,null,null," の部分は、入力必須です。"]
[]
[]
[null,null,null,"ブルー",null,null,null," の部分は、設問項目に該当しない場合は、入力不要（空欄可）です。"]
[]
[null,null,null,"グレー",null,null,null," の部分は、入力不要です。"]
[]
[]
[null,"前回の届出、申告内容から変更がある場合には、変更内容を入力してください。（入力誤り／真に変更された点のどちらかを判別するため）"]
[null,"また、届出内容について、特記すべき事項がもしあれば入力してください。"]
[]
[null,null,null,"前回の届出、申告内容からの変更点および届出内容についての特記事項"]
[]
[null,"様式第18の項目を入力してください。(最大8枚）"]
[null,"様式第18の作成のための入力ブロック"]
[]
[null,"様式第18の数：",null,1,null,null,null,"←初めに選択してください。"]
[]
[null,null,null,null,null,null,null,null,null,null,null,null,null,null,null,null,null,null,null,null,null,"日本語",null,"自動入力チェック"]
[null,"製造をしようとする第二種指定物質の情報（１）",null,null,null,null,"製造をしようとする第二種指定物質",null,null,null,null,null,null,null,"CAS番号",null,null,null,null,null,null,null,null,{"$f":"IF($V26=\"\",\"未入力\",\"\")","v":"未入力"}]
[null,null,null,null,null,null,null,null,null,null,null,null,null,null,"条約表剤番号",null,null,null,null,null,null,"",null,{"$f":"IF($V27=\"\",\"未入力\",\"\")","v":"未入力"}]
[null,null,null,null,null,null,null,null,null,null,null,null,null,null,"物質名称（日本語名）",null,null,null,null,null,null,null,null,{"$f":"IF(AND($V26<>STRING_NOCAS,$V28=\"\"),\"未入力\",\"\")","v":"未入力"}]
[null,null,null,null,null,null,null,null,null,null,null,null,null,null,"※「CAS番号なし」の場合入力\nCAS番号",null,null,null,null,null,null,null,null,{"$f":"IF(AND($V26=STRING_NOCAS,$V29=\"\"),\"未入力\",\"\")","v":""}]
[null,null,null,null,null,null,null,null,null,null,null,null,null,null,"※「CAS番号なし」の場合入力\n物質名称（日本語名）",null,null,null,null,null,null,null,null,{"$f":"IF(AND($V26=STRING_NOCAS,$V30=\"\"),\"未入力\",\"\")","v":""}]
[null,null,null,null,null,null,"事業所内の当該第二種指定物質の製造施設の数",null,null,null,null,null,null,null,null,null,null,null,null,null,null,1,null,{"$f":"IF($V31=\"\",\"未入力\",\"\")","v":""}]
[null,null,null,null,null,null,"事業所内の当該第二種指定物質の製造施設の位置",null,null,null,null,null,null,null,null,null,null,null,null,null,null,"別添資料のとおり",null,{"$f":"IF($V32=\"\",\"未入力\",\"\")","v":""}]
[null,null,null,null,null,null,"施設ごとの数量",null,null,null,"施設（１）",null,null,null,"施設名称"]
[null,null,null,null,null,null,null,null,null,null,null,null,null,null,"数量\n(t)",null,null,null,null,null,null,null,null,{"$f":"IF($V34=\"\",\"未入力\",\"\")","v":"未入力"}]
[null,null,null,null,null,null,null,null,null,null,"施設（２）",null,null,null,"施設名称",null,null,null,null,null,null,""]
[null,null,null,null,null,null,null,null,null,null,null,null,null,null,"数量\n(t)",null,null,null,null,null,null,null,null,{"$f":"IF(AND($V36=\"\", $V31 > 1),\"未入力\",\"\")","v":""}]
[null,null,null,null,null,null,null,null,null,null,"施設（３）",null,null,null,"施設名称",null,null,null,null,null,null,""]
[null,null,null,null,null,null,null,null,null,null,null,null,null,null,"数量\n(t)",null,null,null,null,null,null,null,null,{"$f":"IF(AND($V38=\"\", $V31 > 2),\"未入力\",\"\")","v":""}]
[null,null,null,null,null,null,null,null,null,null,"施設（４）",null,null,null,"施設名称",null,null,null,null,null,null,""]
[null,null,null,null,null,null,null,null,null,null,null,null,null,null,"数量\n(t)",null,null,null,null,null,null,null,null,{"$f":"IF(AND($V40=\"\", $V31 > 3),\"未入力\",\"\")","v":""}]
[null,null,null,null,null,null,null,null,null,null,"施設（５）",null,null,null,"施設名称",null,null,null,null,null,null,""]
[null,null,null,null,null,null,null,null,null,null,null,null,null,null,"数量\n(t)",null,null,null,null,null,null,null,null,{"$f":"IF(AND($V42=\"\", $V31 > 4),\"未入力\",\"\")","v":""}]
[null,null,null,null,null,null,"和文の様式の提出のみで十分ですか？\n（英文の申告Formの提出は不要ですか？）",null,null,null,null,null,null,null,null,null,null,null,null,null,null,"いいえ",null,{"$f":"IF($V43=\"\",\"未入力\",\"\")","v":""}]
[null,null,null,null,null,null,"英文Formの提出が不要である場合、その理由を選択してください",null,null,null,null,null,null,null,null,null,null,null,null,null,null,"－",null,{"$f":"IF(AND(OR($V44=\"\", $V44=LIST!$AE$5), $V43 = LIST!$AK$6 ),\"未入力\",\"\")","v":""}]
[null,null,null,null,null,null,null,null,null,null,null,null,null,null,null,null,null,null,null,null,null,"日本語",null,"自動入力チェック"]
[null,"製造をしようとする第二種指定物質の情報（２）",null,null,null,null,"製造をしようとする第二種指定物質",null,null,null,null,null,null,null,"CAS番号",null,null,null,null,null,null,null,null,{"$f":"IF($V46=\"\",\"未入力\",\"\")","v":"未入力"}]
[null,null,null,null,null,null,null,null,null,null,null,null,null,null,"条約表剤番号",null,null,null,null,null,null,"",null,{"$f":"IF($V47=\"\",\"未入力\",\"\")","v":"未入力"}]
[null,null,null,null,null,null,null,null,null,null,null,null,null,null,"物質名称（日本語名）",null,null,null,null,null,null,null,null,{"$f":"IF(AND($V46<>STRING_NOCAS,$V48=\"\"),\"未入力\",\"\")","v":"未入力"}]
[null,null,null,null,null,null,null,null,null,null,null,null,null,null,"※「CAS番号なし」の場合入力\nCAS番号",null,null,null,null,null,null,null,null,{"$f":"IF(AND($V46=STRING_NOCAS,$V49=\"\"),\"未入力\",\"\")","v":""}]
[null,null,null,null,null,null,null,null,null,null,null,null,null,null,"※「CAS番号なし」の場合入力\n物質名称（日本語名）",null,null,null,null,null,null,null,null,{"$f":"IF(AND($V46=STRING_NOCAS,$V50=\"\"),\"未入力\",\"\")","v":""}]
[null,null,null,null,null,null,"事業所内の当該第二種指定物質の製造施設の数",null,null,null,null,null,null,null,null,null,null,null,null,null,null,1,null,{"$f":"IF($V51=\"\",\"未入力\",\"\")","v":""}]
[null,null,null,null,null,null,"事業所内の当該第二種指定物質の製造施設の位置",null,null,null,null,null,null,null,null,null,null,null,null,null,null,"別添資料のとおり",null,{"$f":"IF($V52=\"\",\"未入力\",\"\")","v":""}]
[null,null,null,null,null,null,"施設ごとの数量",null,null,null,"施設（１）",null,null,null,"施設名称"]
[null,null,null,null,null,null,null,null,null,null,null,null,null,null,"数量\n(t)",null,null,null,null,null,null,null,null,{"$f":"IF($V54=\"\",\"未入力\",\"\")","v":"未入力"}]
[null,null,null,null,null,null,null,null,null,null,"施設（２）",null,null,null,"施設名称",null,null,null,null,null,null,""]
[null,null,null,null,null,null,null,null,null,null,null,null,null,null,"数量\n(t)",null,null,null,null,null,null,null,null,{"$f":"IF(AND($V56=\"\", $V51 > 1),\"未入力\",\"\")","v":""}]
[null,null,null,null,null,null,null,null,null,null,"施設（３）",null,null,null,"施設名称",null,null,null,null,null,null,""]
[null,null,null,null,null,null,null,null,null,null,null,null,null,null,"数量\n(t)",null,null,null,null,null,null,null,null,{"$f":"IF(AND($V58=\"\", $V51 > 2),\"未入力\",\"\")","v":""}]
[null,null,null,null,null,null,null,null,null,null,"施設（４）",null,null,null,"施設名称",null,null,null,null,null,null,""]
[null,null,null,null,null,null,null,null,null,null,null,null,null,null,"数量\n(t)",null,null,null,null,null,null,null,null,{"$f":"IF(AND($V60=\"\", $V51 > 3),\"未入力\",\"\")","v":""}]
[null,null,null,null,null,null,null,null,null,null,"施設（５）",null,null,null,"施設名称",null,null,null,null,null,null,""]
[null,null,null,null,null,null,null,null,null,null,null,null,null,null,"数量\n(t)",null,null,null,null,null,null,null,null,{"$f":"IF(AND($V62=\"\", $V51 > 4),\"未入力\",\"\")","v":""}]
[null,null,null,null,null,null,"和文の様式の提出のみで十分ですか？\n（英文の申告Formの提出は不要ですか？）",null,null,null,null,null,null,null,null,null,null,null,null,null,null,"いいえ",null,{"$f":"IF($V63=\"\",\"未入力\",\"\")","v":""}]
[null,null,null,null,null,null,"英文Formの提出が不要である場合、その理由を選択してください",null,null,null,null,null,null,null,null,null,null,null,null,null,null,"－",null,{"$f":"IF(AND(OR($V64=\"\", $V64=LIST!$AE$5), $V63 = LIST!$AK$6 ),\"未入力\",\"\")","v":""}]
[null,null,null,null,null,null,null,null,null,null,null,null,null,null,null,null,null,null,null,null,null,"日本語",null,"自動入力チェック"]
[null,"製造をしようとする第二種指定物質の情報（３）",null,null,null,null,"製造をしようとする第二種指定物質",null,null,null,null,null,null,null,"CAS番号",null,null,null,null,null,null,null,null,{"$f":"IF($V66=\"\",\"未入力\",\"\")","v":"未入力"}]
[null,null,null,null,null,null,null,null,null,null,null,null,null,null,"条約表剤番号",null,null,null,null,null,null,"",null,{"$f":"IF($V67=\"\",\"未入力\",\"\")","v":"未入力"}]
[null,null,null,null,null,null,null,null,null,null,null,null,null,null,"物質名称（日本語名）",null,null,null,null,null,null,null,null,{"$f":"IF(AND($V66<>STRING_NOCAS,$V68=\"\"),\"未入力\",\"\")","v":"未入力"}]
[null,null,null,null,null,null,null,null,null,null,null,null,null,null,"※「CAS番号なし」の場合入力\nCAS番号",null,null,null,null,null,null,null,null,{"$f":"IF(AND($V66=STRING_NOCAS,$V69=\"\"),\"未入力\",\"\")","v":""}]
[null,null,null,null,null,null,null,null,null,null,null,null,null,null,"※「CAS番号なし」の場合入力\n物質名称（日本語名）",null,null,null,null,null,null,null,null,{"$f":"IF(AND($V66=STRING_NOCAS,$V70=\"\"),\"未入力\",\"\")","v":""}]
[null,null,null,null,null,null,"事業所内の当該第二種指定物質の製造施設の数",null,null,null,null,null,null,null,null,null,null,null,null,null,null,1,null,{"$f":"IF($V71=\"\",\"未入力\",\"\")","v":""}]
[null,null,null,null,null,null,"事業所内の当該第二種指定物質の製造施設の位置",null,null,null,null,null,null,null,null,null,null,null,null,null,null,"別添資料のとおり",null,{"$f":"IF($V72=\"\",\"未入力\",\"\")","v":""}]
[null,null,null,null,null,null,"施設ごとの数量",null,null,null,"施設（１）",null,null,null,"施設名称",null,null,null,null,null,null,""]
[null,null,null,null,null,null,null,null,null,null,null,null,null,null,"数量\n(t)",null,null,null,null,null,null,null,null,{"$f":"IF($V74=\"\",\"未入力\",\"\")","v":"未入力"}]
[null,null,null,null,null,null,null,null,null,null,"施設（２）",null,null,null,"施設名称"]
[null,null,null,null,null,null,null,null,null,null,null,null,null,null,"数量\n(t)",null,null,null,null,null,null,null,null,{"$f":"IF(AND($V76=\"\", $V71 > 1),\"未入力\",\"\")","v":""}]
[null,null,null,null,null,null,null,null,null,null,"施設（３）",null,null,null,"施設名称",null,null,null,null,null,null,""]
[null,null,null,null,null,null,null,null,null,null,null,null,null,null,"数量\n(t)",null,null,null,null,null,null,null,null,{"$f":"IF(AND($V78=\"\", $V71 > 2),\"未入力\",\"\")","v":""}]
[null,null,null,null,null,null,null,null,null,null,"施設（４）",null,null,null,"施設名称",null,null,null,null,null,null,""]
[null,null,null,null,null,null,null,null,null,null,null,null,null,null,"数量\n(t)",null,null,null,null,null,null,null,null,{"$f":"IF(AND($V80=\"\", $V71 > 3),\"未入力\",\"\")","v":""}]
[null,null,null,null,null,null,null,null,null,null,"施設（５）",null,null,null,"施設名称",null,null,null,null,null,null,""]
[null,null,null,null,null,null,null,null,null,null,null,null,null,null,"数量\n(t)",null,null,null,null,null,null,null,null,{"$f":"IF(AND($V82=\"\", $V71 > 4),\"未入力\",\"\")","v":""}]
[null,null,null,null,null,null,"和文の様式の提出のみで十分ですか？\n（英文の申告Formの提出は不要ですか？）",null,null,null,null,null,null,null,null,null,null,null,null,null,null,"いいえ",null,{"$f":"IF($V83=\"\",\"未入力\",\"\")","v":""}]
[null,null,null,null,null,null,"英文Formの提出が不要である場合、その理由を選択してください",null,null,null,null,null,null,null,null,null,null,null,null,null,null,"－",null,{"$f":"IF(AND(OR($V84=\"\", $V84=LIST!$AE$5), $V83 = LIST!$AK$6 ),\"未入力\",\"\")","v":""}]
[null,null,null,null,null,null,null,null,null,null,null,null,null,null,null,null,null,null,null,null,null,"日本語",null,"自動入力チェック"]
[null,"製造をしようとする第二種指定物質の情報（４）",null,null,null,null,"製造をしようとする第二種指定物質",null,null,null,null,null,null,null,"CAS番号",null,null,null,null,null,null,null,null,{"$f":"IF($V86=\"\",\"未入力\",\"\")","v":"未入力"}]
[null,null,null,null,null,null,null,null,null,null,null,null,null,null,"条約表剤番号",null,null,null,null,null,null,"",null,{"$f":"IF($V87=\"\",\"未入力\",\"\")","v":"未入力"}]
[null,null,null,null,null,null,null,null,null,null,null,null,null,null,"物質名称（日本語名）",null,null,null,null,null,null,null,null,{"$f":"IF(AND($V86<>STRING_NOCAS,$V88=\"\"),\"未入力\",\"\")","v":"未入力"}]
[null,null,null,null,null,null,null,null,null,null,null,null,null,null,"※「CAS番号なし」の場合入力\nCAS番号",null,null,null,null,null,null,null,null,{"$f":"IF(AND($V86=STRING_NOCAS,$V89=\"\"),\"未入力\",\"\")","v":""}]
[null,null,null,null,null,null,null,null,null,null,null,null,null,null,"※「CAS番号なし」の場合入力\n物質名称（日本語名）",null,null,null,null,null,null,null,null,{"$f":"IF(AND($V86=STRING_NOCAS,$V90=\"\"),\"未入力\",\"\")","v":""}]
[null,null,null,null,null,null,"事業所内の当該第二種指定物質の製造施設の数",null,null,null,null,null,null,null,null,null,null,null,null,null,null,1,null,{"$f":"IF($V91=\"\",\"未入力\",\"\")","v":""}]
[null,null,null,null,null,null,"事業所内の当該第二種指定物質の製造施設の位置",null,null,null,null,null,null,null,null,null,null,null,null,null,null,"別添資料のとおり",null,{"$f":"IF($V92=\"\",\"未入力\",\"\")","v":""}]
[null,null,null,null,null,null,"施設ごとの数量",null,null,null,"施設（１）",null,null,null,"施設名称"]
[null,null,null,null,null,null,null,null,null,null,null,null,null,null,"数量\n(t)",null,null,null,null,null,null,null,null,{"$f":"IF($V94=\"\",\"未入力\",\"\")","v":"未入力"}]
[null,null,null,null,null,null,null,null,null,null,"施設（２）",null,null,null,"施設名称",null,null,null,null,null,null,""]
[null,null,null,null,null,null,null,null,null,null,null,null,null,null,"数量\n(t)",null,null,null,null,null,null,null,null,{"$f":"IF(AND($V96=\"\", $V91 > 1),\"未入力\",\"\")","v":""}]
[null,null,null,null,null,null,null,null,null,null,"施設（３）",null,null,null,"施設名称",null,null,null,null,null,null,""]
[null,null,null,null,null,null,null,null,null,null,null,null,null,null,"数量\n(t)",null,null,null,null,null,null,null,null,{"$f":"IF(AND($V98=\"\", $V91 > 2),\"未入力\",\"\")","v":""}]
[null,null,null,null,null,null,null,null,null,null,"施設（４）",null,null,null,"施設名称",null,null,null,null,null,null,""]
[null,null,null,null,null,null,null,null,null,null,null,null,null,null,"数量\n(t)",null,null,null,null,null,null,null,null,{"$f":"IF(AND($V100=\"\", $V91 > 3),\"未入力\",\"\")","v":""}]
[null,null,null,null,null,null,null,null,null,null,"施設（５）",null,null,null,"施設名称",null,null,null,null,null,null,""]
[null,null,null,null,null,null,null,null,null,null,null,null,null,null,"数量\n(t)",null,null,null,null,null,null,null,null,{"$f":"IF(AND($V102=\"\", $V91 > 4),\"未入力\",\"\")","v":""}]
[null,null,null,null,null,null,"和文の様式の提出のみで十分ですか？\n（英文の申告Formの提出は不要ですか？）",null,null,null,null,null,null,null,null,null,null,null,null,null,null,"いいえ",null,{"$f":"IF($V103=\"\",\"未入力\",\"\")","v":""}]
[null,null,null,null,null,null,"英文Formの提出が不要である場合、その理由を選択してください",null,null,null,null,null,null,null,null,null,null,null,null,null,null,"－",null,{"$f":"IF(AND(OR($V104=\"\", $V104=LIST!$AE$5), $V103 = LIST!$AK$6 ),\"未入力\",\"\")","v":""}]
[null,null,null,null,null,null,null,null,null,null,null,null,null,null,null,null,null,null,null,null,null,"日本語",null,"自動入力チェック"]
[null,"製造をしようとする第二種指定物質の情報（５）",null,null,null,null,"製造をしようとする第二種指定物質",null,null,null,null,null,null,null,"CAS番号",null,null,null,null,null,null,null,null,{"$f":"IF($V106=\"\",\"未入力\",\"\")","v":"未入力"}]
[null,null,null,null,null,null,null,null,null,null,null,null,null,null,"条約表剤番号",null,null,null,null,null,null,"",null,{"$f":"IF($V107=\"\",\"未入力\",\"\")","v":"未入力"}]
[null,null,null,null,null,null,null,null,null,null,null,null,null,null,"物質名称（日本語名）",null,null,null,null,null,null,null,null,{"$f":"IF(AND($V106<>STRING_NOCAS,$V108=\"\"),\"未入力\",\"\")","v":"未入力"}]
[null,null,null,null,null,null,null,null,null,null,null,null,null,null,"※「CAS番号なし」の場合入力\nCAS番号",null,null,null,null,null,null,null,null,{"$f":"IF(AND($V106=STRING_NOCAS,$V109=\"\"),\"未入力\",\"\")","v":""}]
[null,null,null,null,null,null,null,null,null,null,null,null,null,null,"※「CAS番号なし」の場合入力\n物質名称（日本語名）",null,null,null,null,null,null,null,null,{"$f":"IF(AND($V106=STRING_NOCAS,$V110=\"\"),\"未入力\",\"\")","v":""}]
[null,null,null,null,null,null,"事業所内の当該第二種指定物質の製造施設の数",null,null,null,null,null,null,null,null,null,null,null,null,null,null,1,null,{"$f":"IF($V111=\"\",\"未入力\",\"\")","v":""}]
[null,null,null,null,null,null,"事業所内の当該第二種指定物質の製造施設の位置",null,null,null,null,null,null,null,null,null,null,null,null,null,null,"別添資料のとおり",null,{"$f":"IF($V112=\"\",\"未入力\",\"\")","v":""}]
[null,null,null,null,null,null,"施設ごとの数量",null,null,null,"施設（１）",null,null,null,"施設名称"]
[null,null,null,null,null,null,null,null,null,null,null,null,null,null,"数量\n(t)",null,null,null,null,null,null,null,null,{"$f":"IF($V114=\"\",\"未入力\",\"\")","v":"未入力"}]
[null,null,null,null,null,null,null,null,null,null,"施設（２）",null,null,null,"施設名称",null,null,null,null,null,null,""]
[null,null,null,null,null,null,null,null,null,null,null,null,null,null,"数量\n(t)",null,null,null,null,null,null,null,null,{"$f":"IF(AND($V116=\"\", $V111 > 1),\"未入力\",\"\")","v":""}]
[null,null,null,null,null,null,null,null,null,null,"施設（３）",null,null,null,"施設名称",null,null,null,null,null,null,""]
[null,null,null,null,null,null,null,null,null,null,null,null,null,null,"数量\n(t)",null,null,null,null,null,null,null,null,{"$f":"IF(AND($V118=\"\", $V111 > 2),\"未入力\",\"\")","v":""}]
[null,null,null,null,null,null,null,null,null,null,"施設（４）",null,null,null,"施設名称",null,null,null,null,null,null,""]
[null,null,null,null,null,null,null,null,null,null,null,null,null,null,"数量\n(t)",null,null,null,null,null,null,null,null,{"$f":"IF(AND($V120=\"\", $V111 > 3),\"未入力\",\"\")","v":""}]
[null,null,null,null,null,null,null,null,null,null,"施設（５）",null,null,null,"施設名称",null,null,null,null,null,null,""]
[null,null,null,null,null,null,null,null,null,null,null,null,null,null,"数量\n(t)",null,null,null,null,null,null,null,null,{"$f":"IF(AND($V122=\"\", $V111 > 4),\"未入力\",\"\")","v":""}]
[null,null,null,null,null,null,"和文の様式の提出のみで十分ですか？\n（英文の申告Formの提出は不要ですか？）",null,null,null,null,null,null,null,null,null,null,null,null,null,null,"いいえ",null,{"$f":"IF($V123=\"\",\"未入力\",\"\")","v":""}]
[null,null,null,null,null,null,"英文Formの提出が不要である場合、その理由を選択してください",null,null,null,null,null,null,null,null,null,null,null,null,null,null,"－",null,{"$f":"IF(AND(OR($V124=\"\", $V124=LIST!$AE$5), $V123 = LIST!$AK$6 ),\"未入力\",\"\")","v":""}]
[null,null,null,null,null,null,null,null,null,null,null,null,null,null,null,null,null,null,null,null,null,"日本語",null,"自動入力チェック"]
[null,"製造をしようとする第二種指定物質の情報（６）",null,null,null,null,"製造をしようとする第二種指定物質",null,null,null,null,null,null,null,"CAS番号",null,null,null,null,null,null,null,null,{"$f":"IF($V126=\"\",\"未入力\",\"\")","v":"未入力"}]
[null,null,null,null,null,null,null,null,null,null,null,null,null,null,"条約表剤番号",null,null,null,null,null,null,"",null,{"$f":"IF($V127=\"\",\"未入力\",\"\")","v":"未入力"}]
[null,null,null,null,null,null,null,null,null,null,null,null,null,null,"物質名称（日本語名）",null,null,null,null,null,null,null,null,{"$f":"IF(AND($V126<>STRING_NOCAS,$V128=\"\"),\"未入力\",\"\")","v":"未入力"}]
[null,null,null,null,null,null,null,null,null,null,null,null,null,null,"※「CAS番号なし」の場合入力\nCAS番号",null,null,null,null,null,null,null,null,{"$f":"IF(AND($V126=STRING_NOCAS,$V129=\"\"),\"未入力\",\"\")","v":""}]
[null,null,null,null,null,null,null,null,null,null,null,null,null,null,"※「CAS番号なし」の場合入力\n物質名称（日本語名）",null,null,null,null,null,null,null,null,{"$f":"IF(AND($V126=STRING_NOCAS,$V130=\"\"),\"未入力\",\"\")","v":""}]
[null,null,null,null,null,null,"事業所内の当該第二種指定物質の製造施設の数",null,null,null,null,null,null,null,null,null,null,null,null,null,null,1,null,{"$f":"IF($V131=\"\",\"未入力\",\"\")","v":""}]
[null,null,null,null,null,null,"事業所内の当該第二種指定物質の製造施設の位置",null,null,null,null,null,null,null,null,null,null,null,null,null,null,"別添資料のとおり",null,{"$f":"IF($V132=\"\",\"未入力\",\"\")","v":""}]
[null,null,null,null,null,null,"施設ごとの数量",null,null,null,"施設（１）",null,null,null,"施設名称"]
[null,null,null,null,null,null,null,null,null,null,null,null,null,null,"数量\n(t)",null,null,null,null,null,null,null,null,{"$f":"IF($V134=\"\",\"未入力\",\"\")","v":"未入力"}]
[null,null,null,null,null,null,null,null,null,null,"施設（２）",null,null,null,"施設名称",null,null,null,null,null,null,""]
[null,null,null,null,null,null,null,null,null,null,null,null,null,null,"数量\n(t)",null,null,null,null,null,null,null,null,{"$f":"IF(AND($V136=\"\", $V131 > 1),\"未入力\",\"\")","v":""}]
[null,null,null,null,null,null,null,null,null,null,"施設（３）",null,null,null,"施設名称",null,null,null,null,null,null,""]
[null,null,null,null,null,null,null,null,null,null,null,null,null,null,"数量\n(t)",null,null,null,null,null,null,null,null,{"$f":"IF(AND($V138=\"\", $V131 > 2),\"未入力\",\"\")","v":""}]
[null,null,null,null,null,null,null,null,null,null,"施設（４）",null,null,null,"施設名称",null,null,null,null,null,null,""]
[null,null,null,null,null,null,null,null,null,null,null,null,null,null,"数量\n(t)",null,null,null,null,null,null,null,null,{"$f":"IF(AND($V140=\"\", $V131 > 3),\"未入力\",\"\")","v":""}]
[null,null,null,null,null,null,null,null,null,null,"施設（５）",null,null,null,"施設名称",null,null,null,null,null,null,""]
[null,null,null,null,null,null,null,null,null,null,null,null,null,null,"数量\n(t)",null,null,null,null,null,null,null,null,{"$f":"IF(AND($V142=\"\", $V131 > 4),\"未入力\",\"\")","v":""}]
[null,null,null,null,null,null,"和文の様式の提出のみで十分ですか？\n（英文の申告Formの提出は不要ですか？）",null,null,null,null,null,null,null,null,null,null,null,null,null,null,"いいえ",null,{"$f":"IF($V143=\"\",\"未入力\",\"\")","v":""}]
[null,null,null,null,null,null,"英文Formの提出が不要である場合、その理由を選択してください",null,null,null,null,null,null,null,null,null,null,null,null,null,null,"－",null,{"$f":"IF(AND(OR($V144=\"\", $V144=LIST!$AE$5), $V143 = LIST!$AK$6 ),\"未入力\",\"\")","v":""}]
[null,null,null,null,null,null,null,null,null,null,null,null,null,null,null,null,null,null,null,null,null,"日本語",null,"自動入力チェック"]
[null,"製造をしようとする第二種指定物質の情報（７）",null,null,null,null,"製造をしようとする第二種指定物質",null,null,null,null,null,null,null,"CAS番号",null,null,null,null,null,null,null,null,{"$f":"IF($V146=\"\",\"未入力\",\"\")","v":"未入力"}]
[null,null,null,null,null,null,null,null,null,null,null,null,null,null,"条約表剤番号",null,null,null,null,null,null,"",null,{"$f":"IF($V147=\"\",\"未入力\",\"\")","v":"未入力"}]
[null,null,null,null,null,null,null,null,null,null,null,null,null,null,"物質名称（日本語名）",null,null,null,null,null,null,null,null,{"$f":"IF(AND($V146<>STRING_NOCAS,$V148=\"\"),\"未入力\",\"\")","v":"未入力"}]
[null,null,null,null,null,null,null,null,null,null,null,null,null,null,"※「CAS番号なし」の場合入力\nCAS番号",null,null,null,null,null,null,null,null,{"$f":"IF(AND($V146=STRING_NOCAS,$V149=\"\"),\"未入力\",\"\")","v":""}]
[null,null,null,null,null,null,null,null,null,null,null,null,null,null,"※「CAS番号なし」の場合入力\n物質名称（日本語名）",null,null,null,null,null,null,null,null,{"$f":"IF(AND($V146=STRING_NOCAS,$V150=\"\"),\"未入力\",\"\")","v":""}]
[null,null,null,null,null,null,"事業所内の当該第二種指定物質の製造施設の数",null,null,null,null,null,null,null,null,null,null,null,null,null,null,1,null,{"$f":"IF($V151=\"\",\"未入力\",\"\")","v":""}]
[null,null,null,null,null,null,"事業所内の当該第二種指定物質の製造施設の位置",null,null,null,null,null,null,null,null,null,null,null,null,null,null,"別添資料のとおり",null,{"$f":"IF($V152=\"\",\"未入力\",\"\")","v":""}]
[null,null,null,null,null,null,"施設ごとの数量",null,null,null,"施設（１）",null,null,null,"施設名称"]
[null,null,null,null,null,null,null,null,null,null,null,null,null,null,"数量\n(t)",null,null,null,null,null,null,null,null,{"$f":"IF($V154=\"\",\"未入力\",\"\")","v":"未入力"}]
[null,null,null,null,null,null,null,null,null,null,"施設（２）",null,null,null,"施設名称",null,null,null,null,null,null,""]
[null,null,null,null,null,null,null,null,null,null,null,null,null,null,"数量\n(t)",null,null,null,null,null,null,null,null,{"$f":"IF(AND($V156=\"\", $V151 > 1),\"未入力\",\"\")","v":""}]
[null,null,null,null,null,null,null,null,null,null,"施設（３）",null,null,null,"施設名称",null,null,null,null,null,null,""]
[null,null,null,null,null,null,null,null,null,null,null,null,null,null,"数量\n(t)",null,null,null,null,null,null,null,null,{"$f":"IF(AND($V158=\"\", $V151 > 2),\"未入力\",\"\")","v":""}]
[null,null,null,null,null,null,null,null,null,null,"施設（４）",null,null,null,"施設名称",null,null,null,null,null,null,""]
[null,null,null,null,null,null,null,null,null,null,null,null,null,null,"数量\n(t)",null,null,null,null,null,null,null,null,{"$f":"IF(AND($V160=\"\", $V151 > 3),\"未入力\",\"\")","v":""}]
[null,null,null,null,null,null,null,null,null,null,"施設（５）",null,null,null,"施設名称",null,null,null,null,null,null,""]
[null,null,null,null,null,null,null,null,null,null,null,null,null,null,"数量\n(t)",null,null,null,null,null,null,null,null,{"$f":"IF(AND($V162=\"\", $V151 > 4),\"未入力\",\"\")","v":""}]
[null,null,null,null,null,null,"和文の様式の提出のみで十分ですか？\n（英文の申告Formの提出は不要ですか？）",null,null,null,null,null,null,null,null,null,null,null,null,null,null,"いいえ",null,{"$f":"IF($V163=\"\",\"未入力\",\"\")","v":""}]
[null,null,null,null,null,null,"英文Formの提出が不要である場合、その理由を選択してください",null,null,null,null,null,null,null,null,null,null,null,null,null,null,"－",null,{"$f":"IF(AND(OR($V164=\"\", $V164=LIST!$AE$5), $V163 = LIST!$AK$6 ),\"未入力\",\"\")","v":""}]
[null,null,null,null,null,null,null,null,null,null,null,null,null,null,null,null,null,null,null,null,null,"日本語",null,"自動入力チェック"]
[null,"製造をしようとする第二種指定物質の情報（８）",null,null,null,null,"製造をしようとする第二種指定物質",null,null,null,null,null,null,null,"CAS番号",null,null,null,null,null,null,null,null,{"$f":"IF($V166=\"\",\"未入力\",\"\")","v":"未入力"}]
[null,null,null,null,null,null,null,null,null,null,null,null,null,null,"条約表剤番号",null,null,null,null,null,null,"",null,{"$f":"IF($V167=\"\",\"未入力\",\"\")","v":"未入力"}]
[null,null,null,null,null,null,null,null,null,null,null,null,null,null,"物質名称（日本語名）",null,null,null,null,null,null,null,null,{"$f":"IF(AND($V166<>STRING_NOCAS,$V168=\"\"),\"未入力\",\"\")","v":"未入力"}]
[null,null,null,null,null,null,null,null,null,null,null,null,null,null,"※「CAS番号なし」の場合入力\nCAS番号",null,null,null,null,null,null,null,null,{"$f":"IF(AND($V166=STRING_NOCAS,$V169=\"\"),\"未入力\",\"\")","v":""}]
[null,null,null,null,null,null,null,null,null,null,null,null,null,null,"※「CAS番号なし」の場合入力\n物質名称（日本語名）",null,null,null,null,null,null,null,null,{"$f":"IF(AND($V166=STRING_NOCAS,$V170=\"\"),\"未入力\",\"\")","v":""}]
[null,null,null,null,null,null,"事業所内の当該第二種指定物質の製造施設の数",null,null,null,null,null,null,null,null,null,null,null,null,null,null,1,null,{"$f":"IF($V171=\"\",\"未入力\",\"\")","v":""}]
[null,null,null,null,null,null,"事業所内の当該第二種指定物質の製造施設の位置",null,null,null,null,null,null,null,null,null,null,null,null,null,null,"別添資料のとおり",null,{"$f":"IF($V172=\"\",\"未入力\",\"\")","v":""}]
[null,null,null,null,null,null,"施設ごとの数量",null,null,null,"施設（１）",null,null,null,"施設名称"]
[null,null,null,null,null,null,null,null,null,null,null,null,null,null,"数量\n(t)",null,null,null,null,null,null,null,null,{"$f":"IF($V174=\"\",\"未入力\",\"\")","v":"未入力"}]
[null,null,null,null,null,null,null,null,null,null,"施設（２）",null,null,null,"施設名称",null,null,null,null,null,null,""]
[null,null,null,null,null,null,null,null,null,null,null,null,null,null,"数量\n(t)",null,null,null,null,null,null,null,null,{"$f":"IF(AND($V176=\"\", $V171 > 1),\"未入力\",\"\")","v":""}]
[null,null,null,null,null,null,null,null,null,null,"施設（３）",null,null,null,"施設名称",null,null,null,null,null,null,""]
[null,null,null,null,null,null,null,null,null,null,null,null,null,null,"数量\n(t)",null,null,null,null,null,null,null,null,{"$f":"IF(AND($V178=\"\", $V171 > 2),\"未入力\",\"\")","v":""}]
[null,null,null,null,null,null,null,null,null,null,"施設（４）",null,null,null,"施設名称",null,null,null,null,null,null,""]
[null,null,null,null,null,null,null,null,null,null,null,null,null,null,"数量\n(t)",null,null,null,null,null,null,null,null,{"$f":"IF(AND($V180=\"\", $V171 > 3),\"未入力\",\"\")","v":""}]
[null,null,null,null,null,null,null,null,null,null,"施設（５）",null,null,null,"施設名称",null,null,null,null,null,null,""]
[null,null,null,null,null,null,null,null,null,null,null,null,null,null,"数量\n(t)",null,null,null,null,null,null,null,null,{"$f":"IF(AND($V182=\"\", $V171 > 4),\"未入力\",\"\")","v":""}]
[null,null,null,null,null,null,"和文の様式の提出のみで十分ですか？\n（英文の申告Formの提出は不要ですか？）",null,null,null,null,null,null,null,null,null,null,null,null,null,null,"いいえ",null,{"$f":"IF($V183=\"\",\"未入力\",\"\")","v":""}]
[null,null,null,null,null,null,"英文Formの提出が不要である場合、その理由を選択してください",null,null,null,null,null,null,null,null,null,null,null,null,null,null,"－",null,{"$f":"IF(AND(OR($V184=\"\", $V184=LIST!$AE$5), $V183 = LIST!$AK$6 ),\"未入力\",\"\")","v":""}]
[]
[null,"国際機関に申告するための書面（Form）を提出する事業所の情報を入力してください。"]
[null,"Form3.2作成のための入力ブロック"]
[]
[null,null,null,null,null,null,null,null,null,null,null,null,null,null,null,null,null,null,null,null,null,null,null,"自動入力チェック"]
[null,"事業所内の申告された表2剤（第一種指定物質）施設の数",null,null,null,null,null,null,null,null,null,null,null,null,null,null,null,null,null,null,null,null,null,{"$f":"IF(AND($V$190=\"\",CNT_FORM33<>0),\"未入力\",\"\")","v":"未入力"}]
[]
[null,"Formに記載する事業所内の施設（プラント）の情報を入力してください。8施設まで入力できます。"]
[null,"Form3.3作成のための入力ブロック"]
[]
[null,"プラント数：",null,1,null,null,null,"←初めに選択してください。"]
[null,null,null,null,null,null,null,null,null,null,null,null,null,null,null,null,null,null,null,null,null,"英語",null,"自動入力チェック"]
[null,"当該製造施設ごとの情報",null,"施設（１）",null,null,null,null,null,null,null,"施設名称（英語で入力）",null,null,null,null,null,null,null,null,null,"",null,{"$f":"IF($V197=\"\",\"未入力\",\"\")","v":"未入力"}]
[null,null,null,null,null,null,null,null,null,null,null,"プラントコード",null,null,null,null,null,null,null,null,null,null,null,{"$f":"IF($V198=\"\",\"未入力\",\"\")","v":"未入力"}]
[null,null,null,null,null,null,null,null,null,null,null,"事業所内の施設の正確な場所\n（英語で入力）"]
[null,null,null,null,null,null,null,null,null,null,null,"施設を特定する構造物番号"]
[null,null,null,null,null,null,null,null,null,null,null,"施設を特定する建物番号"]
[null,null,null,null,null,null,null,null,null,null,null,"施設についての追加的情報\n（英語で入力）"]
[null,null,null,null,null,null,null,null,null,null,null,null,null,null,null,null,null,null,null,null,null,{"$f":"IF(V204=\"\",\"\",V204)","v":""},null,{"$f":"IF($V203=\"\",\"未入力\",\"\")","v":"未入力"}]
[null,null,null,null,null,null,null,null,null,null,null,"施設の主要な活動\n（シート保護対策非表示）"]
[]
[]
[]
[null,null,null,null,null,null,null,null,null,null,null,null,null,null,null,null,null,null,null,null,null,"英語",null,"自動入力チェック"]
[null,"当該製造施設ごとの情報",null,"施設（2）",null,null,null,null,null,null,null,"施設名称（英語で入力）",null,null,null,null,null,null,null,null,null,null,null,{"$f":"IF($V209=\"\",\"未入力\",\"\")","v":"未入力"}]
[null,null,null,null,null,null,null,null,null,null,null,"プラントコード",null,null,null,null,null,null,null,null,null,"",null,{"$f":"IF($V210=\"\",\"未入力\",\"\")","v":"未入力"}]
[null,null,null,null,null,null,null,null,null,null,null,"事業所内の施設の正確な場所\n（英語で入力）"]
[null,null,null,null,null,null,null,null,null,null,null,"施設を特定する構造物番号"]
[null,null,null,null,null,null,null,null,null,null,null,"施設を特定する建物番号"]
[null,null,null,null,null,null,null,null,null,null,null,"施設についての追加的情報\n（英語で入力）"]
[null,null,null,null,null,null,null,null,null,null,null,null,null,null,null,null,null,null,null,null,null,{"$f":"IF(V216=\"\",\"\",V216)","v":""},null,{"$f":"IF($V215=\"\",\"未入力\",\"\")","v":"未入力"}]
[null,null,null,null,null,null,null,null,null,null,null,"施設の主要な活動\n（シート保護対策非表示）",null,null,null,null,null,null,null,null,null,""]
[]
[]
[]
[null,null,null,null,null,null,null,null,null,null,null,null,null,null,null,null,null,null,null,null,null,"英語",null,"自動入力チェック"]
[null,"当該製造施設ごとの情報",null,"施設（３）",null,null,null,null,null,null,null,"施設名称（英語で入力）",null,null,null,null,null,null,null,null,null,"",null,{"$f":"IF($V221=\"\",\"未入力\",\"\")","v":"未入力"}]
[null,null,null,null,null,null,null,null,null,null,null,"プラントコード",null,null,null,null,null,null,null,null,null,"",null,{"$f":"IF($V222=\"\",\"未入力\",\"\")","v":"未入力"}]
[null,null,null,null,null,null,null,null,null,null,null,"事業所内の施設の正確な場所\n（英語で入力）"]
[null,null,null,null,null,null,null,null,null,null,null,"施設を特定する構造物番号"]
[null,null,null,null,null,null,null,null,null,null,null,"施設を特定する建物番号"]
[null,null,null,null,null,null,null,null,null,null,null,"施設についての追加的情報\n（英語で入力）"]
[null,null,null,null,null,null,null,null,null,null,null,null,null,null,null,null,null,null,null,null,null,{"$f":"IF(V228=\"\",\"\",V228)","v":""},null,{"$f":"IF($V227=\"\",\"未入力\",\"\")","v":"未入力"}]
[null,null,null,null,null,null,null,null,null,null,null,"施設の主要な活動\n（シート保護対策非表示）",null,null,null,null,null,null,null,null,null,""]
[]
[]
[]
[null,null,null,null,null,null,null,null,null,null,null,null,null,null,null,null,null,null,null,null,null,"英語",null,"自動入力チェック"]
[null,"当該製造施設ごとの情報",null,"施設（４）",null,null,null,null,null,null,null,"施設名称（英語で入力）",null,null,null,null,null,null,null,null,null,"",null,{"$f":"IF($V233=\"\",\"未入力\",\"\")","v":"未入力"}]
[null,null,null,null,null,null,null,null,null,null,null,"プラントコード",null,null,null,null,null,null,null,null,null,"",null,{"$f":"IF($V234=\"\",\"未入力\",\"\")","v":"未入力"}]
[null,null,null,null,null,null,null,null,null,null,null,"事業所内の施設の正確な場所\n（英語で入力）"]
[null,null,null,null,null,null,null,null,null,null,null,"施設を特定する構造物番号"]
[null,null,null,null,null,null,null,null,null,null,null,"施設を特定する建物番号"]
[null,null,null,null,null,null,null,null,null,null,null,"施設についての追加的情報\n（英語で入力）"]
[null,null,null,null,null,null,null,null,null,null,null,null,null,null,null,null,null,null,null,null,null,{"$f":"IF(V240=\"\",\"\",V240)","v":""},null,{"$f":"IF($V239=\"\",\"未入力\",\"\")","v":"未入力"}]
[null,null,null,null,null,null,null,null,null,null,null,"施設の主要な活動\n（シート保護対策非表示）",null,null,null,null,null,null,null,null,null,""]
[]
[]
[]
[null,null,null,null,null,null,null,null,null,null,null,null,null,null,null,null,null,null,null,null,null,"英語",null,"自動入力チェック"]
[null,"当該製造施設ごとの情報",null,"施設（５）",null,null,null,null,null,null,null,"施設名称（英語で入力）",null,null,null,null,null,null,null,null,null,"",null,{"$f":"IF($V245=\"\",\"未入力\",\"\")","v":"未入力"}]
[null,null,null,null,null,null,null,null,null,null,null,"プラントコード",null,null,null,null,null,null,null,null,null,"",null,{"$f":"IF($V246=\"\",\"未入力\",\"\")","v":"未入力"}]
[null,null,null,null,null,null,null,null,null,null,null,"事業所内の施設の正確な場所\n（英語で入力）"]
[null,null,null,null,null,null,null,null,null,null,null,"施設を特定する構造物番号"]
[null,null,null,null,null,null,null,null,null,null,null,"施設を特定する建物番号"]
[null,null,null,null,null,null,null,null,null,null,null,"施設についての追加的情報\n（英語で入力）"]
[null,null,null,null,null,null,null,null,null,null,null,null,null,null,null,null,null,null,null,null,null,{"$f":"IF(V252=\"\",\"\",V252)","v":""},null,{"$f":"IF($V251=\"\",\"未入力\",\"\")","v":"未入力"}]
[null,null,null,null,null,null,null,null,null,null,null,"施設の主要な活動\n（シート保護対策非表示）",null,null,null,null,null,null,null,null,null,""]
[]
[]
[]
[null,null,null,null,null,null,null,null,null,null,null,null,null,null,null,null,null,null,null,null,null,"英語",null,"自動入力チェック"]
[null,"当該製造施設ごとの情報",null,"施設（６）",null,null,null,null,null,null,null,"施設名称（英語で入力）",null,null,null,null,null,null,null,null,null,"",null,{"$f":"IF($V257=\"\",\"未入力\",\"\")","v":"未入力"}]
[null,null,null,null,null,null,null,null,null,null,null,"プラントコード",null,null,null,null,null,null,null,null,null,"",null,{"$f":"IF($V258=\"\",\"未入力\",\"\")","v":"未入力"}]
[null,null,null,null,null,null,null,null,null,null,null,"事業所内の施設の正確な場所\n（英語で入力）"]
[null,null,null,null,null,null,null,null,null,null,null,"施設を特定する構造物番号"]
[null,null,null,null,null,null,null,null,null,null,null,"施設を特定する建物番号"]
[null,null,null,null,null,null,null,null,null,null,null,"施設についての追加的情報\n（英語で入力）"]
[null,null,null,null,null,null,null,null,null,null,null,null,null,null,null,null,null,null,null,null,null,{"$f":"IF(V264=\"\",\"\",V264)","v":""},null,{"$f":"IF($V263=\"\",\"未入力\",\"\")","v":"未入力"}]
[null,null,null,null,null,null,null,null,null,null,null,"施設の主要な活動\n（シート保護対策非表示）",null,null,null,null,null,null,null,null,null,""]
[]
[]
[]
[null,null,null,null,null,null,null,null,null,null,null,null,null,null,null,null,null,null,null,null,null,"英語",null,"自動入力チェック"]
[null,"当該製造施設ごとの情報",null,"施設（７）",null,null,null,null,null,null,null,"施設名称（英語で入力）",null,null,null,null,null,null,null,null,null,"",null,{"$f":"IF($V269=\"\",\"未入力\",\"\")","v":"未入力"}]
[null,null,null,null,null,null,null,null,null,null,null,"プラントコード",null,null,null,null,null,null,null,null,null,"",null,{"$f":"IF($V270=\"\",\"未入力\",\"\")","v":"未入力"}]
[null,null,null,null,null,null,null,null,null,null,null,"事業所内の施設の正確な場所\n（英語で入力）"]
[null,null,null,null,null,null,null,null,null,null,null,"施設を特定する構造物番号"]
[null,null,null,null,null,null,null,null,null,null,null,"施設を特定する建物番号"]
[null,null,null,null,null,null,null,null,null,null,null,"施設についての追加的情報\n（英語で入力）"]
[null,null,null,null,null,null,null,null,null,null,null,null,null,null,null,null,null,null,null,null,null,{"$f":"IF(V276=\"\",\"\",V276)","v":""},null,{"$f":"IF($V275=\"\",\"未入力\",\"\")","v":"未入力"}]
[null,null,null,null,null,null,null,null,null,null,null,"施設の主要な活動\n（シート保護対策非表示）",null,null,null,null,null,null,null,null,null,""]
[]
[]
[]
[null,null,null,null,null,null,null,null,null,null,null,null,null,null,null,null,null,null,null,null,null,"英語",null,"自動入力チェック"]
[null,"当該製造施設ごとの情報",null,"施設（８）",null,null,null,null,null,null,null,"施設名称（英語で入力）",null,null,null,null,null,null,null,null,null,"",null,{"$f":"IF($V281=\"\",\"未入力\",\"\")","v":"未入力"}]
[null,null,null,null,null,null,null,null,null,null,null,"プラントコード",null,null,null,null,null,null,null,null,null,"",null,{"$f":"IF($V282=\"\",\"未入力\",\"\")","v":"未入力"}]
[null,null,null,null,null,null,null,null,null,null,null,"事業所内の施設の正確な場所\n（英語で入力）"]
[null,null,null,null,null,null,null,null,null,null,null,"施設を特定する構造物番号"]
[null,null,null,null,null,null,null,null,null,null,null,"施設を特定する建物番号"]
[null,null,null,null,null,null,null,null,null,null,null,"施設についての追加的情報\n（英語で入力）"]
[null,null,null,null,null,null,null,null,null,null,null,null,null,null,null,null,null,null,null,null,null,{"$f":"IF(V288=\"\",\"\",V288)","v":""},null,{"$f":"IF($V287=\"\",\"未入力\",\"\")","v":"未入力"}]
[null,null,null,null,null,null,null,null,null,null,null,"施設の主要な活動\n（シート保護対策非表示）",null,null,null,null,null,null,null,null,null,""]
[]
[]
[]
[]
[null,"Formに記載する表３剤に関する活動の目的を入力してください。"]
[null,"Form3.4作成のための入力ブロック"]
[null,"表３剤の物質数：",null,1,null,null,null,"←初めに選択してください。"]
[]
[]
[null,null,null,null,null,null,null,null,null,null,null,null,null,null,null,null,null,null,null,null,null,"英語",null,"自動入力チェック"]
[null,"表3剤の情報（１）\n",null,null,null,null,"CAS番号",null,null,null,null,null,null,null,null,null,null,null,null,null,null,null,null,{"$f":"IF($V299=\"\",\"未入力\",\"\")","v":"未入力"}]
[null,null,null,null,null,null,"※「CAS番号なし」の場合入力\nCAS番号",null,null,null,null,null,null,null,null,null,null,null,null,null,null,null,null,{"$f":"IF(AND($V299=STRING_NOCAS,$V300=\"\"),\"未入力\",\"\")","v":""}]
[null,null,null,null,null,null,"物質名称（英語名）",null,null,null,null,null,null,null,null,null,null,null,null,null,null,null,null,{"$f":"IF($V301=\"\",\"未入力\",\"\")","v":"未入力"}]
[null,null,null,null,null,null,"一般名又は取引名(英語で入力）"]
[null,null,null,null,null,null,"製造をしようとする第二種指定物質の生産数量区分",null,null,null,null,null,null,null,null,null,null,null,null,null,null,null,null,{"$f":"IF($V303=\"\",\"未入力\",\"\")","v":"未入力"}]
[null,null,null,null,null,null,"活動の目的（３つまで）",null,null,null,null,null,null,null,null,null,null,null,null,null,null,null,null,{"$f":"IF($V304=\"\",\"未入力\",\"\")","v":"未入力"}]
[]
[]
[null,null,null,null,null,null,null,null,null,null,null,null,null,null,null,null,null,null,null,null,null,"英語",null,"自動入力チェック"]
[null,"表3剤の情報（２）\n",null,null,null,null,"CAS番号",null,null,null,null,null,null,null,null,null,null,null,null,null,null,null,null,{"$f":"IF($V308=\"\",\"未入力\",\"\")","v":"未入力"}]
[null,null,null,null,null,null,"※「CAS番号なし」の場合入力\nCAS番号",null,null,null,null,null,null,null,null,null,null,null,null,null,null,null,null,{"$f":"IF(AND($V308=STRING_NOCAS,$V309=\"\"),\"未入力\",\"\")","v":""}]
[null,null,null,null,null,null,"物質名称（英語名）",null,null,null,null,null,null,null,null,null,null,null,null,null,null,"",null,{"$f":"IF($V310=\"\",\"未入力\",\"\")","v":"未入力"}]
[null,null,null,null,null,null,"一般名又は取引名(英語で入力）"]
[null,null,null,null,null,null,"製造をしようとする第二種指定物質の生産数量区分",null,null,null,null,null,null,null,null,null,null,null,null,null,null,null,null,{"$f":"IF($V312=\"\",\"未入力\",\"\")","v":"未入力"}]
[null,null,null,null,null,null,"活動の目的（３つまで）",null,null,null,null,null,null,null,null,null,null,null,null,null,null,null,null,{"$f":"IF($V313=\"\",\"未入力\",\"\")","v":"未入力"}]
[]
[]
[null,null,null,null,null,null,null,null,null,null,null,null,null,null,null,null,null,null,null,null,null,"英語",null,"自動入力チェック"]
[null,"表3剤の情報（３）\n",null,null,null,null,"CAS番号",null,null,null,null,null,null,null,null,null,null,null,null,null,null,null,null,{"$f":"IF($V317=\"\",\"未入力\",\"\")","v":"未入力"}]
[null,null,null,null,null,null,"※「CAS番号なし」の場合入力\nCAS番号",null,null,null,null,null,null,null,null,null,null,null,null,null,null,null,null,{"$f":"IF(AND($V317=STRING_NOCAS,$V318=\"\"),\"未入力\",\"\")","v":""}]
[null,null,null,null,null,null,"物質名称（英語名）",null,null,null,null,null,null,null,null,null,null,null,null,null,null,"",null,{"$f":"IF($V319=\"\",\"未入力\",\"\")","v":"未入力"}]
[null,null,null,null,null,null,"一般名又は取引名(英語で入力）"]
[null,null,null,null,null,null,"製造をしようとする第二種指定物質の生産数量区分",null,null,null,null,null,null,null,null,null,null,null,null,null,null,null,null,{"$f":"IF($V321=\"\",\"未入力\",\"\")","v":"未入力"}]
[null,null,null,null,null,null,"活動の目的（３つまで）",null,null,null,null,null,null,null,null,null,null,null,null,null,null,null,null,{"$f":"IF($V322=\"\",\"未入力\",\"\")","v":"未入力"}]
[]
[]
[null,null,null,null,null,null,null,null,null,null,null,null,null,null,null,null,null,null,null,null,null,"英語",null,"自動入力チェック"]
[null,"表3剤の情報（４）\n",null,null,null,null,"CAS番号",null,null,null,null,null,null,null,null,null,null,null,null,null,null,null,null,{"$f":"IF($V326=\"\",\"未入力\",\"\")","v":"未入力"}]
[null,null,null,null,null,null,"※「CAS番号なし」の場合入力\nCAS番号",null,null,null,null,null,null,null,null,null,null,null,null,null,null,null,null,{"$f":"IF(AND($V326=STRING_NOCAS,$V327=\"\"),\"未入力\",\"\")","v":""}]
[null,null,null,null,null,null,"物質名称（英語名）",null,null,null,null,null,null,null,null,null,null,null,null,null,null,null,null,{"$f":"IF($V328=\"\",\"未入力\",\"\")","v":"未入力"}]
[null,null,null,null,null,null,"一般名又は取引名(英語で入力）"]
[null,null,null,null,null,null,"製造をしようとする第二種指定物質の生産数量区分",null,null,null,null,null,null,null,null,null,null,null,null,null,null,null,null,{"$f":"IF($V330=\"\",\"未入力\",\"\")","v":"未入力"}]
[null,null,null,null,null,null,"活動の目的（３つまで）",null,null,null,null,null,null,null,null,null,null,null,null,null,null,null,null,{"$f":"IF($V331=\"\",\"未入力\",\"\")","v":"未入力"}]
[]
[]
[null,null,null,null,null,null,null,null,null,null,null,null,null,null,null,null,null,null,null,null,null,"英語",null,"自動入力チェック"]
[null,"表3剤の情報（５）\n",null,null,null,null,"CAS番号",null,null,null,null,null,null,null,null,null,null,null,null,null,null,null,null,{"$f":"IF($V335=\"\",\"未入力\",\"\")","v":"未入力"}]
[null,null,null,null,null,null,"※「CAS番号なし」の場合入力\nCAS番号",null,null,null,null,null,null,null,null,null,null,null,null,null,null,null,null,{"$f":"IF(AND($V335=STRING_NOCAS,$V336=\"\"),\"未入力\",\"\")","v":""}]
[null,null,null,null,null,null,"物質名称（英語名）",null,null,null,null,null,null,null,null,null,null,null,null,null,null,null,null,{"$f":"IF($V337=\"\",\"未入力\",\"\")","v":"未入力"}]
[null,null,null,null,null,null,"一般名又は取引名(英語で入力）"]
[null,null,null,null,null,null,"製造をしようとする第二種指定物質の生産数量区分",null,null,null,null,null,null,null,null,null,null,null,null,null,null,null,null,{"$f":"IF($V339=\"\",\"未入力\",\"\")","v":"未入力"}]
[null,null,null,null,null,null,"活動の目的（３つまで）",null,null,null,null,null,null,null,null,null,null,null,null,null,null,null,null,{"$f":"IF($V340=\"\",\"未入力\",\"\")","v":"未入力"}]
[]
[]
[null,null,null,null,null,null,null,null,null,null,null,null,null,null,null,null,null,null,null,null,null,"英語",null,"自動入力チェック"]
[null,"表3剤の情報（６）\n",null,null,null,null,"CAS番号",null,null,null,null,null,null,null,null,null,null,null,null,null,null,null,null,{"$f":"IF($V344=\"\",\"未入力\",\"\")","v":"未入力"}]
[null,null,null,null,null,null,"※「CAS番号なし」の場合入力\nCAS番号",null,null,null,null,null,null,null,null,null,null,null,null,null,null,null,null,{"$f":"IF(AND($V344=STRING_NOCAS,$V345=\"\"),\"未入力\",\"\")","v":""}]
[null,null,null,null,null,null,"物質名称（英語名）",null,null,null,null,null,null,null,null,null,null,null,null,null,null,null,null,{"$f":"IF($V346=\"\",\"未入力\",\"\")","v":"未入力"}]
[null,null,null,null,null,null,"一般名又は取引名(英語で入力）"]
[null,null,null,null,null,null,"製造をしようとする第二種指定物質の生産数量区分",null,null,null,null,null,null,null,null,null,null,null,null,null,null,null,null,{"$f":"IF($V348=\"\",\"未入力\",\"\")","v":"未入力"}]
[null,null,null,null,null,null,"活動の目的（３つまで）",null,null,null,null,null,null,null,null,null,null,null,null,null,null,null,null,{"$f":"IF($V349=\"\",\"未入力\",\"\")","v":"未入力"}]
[]
[]
[null,null,null,null,null,null,null,null,null,null,null,null,null,null,null,null,null,null,null,null,null,"英語",null,"自動入力チェック"]
[null,"表3剤の情報（７）\n",null,null,null,null,"CAS番号",null,null,null,null,null,null,null,null,null,null,null,null,null,null,null,null,{"$f":"IF($V353=\"\",\"未入力\",\"\")","v":"未入力"}]
[null,null,null,null,null,null,"※「CAS番号なし」の場合入力\nCAS番号",null,null,null,null,null,null,null,null,null,null,null,null,null,null,null,null,{"$f":"IF(AND($V353=STRING_NOCAS,$V354=\"\"),\"未入力\",\"\")","v":""}]
[null,null,null,null,null,null,"物質名称（英語名）",null,null,null,null,null,null,null,null,null,null,null,null,null,null,null,null,{"$f":"IF($V355=\"\",\"未入力\",\"\")","v":"未入力"}]
[null,null,null,null,null,null,"一般名又は取引名(英語で入力）"]
[null,null,null,null,null,null,"製造をしようとする第二種指定物質の生産数量区分",null,null,null,null,null,null,null,null,null,null,null,null,null,null,null,null,{"$f":"IF($V357=\"\",\"未入力\",\"\")","v":"未入力"}]
[null,null,null,null,null,null,"活動の目的（３つまで）",null,null,null,null,null,null,null,null,null,null,null,null,null,null,null,null,{"$f":"IF($V358=\"\",\"未入力\",\"\")","v":"未入力"}]
[]
[]
[null,null,null,null,null,null,null,null,null,null,null,null,null,null,null,null,null,null,null,null,null,"英語",null,"自動入力チェック"]
[null,"表3剤の情報（８）\n",null,null,null,null,"CAS番号",null,null,null,null,null,null,null,null,null,null,null,null,null,null,null,null,{"$f":"IF($V362=\"\",\"未入力\",\"\")","v":"未入力"}]
[null,null,null,null,null,null,"※「CAS番号なし」の場合入力\nCAS番号",null,null,null,null,null,null,null,null,null,null,null,null,null,null,null,null,{"$f":"IF(AND($V362=STRING_NOCAS,$V363=\"\"),\"未入力\",\"\")","v":""}]
[null,null,null,null,null,null,"物質名称（英語名）",null,null,null,null,null,null,null,null,null,null,null,null,null,null,null,null,{"$f":"IF($V364=\"\",\"未入力\",\"\")","v":"未入力"}]
[null,null,null,null,null,null,"一般名又は取引名(英語で入力）"]
[null,null,null,null,null,null,"製造をしようとする第二種指定物質の生産数量区分",null,null,null,null,null,null,null,null,null,null,null,null,null,null,null,null,{"$f":"IF($V366=\"\",\"未入力\",\"\")","v":"未入力"}]
[null,null,null,null,null,null,"活動の目的（３つまで）",null,null,null,null,null,null,null,null,null,null,null,null,null,null,null,null,{"$f":"IF($V367=\"\",\"未入力\",\"\")","v":"未入力"}]

{"sheet":"eAppData","index":3,"n_rows":55,"n_cols":52,"rows_kept":55,"cut":false,"hidden":true,"merged":[]}
["事業所マスタ",1,"届出のみ数",{"$f":"COUNTIF($AF$7:$AF$14,\"1\")","v":0},"届出のみ判定",{"$f":"$D$1=$B$5","v":false},"配布Version",2,"様式種別","18","←配布Version、様式種別はR5年改修時追加項目"]
["No","AM018_PlantSiteCode","AM018_PlantSiteName","AM018_ProvinceCode","AM018_Province","AM018_City","AM018_Address","AM018_Report_Post_1","AM018_Report_Address_1","AM018_Report_Department_1","AM018_Report_Position_1","AM018_Report_Person_1","AM018_Report_Tel_1","AM018_Report_Fax_1","AM018_Report_Email_1","AM018_Report_Post_2","AM018_Report_Address_2","AM018_Report_Department_2","AM018_Report_Position_2","AM018_Report_Person_2","AM018_Report_Tel_2","AM018_Report_Fax_2","AM018_Report_Email_2","AM018_Report_Post_3","AM018_Report_Address_3","AM018_Report_Department_3","AM018_Report_Position_3","AM018_Report_Person_3","AM018_Report_Tel_3","AM018_Report_Fax_3","AM018_Report_Email_3","AM018_Inspectiont_Address_1","AM018_Inspectiont_Department_1","AM018_Inspectiont_Position_1","AM018_Inspectiont_Person_1","AM018_Inspectiont_Tel_1","AM018_Inspectiont_Fax_1","AM018_Inspectiont_Email_1","AM018_Inspectiont_Address_2","AM018_Inspectiont_Department_2","AM018_Inspectiont_Position_2","AM018_Inspectiont_Person_2","AM018_Inspectiont_Tel_2","AM018_Inspectiont_Fax_2","AM018_Inspectiont_Email_2","AM018_Inspectiont_Address_3","AM018_Inspectiont_Department_3","AM018_Inspectiont_Position_3","AM018_Inspectiont_Person_3","AM018_Inspectiont_Tel_3","AM018_Inspectiont_Fax_3","AM018_Inspectiont_Email_3"]
[1,{"$f":"ETL!$E$61","v":""},{"$f":"ETL!$E$59","v":""},{"$f":"ETL!$H$62","v":""},{"$f":"ETL!$E$62","v":""},{"$f":"ETL!$E$64","v":""},{"$f":"ETL!$E$66","v":""},{"$f":"ETL!$E$13","v":""},{"$f":"ETL!$E$14","v":""},{"$f":"ETL!$E$15","v":""},{"$f":"ETL!$E$16","v":""},{"$f":"ETL!$E$12","v":""},{"$f":"ETL!$E$17","v":""},{"$f":"ETL!$E$18","v":""},{"$f":"ETL!$E$19","v":""},{"$f":"ETL!$E$21","v":""},{"$f":"ETL!$E$22","v":""},{"$f":"ETL!$E$23","v":""},{"$f":"ETL!$E$24","v":""},{"$f":"ETL!$E$20","v":""},{"$f":"ETL!$E$25","v":""},{"$f":"ETL!$E$26","v":""},{"$f":"ETL!$E$27","v":""},{"$f":"ETL!$E$29","v":""},{"$f":"ETL!$E$30","v":""},{"$f":"ETL!$E$31","v":""},{"$f":"ETL!$E$32","v":""},{"$f":"ETL!$E$28","v":""},{"$f":"ETL!$E$33","v":""},{"$f":"ETL!$E$34","v":""},{"$f":"ETL!$E$35","v":""},{"$f":"IF($D$1=$B$5,\"\",ETL!$E$37)","v":""},{"$f":"IF($D$1=$B$5,\"\",ETL!$E$38)","v":""},{"$f":"IF($D$1=$B$5,\"\",ETL!$E$39)","v":""},{"$f":"IF($D$1=$B$5,\"\",ETL!$E$36)","v":""},{"$f":"IF($D$1=$B$5,\"\",ETL!$E$40)","v":""},{"$f":"IF($D$1=$B$5,\"\",ETL!$E$41)","v":""},{"$f":"IF($D$1=$B$5,\"\",ETL!$E$42)","v":""},{"$f":"IF($D$1=$B$5,\"\",ETL!$E$44)","v":""},{"$f":"IF($D$1=$B$5,\"\",ETL!$E$45)","v":""},{"$f":"IF($D$1=$B$5,\"\",ETL!$E$46)","v":""},{"$f":"IF($D$1=$B$5,\"\",ETL!$E$43)","v":""},{"$f":"IF($D$1=$B$5,\"\",ETL!$E$47)","v":""},{"$f":"IF($D$1=$B$5,\"\",ETL!$E$48)","v":""},{"$f":"IF($D$1=$B$5,\"\",ETL!$E$49)","v":""},{"$f":"IF($D$1=$B$5,\"\",ETL!$E$51)","v":""},{"$f":"IF($D$1=$B$5,\"\",ETL!$E$52)","v":""},{"$f":"IF($D$1=$B$5,\"\",ETL!$E$53)","v":""},{"$f":"IF($D$1=$B$5,\"\",ETL!$E$50)","v":""},{"$f":"IF($D$1=$B$5,\"\",ETL!$E$54)","v":""},{"$f":"IF($D$1=$B$5,\"\",ETL!$E$55)","v":""},{"$f":"IF($D$1=$B$5,\"\",ETL!$E$56)","v":""}]
["↓セルA５はVBAのバージョン管理処理にて使用しているため修正時注意する"]
["様式18の数",{"$f":"ETL!$E83","v":1}]
["No","AT003_RelatesYear","AT003_ReportDay","AT003_OwnerName","AT003_OwnerAddress","AT003_PlantSiteName","AT003_PlantSiteCode","AT003_PlantSiteLocation","AT003_CASRegistryNumber","AT003_GovOrdinance","AT003_ChemicalId","AT003_QuantityManufacture","AT003_QuantityManufactureValue","AT003_NumberPlants","AT003_NumberPlantsValue","AT003_PositionAttachmentFlag","AT003_PlantName1","AT003_QuanManufacturedPlant1","AT003_QuanManufacturedPlantValue1","AT003_PlantName2","AT003_QuanManufacturedPlant2","AT003_QuanManufacturedPlantValue2","AT003_PlantName3","AT003_QuanManufacturedPlant3","AT003_QuanManufacturedPlantValue3","AT003_PlantName4","AT003_QuanManufacturedPlant4","AT003_QuanManufacturedPlantValue4","AT003_PlantName5","AT003_QuanManufacturedPlant5","AT003_QuanManufacturedPlantValue5","AT003_ReportOnlyFlag","AT003_ReportOnlyReason"]
[1,{"$f":"IF($B$5>0,ETL!$E$6,\"\")","v":0},{"$f":" IF($B$5 > 0,ETL!$H$5,\"\")","v":{"$error":"#NUM!"}},{"$f":" IF($B$5 > 0,ETL!$H$7,\"\")","v":""},{"$f":" IF($B$5 > 0,ETL!$E$11,\"\")","v":""},{"$f":" IF($B$5 > 0,ETL!$E$59,\"\")","v":""},{"$f":" IF($B$5 > 0,ETL!$E$61,\"\")","v":""},{"$f":" IF($B$5 > 0,ETL!$H$63,\"\")","v":""},{"$f":" IF($B$5 > 0,ETL!$H85,\"\")","v":""},{"$f":" IF($B$5>0,ETL!$H86,\"\")","v":""},{"$f":" IF($B$5>0,ETL!$J85,\"\")","v":0},{"$f":" IF($B$5>0,ETL!$I91,\"\")","v":""},{"$f":" IF($B$5>0,ETL!$H89,\"\")","v":0},{"$f":" IF($B$5>0,ETL!$I90,\"\")","v":"1"},{"$f":" IF($B$5>0,ETL!$E90,\"\")","v":1},{"$f":" IF($B$5>0,ETL!$K91,\"\")","v":"1"},{"$f":" IF($B$5>0,ETL!$E92,\"\")","v":""},{"$f":" IF($B$5>0,ETL!$E93,\"\")","v":"0"},{"$f":" IF($B$5>0,ETL!$I93,\"\")","v":0},{"$f":" IF($B$5>0,ETL!$E94,\"\")","v":""},{"$f":" IF($B$5>0,ETL!$E95,\"\")","v":"0"},{"$f":" IF($B$5>0,ETL!$I95,\"\")","v":0},{"$f":" IF($B$5>0,ETL!$E96,\"\")","v":""},{"$f":" IF($B$5>0,ETL!$E97,\"\")","v":"0"},{"$f":" IF($B$5>0,ETL!$I97,\"\")","v":0},{"$f":" IF($B$5>0,ETL!$E98,\"\")","v":""},{"$f":" IF($B$5>0,ETL!$E99,\"\")","v":"0"},{"$f":" IF($B$5>0,ETL!$I99,\"\")","v":0},{"$f":" IF($B$5>0,ETL!$E100,\"\")","v":""},{"$f":" IF($B$5>0,ETL!$E101,\"\")","v":"0"},{"$f":" IF($B$5>0,ETL!$I101,\"\")","v":0},{"$f":" IF($B$5>0,ETL!$H102,\"\")","v":"0"},{"$f":" IF($B$5>0,ETL!$H103,\"\")","v":"0"}]
[2,{"$f":"IF($B$5>1,ETL!$E$6,\"\")","v":""},{"$f":" IF($B$5 > 1,ETL!$H$5,\"\")","v":""},{"$f":" IF($B$5 > 1,ETL!$H$7,\"\")","v":""},{"$f":" IF($B$5 > 1,ETL!$E$11,\"\")","v":""},{"$f":" IF($B$5 > 1,ETL!$E$59,\"\")","v":""},{"$f":" IF($B$5 > 1,ETL!$E$61,\"\")","v":""},{"$f":" IF($B$5 > 1,ETL!$H$63,\"\")","v":""},{"$f":" IF($B$5 > 1,ETL!$H105,\"\")","v":""},{"$f":" IF($B$5>1,ETL!$H106,\"\")","v":""},{"$f":" IF($B$5>1,ETL!$J105,\"\")","v":""},{"$f":" IF($B$5>1,ETL!$I111,\"\")","v":""},{"$f":" IF($B$5>1,ETL!$H109,\"\")","v":""},{"$f":" IF($B$5>1,ETL!$I110,\"\")","v":""},{"$f":" IF($B$5>1,ETL!$E110,\"\")","v":""},{"$f":" IF($B$5>1,ETL!$K111,\"\")","v":""},{"$f":" IF($B$5>1,ETL!$E112,\"\")","v":""},{"$f":" IF($B$5>1,ETL!$E113,\"\")","v":""},{"$f":" IF($B$5>1,ETL!$I113,\"\")","v":""},{"$f":" IF($B$5>1,ETL!$E114,\"\")","v":""},{"$f":" IF($B$5>1,ETL!$E115,\"\")","v":""},{"$f":" IF($B$5>1,ETL!$I115,\"\")","v":""},{"$f":" IF($B$5>1,ETL!$E116,\"\")","v":""},{"$f":" IF($B$5>1,ETL!$E117,\"\")","v":""},{"$f":" IF($B$5>1,ETL!$I117,\"\")","v":""},{"$f":" IF($B$5>1,ETL!$E118,\"\")","v":""},{"$f":" IF($B$5>1,ETL!$E119,\"\")","v":""},{"$f":" IF($B$5>1,ETL!$I119,\"\")","v":""},{"$f":" IF($B$5>1,ETL!$E120,\"\")","v":""},{"$f":" IF($B$5>1,ETL!$E121,\"\")","v":""},{"$f":" IF($B$5>1,ETL!$I121,\"\")","v":""},{"$f":" IF($B$5>1,ETL!$H122,\"\")","v":""},{"$f":" IF($B$5>1,ETL!$H123,\"\")","v":""}]
[3,{"$f":"IF($B$5>2,ETL!$E$6,\"\")","v":""},{"$f":" IF($B$5 > 2,ETL!$H$5,\"\")","v":""},{"$f":" IF($B$5 > 2,ETL!$H$7,\"\")","v":""},{"$f":" IF($B$5 > 2,ETL!$E$11,\"\")","v":""},{"$f":" IF($B$5 > 2,ETL!$E$59,\"\")","v":""},{"$f":" IF($B$5 > 2,ETL!$E$61,\"\")","v":""},{"$f":" IF($B$5 > 2,ETL!$H$63,\"\")","v":""},{"$f":" IF($B$5 > 2,ETL!$H125,\"\")","v":""},{"$f":" IF($B$5>2,ETL!$H126,\"\")","v":""},{"$f":" IF($B$5>2,ETL!$J125,\"\")","v":""},{"$f":" IF($B$5>2,ETL!$I131,\"\")","v":""},{"$f":" IF($B$5>2,ETL!$H129,\"\")","v":""},{"$f":" IF($B$5>2,ETL!$I130,\"\")","v":""},{"$f":" IF($B$5>2,ETL!$E130,\"\")","v":""},{"$f":" IF($B$5>2,ETL!$K131,\"\")","v":""},{"$f":" IF($B$5>2,ETL!$E132,\"\")","v":""},{"$f":" IF($B$5>2,ETL!$E133,\"\")","v":""},{"$f":" IF($B$5>2,ETL!$I133,\"\")","v":""},{"$f":" IF($B$5>2,ETL!$E134,\"\")","v":""},{"$f":" IF($B$5>2,ETL!$E135,\"\")","v":""},{"$f":" IF($B$5>2,ETL!$I135,\"\")","v":""},{"$f":" IF($B$5>2,ETL!$E136,\"\")","v":""},{"$f":" IF($B$5>2,ETL!$E137,\"\")","v":""},{"$f":" IF($B$5>2,ETL!$I137,\"\")","v":""},{"$f":" IF($B$5>2,ETL!$E138,\"\")","v":""},{"$f":" IF($B$5>2,ETL!$E139,\"\")","v":""},{"$f":" IF($B$5>2,ETL!$I139,\"\")","v":""},{"$f":" IF($B$5>2,ETL!$E140,\"\")","v":""},{"$f":" IF($B$5>2,ETL!$E141,\"\")","v":""},{"$f":" IF($B$5>2,ETL!$I141,\"\")","v":""},{"$f":" IF($B$5>2,ETL!$H142,\"\")","v":""},{"$f":" IF($B$5>2,ETL!$H143,\"\")","v":""}]
[4,{"$f":"IF($B$5>3,ETL!$E$6,\"\")","v":""},{"$f":" IF($B$5 > 3,ETL!$H$5,\"\")","v":""},{"$f":" IF($B$5 > 3,ETL!$H$7,\"\")","v":""},{"$f":" IF($B$5 > 3,ETL!$E$11,\"\")","v":""},{"$f":" IF($B$5 > 3,ETL!$E$59,\"\")","v":""},{"$f":" IF($B$5 > 3,ETL!$E$61,\"\")","v":""},{"$f":" IF($B$5 > 3,ETL!$H$63,\"\")","v":""},{"$f":" IF($B$5 > 3,ETL!$H145,\"\")","v":""},{"$f":" IF($B$5>3,ETL!$H146,\"\")","v":""},{"$f":" IF($B$5>3,ETL!$J145,\"\")","v":""},{"$f":" IF($B$5>3,ETL!$I151,\"\")","v":""},{"$f":" IF($B$5>3,ETL!$H149,\"\")","v":""},{"$f":" IF($B$5>3,ETL!$I150,\"\")","v":""},{"$f":" IF($B$5>3,ETL!$E150,\"\")","v":""},{"$f":" IF($B$5>3,ETL!$K151,\"\")","v":""},{"$f":" IF($B$5>3,ETL!$E152,\"\")","v":""},{"$f":" IF($B$5>3,ETL!$E153,\"\")","v":""},{"$f":" IF($B$5>3,ETL!$I153,\"\")","v":""},{"$f":" IF($B$5>3,ETL!$E154,\"\")","v":""},{"$f":" IF($B$5>3,ETL!$E155,\"\")","v":""},{"$f":" IF($B$5>3,ETL!$I155,\"\")","v":""},{"$f":" IF($B$5>3,ETL!$E156,\"\")","v":""},{"$f":" IF($B$5>3,ETL!$E157,\"\")","v":""},{"$f":" IF($B$5>3,ETL!$I157,\"\")","v":""},{"$f":" IF($B$5>3,ETL!$E158,\"\")","v":""},{"$f":" IF($B$5>3,ETL!$E159,\"\")","v":""},{"$f":" IF($B$5>3,ETL!$I159,\"\")","v":""},{"$f":" IF($B$5>3,ETL!$E160,\"\")","v":""},{"$f":" IF($B$5>3,ETL!$E161,\"\")","v":""},{"$f":" IF($B$5>3,ETL!$I161,\"\")","v":""},{"$f":" IF($B$5>3,ETL!$H162,\"\")","v":""},{"$f":" IF($B$5>3,ETL!$H163,\"\")","v":""}]
[5,{"$f":"IF($B$5>4,ETL!$E$6,\"\")","v":""},{"$f":" IF($B$5 > 4,ETL!$H$5,\"\")","v":""},{"$f":" IF($B$5 > 4,ETL!$H$7,\"\")","v":""},{"$f":" IF($B$5 > 4,ETL!$E$11,\"\")","v":""},{"$f":" IF($B$5 > 4,ETL!$E$59,\"\")","v":""},{"$f":" IF($B$5 > 4,ETL!$E$61,\"\")","v":""},{"$f":" IF($B$5 > 4,ETL!$H$63,\"\")","v":""},{"$f":" IF($B$5 > 4,ETL!$H165,\"\")","v":""},{"$f":" IF($B$5>4,ETL!$H166,\"\")","v":""},{"$f":" IF($B$5>4,ETL!$J165,\"\")","v":""},{"$f":" IF($B$5>4,ETL!$I171,\"\")","v":""},{"$f":" IF($B$5>4,ETL!$H169,\"\")","v":""},{"$f":" IF($B$5>4,ETL!$I170,\"\")","v":""},{"$f":" IF($B$5>4,ETL!$E170,\"\")","v":""},{"$f":" IF($B$5>4,ETL!$K171,\"\")","v":""},{"$f":" IF($B$5>4,ETL!$E172,\"\")","v":""},{"$f":" IF($B$5>4,ETL!$E173,\"\")","v":""},{"$f":" IF($B$5>4,ETL!$I173,\"\")","v":""},{"$f":" IF($B$5>4,ETL!$E174,\"\")","v":""},{"$f":" IF($B$5>4,ETL!$E175,\"\")","v":""},{"$f":" IF($B$5>4,ETL!$I175,\"\")","v":""},{"$f":" IF($B$5>4,ETL!$E176,\"\")","v":""},{"$f":" IF($B$5>4,ETL!$E177,\"\")","v":""},{"$f":" IF($B$5>4,ETL!$I177,\"\")","v":""},{"$f":" IF($B$5>4,ETL!$E178,\"\")","v":""},{"$f":" IF($B$5>4,ETL!$E179,\"\")","v":""},{"$f":" IF($B$5>4,ETL!$I179,\"\")","v":""},{"$f":" IF($B$5>4,ETL!$E180,\"\")","v":""},{"$f":" IF($B$5>4,ETL!$E181,\"\")","v":""},{"$f":" IF($B$5>4,ETL!$I181,\"\")","v":""},{"$f":" IF($B$5>4,ETL!$H182,\"\")","v":""},{"$f":" IF($B$5>4,ETL!$H183,\"\")","v":""}]
[6,{"$f":"IF($B$5>5,ETL!$E$6,\"\")","v":""},{"$f":" IF($B$5 > 5,ETL!$H$5,\"\")","v":""},{"$f":" IF($B$5 > 5,ETL!$H$7,\"\")","v":""},{"$f":" IF($B$5 > 5,ETL!$E$11,\"\")","v":""},{"$f":" IF($B$5 > 5,ETL!$E$59,\"\")","v":""},{"$f":" IF($B$5 > 5,ETL!$E$61,\"\")","v":""},{"$f":" IF($B$5 > 5,ETL!$H$63,\"\")","v":""},{"$f":" IF($B$5 > 5,ETL!$H185,\"\")","v":""},{"$f":" IF($B$5>5,ETL!$H186,\"\")","v":""},{"$f":" IF($B$5>5,ETL!$J185,\"\")","v":""},{"$f":" IF($B$5>5,ETL!$I191,\"\")","v":""},{"$f":" IF($B$5>5,ETL!$H189,\"\")","v":""},{"$f":" IF($B$5>5,ETL!$I190,\"\")","v":""},{"$f":" IF($B$5>5,ETL!$E190,\"\")","v":""},{"$f":" IF($B$5>5,ETL!$K191,\"\")","v":""},{"$f":" IF($B$5>5,ETL!$E192,\"\")","v":""},{"$f":" IF($B$5>5,ETL!$E193,\"\")","v":""},{"$f":" IF($B$5>5,ETL!$I193,\"\")","v":""},{"$f":" IF($B$5>5,ETL!$E194,\"\")","v":""},{"$f":" IF($B$5>5,ETL!$E195,\"\")","v":""},{"$f":" IF($B$5>5,ETL!$I195,\"\")","v":""},{"$f":" IF($B$5>5,ETL!$E196,\"\")","v":""},{"$f":" IF($B$5>5,ETL!$E197,\"\")","v":""},{"$f":" IF($B$5>5,ETL!$I197,\"\")","v":""},{"$f":" IF($B$5>5,ETL!$E198,\"\")","v":""},{"$f":" IF($B$5>5,ETL!$E199,\"\")","v":""},{"$f":" IF($B$5>5,ETL!$I199,\"\")","v":""},{"$f":" IF($B$5>5,ETL!$E200,\"\")","v":""},{"$f":" IF($B$5>5,ETL!$E201,\"\")","v":""},{"$f":" IF($B$5>5,ETL!$I201,\"\")","v":""},{"$f":" IF($B$5>5,ETL!$H202,\"\")","v":""},{"$f":" IF($B$5>5,ETL!$H203,\"\")","v":""}]
[7,{"$f":"IF($B$5>6,ETL!$E$6,\"\")","v":""},{"$f":" IF($B$5 > 6,ETL!$H$5,\"\")","v":""},{"$f":" IF($B$5 > 6,ETL!$H$7,\"\")","v":""},{"$f":" IF($B$5 > 6,ETL!$E$11,\"\")","v":""},{"$f":" IF($B$5 > 6,ETL!$E$59,\"\")","v":""},{"$f":" IF($B$5 > 6,ETL!$E$61,\"\")","v":""},{"$f":" IF($B$5 > 6,ETL!$H$63,\"\")","v":""},{"$f":" IF($B$5 > 6,ETL!$H205,\"\")","v":""},{"$f":" IF($B$5>6,ETL!$H206,\"\")","v":""},{"$f":" IF($B$5>6,ETL!$J205,\"\")","v":""},{"$f":" IF($B$5>6,ETL!$I211,\"\")","v":""},{"$f":" IF($B$5>6,ETL!$H209,\"\")","v":""},{"$f":" IF($B$5>6,ETL!$I210,\"\")","v":""},{"$f":" IF($B$5>6,ETL!$E210,\"\")","v":""},{"$f":" IF($B$5>6,ETL!$K211,\"\")","v":""},{"$f":" IF($B$5>6,ETL!$E212,\"\")","v":""},{"$f":" IF($B$5>6,ETL!$E213,\"\")","v":""},{"$f":" IF($B$5>6,ETL!$I213,\"\")","v":""},{"$f":" IF($B$5>6,ETL!$E214,\"\")","v":""},{"$f":" IF($B$5>6,ETL!$E215,\"\")","v":""},{"$f":" IF($B$5>6,ETL!$I215,\"\")","v":""},{"$f":" IF($B$5>6,ETL!$E216,\"\")","v":""},{"$f":" IF($B$5>6,ETL!$E217,\"\")","v":""},{"$f":" IF($B$5>6,ETL!$I217,\"\")","v":""},{"$f":" IF($B$5>6,ETL!$E218,\"\")","v":""},{"$f":" IF($B$5>6,ETL!$E219,\"\")","v":""},{"$f":" IF($B$5>6,ETL!$I219,\"\")","v":""},{"$f":" IF($B$5>6,ETL!$E220,\"\")","v":""},{"$f":" IF($B$5>6,ETL!$E221,\"\")","v":""},{"$f":" IF($B$5>6,ETL!$I221,\"\")","v":""},{"$f":" IF($B$5>6,ETL!$H222,\"\")","v":""},{"$f":" IF($B$5>6,ETL!$H223,\"\")","v":""}]
[8,{"$f":"IF($B$5>7,ETL!$E$6,\"\")","v":""},{"$f":" IF($B$5 > 7,ETL!$H$5,\"\")","v":""},{"$f":" IF($B$5 > 7,ETL!$H$7,\"\")","v":""},{"$f":" IF($B$5 > 7,ETL!$E$11,\"\")","v":""},{"$f":" IF($B$5 > 7,ETL!$E$59,\"\")","v":""},{"$f":" IF($B$5 > 7,ETL!$E$61,\"\")","v":""},{"$f":" IF($B$5 > 7,ETL!$H$63,\"\")","v":""},{"$f":" IF($B$5 > 7,ETL!$H225,\"\")","v":""},{"$f":" IF($B$5>7,ETL!$H226,\"\")","v":""},{"$f":" IF($B$5>7,ETL!$J225,\"\")","v":""},{"$f":" IF($B$5>7,ETL!$I231,\"\")","v":""},{"$f":" IF($B$5>7,ETL!$H229,\"\")","v":""},{"$f":" IF($B$5>7,ETL!$I230,\"\")","v":""},{"$f":" IF($B$5>7,ETL!$E230,\"\")","v":""},{"$f":" IF($B$5>7,ETL!$K231,\"\")","v":""},{"$f":" IF($B$5>7,ETL!$E232,\"\")","v":""},{"$f":" IF($B$5>7,ETL!$E233,\"\")","v":""},{"$f":" IF($B$5>7,ETL!$I233,\"\")","v":""},{"$f":" IF($B$5>7,ETL!$E234,\"\")","v":""},{"$f":" IF($B$5>7,ETL!$E235,\"\")","v":""},{"$f":" IF($B$5>7,ETL!$I235,\"\")","v":""},{"$f":" IF($B$5>7,ETL!$E236,\"\")","v":""},{"$f":" IF($B$5>7,ETL!$E237,\"\")","v":""},{"$f":" IF($B$5>7,ETL!$I237,\"\")","v":""},{"$f":" IF($B$5>7,ETL!$E238,\"\")","v":""},{"$f":" IF($B$5>7,ETL!$E239,\"\")","v":""},{"$f":" IF($B$5>7,ETL!$I239,\"\")","v":""},{"$f":" IF($B$5>7,ETL!$E240,\"\")","v":""},{"$f":" IF($B$5>7,ETL!$E241,\"\")","v":""},{"$f":" IF($B$5>7,ETL!$I241,\"\")","v":""},{"$f":" IF($B$5>7,ETL!$H242,\"\")","v":""},{"$f":" IF($B$5>7,ETL!$H243,\"\")","v":""}]
[]
["Form3.2の数",{"$f":" IF($B$20 > 0, 1,0 )","v":1}]
["No","AT014_RelatesYear","AT014_PlantSiteCode","AT014_ReportDay","AT014_PlantSiteName","AT014_PlantSiteOwner","AT014_PlantSiteAddress","AT014_PlantSiteCity","AT014_PlantSiteProvince","AT014_PlantSitePreciseLocation","AT014_PlantSiteAttachment","AT014_NumberOfSCH2Plants","AT014_NumberOfSCH2PlantsValue","AT014_Supplement"]
[1,{"$f":"IF($B$16>0, ETL!$E$6, \"\")","v":0},{"$f":"IF($B$16>0, ETL!$E$61,\"\")","v":""},{"$f":"IF($B$16>0, ETL!$H$5,\"\")","v":{"$error":"#NUM!"}},{"$f":"IF($B$16>0, ETL!$E$60,\"\")","v":""},{"$f":"IF($B$16>0, ETL!$E$8,\"\")","v":""},{"$f":"IF($B$16>0, ETL!$E$67,\"\")","v":""},{"$f":"IF($B$16>0, ETL!$E$65,\"\")","v":""},{"$f":"IF($B$16>0, ETL!$E$63,\"\")","v":""},{"$f":"IF($B$16>0, ETL!$H$68,\"\")","v":"0/0/0N 0/0/0E"},{"$f":"IF($B$16>0, ETL!$E$74,\"\")","v":""},{"$f":"IF($B$16>0, ETL!$E$80,\"\")","v":""},{"$f":"IF($B$16>0, ETL!$H$80,\"\")","v":0},{"$f":"IF($B$16>0, STRING_SUPPLEMENT,\"\")","v":"0"}]
[]
["Form3.3の数",{"$f":"ETL!$E246","v":1}]
["No","AT015_RelatesYear","AT015_PlantSiteCode","AT015_PlantCode","AT015_ReportDay","AT015_PlantName","AT015_PlantSiteOwner","AT015_PlantPreciseLocation","AT015_Structure","AT015_Building","AT015_Attachment","AT015_ProdGroupCode"]
[1,{"$f":"IF($B$20>0,ETL!$E$6,\"\")","v":0},{"$f":" IF($B$20 > 0,ETL!$E$61,\"\")","v":""},{"$f":" IF($B$20 > 0,ETL!$E249,\"\")","v":""},{"$f":" IF($B$20 > 0,ETL!$H$5,\"\")","v":{"$error":"#NUM!"}},{"$f":" IF($B$20 >0,ETL!$E248,\"\")","v":""},{"$f":" IF($B$20 >0,ETL!$E8,\"\")","v":""},{"$f":" IF($B$20 >0,ETL!$E250,\"\")","v":""},{"$f":" IF($B$20 >0,ETL!$E251,\"\")","v":""},{"$f":" IF($B$20 >0,ETL!$E252,\"\")","v":""},{"$f":" IF($B$20 >0,ETL!$E253,\"\")","v":""},{"$f":" IF($B$20>0,ETL!$I254,\"\")","v":""}]
[2,{"$f":"IF($B$20>1,ETL!$E$6,\"\")","v":""},{"$f":" IF($B$20 > 1,ETL!$E$61,\"\")","v":""},{"$f":" IF($B$20 > 1,ETL!$E261,\"\")","v":""},{"$f":" IF($B$20 > 1,ETL!$H$5,\"\")","v":""},{"$f":" IF($B$20 >1,ETL!$E260,\"\")","v":""},{"$f":" IF($B$20 >1,ETL!$E8,\"\")","v":""},{"$f":" IF($B$20 >1,ETL!$E262,\"\")","v":""},{"$f":" IF($B$20 >1,ETL!$E263,\"\")","v":""},{"$f":" IF($B$20 >1,ETL!$E264,\"\")","v":""},{"$f":" IF($B$20 >1,ETL!$E265,\"\")","v":""},{"$f":" IF($B$20>1,ETL!$I266,\"\")","v":""}]
[3,{"$f":"IF($B$20>2,ETL!$E$6,\"\")","v":""},{"$f":" IF($B$20 > 2,ETL!$E$61,\"\")","v":""},{"$f":" IF($B$20 > 2,ETL!$E273,\"\")","v":""},{"$f":" IF($B$20 > 2,ETL!$H$5,\"\")","v":""},{"$f":" IF($B$20 >2,ETL!$E272,\"\")","v":""},{"$f":" IF($B$20 >2,ETL!$E8,\"\")","v":""},{"$f":" IF($B$20 >2,ETL!$E274,\"\")","v":""},{"$f":" IF($B$20 >2,ETL!$E275,\"\")","v":""},{"$f":" IF($B$20 >2,ETL!$E276,\"\")","v":""},{"$f":" IF($B$20 >2,ETL!$E277,\"\")","v":""},{"$f":" IF($B$20>2,ETL!$I278,\"\")","v":""}]
[4,{"$f":"IF($B$20>3,ETL!$E$6,\"\")","v":""},{"$f":" IF($B$20 > 3,ETL!$E$61,\"\")","v":""},{"$f":" IF($B$20 > 3,ETL!$E285,\"\")","v":""},{"$f":" IF($B$20 > 3,ETL!$H$5,\"\")","v":""},{"$f":" IF($B$20 >3,ETL!$E284,\"\")","v":""},{"$f":" IF($B$20 >3,ETL!$E8,\"\")","v":""},{"$f":" IF($B$20 >3,ETL!$E286,\"\")","v":""},{"$f":" IF($B$20 >3,ETL!$E287,\"\")","v":""},{"$f":" IF($B$20 >3,ETL!$E288,\"\")","v":""},{"$f":" IF($B$20 >3,ETL!$E289,\"\")","v":""},{"$f":" IF($B$20>3,ETL!$I290,\"\")","v":""}]
[5,{"$f":"IF($B$20>4,ETL!$E$6,\"\")","v":""},{"$f":" IF($B$20 > 4,ETL!$E$61,\"\")","v":""},{"$f":" IF($B$20 > 4,ETL!$E297,\"\")","v":""},{"$f":" IF($B$20 > 4,ETL!$H$5,\"\")","v":""},{"$f":" IF($B$20 >4,ETL!$E296,\"\")","v":""},{"$f":" IF($B$20 >4,ETL!$E8,\"\")","v":""},{"$f":" IF($B$20 >4,ETL!$E298,\"\")","v":""},{"$f":" IF($B$20 >4,ETL!$E299,\"\")","v":""},{"$f":" IF($B$20 >4,ETL!$E300,\"\")","v":""},{"$f":" IF($B$20 >4,ETL!$E301,\"\")","v":""},{"$f":" IF($B$20>4,ETL!$I302,\"\")","v":""}]
[6,{"$f":"IF($B$20>5,ETL!$E$6,\"\")","v":""},{"$f":" IF($B$20 > 5,ETL!$E$61,\"\")","v":""},{"$f":" IF($B$20 > 5,ETL!$E309,\"\")","v":""},{"$f":" IF($B$20 > 5,ETL!$H$5,\"\")","v":""},{"$f":" IF($B$20 >5,ETL!$E308,\"\")","v":""},{"$f":" IF($B$20 >5,ETL!$E8,\"\")","v":""},{"$f":" IF($B$20 >5,ETL!$E310,\"\")","v":""},{"$f":" IF($B$20 >5,ETL!$E311,\"\")","v":""},{"$f":" IF($B$20 >5,ETL!$E312,\"\")","v":""},{"$f":" IF($B$20 >5,ETL!$E313,\"\")","v":""},{"$f":" IF($B$20>5,ETL!$I314,\"\")","v":""}]
[7,{"$f":"IF($B$20>6,ETL!$E$6,\"\")","v":""},{"$f":" IF($B$20 > 6,ETL!$E$61,\"\")","v":""},{"$f":" IF($B$20 > 6,ETL!$E321,\"\")","v":""},{"$f":" IF($B$20 > 6,ETL!$H$5,\"\")","v":""},{"$f":" IF($B$20 >6,ETL!$E320,\"\")","v":""},{"$f":" IF($B$20 >6,ETL!$E8,\"\")","v":""},{"$f":" IF($B$20 >6,ETL!$E322,\"\")","v":""},{"$f":" IF($B$20 >6,ETL!$E323,\"\")","v":""},{"$f":" IF($B$20 >6,ETL!$E324,\"\")","v":""},{"$f":" IF($B$20 >6,ETL!$E325,\"\")","v":""},{"$f":" IF($B$20>6,ETL!$I326,\"\")","v":""}]
[8,{"$f":"IF($B$20>7,ETL!$E$6,\"\")","v":""},{"$f":" IF($B$20 > 7,ETL!$E$61,\"\")","v":""},{"$f":" IF($B$20 > 7,ETL!$E333,\"\")","v":""},{"$f":" IF($B$20 > 7,ETL!$H$5,\"\")","v":""},{"$f":" IF($B$20 >7,ETL!$E332,\"\")","v":""},{"$f":" IF($B$20 >7,ETL!$E8,\"\")","v":""},{"$f":" IF($B$20 >7,ETL!$E334,\"\")","v":""},{"$f":" IF($B$20 >7,ETL!$E335,\"\")","v":""},{"$f":" IF($B$20 >7,ETL!$E336,\"\")","v":""},{"$f":" IF($B$20 >7,ETL!$E337,\"\")","v":""},{"$f":" IF($B$20>7,ETL!$I338,\"\")","v":""}]
[]
["Form3.4の数",{"$f":"ETL!$E345","v":1}]
["No","AT016_RelatesYear","AT016_PlantSiteCode","AT016_ReportDay","AT016_CASRegistryNumber","AT016_ChemicalId","AT016_IUPACName","AT016_CommonName","AT016_ProductionRange","AT016_ProductionPurpose"]
[1,{"$f":"IF($B$31>0,ETL!$E$6,\"\")","v":0},{"$f":" IF($B$31> 0,ETL!$E$61,\"\")","v":""},{"$f":" IF($B$31> 0,ETL!$H$5,\"\")","v":{"$error":"#NUM!"}},{"$f":" IF($B$31>0,ETL!$H347,\"\")","v":""},{"$f":" IF($B$31>0,ETL!$L347,\"\")","v":0},{"$f":" IF($B$31>0,ETL!$E349,\"\")","v":""},{"$f":" IF($B$31>0,ETL!$E350,\"\")","v":""},{"$f":" IF($B$31>0,ETL!$H351,\"\")","v":""},{"$f":" IF($B$31>0,ETL!$J352,\"\")","v":""}]
[2,{"$f":"IF($B$31>1,ETL!$E$6,\"\")","v":""},{"$f":" IF($B$31> 1,ETL!$E$61,\"\")","v":""},{"$f":" IF($B$31> 1,ETL!$H$5,\"\")","v":""},{"$f":" IF($B$31>1,ETL!$H356,\"\")","v":""},{"$f":" IF($B$31>1,ETL!$L356,\"\")","v":""},{"$f":" IF($B$31>1,ETL!$E358,\"\")","v":""},{"$f":" IF($B$31>1,ETL!$E359,\"\")","v":""},{"$f":" IF($B$31>1,ETL!$H360,\"\")","v":""},{"$f":" IF($B$31>1,ETL!$J361,\"\")","v":""}]
[3,{"$f":"IF($B$31>2,ETL!$E$6,\"\")","v":""},{"$f":" IF($B$31> 2,ETL!$E$61,\"\")","v":""},{"$f":" IF($B$31> 2,ETL!$H$5,\"\")","v":""},{"$f":" IF($B$31>2,ETL!$H365,\"\")","v":""},{"$f":" IF($B$31>2,ETL!$L365,\"\")","v":""},{"$f":" IF($B$31>2,ETL!$E367,\"\")","v":""},{"$f":" IF($B$31>2,ETL!$E368,\"\")","v":""},{"$f":" IF($B$31>2,ETL!$H369,\"\")","v":""},{"$f":" IF($B$31>2,ETL!$J370,\"\")","v":""}]
[4,{"$f":"IF($B$31>3,ETL!$E$6,\"\")","v":""},{"$f":" IF($B$31> 3,ETL!$E$61,\"\")","v":""},{"$f":" IF($B$31> 3,ETL!$H$5,\"\")","v":""},{"$f":" IF($B$31>3,ETL!$H374,\"\")","v":""},{"$f":" IF($B$31>3,ETL!$L374,\"\")","v":""},{"$f":" IF($B$31>3,ETL!$E376,\"\")","v":""},{"$f":" IF($B$31>3,ETL!$E377,\"\")","v":""},{"$f":" IF($B$31>3,ETL!$H378,\"\")","v":""},{"$f":" IF($B$31>3,ETL!$J379,\"\")","v":""}]
[5,{"$f":"IF($B$31>4,ETL!$E$6,\"\")","v":""},{"$f":" IF($B$31 > 4,ETL!$E$61,\"\")","v":""},{"$f":" IF($B$31> 4,ETL!$H$5,\"\")","v":""},{"$f":" IF($B$31>4,ETL!$H383,\"\")","v":""},{"$f":" IF($B$31>4,ETL!$L383,\"\")","v":""},{"$f":" IF($B$31>4,ETL!$E385,\"\")","v":""},{"$f":" IF($B$31>4,ETL!$E386,\"\")","v":""},{"$f":" IF($B$31>4,ETL!$H387,\"\")","v":""},{"$f":" IF($B$31>4,ETL!$J388,\"\")","v":""}]
[6,{"$f":"IF($B$31>5,ETL!$E$6,\"\")","v":""},{"$f":" IF($B$31> 5,ETL!$E$61,\"\")","v":""},{"$f":" IF($B$31> 5,ETL!$H$5,\"\")","v":""},{"$f":" IF($B$31>5,ETL!$H392,\"\")","v":""},{"$f":" IF($B$31>5,ETL!$L392,\"\")","v":""},{"$f":" IF($B$31>5,ETL!$E394,\"\")","v":""},{"$f":" IF($B$31>5,ETL!$E395,\"\")","v":""},{"$f":" IF($B$31>5,ETL!$H396,\"\")","v":""},{"$f":" IF($B$31>5,ETL!$J397,\"\")","v":""}]
[7,{"$f":"IF($B$31>6,ETL!$E$6,\"\")","v":""},{"$f":" IF($B$31> 6,ETL!$E$61,\"\")","v":""},{"$f":" IF($B$31> 6,ETL!$H$5,\"\")","v":""},{"$f":" IF($B$31>6,ETL!$H401,\"\")","v":""},{"$f":" IF($B$31>6,ETL!$L401,\"\")","v":""},{"$f":" IF($B$31>6,ETL!$E403,\"\")","v":""},{"$f":" IF($B$31>6,ETL!$E404,\"\")","v":""},{"$f":" IF($B$31>6,ETL!$H405,\"\")","v":""},{"$f":" IF($B$31>6,ETL!$J406,\"\")","v":""}]
[8,{"$f":"IF($B$31>7,ETL!$E$6,\"\")","v":""},{"$f":" IF($B$31> 7,ETL!$E$61,\"\")","v":""},{"$f":" IF($B$31> 7,ETL!$H$5,\"\")","v":""},{"$f":" IF($B$31>7,ETL!$H410,\"\")","v":""},{"$f":" IF($B$31>7,ETL!$L410,\"\")","v":""},{"$f":" IF($B$31>7,ETL!$E412,\"\")","v":""},{"$f":" IF($B$31>7,ETL!$E413,\"\")","v":""},{"$f":" IF($B$31>7,ETL!$H414,\"\")","v":""},{"$f":" IF($B$31>7,ETL!$J415,\"\")","v":""}]
[]
["3剤備考情報",1]
["No","AT023_RelatesYear","AT023_PlantSiteCode","AT023_Remark"]
[1,{"$f":"ETL!$E$6","v":0},{"$f":"ETL!$E$61","v":""},{"$f":"ETL!E77","v":""}]
[]
["物質マスタ",{"$f":"ETL!E83","v":1},"←様式18数と同じ↓CAS番号なしが選択された行のみ出力（ほかは空欄）"]
["No","AM019_CASRegistryNumber","AM019_GovOrdinance","AM019_ScheduleId","AM019_IUPACName","AM019_JapaneseChemicalName","AM019_SelectFlag"]
[1,{"$f":"IF(ETL!$E85=STRING_NOCAS,ETL!$H85,\"\")","v":""},{"$f":"IF($B48<>\"\",ETL!$H86,\"\")","v":""},{"$f":"IF($B48<>\"\",ETL!$J86,\"\")","v":""},{"$f":"IF($B48<>\"\",ETL!$J87,\"\")","v":""},{"$f":"IF($B48<>\"\",ETL!$H87,\"\")","v":""},{"$f":"IF($B48<>\"\",\"1\",\"\")","v":""}]
[2,{"$f":"IF(ETL!$E105=STRING_NOCAS,ETL!$H105,\"\")","v":""},{"$f":"IF($B49<>\"\",ETL!$H106,\"\")","v":""},{"$f":"IF($B49<>\"\",ETL!$J106,\"\")","v":""},{"$f":"IF($B49<>\"\",ETL!$J107,\"\")","v":""},{"$f":"IF($B49<>\"\",ETL!$H107,\"\")","v":""},""]
[3,{"$f":"IF(ETL!$E125=STRING_NOCAS,ETL!$H125,\"\")","v":""},{"$f":"IF($B50<>\"\",ETL!$H126,\"\")","v":""},{"$f":"IF($B50<>\"\",ETL!$J126,\"\")","v":""},{"$f":"IF($B50<>\"\",ETL!$J127,\"\")","v":""},{"$f":"IF($B50<>\"\",ETL!$H127,\"\")","v":""},{"$f":"IF($B50<>\"\",\"1\",\"\")","v":""}]
[4,{"$f":"IF(ETL!$E145=STRING_NOCAS,ETL!$H145,\"\")","v":""},{"$f":"IF($B51<>\"\",ETL!$H146,\"\")","v":""},{"$f":"IF($B51<>\"\",ETL!$J146,\"\")","v":""},{"$f":"IF($B51<>\"\",ETL!$J147,\"\")","v":""},{"$f":"IF($B51<>\"\",ETL!$H147,\"\")","v":""},""]
[5,{"$f":"IF(ETL!$E165=STRING_NOCAS,ETL!$H165,\"\")","v":""},{"$f":"IF($B52<>\"\",ETL!$H166,\"\")","v":""},{"$f":"IF($B52<>\"\",ETL!$J166,\"\")","v":""},{"$f":"IF($B52<>\"\",ETL!$J167,\"\")","v":""},{"$f":"IF($B52<>\"\",ETL!$H167,\"\")","v":""},""]
[6,{"$f":"IF(ETL!$E185=STRING_NOCAS,ETL!$H185,\"\")","v":""},{"$f":"IF($B53<>\"\",ETL!$H186,\"\")","v":""},{"$f":"IF($B53<>\"\",ETL!$J186,\"\")","v":""},{"$f":"IF($B53<>\"\",ETL!$J187,\"\")","v":""},{"$f":"IF($B53<>\"\",ETL!$H187,\"\")","v":""},""]
[7,{"$f":"IF(ETL!$E205=STRING_NOCAS,ETL!$H205,\"\")","v":""},{"$f":"IF($B54<>\"\",ETL!$H206,\"\")","v":""},{"$f":"IF($B54<>\"\",ETL!$J206,\"\")","v":""},{"$f":"IF($B54<>\"\",ETL!$J207,\"\")","v":""},{"$f":"IF($B54<>\"\",ETL!$H207,\"\")","v":""},""]
[8,{"$f":"IF(ETL!$E225=STRING_NOCAS,ETL!$H225,\"\")","v":""},{"$f":"IF($B55<>\"\",ETL!$H226,\"\")","v":""},{"$f":"IF($B55<>\"\",ETL!$J226,\"\")","v":""},{"$f":"IF($B55<>\"\",ETL!$J227,\"\")","v":""},{"$f":"IF($B55<>\"\",ETL!$H227,\"\")","v":""},""]

{"sheet":"ETL","index":4,"n_rows":428,"n_cols":12,"rows_kept":428,"cut":false,"hidden":true,"merged":[[391,0,398,0],[396,1,398,3],[400,0,407,0],[405,1,407,3],[409,0,416,0],[414,1,416,3],[364,0,371,0],[369,1,371,3],[373,0,380,0],[378,1,380,3],[382,0,389,0],[387,1,389,3],[343,0,343,3],[345,0,345,3],[346,0,353,0],[351,1,353,3],[355,0,362,0],[360,1,362,3],[319,0,329,0],[319,1,329,1],[325,2,329,3],[331,0,341,0],[331,1,341,1],[337,2,341,3],[295,0,305,0],[295,1,305,1],[301,2,305,3],[307,0,317,0],[307,1,317,1],[313,2,317,3],[271,0,281,0],[271,1,281,1],[277,2,281,3],[283,0,293,0],[283,1,293,1],[289,2,293,3],[259,0,269,0],[259,1,269,1],[265,2,269,3],[235,2,236,2],[237,2,238,2],[239,2,240,2],[241,1,241,3],[242,1,242,3],[244,0,244,3],[224,0,242,0],[224,1,228,2],[229,1,229,3],[230,1,230,3],[231,1,240,1],[231,2,232,2],[233,2,234,2],[246,0,246,3],[247,0,257,0],[247,1,257,1],[253,2,257,3],[202,1,202,3],[204,0,222,0],[204,1,208,2],[209,1,209,3],[210,1,210,3],[211,1,220,1],[211,2,212,2],[213,2,214,2],[215,2,216,2],[217,2,218,2],[184,0,202,0],[219,2,220,2],[221,1,221,3],[222,1,222,3],[195,2,196,2],[197,2,198,2],[199,2,200,2],[201,1,201,3],[164,0,182,0],[164,1,168,2],[169,1,169,3],[170,1,170,3],[171,1,180,1],[171,2,172,2],[173,2,174,2],[191,2,192,2],[193,2,194,2],[175,2,176,2],[177,2,178,2],[179,2,180,2],[181,1,181,3],[182,1,182,3],[184,1,188,2],[189,1,189,3],[190,1,190,3],[191,1,200,1],[142,1,142,3],[144,0,162,0],[144,1,148,2],[149,1,149,3],[150,1,150,3],[151,1,160,1],[151,2,152,2],[153,2,154,2],[155,2,156,2],[157,2,158,2],[124,0,142,0],[159,2,160,2],[161,1,161,3],[162,1,162,3],[135,2,136,2],[137,2,138,2],[139,2,140,2],[141,1,141,3],[104,0,122,0],[104,1,108,2],[109,1,109,3],[110,1,110,3],[111,1,120,1],[111,2,112,2],[113,2,114,2],[131,2,132,2],[133,2,134,2],[115,2,116,2],[117,2,118,2],[119,2,120,2],[121,1,121,3],[122,1,122,3],[124,1,128,2],[129,1,129,3],[130,1,130,3],[131,1,140,1],[83,0,83,3],[84,0,102,0],[84,1,88,2],[89,1,89,3],[90,1,90,3],[91,1,100,1],[91,2,92,2],[93,2,94,2],[95,2,96,2],[97,2,98,2],[99,2,100,2],[101,1,101,3],[102,1,102,3],[49,0,55,0],[57,0,57,3],[61,0,72,0],[75,0,75,3],[78,0,78,3],[81,0,81,3],[1,0,1,3],[11,0,18,0],[19,0,26,0],[27,0,34,0],[35,0,41,0],[42,0,48,0]]}
["基本情報"]
["項目",null,null,null,"値",null,"データ変換","値"]
["届出日","年",null,null,{"$f":"基本情報・事業所情報の作成!$D$41","v":0},null,"届出年月日",{"$f":"CONCATENATE($E$3, TEXT($E$4,\"00\"), TEXT($E$5,\"00\"))","v":"00000"}]
[null,"月",null,null,{"$f":"基本情報・事業所情報の作成!$I$41","v":0},null,null,{"$f":"CONCATENATE(TEXT($H$5,\"ggge年\"), \"(\", $E$3, ,\"年)\",$E$4,\"月\",$E$5,\"日\")","v":{"$error":"#NUM!"}}]
[null,"日",null,null,{"$f":"基本情報・事業所情報の作成!$L$41","v":0},null,null,{"$f":"DATE(E3,E4,E5)","v":{"$error":"#NUM!"}}]
["届出対象年",null,null,null,{"$f":"基本情報・事業所情報の作成!$D$44","v":0}]
["氏名または名称",null,null,null,{"$f":"基本情報・事業所情報の作成!$V$47&\"\"","v":""},null,"氏名、役職など結合",{"$f":"CONCATENATE(E7,IF(E9=\"\",\"\",CONCATENATE(\" \",E9)),IF(E10=\"\",\"\",CONCATENATE(\" \",E10)))","v":""}]
["氏名または名称（英語）",null,null,null,{"$f":"基本情報・事業所情報の作成!$W$47&\"\"","v":""},null,null,{"$f":"CONCATENATE(IF(E9=\"\",\"\",E9), IF(E10=\"\",\"\",CONCATENATE(\" \",E10)))","v":""}]
["法人にあっては、\nその代表者の役職",null,null,null,{"$f":"基本情報・事業所情報の作成!$V$48&\"\"","v":""}]
["法人にあっては、\nその代表者の氏名",null,null,null,{"$f":"基本情報・事業所情報の作成!$V$49&\"\"","v":""}]
["住所",null,null,null,{"$f":"基本情報・事業所情報の作成!$V$50&\"\"","v":""}]
["届出書関係担当者の情報①","氏名",null,null,{"$f":"基本情報・事業所情報の作成!$V$54&\"\"","v":""}]
[null,"郵便番号",null,null,{"$f":"基本情報・事業所情報の作成!$V$55&\"\"","v":""}]
[null,"住所",null,null,{"$f":"基本情報・事業所情報の作成!$V$56&\"\"","v":""}]
[null,"部署名",null,null,{"$f":"基本情報・事業所情報の作成!$V$57&\"\"","v":""}]
[null,"役職",null,null,{"$f":"基本情報・事業所情報の作成!$V$58&\"\"","v":""}]
[null,"電話番号",null,null,{"$f":"基本情報・事業所情報の作成!$V$59&\"\"","v":""}]
[null,"FAX番号",null,null,{"$f":"基本情報・事業所情報の作成!$V$60&\"\"&\"\"","v":""}]
[null,"メールアドレス",null,null,{"$f":"基本情報・事業所情報の作成!$V$61&\"\"","v":""}]
["届出書関係担当者の情報②","氏名",null,null,{"$f":"基本情報・事業所情報の作成!$V$62&\"\"","v":""}]
[null,"郵便番号",null,null,{"$f":"基本情報・事業所情報の作成!$V$63&\"\"","v":""}]
[null,"住所",null,null,{"$f":"基本情報・事業所情報の作成!$V$64&\"\"","v":""}]
[null,"部署名",null,null,{"$f":"基本情報・事業所情報の作成!$V$65&\"\"","v":""}]
[null,"役職",null,null,{"$f":"基本情報・事業所情報の作成!$V$66&\"\"","v":""}]
[null,"電話番号",null,null,{"$f":"基本情報・事業所情報の作成!$V$67&\"\"","v":""}]
[null,"FAX番号",null,null,{"$f":"基本情報・事業所情報の作成!$V$68&\"\"&\"\"","v":""}]
[null,"メールアドレス",null,null,{"$f":"基本情報・事業所情報の作成!$V$69&\"\"","v":""}]
["届出書関係担当者の情報③","氏名",null,null,{"$f":"基本情報・事業所情報の作成!$V$70&\"\"","v":""}]
[null,"郵便番号",null,null,{"$f":"基本情報・事業所情報の作成!$V$71&\"\"","v":""}]
[null,"住所",null,null,{"$f":"基本情報・事業所情報の作成!$V$72&\"\"","v":""}]
[null,"部署名",null,null,{"$f":"基本情報・事業所情報の作成!$V$73&\"\"","v":""}]
[null,"役職",null,null,{"$f":"基本情報・事業所情報の作成!$V$74&\"\"","v":""}]
[null,"電話番号",null,null,{"$f":"基本情報・事業所情報の作成!$V$75&\"\"","v":""}]
[null,"FAX番号",null,null,{"$f":"基本情報・事業所情報の作成!$V$76&\"\"&\"\"","v":""}]
[null,"メールアドレス",null,null,{"$f":"基本情報・事業所情報の作成!$V$77&\"\"","v":""}]
["国際検査通告書関係担当者の情報①","氏名",null,null,{"$f":"基本情報・事業所情報の作成!$V$81&\"\"","v":""}]
[null,"住所",null,null,{"$f":"基本情報・事業所情報の作成!$V$82&\"\"","v":""}]
[null,"部署名",null,null,{"$f":"基本情報・事業所情報の作成!$V$83&\"\"","v":""}]
[null,"役職",null,null,{"$f":"基本情報・事業所情報の作成!$V$84&\"\"","v":""}]
[null,"電話番号",null,null,{"$f":"基本情報・事業所情報の作成!$V$85&\"\"","v":""}]
[null,"FAX番号",null,null,{"$f":"基本情報・事業所情報の作成!$V$86&\"\"","v":""}]
[null,"メールアドレス",null,null,{"$f":"基本情報・事業所情報の作成!$V$87&\"\"","v":""}]
["国際検査通告書関係担当者の情報②","氏名",null,null,{"$f":"基本情報・事業所情報の作成!$V$88&\"\"","v":""}]
[null,"住所",null,null,{"$f":"基本情報・事業所情報の作成!$V$89&\"\"","v":""}]
[null,"部署名",null,null,{"$f":"基本情報・事業所情報の作成!$V$90&\"\"","v":""}]
[null,"役職",null,null,{"$f":"基本情報・事業所情報の作成!$V$91&\"\"","v":""}]
[null,"電話番号",null,null,{"$f":"基本情報・事業所情報の作成!$V$92&\"\"","v":""}]
[null,"FAX番号",null,null,{"$f":"基本情報・事業所情報の作成!$V$93&\"\"","v":""}]
[null,"メールアドレス",null,null,{"$f":"基本情報・事業所情報の作成!$V$94&\"\"","v":""}]
["国際検査通告書関係担当者の情報③","氏名",null,null,{"$f":"基本情報・事業所情報の作成!$V$95&\"\"","v":""}]
[null,"住所",null,null,{"$f":"基本情報・事業所情報の作成!$V$96&\"\"","v":""}]
[null,"部署名",null,null,{"$f":"基本情報・事業所情報の作成!$V$97&\"\"","v":""}]
[null,"役職",null,null,{"$f":"基本情報・事業所情報の作成!$V$98&\"\"","v":""}]
[null,"電話番号",null,null,{"$f":"基本情報・事業所情報の作成!$V$99&\"\"","v":""}]
[null,"FAX番号",null,null,{"$f":"基本情報・事業所情報の作成!$V$100&\"\"","v":""}]
[null,"メールアドレス",null,null,{"$f":"基本情報・事業所情報の作成!$V$101&\"\"","v":""}]
["事業所情報"]
["項目",null,null,null,"値",null,"データ変換","値"]
["事業所の名称",null,null,null,{"$f":"基本情報・事業所情報の作成!$V$109&\"\"","v":""}]
["事業所の名称（英語）",null,null,null,{"$f":"基本情報・事業所情報の作成!$W$109&\"\"","v":""}]
["事業所コード",null,null,null,{"$f":"基本情報・事業所情報の作成!$V$110&\"\"","v":""}]
["所在地","都道府県",null,null,{"$f":"基本情報・事業所情報の作成!$V$111&\"\"","v":""},null,"都道府県コード",{"$f":"TEXT(IF(E62=\"\", \"\", (VLOOKUP(E62, LIST!B5:C51, 2, FALSE))), \"@\")","v":""}]
[null,"都道府県（英語）",null,null,{"$f":"基本情報・事業所情報の作成!$W$111&\"\"","v":""},null,"事業所所在地",{"$f":"CONCATENATE(E62, E64, E66)","v":""}]
[null,"市／区／郡",null,null,{"$f":"基本情報・事業所情報の作成!$V$112&\"\"","v":""}]
[null,"市／区／郡（英語）",null,null,{"$f":"基本情報・事業所情報の作成!$W$112&\"\"","v":""}]
[null,"町村および番地",null,null,{"$f":"基本情報・事業所情報の作成!$V$113&\"\"","v":""}]
[null,"町村および番地（英語）",null,null,{"$f":"基本情報・事業所情報の作成!$W$113&\"\"","v":""}]
[null,"緯度（度）",null,null,{"$f":"基本情報・事業所情報の作成!$V$114","v":0},null,"緯度経度",{"$f":"CONCATENATE(E68, \"/\", E69, \"/\", E70, \"N \", E71, \"/\", E72, \"/\", E73, \"E\")","v":"0/0/0N 0/0/0E"}]
[null,"緯度（分）",null,null,{"$f":"基本情報・事業所情報の作成!$V$115","v":0}]
[null,"緯度（秒）",null,null,{"$f":"基本情報・事業所情報の作成!$V$116","v":0}]
[null,"経度（度）",null,null,{"$f":"基本情報・事業所情報の作成!$V$117","v":0}]
[null,"経度（分）",null,null,{"$f":"基本情報・事業所情報の作成!$V$118","v":0}]
[null,"経度（秒）",null,null,{"$f":"基本情報・事業所情報の作成!$V$119","v":0}]
["事業所についての追加的情報（英語で記入）",null,null,null,{"$f":"基本情報・事業所情報の作成!$V$120&\"\"","v":""}]
["特記すべき事項"]
["項目",null,null,null,"値"]
["昨年度の届出、申告内容からの変更点および届出内容についての特記事",null,null,null,{"$f":"届出・申告書の作成!$V$18&\"\"","v":""}]
["予定届出を行う事業所の情報"]
["項目",null,null,null,"値"]
["事業所内の申告された表2剤（第一種指定物質）施設の数",null,null,null,{"$f":"届出・申告書の作成!$V$190&\"\"","v":""},null,"数値に変換",{"$f":"IFERROR(VALUE($E80),0)","v":0}]
["様式18"]
["項目",null,null,null,"値"]
["様式の数",null,null,null,{"$f":"CNT_FORM18","v":1}]
["項目",null,null,null,"値"]
["製造しようとする第二種指定物質の情報（１）","製造しようとする第二種指定物質",null,"CAS番号",{"$f":"届出・申告書の作成!$V26&\"\"","v":""},null,"CAS番号",{"$f":"IF($E85=STRING_NOCAS, $E88, $E85)","v":""},"物質ID",{"$f":"IF($E85=STRING_NOCAS,0,IFERROR(VLOOKUP($H85,LIST!$X$6:$Y$500,2,FALSE),0))","v":0}]
[null,null,null,"条約表剤番号",{"$f":"届出・申告書の作成!$V27","v":""},null,"政令番号",{"$f":"IF($E85=STRING_NOCAS, TEXT(IFERROR(VLOOKUP($E86,LIST!$R$5:$V$100,4,FALSE)&\"\",\"\"),\"@\"), TEXT(IFERROR(VLOOKUP($H85,LIST!$X$6:$AC$500,3,FALSE)&\"\",\"\"),\"@\"))","v":""},"表区分ID",{"$f":"IF($E85=STRING_NOCAS, TEXT(IFERROR(VLOOKUP($E86,LIST!$R$5:$V$100,2,FALSE)&\"\",\"\"),\"@\"), TEXT(IFERROR(VLOOKUP($H85,LIST!$X$6:$AC$500,4,FALSE)&\"\",\"\"),\"@\"))","v":""}]
[null,null,null,"物質名称（日本語名）",{"$f":"届出・申告書の作成!$V28&\"\"","v":""},null,"物質名称（日本語名）",{"$f":"IF($E85=STRING_NOCAS, $E89, $E87)","v":""},"物質名称（英語）",{"$f":"IF($E85=STRING_NOCAS,IFERROR(VLOOKUP($H85,$A$421:$B$428,2,FALSE),\"\"),\"\")","v":""}]
[null,null,null,"※「CAS番号なし」の場合記入\nCAS番号",{"$f":"届出・申告書の作成!$V29&\"\"","v":""}]
[null,null,null,"※「CAS番号なし」の場合記入\n物質名称（日本語名）",{"$f":"届出・申告書の作成!$V30&\"\"","v":""},null,"合計数量（DB）",{"$f":"IF(H91>999999.999,999999.999,H91)","v":0}]
[null,"事業所内の当該第二種指定物質の製造施設の数",null,null,{"$f":"届出・申告書の作成!$V31","v":1},null,"合計数量(帳票)",{"$f":"IF($H89=0,\"0\",IF(RIGHT(TEXT($H89, \"0.###\"),1)=\".\", TEXT($H89, \"#,###\"), TEXT($H89, \"#,##0.###\")))","v":"0"},{"$f":"TEXT($E90,\"@\")","v":"1"}]
[null,"事業所内の当該第二種指定物質の製造施設の位置",null,null,{"$f":"届出・申告書の作成!$V32&\"\"","v":"別添資料のとおり"},null,"合計数量",{"$f":"IF($E93=\"\",0,$E93)+IF(OR($E90<2, $E95=\"\"),0,$E95)+IF(OR($E90<3, $E97=\"\"),0,$E97)+IF(OR($E90<4, $E99=\"\"),0,$E99)+IF(OR($E90<5, $E101=\"\"),0,$E101)","v":0},{"$f":"IF($H89=0,\"\",TEXT($H89,\"@\"))","v":""},"事業所内の当該第二種指定物質の製造施設の位置",{"$f":"IF($E91=\"\",\"\",VLOOKUP($E91,LIST!$AI$5:$AJ$12,2,FALSE))","v":"1"}]
[null,"施設ごとの数量","施設（１）","施設名称",{"$f":"届出・申告書の作成!$V33&\"\"","v":""},null,"施設名称",{"$f":"IF($E92=\"\",\"\",CONCATENATE(\"(\",$E92,\")\"))","v":""}]
[null,null,null,"数量\n(t)",{"$f":"IF(届出・申告書の作成!$V34=\"\",\"0\",届出・申告書の作成!$V34&\"\")","v":"0"},null,"数量",{"$f":"IF($E93=\"\",\"\",IF($E93=\"0\", \"0 t\", CONCATENATE(IF(RIGHT(TEXT($E93, \"0.###\"),1)=\".\", TEXT($E93, \"#,###\"), TEXT($E93, \"#,##0.###\")),\" t\")))","v":"0 t"},{"$f":"IFERROR(VALUE($E93),0)","v":0}]
[null,null,"施設（２）","施設名称",{"$f":"届出・申告書の作成!$V35&\"\"","v":""},null,"施設名称",{"$f":"IF(OR($E90<2, $E94=\"\"),\"\",CONCATENATE(\"(\",$E94,\")\"))","v":""}]
[null,null,null,"数量\n(t)",{"$f":"IF(届出・申告書の作成!$V36=\"\", \"0\", 届出・申告書の作成!$V36&\"\")","v":"0"},null,"数量",{"$f":"IF(OR($E90<2, $E95=\"\"),\"\",IF($E95=\"0\", \"0 t\", CONCATENATE(IF(RIGHT(TEXT($E95, \"0.###\"),1)=\".\", TEXT($E95, \"#,###\"), TEXT($E95, \"#,##0.###\")),\" t\")))","v":""},{"$f":"IF($E90<2,0, IFERROR(VALUE($E95),0))","v":0}]
[null,null,"施設（３）","施設名称",{"$f":"届出・申告書の作成!$V37&\"\"","v":""},null,"施設名称",{"$f":"IF(OR($E90<3, $E96=\"\"),\"\",CONCATENATE(\"(\",$E96,\")\"))","v":""}]
[null,null,null,"数量\n(t)",{"$f":"IF(届出・申告書の作成!$V38=\"\",\"0\",届出・申告書の作成!$V38&\"\")","v":"0"},null,"数量",{"$f":"IF(OR($E90<3, $E97=\"\"),\"\",IF($E97=\"0\", \"0 t\", CONCATENATE(IF(RIGHT(TEXT($E97, \"0.###\"),1)=\".\", TEXT($E97, \"#,###\"), TEXT($E97, \"#,##0.###\")),\" t\")))","v":""},{"$f":"IF($E90<3,0, IFERROR(VALUE($E97),0))","v":0}]
[null,null,"施設（４）","施設名称",{"$f":"届出・申告書の作成!$V39&\"\"","v":""},null,"施設名称",{"$f":"IF(OR($E90<4, $E98=\"\"),\"\",CONCATENATE(\"(\",$E98,\")\"))","v":""}]
[null,null,null,"数量\n(t)",{"$f":"IF(届出・申告書の作成!$V40=\"\",\"0\",届出・申告書の作成!$V40&\"\")","v":"0"},null,"数量",{"$f":"IF(OR($E90<4, $E99=\"\"),\"\",IF($E99=\"0\", \"0 t\", CONCATENATE(IF(RIGHT(TEXT($E99, \"0.###\"),1)=\".\", TEXT($E99, \"#,###\"), TEXT($E99, \"#,##0.###\")),\" t\")))","v":""},{"$f":"IF($E90<4,0, IFERROR(VALUE($E99),0))","v":0}]
[null,null,"施設（５）","施設名称",{"$f":"届出・申告書の作成!$V41&\"\"","v":""},null,"施設名称",{"$f":"IF(OR($E90<5, $E100=\"\"),\"\",CONCATENATE(\"(\",$E100,\")\"))","v":""}]
[null,null,null,"数量\n(t)",{"$f":"IF(届出・申告書の作成!$V42=\"\",\"0\",届出・申告書の作成!$V42&\"\")","v":"0"},null,"数量",{"$f":"IF(OR($E90<5, $E101=\"\"),\"\",IF($E101=\"0\", \"0 t\", CONCATENATE(IF(RIGHT(TEXT($E101, \"0.###\"),1)=\".\", TEXT($E101, \"#,###\"), TEXT($E101, \"#,##0.###\")),\" t\")))","v":""},{"$f":"IF($E90<5,0, IFERROR(VALUE($E101),0))","v":0}]
[null,"届出のみ",null,null,{"$f":"届出・申告書の作成!$V43&\"\"","v":"いいえ"},null,"届出のみ",{"$f":"IF($E102=\"\",\"\",VLOOKUP($E102,LIST!$AK$5:$AL$6,2,FALSE))","v":"0"}]
[null,"届出のみ理由",null,null,{"$f":"届出・申告書の作成!$V44&\"\"","v":"－"},null,"届出のみ理由",{"$f":"IF($E103=\"\",\"0\",VLOOKUP($E103,LIST!$AE$5:$AF$9,2,FALSE))","v":"0"}]
[]
["製造しようとする第二種指定物質の情報（２）","製造しようとする第二種指定物質",null,"CAS番号",{"$f":"届出・申告書の作成!$V46&\"\"","v":""},null,"CAS番号",{"$f":"IF($E105=STRING_NOCAS, $E108, $E105)","v":""},"物質ID",{"$f":"IF($E105=STRING_NOCAS,0,IFERROR(VLOOKUP($H105,LIST!$X$6:$Y$500,2,FALSE),0))","v":0}]
[null,null,null,"条約表剤番号",{"$f":"届出・申告書の作成!$V47","v":""},null,"政令番号",{"$f":"IF($E105=STRING_NOCAS, TEXT(IFERROR(VLOOKUP($E106,LIST!$R$5:$V$100,4,FALSE)&\"\",\"\"),\"@\"), TEXT(IFERROR(VLOOKUP($H105,LIST!$X$6:$AC$500,3,FALSE)&\"\",\"\"),\"@\"))","v":""},"表区分ID",{"$f":"IF($E105=STRING_NOCAS, TEXT(IFERROR(VLOOKUP($E106,LIST!$R$5:$V$100,2,FALSE)&\"\",\"\"),\"@\"), TEXT(IFERROR(VLOOKUP($H105,LIST!$X$6:$AC$500,4,FALSE)&\"\",\"\"),\"@\"))","v":""}]
[null,null,null,"物質名称（日本語名）",{"$f":"届出・申告書の作成!$V48&\"\"","v":""},null,"物質名称（日本語名）",{"$f":"IF($E105=STRING_NOCAS, $E109, $E107)","v":""},"物質名称（英語）",{"$f":"IF($E105=STRING_NOCAS,IFERROR(VLOOKUP($H105,$A$421:$B$428,2,FALSE),\"\"),\"\")","v":""}]
[null,null,null,"※「CAS番号なし」の場合記入\nCAS番号",{"$f":"届出・申告書の作成!$V49&\"\"","v":""}]
[null,null,null,"※「CAS番号なし」の場合記入\n物質名称（日本語名）",{"$f":"届出・申告書の作成!$V50&\"\"","v":""},null,"合計数量（DB）",{"$f":"IF(H111>999999.999,999999.999,H111)","v":0}]
[null,"事業所内の当該第二種指定物質の製造施設の数",null,null,{"$f":"届出・申告書の作成!$V51","v":1},null,"合計数量(帳票)",{"$f":"IF($H109=0,\"0\",IF(RIGHT(TEXT($H109, \"0.###\"),1)=\".\", TEXT($H109, \"#,###\"), TEXT($H109, \"#,##0.###\")))","v":"0"},{"$f":"TEXT($E110,\"@\")","v":"1"}]
[null,"事業所内の当該第二種指定物質の製造施設の位置",null,null,{"$f":"届出・申告書の作成!$V52&\"\"","v":"別添資料のとおり"},null,"合計数量",{"$f":"IF($E113=\"\",0,$E113)+IF(OR($E110<2, $E115=\"\"),0,$E115)+IF(OR($E110<3, $E117=\"\"),0,$E117)+IF(OR($E110<4, $E119=\"\"),0,$E119)+IF(OR($E110<5, $E121=\"\"),0,$E121)","v":0},{"$f":"IF($H109=0,\"\",TEXT($H109,\"@\"))","v":""},"事業所内の当該第二種指定物質の製造施設の位置",{"$f":"IF($E111=\"\",\"\",VLOOKUP($E111,LIST!$AI$5:$AJ$12,2,FALSE))","v":"1"}]
[null,"施設ごとの数量","施設（１）","施設名称",{"$f":"届出・申告書の作成!$V53&\"\"","v":""},null,"施設名称",{"$f":"IF($E112=\"\",\"\",CONCATENATE(\"(\",$E112,\")\"))","v":""}]
[null,null,null,"数量\n(t)",{"$f":"IF(届出・申告書の作成!$V54=\"\", \"0\", 届出・申告書の作成!$V54&\"\")","v":"0"},null,"数量",{"$f":"IF($E113=\"\", \"\", IF($E113=\"0\", \"0 t\", CONCATENATE(IF(RIGHT(TEXT($E113, \"0.###\"),1)=\".\", TEXT($E113, \"#,###\"), TEXT($E113, \"#,##0.###\")),\" t\")))","v":"0 t"},{"$f":"IFERROR(VALUE($E113),0)","v":0}]
[null,null,"施設（２）","施設名称",{"$f":"届出・申告書の作成!$V55&\"\"","v":""},null,"施設名称",{"$f":"IF(OR($E110<2, $E114=\"\"),\"\",CONCATENATE(\"(\",$E114,\")\"))","v":""}]
[null,null,null,"数量\n(t)",{"$f":"IF(届出・申告書の作成!$V56=\"\", \"0\", 届出・申告書の作成!$V56&\"\")","v":"0"},null,"数量",{"$f":"IF(OR($E110<2, $E115=\"\"),\"\",IF($E115=\"0\", \"0 t\", CONCATENATE(IF(RIGHT(TEXT($E115, \"0.###\"),1)=\".\", TEXT($E115, \"#,###\"), TEXT($E115, \"#,##0.###\")),\" t\")))","v":""},{"$f":"IF($E110<2,0, IFERROR(VALUE($E115),0))","v":0}]
[null,null,"施設（３）","施設名称",{"$f":"届出・申告書の作成!$V57&\"\"","v":""},null,"施設名称",{"$f":"IF(OR($E110<3, $E116=\"\"),\"\",CONCATENATE(\"(\",$E116,\")\"))","v":""}]
[null,null,null,"数量\n(t)",{"$f":"IF(届出・申告書の作成!$V58=\"\", \"0\", 届出・申告書の作成!$V58&\"\")","v":"0"},null,"数量",{"$f":"IF(OR($E110<3, $E117=\"\"), \"\", IF($E117=\"0\", \"0 t\", CONCATENATE(IF(RIGHT(TEXT($E117, \"0.###\"),1)=\".\", TEXT($E117, \"#,###\"), TEXT($E117, \"#,##0.###\")),\" t\")))","v":""},{"$f":"IF($E110<3,0, IFERROR(VALUE($E117),0))","v":0}]
[null,null,"施設（４）","施設名称",{"$f":"届出・申告書の作成!$V59&\"\"","v":""},null,"施設名称",{"$f":"IF(OR($E110<4, $E118=\"\"),\"\",CONCATENATE(\"(\",$E118,\")\"))","v":""}]
[null,null,null,"数量\n(t)",{"$f":"IF(届出・申告書の作成!$V60=\"\", \"0\", 届出・申告書の作成!$V60&\"\")","v":"0"},null,"数量",{"$f":"IF(OR($E110<4, $E119=\"\"), \"\",IF($E119=\"0\", \"0 t\", CONCATENATE(IF(RIGHT(TEXT($E119, \"0.###\"),1)=\".\", TEXT($E119, \"#,###\"), TEXT($E119, \"#,##0.###\")),\" t\")))","v":""},{"$f":"IF($E110<4,0, IFERROR(VALUE($E119),0))","v":0}]
[null,null,"施設（５）","施設名称",{"$f":"届出・申告書の作成!$V61&\"\"","v":""},null,"施設名称",{"$f":"IF(OR($E110<5, $E120=\"\"),\"\",CONCATENATE(\"(\",$E120,\")\"))","v":""}]
[null,null,null,"数量\n(t)",{"$f":"IF(届出・申告書の作成!$V62=\"\",\"0\",届出・申告書の作成!$V62&\"\")","v":"0"},null,"数量",{"$f":"IF(OR($E110<5, $E121=\"\"), \"\",IF($E121=\"0\", \"0 t\", CONCATENATE(IF(RIGHT(TEXT($E121, \"0.###\"),1)=\".\", TEXT($E121, \"#,###\"), TEXT($E121, \"#,##0.###\")),\" t\")))","v":""},{"$f":"IF($E110<5,0, IFERROR(VALUE($E121),0))","v":0}]
[null,"届出のみ",null,null,{"$f":"届出・申告書の作成!$V63&\"\"","v":"いいえ"},null,"届出のみ",{"$f":"IF($E122=\"\",\"\",VLOOKUP($E122,LIST!$AK$5:$AL$6,2,FALSE))","v":"0"}]
[null,"届出のみ理由",null,null,{"$f":"届出・申告書の作成!$V64&\"\"","v":"－"},null,"届出のみ理由",{"$f":"IF($E123=\"\",\"0\",VLOOKUP($E123,LIST!$AE$5:$AF$9,2,FALSE))","v":"0"}]
[]
["製造しようとする第二種指定物質の情報（３）","製造しようとする第二種指定物質",null,"CAS番号",{"$f":"届出・申告書の作成!$V66&\"\"","v":""},null,"CAS番号",{"$f":"IF($E125=STRING_NOCAS, $E128, $E125)","v":""},"物質ID",{"$f":"IF($E125=STRING_NOCAS,0,IFERROR(VLOOKUP($H125,LIST!$X$6:$Y$500,2,FALSE),0))","v":0}]
[null,null,null,"条約表剤番号",{"$f":"届出・申告書の作成!$V67","v":""},null,"政令番号",{"$f":"IF($E125=STRING_NOCAS, TEXT(IFERROR(VLOOKUP($E126,LIST!$R$5:$V$100,4,FALSE)&\"\",\"\"),\"@\"), TEXT(IFERROR(VLOOKUP($H125,LIST!$X$6:$AC$500,3,FALSE)&\"\",\"\"),\"@\"))","v":""},"表区分ID",{"$f":"IF($E125=STRING_NOCAS, TEXT(IFERROR(VLOOKUP($E126,LIST!$R$5:$V$100,2,FALSE)&\"\",\"\"),\"@\"), TEXT(IFERROR(VLOOKUP($H125,LIST!$X$6:$AC$500,4,FALSE)&\"\",\"\"),\"@\"))","v":""}]
[null,null,null,"物質名称（日本語名）",{"$f":"届出・申告書の作成!$V68&\"\"","v":""},null,"物質名称（日本語名）",{"$f":"IF($E125=STRING_NOCAS, $E129, $E127)","v":""},"物質名称（英語）",{"$f":"IF($E125=STRING_NOCAS,IFERROR(VLOOKUP($H125,$A$421:$B$428,2,FALSE),\"\"),\"\")","v":""}]
[null,null,null,"※「CAS番号なし」の場合記入\nCAS番号",{"$f":"届出・申告書の作成!$V69&\"\"","v":""}]
[null,null,null,"※「CAS番号なし」の場合記入\n物質名称（日本語名）",{"$f":"届出・申告書の作成!$V70&\"\"","v":""},null,"合計数量（DB）",{"$f":"IF(H131>999999.999,999999.999,H131)","v":0}]
[null,"事業所内の当該第二種指定物質の製造施設の数",null,null,{"$f":"届出・申告書の作成!$V71","v":1},null,"合計数量(帳票)",{"$f":"IF($H129=0,\"0\",IF(RIGHT(TEXT($H129, \"0.###\"),1)=\".\", TEXT($H129, \"#,###\"), TEXT($H129, \"#,##0.###\")))","v":"0"},{"$f":"TEXT($E130,\"@\")","v":"1"}]
[null,"事業所内の当該第二種指定物質の製造施設の位置",null,null,{"$f":"届出・申告書の作成!$V72&\"\"","v":"別添資料のとおり"},null,"合計数量",{"$f":"IF($E133=\"\",0,$E133)+IF(OR($E130<2, $E135=\"\"),0,$E135)+IF(OR($E130<3, $E137=\"\"),0,$E137)+IF(OR($E130<4, $E139=\"\"),0,$E139)+IF(OR($E130<5, $E141=\"\"),0,$E141)","v":0},{"$f":"IF($H129=0,\"\",TEXT($H129,\"@\"))","v":""},"事業所内の当該第二種指定物質の製造施設の位置",{"$f":"IF($E131=\"\",\"\",VLOOKUP($E131,LIST!$AI$5:$AJ$12,2,FALSE))","v":"1"}]
[null,"施設ごとの数量","施設（１）","施設名称",{"$f":"届出・申告書の作成!$V73&\"\"","v":""},null,"施設名称",{"$f":"IF($E132=\"\",\"\",CONCATENATE(\"(\",$E132,\")\"))","v":""}]
[null,null,null,"数量\n(t)",{"$f":"IF(届出・申告書の作成!$V74=\"\",\"0\",届出・申告書の作成!$V74&\"\")","v":"0"},null,"数量",{"$f":"IF($E133=\"\", \"\", IF($E133=\"0\", \"0 t\", CONCATENATE(IF(RIGHT(TEXT($E133, \"0.###\"),1)=\".\", TEXT($E133, \"#,###\"), TEXT($E133, \"#,##0.###\")),\" t\")))","v":"0 t"},{"$f":"IFERROR(VALUE($E133),0)","v":0}]
[null,null,"施設（２）","施設名称",{"$f":"届出・申告書の作成!$V75&\"\"","v":""},null,"施設名称",{"$f":"IF(OR($E130<2, $E134=\"\"),\"\",CONCATENATE(\"(\",$E134,\")\"))","v":""}]
[null,null,null,"数量\n(t)",{"$f":"IF(届出・申告書の作成!$V76=\"\",\"0\",届出・申告書の作成!$V76&\"\")","v":"0"},null,"数量",{"$f":"IF(OR($E130<2, $E135=\"\"), \"\", IF($E135=\"0\", \"0 t\", CONCATENATE(IF(RIGHT(TEXT($E135, \"0.###\"),1)=\".\", TEXT($E135, \"#,###\"), TEXT($E135, \"#,##0.###\")),\" t\")))","v":""},{"$f":"IF($E130<2,0, IFERROR(VALUE($E135),0))","v":0}]
[null,null,"施設（３）","施設名称",{"$f":"届出・申告書の作成!$V77&\"\"","v":""},null,"施設名称",{"$f":"IF(OR($E130<3, $E136=\"\"),\"\",CONCATENATE(\"(\",$E136,\")\"))","v":""}]
[null,null,null,"数量\n(t)",{"$f":"IF(届出・申告書の作成!$V78=\"\",\"0\",届出・申告書の作成!$V78&\"\")","v":"0"},null,"数量",{"$f":"IF(OR($E130<3, $E137=\"\"), \"\", IF($E137=\"0\", \"0 t\", CONCATENATE(IF(RIGHT(TEXT($E137, \"0.###\"),1)=\".\", TEXT($E137, \"#,###\"), TEXT($E137, \"#,##0.###\")),\" t\")))","v":""},{"$f":"IF($E130<3,0, IFERROR(VALUE($E137),0))","v":0}]
[null,null,"施設（４）","施設名称",{"$f":"届出・申告書の作成!$V79&\"\"","v":""},null,"施設名称",{"$f":"IF(OR($E130<4, $E138=\"\"),\"\",CONCATENATE(\"(\",$E138,\")\"))","v":""}]
[null,null,null,"数量\n(t)",{"$f":"IF(届出・申告書の作成!$V80=\"\",\"0\",届出・申告書の作成!$V80&\"\")","v":"0"},null,"数量",{"$f":"IF(OR($E130<4, $E139=\"\"), \"\", IF($E139=\"0\", \"0 t\", CONCATENATE(IF(RIGHT(TEXT($E139, \"0.###\"),1)=\".\", TEXT($E139, \"#,###\"), TEXT($E139, \"#,##0.###\")),\" t\")))","v":""},{"$f":"IF($E130<4,0, IFERROR(VALUE($E139),0))","v":0}]
[null,null,"施設（５）","施設名称",{"$f":"届出・申告書の作成!$V81&\"\"","v":""},null,"施設名称",{"$f":"IF(OR($E130<5, $E140=\"\"),\"\",CONCATENATE(\"(\",$E140,\")\"))","v":""}]
[null,null,null,"数量\n(t)",{"$f":"IF(届出・申告書の作成!$V82=\"\",\"0\",届出・申告書の作成!$V82&\"\")","v":"0"},null,"数量",{"$f":"IF(OR($E130<5, $E141=\"\"), \"\", IF($E141=\"0\", \"0 t\", CONCATENATE(IF(RIGHT(TEXT($E141, \"0.###\"),1)=\".\", TEXT($E141, \"#,###\"), TEXT($E141, \"#,##0.###\")),\" t\")))","v":""},{"$f":"IF($E130<5,0, IFERROR(VALUE($E141),0))","v":0}]
[null,"届出のみ",null,null,{"$f":"届出・申告書の作成!$V83&\"\"","v":"いいえ"},null,"届出のみ",{"$f":"IF($E142=\"\",\"\",VLOOKUP($E142,LIST!$AK$5:$AL$6,2,FALSE))","v":"0"}]
[null,"届出のみ理由",null,null,{"$f":"届出・申告書の作成!$V84&\"\"","v":"－"},null,"届出のみ理由",{"$f":"IF($E143=\"\",\"0\",VLOOKUP($E143,LIST!$AE$5:$AF$9,2,FALSE))","v":"0"}]
[]
["製造しようとする第二種指定物質の情報（４）","製造しようとする第二種指定物質",null,"CAS番号",{"$f":"届出・申告書の作成!$V86&\"\"","v":""},null,"CAS番号",{"$f":"IF($E145=STRING_NOCAS, $E148, $E145)","v":""},"物質ID",{"$f":"IF($E145=STRING_NOCAS,0,IFERROR(VLOOKUP($H145,LIST!$X$6:$Y$500,2,FALSE),0))","v":0}]
[null,null,null,"条約表剤番号",{"$f":"届出・申告書の作成!$V87","v":""},null,"政令番号",{"$f":"IF($E145=STRING_NOCAS, TEXT(IFERROR(VLOOKUP($E146,LIST!$R$5:$V$100,4,FALSE)&\"\",\"\"),\"@\"), TEXT(IFERROR(VLOOKUP($H145,LIST!$X$6:$AC$500,3,FALSE)&\"\",\"\"),\"@\"))","v":""},"表区分ID",{"$f":"IF($E145=STRING_NOCAS, TEXT(IFERROR(VLOOKUP($E146,LIST!$R$5:$V$100,2,FALSE)&\"\",\"\"),\"@\"), TEXT(IFERROR(VLOOKUP($H145,LIST!$X$6:$AC$500,4,FALSE)&\"\",\"\"),\"@\"))","v":""}]
[null,null,null,"物質名称（日本語名）",{"$f":"届出・申告書の作成!$V88&\"\"","v":""},null,"物質名称（日本語名）",{"$f":"IF($E145=STRING_NOCAS, $E149, $E147)","v":""},"物質名称（英語）",{"$f":"IF($E145=STRING_NOCAS,IFERROR(VLOOKUP($H145,$A$421:$B$428,2,FALSE),\"\"),\"\")","v":""}]
[null,null,null,"※「CAS番号なし」の場合記入\nCAS番号",{"$f":"届出・申告書の作成!$V89&\"\"","v":""}]
[null,null,null,"※「CAS番号なし」の場合記入\n物質名称（日本語名）",{"$f":"届出・申告書の作成!$V90&\"\"","v":""},null,"合計数量（DB）",{"$f":"IF(H151>999999.999,999999.999,H151)","v":0}]
[null,"事業所内の当該第二種指定物質の製造施設の数",null,null,{"$f":"届出・申告書の作成!$V91","v":1},null,"合計数量(帳票)",{"$f":"IF($H149=0,\"0\",IF(RIGHT(TEXT($H149, \"0.###\"),1)=\".\", TEXT($H149, \"#,###\"), TEXT($H149, \"#,##0.###\")))","v":"0"},{"$f":"TEXT($E150,\"@\")","v":"1"}]
[null,"事業所内の当該第二種指定物質の製造施設の位置",null,null,{"$f":"届出・申告書の作成!$V92&\"\"","v":"別添資料のとおり"},null,"合計数量",{"$f":"IF($E153=\"\",0,$E153)+IF(OR($E150<2, $E155=\"\"),0,$E155)+IF(OR($E150<3, $E157=\"\"),0,$E157)+IF(OR($E150<4, $E159=\"\"),0,$E159)+IF(OR($E150<5, $E161=\"\"),0,$E161)","v":0},{"$f":"IF($H149=0,\"\",TEXT($H149,\"@\"))","v":""},"事業所内の当該第二種指定物質の製造施設の位置",{"$f":"IF($E151=\"\",\"\",VLOOKUP($E151,LIST!$AI$5:$AJ$12,2,FALSE))","v":"1"}]
[null,"施設ごとの数量","施設（１）","施設名称",{"$f":"届出・申告書の作成!$V93&\"\"","v":""},null,"施設名称",{"$f":"IF($E152=\"\",\"\",CONCATENATE(\"(\",$E152,\")\"))","v":""}]
[null,null,null,"数量\n(t)",{"$f":"IF(届出・申告書の作成!$V94=\"\",\"0\",届出・申告書の作成!$V94&\"\")","v":"0"},null,"数量",{"$f":"IF($E153=\"\", \"\", IF($E153=\"0\", \"0 t\", CONCATENATE(IF(RIGHT(TEXT($E153, \"0.###\"),1)=\".\", TEXT($E153, \"#,###\"), TEXT($E153, \"#,##0.###\")),\" t\")))","v":"0 t"},{"$f":"IFERROR(VALUE($E153),0)","v":0}]
[null,null,"施設（２）","施設名称",{"$f":"届出・申告書の作成!$V95&\"\"","v":""},null,"施設名称",{"$f":"IF(OR($E150<2, $E154=\"\"),\"\",CONCATENATE(\"(\",$E154,\")\"))","v":""}]
[null,null,null,"数量\n(t)",{"$f":"IF(届出・申告書の作成!$V96=\"\",\"0\",届出・申告書の作成!$V96&\"\")","v":"0"},null,"数量",{"$f":"IF(OR($E150<2, $E155=\"\"), \"\", IF($E155=\"0\", \"0 t\", CONCATENATE(IF(RIGHT(TEXT($E155, \"0.###\"),1)=\".\", TEXT($E155, \"#,###\"), TEXT($E155, \"#,##0.###\")),\" t\")))","v":""},{"$f":"IF($E150<2,0, IFERROR(VALUE($E155),0))","v":0}]
[null,null,"施設（３）","施設名称",{"$f":"届出・申告書の作成!$V97&\"\"","v":""},null,"施設名称",{"$f":"IF(OR($E150<3, $E156=\"\"),\"\",CONCATENATE(\"(\",$E156,\")\"))","v":""}]
[null,null,null,"数量\n(t)",{"$f":"IF(届出・申告書の作成!$V98=\"\",\"0\",届出・申告書の作成!$V98&\"\")","v":"0"},null,"数量",{"$f":"IF(OR($E150<3, $E157=\"\"), \"\", IF($E157=\"0\", \"0 t\", CONCATENATE(IF(RIGHT(TEXT($E157, \"0.###\"),1)=\".\", TEXT($E157, \"#,###\"), TEXT($E157, \"#,##0.###\")),\" t\")))","v":""},{"$f":"IF($E150<3,0, IFERROR(VALUE($E157),0))","v":0}]
[null,null,"施設（４）","施設名称",{"$f":"届出・申告書の作成!$V99&\"\"","v":""},null,"施設名称",{"$f":"IF(OR($E150<4, $E158=\"\"),\"\",CONCATENATE(\"(\",$E158,\")\"))","v":""}]
[null,null,null,"数量\n(t)",{"$f":"IF(届出・申告書の作成!$V100=\"\",\"0\",届出・申告書の作成!$V100&\"\")","v":"0"},null,"数量",{"$f":"IF(OR($E150<4, $E159=\"\"), \"\", IF($E159=\"0\", \"0 t\", CONCATENATE(IF(RIGHT(TEXT($E159, \"0.###\"),1)=\".\", TEXT($E159, \"#,###\"), TEXT($E159, \"#,##0.###\")),\" t\")))","v":""},{"$f":"IF($E150<4,0, IFERROR(VALUE($E159),0))","v":0}]
[null,null,"施設（５）","施設名称",{"$f":"届出・申告書の作成!$V101&\"\"","v":""},null,"施設名称",{"$f":"IF(OR($E150<5, $E160=\"\"),\"\",CONCATENATE(\"(\",$E160,\")\"))","v":""}]
[null,null,null,"数量\n(t)",{"$f":"IF(届出・申告書の作成!$V102=\"\", \"0\", 届出・申告書の作成!$V102&\"\")","v":"0"},null,"数量",{"$f":"IF(OR($E150<5, $E161=\"\"), \"\", IF($E161=\"0\", \"0 t\", CONCATENATE(IF(RIGHT(TEXT($E161, \"0.###\"),1)=\".\", TEXT($E161, \"#,###\"), TEXT($E161, \"#,##0.###\")),\" t\")))","v":""},{"$f":"IF($E150<5,0, IFERROR(VALUE($E161),0))","v":0}]
[null,"届出のみ",null,null,{"$f":"届出・申告書の作成!$V103&\"\"","v":"いいえ"},null,"届出のみ",{"$f":"IF($E162=\"\",\"\",VLOOKUP($E162,LIST!$AK$5:$AL$6,2,FALSE))","v":"0"}]
[null,"届出のみ理由",null,null,{"$f":"届出・申告書の作成!$V104&\"\"","v":"－"},null,"届出のみ理由",{"$f":"IF($E163=\"\",\"0\",VLOOKUP($E163,LIST!$AE$5:$AF$9,2,FALSE))","v":"0"}]
[]
["製造しようとする第二種指定物質の情報（５）","製造しようとする第二種指定物質",null,"CAS番号",{"$f":"届出・申告書の作成!$V106&\"\"","v":""},null,"CAS番号",{"$f":"IF($E165=STRING_NOCAS, $E168, $E165)","v":""},"物質ID",{"$f":"IF($E165=STRING_NOCAS,0,IFERROR(VLOOKUP($H165,LIST!$X$6:$Y$500,2,FALSE),0))","v":0}]
[null,null,null,"条約表剤番号",{"$f":"届出・申告書の作成!$V107","v":""},null,"政令番号",{"$f":"IF($E165=STRING_NOCAS, TEXT(IFERROR(VLOOKUP($E166,LIST!$R$5:$V$100,4,FALSE)&\"\",\"\"),\"@\"), TEXT(IFERROR(VLOOKUP($H165,LIST!$X$6:$AC$500,3,FALSE)&\"\",\"\"),\"@\"))","v":""},"表区分ID",{"$f":"IF($E165=STRING_NOCAS, TEXT(IFERROR(VLOOKUP($E166,LIST!$R$5:$V$100,2,FALSE)&\"\",\"\"),\"@\"), TEXT(IFERROR(VLOOKUP($H165,LIST!$X$6:$AC$500,4,FALSE)&\"\",\"\"),\"@\"))","v":""}]
[null,null,null,"物質名称（日本語名）",{"$f":"届出・申告書の作成!$V108&\"\"","v":""},null,"物質名称（日本語名）",{"$f":"IF($E165=STRING_NOCAS, $E169, $E167)","v":""},"物質名称（英語）",{"$f":"IF($E165=STRING_NOCAS,IFERROR(VLOOKUP($H165,$A$421:$B$428,2,FALSE),\"\"),\"\")","v":""}]
[null,null,null,"※「CAS番号なし」の場合記入\nCAS番号",{"$f":"届出・申告書の作成!$V109&\"\"","v":""}]
[null,null,null,"※「CAS番号なし」の場合記入\n物質名称（日本語名）",{"$f":"届出・申告書の作成!$V110&\"\"","v":""},null,"合計数量（DB）",{"$f":"IF(H171>999999.999,999999.999,H171)","v":0}]
[null,"事業所内の当該第二種指定物質の製造施設の数",null,null,{"$f":"届出・申告書の作成!$V111","v":1},null,"合計数量(帳票)",{"$f":"IF($H169=0,\"0\",IF(RIGHT(TEXT($H169, \"0.###\"),1)=\".\", TEXT($H169, \"#,###\"), TEXT($H169, \"#,##0.###\")))","v":"0"},{"$f":"TEXT($E170,\"@\")","v":"1"}]
[null,"事業所内の当該第二種指定物質の製造施設の位置",null,null,{"$f":"届出・申告書の作成!$V112&\"\"","v":"別添資料のとおり"},null,"合計数量",{"$f":"IF($E173=\"\",0,$E173)+IF(OR($E170<2, $E175=\"\"),0,$E175)+IF(OR($E170<3, $E177=\"\"),0,$E177)+IF(OR($E170<4, $E179=\"\"),0,$E179)+IF(OR($E170<5, $E181=\"\"),0,$E181)","v":0},{"$f":"IF($H169=0,\"\",TEXT($H169,\"@\"))","v":""},"事業所内の当該第二種指定物質の製造施設の位置",{"$f":"IF($E171=\"\",\"\",VLOOKUP($E171,LIST!$AI$5:$AJ$12,2,FALSE))","v":"1"}]
[null,"施設ごとの数量","施設（１）","施設名称",{"$f":"届出・申告書の作成!$V113&\"\"","v":""},null,"施設名称",{"$f":"IF($E172=\"\",\"\",CONCATENATE(\"(\",$E172,\")\"))","v":""}]
[null,null,null,"数量\n(t)",{"$f":"IF(届出・申告書の作成!$V114=\"\", \"0\", 届出・申告書の作成!$V114&\"\")","v":"0"},null,"数量",{"$f":"IF($E173=\"\", \"\",IF($E173=\"0\", \"0 t\", CONCATENATE(IF(RIGHT(TEXT($E173, \"0.###\"),1)=\".\", TEXT($E173, \"#,###\"), TEXT($E173, \"#,##0.###\")),\" t\")))","v":"0 t"},{"$f":"IFERROR(VALUE($E173),0)","v":0}]
[null,null,"施設（２）","施設名称",{"$f":"届出・申告書の作成!$V115&\"\"","v":""},null,"施設名称",{"$f":"IF(OR($E170<2, $E174=\"\"),\"\",CONCATENATE(\"(\",$E174,\")\"))","v":""}]
[null,null,null,"数量\n(t)",{"$f":"IF(届出・申告書の作成!$V116=\"\",\"0\",届出・申告書の作成!$V116&\"\")","v":"0"},null,"数量",{"$f":"IF(OR($E170<2, $E175=\"\"), \"\",IF($E175=\"0\", \"0 t\", CONCATENATE(IF(RIGHT(TEXT($E175, \"0.###\"),1)=\".\", TEXT($E175, \"#,###\"), TEXT($E175, \"#,##0.###\")),\" t\")))","v":""},{"$f":"IF($E170<2,0, IFERROR(VALUE($E175),0))","v":0}]
[null,null,"施設（３）","施設名称",{"$f":"届出・申告書の作成!$V117&\"\"","v":""},null,"施設名称",{"$f":"IF(OR($E170<3, $E176=\"\"),\"\",CONCATENATE(\"(\",$E176,\")\"))","v":""}]
[null,null,null,"数量\n(t)",{"$f":"IF(届出・申告書の作成!$V118=\"\",\"0\",届出・申告書の作成!$V118&\"\")","v":"0"},null,"数量",{"$f":"IF(OR($E170<3, $E177=\"\"), \"\",IF($E177=\"0\", \"0 t\", CONCATENATE(IF(RIGHT(TEXT($E177, \"0.###\"),1)=\".\", TEXT($E177, \"#,###\"), TEXT($E177, \"#,##0.###\")),\" t\")))","v":""},{"$f":"IF($E170<3,0, IFERROR(VALUE($E177),0))","v":0}]
[null,null,"施設（４）","施設名称",{"$f":"届出・申告書の作成!$V119&\"\"","v":""},null,"施設名称",{"$f":"IF(OR($E170<4, $E178=\"\"),\"\",CONCATENATE(\"(\",$E178,\")\"))","v":""}]
[null,null,null,"数量\n(t)",{"$f":"IF(届出・申告書の作成!$V120=\"\",\"0\",届出・申告書の作成!$V120&\"\")","v":"0"},null,"数量",{"$f":"IF(OR($E170<4, $E179=\"\"), \"\", IF($E179=\"0\", \"0 t\", CONCATENATE(IF(RIGHT(TEXT($E179, \"0.###\"),1)=\".\", TEXT($E179, \"#,###\"), TEXT($E179, \"#,##0.###\")),\" t\")))","v":""},{"$f":"IF($E170<4,0, IFERROR(VALUE($E179),0))","v":0}]
[null,null,"施設（５）","施設名称",{"$f":"届出・申告書の作成!$V121&\"\"","v":""},null,"施設名称",{"$f":"IF(OR($E170<5, $E180=\"\"),\"\",CONCATENATE(\"(\",$E180,\")\"))","v":""}]
[null,null,null,"数量\n(t)",{"$f":"IF(届出・申告書の作成!$V122=\"\",\"0\",届出・申告書の作成!$V122&\"\")","v":"0"},null,"数量",{"$f":"IF(OR($E170<5, $E181=\"\"), \"\", IF($E181=\"0\", \"0 t\", CONCATENATE(IF(RIGHT(TEXT($E181, \"0.###\"),1)=\".\", TEXT($E181, \"#,###\"), TEXT($E181, \"#,##0.###\")),\" t\")))","v":""},{"$f":"IF($E170<5,0, IFERROR(VALUE($E181),0))","v":0}]
[null,"届出のみ",null,null,{"$f":"届出・申告書の作成!$V123&\"\"","v":"いいえ"},null,"届出のみ",{"$f":"IF($E182=\"\",\"\",VLOOKUP($E182,LIST!$AK$5:$AL$6,2,FALSE))","v":"0"}]
[null,"届出のみ理由",null,null,{"$f":"届出・申告書の作成!$V124&\"\"","v":"－"},null,"届出のみ理由",{"$f":"IF($E183=\"\",\"0\",VLOOKUP($E183,LIST!$AE$5:$AF$9,2,FALSE))","v":"0"}]
[]
["製造しようとする第二種指定物質の情報（６）","製造しようとする第二種指定物質",null,"CAS番号",{"$f":"届出・申告書の作成!$V126&\"\"","v":""},null,"CAS番号",{"$f":"IF($E185=STRING_NOCAS, $E188, $E185)","v":""},"物質ID",{"$f":"IF($E185=STRING_NOCAS,0,IFERROR(VLOOKUP($H185,LIST!$X$6:$Y$500,2,FALSE),0))","v":0}]
[null,null,null,"条約表剤番号",{"$f":"届出・申告書の作成!$V127","v":""},null,"政令番号",{"$f":"IF($E185=STRING_NOCAS, TEXT(IFERROR(VLOOKUP($E186,LIST!$R$5:$V$100,4,FALSE)&\"\",\"\"),\"@\"), TEXT(IFERROR(VLOOKUP($H185,LIST!$X$6:$AC$500,3,FALSE)&\"\",\"\"),\"@\"))","v":""},"表区分ID",{"$f":"IF($E185=STRING_NOCAS, TEXT(IFERROR(VLOOKUP($E186,LIST!$R$5:$V$100,2,FALSE)&\"\",\"\"),\"@\"), TEXT(IFERROR(VLOOKUP($H185,LIST!$X$6:$AC$500,4,FALSE)&\"\",\"\"),\"@\"))","v":""}]
[null,null,null,"物質名称（日本語名）",{"$f":"届出・申告書の作成!$V128&\"\"","v":""},null,"物質名称（日本語名）",{"$f":"IF($E185=STRING_NOCAS, $E189, $E187)","v":""},"物質名称（英語）",{"$f":"IF($E185=STRING_NOCAS,IFERROR(VLOOKUP($H185,$A$421:$B$428,2,FALSE),\"\"),\"\")","v":""}]
[null,null,null,"※「CAS番号なし」の場合記入\nCAS番号",{"$f":"届出・申告書の作成!$V129&\"\"","v":""}]
[null,null,null,"※「CAS番号なし」の場合記入\n物質名称（日本語名）",{"$f":"届出・申告書の作成!$V130&\"\"","v":""},null,"合計数量（DB）",{"$f":"IF(H191>999999.999,999999.999,H191)","v":0}]
[null,"事業所内の当該第二種指定物質の製造施設の数",null,null,{"$f":"届出・申告書の作成!$V131","v":1},null,"合計数量(帳票)",{"$f":"IF($H189=0,\"0\",IF(RIGHT(TEXT($H189, \"0.###\"),1)=\".\", TEXT($H189, \"#,###\"), TEXT($H189, \"#,##0.###\")))","v":"0"},{"$f":"TEXT($E190,\"@\")","v":"1"}]
[null,"事業所内の当該第二種指定物質の製造施設の位置",null,null,{"$f":"届出・申告書の作成!$V132&\"\"","v":"別添資料のとおり"},null,"合計数量",{"$f":"IF($E193=\"\",0,$E193)+IF(OR($E190<2, $E195=\"\"),0,$E195)+IF(OR($E190<3, $E197=\"\"),0,$E197)+IF(OR($E190<4, $E199=\"\"),0,$E199)+IF(OR($E190<5, $E201=\"\"),0,$E201)","v":0},{"$f":"IF($H189=0,\"\",TEXT($H189,\"@\"))","v":""},"事業所内の当該第二種指定物質の製造施設の位置",{"$f":"IF($E191=\"\",\"\",VLOOKUP($E191,LIST!$AI$5:$AJ$12,2,FALSE))","v":"1"}]
[null,"施設ごとの数量","施設（１）","施設名称",{"$f":"届出・申告書の作成!$V133&\"\"","v":""},null,"施設名称",{"$f":"IF($E192=\"\",\"\",CONCATENATE(\"(\",$E192,\")\"))","v":""}]
[null,null,null,"数量\n(t)",{"$f":"IF(届出・申告書の作成!$V134=\"\",\"0\",届出・申告書の作成!$V134&\"\")","v":"0"},null,"数量",{"$f":"IF($E193=\"\", \"\", IF($E193=\"0\", \"0 t\", CONCATENATE(IF(RIGHT(TEXT($E193, \"0.###\"),1)=\".\", TEXT($E193, \"#,###\"), TEXT($E193, \"#,##0.###\")),\" t\")))","v":"0 t"},{"$f":"IFERROR(VALUE($E193),0)","v":0}]
[null,null,"施設（２）","施設名称",{"$f":"届出・申告書の作成!$V135&\"\"","v":""},null,"施設名称",{"$f":"IF(OR($E190<2, $E194=\"\"),\"\",CONCATENATE(\"(\",$E194,\")\"))","v":""}]
[null,null,null,"数量\n(t)",{"$f":"IF(届出・申告書の作成!$V136=\"\",\"0\",届出・申告書の作成!$V136&\"\")","v":"0"},null,"数量",{"$f":"IF(OR($E190<2, $E195=\"\"), \"\", IF($E195=\"0\", \"0 t\", CONCATENATE(IF(RIGHT(TEXT($E195, \"0.###\"),1)=\".\", TEXT($E195, \"#,###\"), TEXT($E195, \"#,##0.###\")),\" t\")))","v":""},{"$f":"IF($E190<2,0, IFERROR(VALUE($E195),0))","v":0}]
[null,null,"施設（３）","施設名称",{"$f":"届出・申告書の作成!$V137&\"\"","v":""},null,"施設名称",{"$f":"IF(OR($E190<3, $E196=\"\"),\"\",CONCATENATE(\"(\",$E196,\")\"))","v":""}]
[null,null,null,"数量\n(t)",{"$f":"IF(届出・申告書の作成!$V138=\"\",\"0\",届出・申告書の作成!$V138&\"\")","v":"0"},null,"数量",{"$f":"IF(OR($E190<3, $E197=\"\"), \"\", IF($E197=\"0\", \"0 t\", CONCATENATE(IF(RIGHT(TEXT($E197, \"0.###\"),1)=\".\", TEXT($E197, \"#,###\"), TEXT($E197, \"#,##0.###\")),\" t\")))","v":""},{"$f":"IF($E190<3,0, IFERROR(VALUE($E197),0))","v":0}]
[null,null,"施設（４）","施設名称",{"$f":"届出・申告書の作成!$V139&\"\"","v":""},null,"施設名称",{"$f":"IF(OR($E190<4, $E198=\"\"),\"\",CONCATENATE(\"(\",$E198,\")\"))","v":""}]
[null,null,null,"数量\n(t)",{"$f":"IF(届出・申告書の作成!$V140=\"\",\"0\",届出・申告書の作成!$V140&\"\")","v":"0"},null,"数量",{"$f":"IF(OR($E190<4, $E199=\"\"), \"\", IF($E199=\"0\", \"0 t\", CONCATENATE(IF(RIGHT(TEXT($E199, \"0.###\"),1)=\".\", TEXT($E199, \"#,###\"), TEXT($E199, \"#,##0.###\")),\" t\")))","v":""},{"$f":"IF($E190<4,0, IFERROR(VALUE($E199),0))","v":0}]
[null,null,"施設（５）","施設名称",{"$f":"届出・申告書の作成!$V141&\"\"","v":""},null,"施設名称",{"$f":"IF(OR($E190<5, $E200=\"\"),\"\",CONCATENATE(\"(\",$E200,\")\"))","v":""}]
[null,null,null,"数量\n(t)",{"$f":"IF(届出・申告書の作成!$V142=\"\",\"0\",届出・申告書の作成!$V142&\"\")","v":"0"},null,"数量",{"$f":"IF(OR($E190<5, $E201=\"\"), \"\", IF($E201=\"0\", \"0 t\", CONCATENATE(IF(RIGHT(TEXT($E201, \"0.###\"),1)=\".\", TEXT($E201, \"#,###\"), TEXT($E201, \"#,##0.###\")),\" t\")))","v":""},{"$f":"IF($E190<5,0, IFERROR(VALUE($E201),0))","v":0}]
[null,"届出のみ",null,null,{"$f":"届出・申告書の作成!$V143&\"\"","v":"いいえ"},null,"届出のみ",{"$f":"IF($E202=\"\",\"\",VLOOKUP($E202,LIST!$AK$5:$AL$6,2,FALSE))","v":"0"}]
[null,"届出のみ理由",null,null,{"$f":"届出・申告書の作成!$V144&\"\"","v":"－"},null,"届出のみ理由",{"$f":"IF($E203=\"\",\"0\",VLOOKUP($E203,LIST!$AE$5:$AF$9,2,FALSE))","v":"0"}]
[]
["製造しようとする第二種指定物質の情報（７）","製造しようとする第二種指定物質",null,"CAS番号",{"$f":"届出・申告書の作成!$V146&\"\"","v":""},null,"CAS番号",{"$f":"IF($E205=STRING_NOCAS, $E208, $E205)","v":""},"物質ID",{"$f":"IF($E205=STRING_NOCAS,0,IFERROR(VLOOKUP($H205,LIST!$X$6:$Y$500,2,FALSE),0))","v":0}]
[null,null,null,"条約表剤番号",{"$f":"届出・申告書の作成!$V147","v":""},null,"政令番号",{"$f":"IF($E205=STRING_NOCAS, TEXT(IFERROR(VLOOKUP($E206,LIST!$R$5:$V$100,4,FALSE)&\"\",\"\"),\"@\"), TEXT(IFERROR(VLOOKUP($H205,LIST!$X$6:$AC$500,3,FALSE)&\"\",\"\"),\"@\"))","v":""},"表区分ID",{"$f":"IF($E205=STRING_NOCAS, TEXT(IFERROR(VLOOKUP($E206,LIST!$R$5:$V$100,2,FALSE)&\"\",\"\"),\"@\"), TEXT(IFERROR(VLOOKUP($H205,LIST!$X$6:$AC$500,4,FALSE)&\"\",\"\"),\"@\"))","v":""}]
[null,null,null,"物質名称（日本語名）",{"$f":"届出・申告書の作成!$V148&\"\"","v":""},null,"物質名称（日本語名）",{"$f":"IF($E205=STRING_NOCAS, $E209, $E207)","v":""},"物質名称（英語）",{"$f":"IF($E205=STRING_NOCAS,IFERROR(VLOOKUP($H205,$A$421:$B$428,2,FALSE),\"\"),\"\")","v":""}]
[null,null,null,"※「CAS番号なし」の場合記入\nCAS番号",{"$f":"届出・申告書の作成!$V149&\"\"","v":""}]
[null,null,null,"※「CAS番号なし」の場合記入\n物質名称（日本語名）",{"$f":"届出・申告書の作成!$V150&\"\"","v":""},null,"合計数量（DB）",{"$f":"IF(H211>999999.999,999999.999,H211)","v":0}]
[null,"事業所内の当該第二種指定物質の製造施設の数",null,null,{"$f":"届出・申告書の作成!$V151","v":1},null,"合計数量(帳票)",{"$f":"IF($H209=0,\"0\",IF(RIGHT(TEXT($H209, \"0.###\"),1)=\".\", TEXT($H209, \"#,###\"), TEXT($H209, \"#,##0.###\")))","v":"0"},{"$f":"TEXT($E210,\"@\")","v":"1"}]
[null,"事業所内の当該第二種指定物質の製造施設の位置",null,null,{"$f":"届出・申告書の作成!$V152&\"\"","v":"別添資料のとおり"},null,"合計数量",{"$f":"IF($E213=\"\",0,$E213)+IF(OR($E210<2, $E215=\"\"),0,$E215)+IF(OR($E210<3, $E217=\"\"),0,$E217)+IF(OR($E210<4, $E219=\"\"),0,$E219)+IF(OR($E210<5, $E221=\"\"),0,$E221)","v":0},{"$f":"IF($H209=0,\"\",TEXT($H209,\"@\"))","v":""},"事業所内の当該第二種指定物質の製造施設の位置",{"$f":"IF($E211=\"\",\"\",VLOOKUP($E211,LIST!$AI$5:$AJ$12,2,FALSE))","v":"1"}]
[null,"施設ごとの数量","施設（１）","施設名称",{"$f":"届出・申告書の作成!$V153&\"\"","v":""},null,"施設名称",{"$f":"IF($E212=\"\",\"\",CONCATENATE(\"(\",$E212,\")\"))","v":""}]
[null,null,null,"数量\n(t)",{"$f":"IF(届出・申告書の作成!$V154=\"\",\"0\",届出・申告書の作成!$V154&\"\")","v":"0"},null,"数量",{"$f":"IF($E213=\"\", \"\", IF($E213=\"0\", \"0 t\", CONCATENATE(IF(RIGHT(TEXT($E213, \"0.###\"),1)=\".\", TEXT($E213, \"#,###\"), TEXT($E213, \"#,##0.###\")),\" t\")))","v":"0 t"},{"$f":"IFERROR(VALUE($E213),0)","v":0}]
[null,null,"施設（２）","施設名称",{"$f":"届出・申告書の作成!$V155&\"\"","v":""},null,"施設名称",{"$f":"IF(OR($E210<2, $E214=\"\"),\"\",CONCATENATE(\"(\",$E214,\")\"))","v":""}]
[null,null,null,"数量\n(t)",{"$f":"IF(届出・申告書の作成!$V156=\"\",\"0\",届出・申告書の作成!$V156&\"\")","v":"0"},null,"数量",{"$f":"IF(OR($E210<2, $E215=\"\"), \"\", IF($E215=\"0\", \"0 t\", CONCATENATE(IF(RIGHT(TEXT($E215, \"0.###\"),1)=\".\", TEXT($E215, \"#,###\"), TEXT($E215, \"#,##0.###\")),\" t\")))","v":""},{"$f":"IF($E210<2,0, IFERROR(VALUE($E215),0))","v":0}]
[null,null,"施設（３）","施設名称",{"$f":"届出・申告書の作成!$V157&\"\"","v":""},null,"施設名称",{"$f":"IF(OR($E210<3, $E216=\"\"),\"\",CONCATENATE(\"(\",$E216,\")\"))","v":""}]
[null,null,null,"数量\n(t)",{"$f":"IF(届出・申告書の作成!$V158=\"\",\"0\",届出・申告書の作成!$V158&\"\")","v":"0"},null,"数量",{"$f":"IF(OR($E210<3, $E217=\"\"), \"\", IF($E217=\"0\", \"0 t\", CONCATENATE(IF(RIGHT(TEXT($E217, \"0.###\"),1)=\".\", TEXT($E217, \"#,###\"), TEXT($E217, \"#,##0.###\")),\" t\")))","v":""},{"$f":"IF($E210<3,0, IFERROR(VALUE($E217),0))","v":0}]
[null,null,"施設（４）","施設名称",{"$f":"届出・申告書の作成!$V159&\"\"","v":""},null,"施設名称",{"$f":"IF(OR($E210<4, $E218=\"\"),\"\",CONCATENATE(\"(\",$E218,\")\"))","v":""}]
[null,null,null,"数量\n(t)",{"$f":"IF(届出・申告書の作成!$V160=\"\",\"0\",届出・申告書の作成!$V160&\"\")","v":"0"},null,"数量",{"$f":"IF(OR($E210<4, $E219=\"\"), \"\", IF($E219=\"0\", \"0 t\", CONCATENATE(IF(RIGHT(TEXT($E219, \"0.###\"),1)=\".\", TEXT($E219, \"#,###\"), TEXT($E219, \"#,##0.###\")),\" t\")))","v":""},{"$f":"IF($E210<4,0, IFERROR(VALUE($E219),0))","v":0}]
[null,null,"施設（５）","施設名称",{"$f":"届出・申告書の作成!$V161&\"\"","v":""},null,"施設名称",{"$f":"IF(OR($E210<5, $E220=\"\"),\"\",CONCATENATE(\"(\",$E220,\")\"))","v":""}]
[null,null,null,"数量\n(t)",{"$f":"IF(届出・申告書の作成!$V162=\"\",\"0\",届出・申告書の作成!$V162&\"\")","v":"0"},null,"数量",{"$f":"IF(OR($E210<5, $E221=\"\"), \"\", IF($E221=\"0\", \"0 t\", CONCATENATE(IF(RIGHT(TEXT($E221, \"0.###\"),1)=\".\", TEXT($E221, \"#,###\"), TEXT($E221, \"#,##0.###\")),\" t\")))","v":""},{"$f":"IF($E210<5,0, IFERROR(VALUE($E221),0))","v":0}]
[null,"届出のみ",null,null,{"$f":"届出・申告書の作成!$V163&\"\"","v":"いいえ"},null,"届出のみ",{"$f":"IF($E222=\"\",\"\",VLOOKUP($E222,LIST!$AK$5:$AL$6,2,FALSE))","v":"0"}]
[null,"届出のみ理由",null,null,{"$f":"届出・申告書の作成!$V164&\"\"","v":"－"},null,"届出のみ理由",{"$f":"IF($E223=\"\",\"0\",VLOOKUP($E223,LIST!$AE$5:$AF$9,2,FALSE))","v":"0"}]
[]
["製造しようとする第二種指定物質の情報（８）","製造しようとする第二種指定物質",null,"CAS番号",{"$f":"届出・申告書の作成!$V166&\"\"","v":""},null,"CAS番号",{"$f":"IF($E225=STRING_NOCAS, $E228, $E225)","v":""},"物質ID",{"$f":"IF($E225=STRING_NOCAS,0,IFERROR(VLOOKUP($H225,LIST!$X$6:$Y$500,2,FALSE),0))","v":0}]
[null,null,null,"条約表剤番号",{"$f":"届出・申告書の作成!$V167","v":""},null,"政令番号",{"$f":"IF($E225=STRING_NOCAS, TEXT(IFERROR(VLOOKUP($E226,LIST!$R$5:$V$100,4,FALSE)&\"\",\"\"),\"@\"), TEXT(IFERROR(VLOOKUP($H225,LIST!$X$6:$AC$500,3,FALSE)&\"\",\"\"),\"@\"))","v":""},"表区分ID",{"$f":"IF($E225=STRING_NOCAS, TEXT(IFERROR(VLOOKUP($E226,LIST!$R$5:$V$100,2,FALSE)&\"\",\"\"),\"@\"), TEXT(IFERROR(VLOOKUP($H225,LIST!$X$6:$AC$500,4,FALSE)&\"\",\"\"),\"@\"))","v":""}]
[null,null,null,"物質名称（日本語名）",{"$f":"届出・申告書の作成!$V168&\"\"","v":""},null,"物質名称（日本語名）",{"$f":"IF($E225=STRING_NOCAS, $E229, $E227)","v":""},"物質名称（英語）",{"$f":"IF($E225=STRING_NOCAS,IFERROR(VLOOKUP($H225,$A$421:$B$428,2,FALSE),\"\"),\"\")","v":""}]
[null,null,null,"※「CAS番号なし」の場合記入\nCAS番号",{"$f":"届出・申告書の作成!$V169&\"\"","v":""}]
[null,null,null,"※「CAS番号なし」の場合記入\n物質名称（日本語名）",{"$f":"届出・申告書の作成!$V170&\"\"","v":""},null,"合計数量（DB）",{"$f":"IF(H231>999999.999,999999.999,H231)","v":0}]
[null,"事業所内の当該第二種指定物質の製造施設の数",null,null,{"$f":"届出・申告書の作成!$V171","v":1},null,"合計数量(帳票)",{"$f":"IF($H229=0,\"0\",IF(RIGHT(TEXT($H229, \"0.###\"),1)=\".\", TEXT($H229, \"#,###\"), TEXT($H229, \"#,##0.###\")))","v":"0"},{"$f":"TEXT($E230,\"@\")","v":"1"}]
[null,"事業所内の当該第二種指定物質の製造施設の位置",null,null,{"$f":"届出・申告書の作成!$V172&\"\"","v":"別添資料のとおり"},null,"合計数量",{"$f":"IF($E233=\"\",0,$E233)+IF(OR($E230<2, $E235=\"\"),0,$E235)+IF(OR($E230<3, $E237=\"\"),0,$E237)+IF(OR($E230<4, $E239=\"\"),0,$E239)+IF(OR($E230<5, $E241=\"\"),0,$E241)","v":0},{"$f":"IF($H229=0,\"\",TEXT($H229,\"@\"))","v":""},"事業所内の当該第二種指定物質の製造施設の位置",{"$f":"IF($E231=\"\",\"\",VLOOKUP($E231,LIST!$AI$5:$AJ$12,2,FALSE))","v":"1"}]
[null,"施設ごとの数量","施設（１）","施設名称",{"$f":"届出・申告書の作成!$V173&\"\"","v":""},null,"施設名称",{"$f":"IF($E232=\"\",\"\",CONCATENATE(\"(\",$E232,\")\"))","v":""}]
[null,null,null,"数量\n(t)",{"$f":"IF(届出・申告書の作成!$V174=\"\",\"0\",届出・申告書の作成!$V174&\"\")","v":"0"},null,"数量",{"$f":"IF($E233=\"\", \"\", IF($E233=\"0\", \"0 t\", CONCATENATE(IF(RIGHT(TEXT($E233, \"0.###\"),1)=\".\", TEXT($E233, \"#,###\"), TEXT($E233, \"#,##0.###\")),\" t\")))","v":"0 t"},{"$f":"IFERROR(VALUE($E233),0)","v":0}]
[null,null,"施設（２）","施設名称",{"$f":"届出・申告書の作成!$V175&\"\"","v":""},null,"施設名称",{"$f":"IF(OR($E230<2, $E234=\"\"),\"\",CONCATENATE(\"(\",$E234,\")\"))","v":""}]
[null,null,null,"数量\n(t)",{"$f":"IF(届出・申告書の作成!$V176=\"\",\"0\",届出・申告書の作成!$V176&\"\")","v":"0"},null,"数量",{"$f":"IF(OR($E230<2, $E235=\"\"), \"\", IF($E235=\"0\", \"0 t\", CONCATENATE(IF(RIGHT(TEXT($E235, \"0.###\"),1)=\".\", TEXT($E235, \"#,###\"), TEXT($E235, \"#,##0.###\")),\" t\")))","v":""},{"$f":"IF($E230<2,0, IFERROR(VALUE($E235),0))","v":0}]
[null,null,"施設（３）","施設名称",{"$f":"届出・申告書の作成!$V177&\"\"","v":""},null,"施設名称",{"$f":"IF(OR($E230<3, $E236=\"\"),\"\",CONCATENATE(\"(\",$E236,\")\"))","v":""}]
[null,null,null,"数量\n(t)",{"$f":"IF(届出・申告書の作成!$V178=\"\", \"0\",届出・申告書の作成!$V178&\"\")","v":"0"},null,"数量",{"$f":"IF(OR($E230<3, $E237=\"\"), \"\", IF($E237=\"0\", \"0 t\", CONCATENATE(IF(RIGHT(TEXT($E237, \"0.###\"),1)=\".\", TEXT($E237, \"#,###\"), TEXT($E237, \"#,##0.###\")),\" t\")))","v":""},{"$f":"IF($E230<3,0, IFERROR(VALUE($E237),0))","v":0}]
[null,null,"施設（４）","施設名称",{"$f":"届出・申告書の作成!$V179&\"\"","v":""},null,"施設名称",{"$f":"IF(OR($E230<4, $E238=\"\"),\"\",CONCATENATE(\"(\",$E238,\")\"))","v":""}]
[null,null,null,"数量\n(t)",{"$f":"IF(届出・申告書の作成!$V180=\"\",\"0\",届出・申告書の作成!$V180&\"\")","v":"0"},null,"数量",{"$f":"IF(OR($E230<4, $E239=\"\"), \"\", IF($E239=\"0\", \"0 t\", CONCATENATE(IF(RIGHT(TEXT($E239, \"0.###\"),1)=\".\", TEXT($E239, \"#,###\"), TEXT($E239, \"#,##0.###\")),\" t\")))","v":""},{"$f":"IF($E230<4,0, IFERROR(VALUE($E239),0))","v":0}]
[null,null,"施設（５）","施設名称",{"$f":"届出・申告書の作成!$V181&\"\"","v":""},null,"施設名称",{"$f":"IF(OR($E230<5, $E240=\"\"),\"\",CONCATENATE(\"(\",$E240,\")\"))","v":""}]
[null,null,null,"数量\n(t)",{"$f":"IF(届出・申告書の作成!$V182=\"\",\"0\",届出・申告書の作成!$V182&\"\")","v":"0"},null,"数量",{"$f":"IF(OR($E230<5, $E241=\"\"), \"\",IF($E241=\"0\", \"0 t\", CONCATENATE(IF(RIGHT(TEXT($E241, \"0.###\"),1)=\".\", TEXT($E241, \"#,###\"), TEXT($E241, \"#,##0.###\")),\" t\")))","v":""},{"$f":"IF($E230<5,0, IFERROR(VALUE($E241),0))","v":0}]
[null,"届出のみ",null,null,{"$f":"届出・申告書の作成!$V183&\"\"","v":"いいえ"},null,"届出のみ",{"$f":"IF($E242=\"\",\"\",VLOOKUP($E242,LIST!$AK$5:$AL$6,2,FALSE))","v":"0"}]
[null,"届出のみ理由",null,null,{"$f":"届出・申告書の作成!$V184&\"\"","v":"－"},null,"届出のみ理由",{"$f":"IF($E243=\"\",\"0\",VLOOKUP($E243,LIST!$AE$5:$AF$9,2,FALSE))","v":"0"}]
["Form3.3"]
["項目",null,null,null,"値"]
["Formの数",null,null,null,{"$f":"CNT_FORM33","v":1}]
["項目",null,null,null,"値"]
["当該製造施設ごとの情報","施設（１）","施設名称（英語で記入）",null,{"$f":"届出・申告書の作成!$V197&\"\"","v":""}]
[null,null,"プラントコード",null,{"$f":"届出・申告書の作成!$V198&\"\"","v":""}]
[null,null,"事業所内の施設の正確な場所\n（英語で記入）",null,{"$f":"届出・申告書の作成!$V199&\"\"","v":""}]
[null,null,"施設を特定する構造物番号",null,{"$f":"届出・申告書の作成!$V200&\"\"","v":""}]
[null,null,"施設を特定する建物番号",null,{"$f":"届出・申告書の作成!$V201&\"\"","v":""}]
[null,null,"施設についての追加的情報\n（英語で記入）",null,{"$f":"届出・申告書の作成!$V202&\"\"","v":""}]
[null,null,"施設の主要な活動",null,{"$f":"届出・申告書の作成!$V203&\"\"","v":""},null,null,{"$f":"IF($E254=\"\",\"\",$E254)","v":""},{"$f":"$H254","v":""},{"$f":"$H254","v":""},{"$f":"IFERROR($J254,\"\")","v":""}]
[]
[]
[]
[]
[]
["当該製造施設ごとの情報","施設（２）","施設名称（英語で記入）",null,{"$f":"届出・申告書の作成!$V209&\"\"","v":""}]
[null,null,"プラントコード",null,{"$f":"届出・申告書の作成!$V210&\"\"","v":""}]
[null,null,"事業所内の施設の正確な場所\n（英語で記入）",null,{"$f":"届出・申告書の作成!$V211&\"\"","v":""}]
[null,null,"施設を特定する構造物番号",null,{"$f":"届出・申告書の作成!$V212&\"\"","v":""}]
[null,null,"施設を特定する建物番号",null,{"$f":"届出・申告書の作成!$V213&\"\"","v":""}]
[null,null,"施設についての追加的情報\n（英語で記入）",null,{"$f":"届出・申告書の作成!$V214&\"\"","v":""}]
[null,null,"施設の主要な活動",null,{"$f":"届出・申告書の作成!$V215&\"\"","v":""},null,null,{"$f":"IF($E266=\"\",\"\",$E266)","v":""},{"$f":"$H266","v":""},{"$f":"$H266","v":""},{"$f":"IFERROR($J266,\"\")","v":""}]
[]
[]
[]
[]
[]
["当該製造施設ごとの情報","施設（３）","施設名称（英語で記入）",null,{"$f":"届出・申告書の作成!$V221&\"\"","v":""}]
[null,null,"プラントコード",null,{"$f":"届出・申告書の作成!$V222&\"\"","v":""}]
[null,null,"事業所内の施設の正確な場所\n（英語で記入）",null,{"$f":"届出・申告書の作成!$V223&\"\"","v":""}]
[null,null,"施設を特定する構造物番号",null,{"$f":"届出・申告書の作成!$V224&\"\"","v":""}]
[null,null,"施設を特定する建物番号",null,{"$f":"届出・申告書の作成!$V225&\"\"","v":""}]
[null,null,"施設についての追加的情報\n（英語で記入）",null,{"$f":"届出・申告書の作成!$V226&\"\"","v":""}]
[null,null,"施設の主要な活動",null,{"$f":"届出・申告書の作成!$V227&\"\"","v":""},null,null,{"$f":"IF($E278=\"\",\"\",$E278)","v":""},{"$f":"$H278","v":""},{"$f":"$H278","v":""},{"$f":"IFERROR($J278,\"\")","v":""}]
[]
[]
[]
[]
[]
["当該製造施設ごとの情報","施設（４）","施設名称（英語で記入）",null,{"$f":"届出・申告書の作成!$V233&\"\"","v":""}]
[null,null,"プラントコード",null,{"$f":"届出・申告書の作成!$V234&\"\"","v":""}]
[null,null,"事業所内の施設の正確な場所\n（英語で記入）",null,{"$f":"届出・申告書の作成!$V235&\"\"","v":""}]
[null,null,"施設を特定する構造物番号",null,{"$f":"届出・申告書の作成!$V236&\"\"","v":""}]
[null,null,"施設を特定する建物番号",null,{"$f":"届出・申告書の作成!$V237&\"\"","v":""}]
[null,null,"施設についての追加的情報\n（英語で記入）",null,{"$f":"届出・申告書の作成!$V238&\"\"","v":""}]
[null,null,"施設の主要な活動",null,{"$f":"届出・申告書の作成!$V239&\"\"","v":""},null,null,{"$f":"IF($E290=\"\",\"\",$E290)","v":""},{"$f":"$H290","v":""},{"$f":"$H290","v":""},{"$f":"IFERROR($J290,\"\")","v":""}]
[]
[]
[]
[]
[]
["当該製造施設ごとの情報","施設（５）","施設名称（英語で記入）",null,{"$f":"届出・申告書の作成!$V245&\"\"","v":""}]
[null,null,"プラントコード",null,{"$f":"届出・申告書の作成!$V246&\"\"","v":""}]
[null,null,"事業所内の施設の正確な場所\n（英語で記入）",null,{"$f":"届出・申告書の作成!$V247&\"\"","v":""}]
[null,null,"施設を特定する構造物番号",null,{"$f":"届出・申告書の作成!$V248&\"\"","v":""}]
[null,null,"施設を特定する建物番号",null,{"$f":"届出・申告書の作成!$V249&\"\"","v":""}]
[null,null,"施設についての追加的情報\n（英語で記入）",null,{"$f":"届出・申告書の作成!$V250&\"\"","v":""}]
[null,null,"施設の主要な活動",null,{"$f":"届出・申告書の作成!$V251&\"\"","v":""},null,null,{"$f":"IF($E302=\"\",\"\",$E302)","v":""},{"$f":"$H302","v":""},{"$f":"$H302","v":""},{"$f":"IFERROR($J302,\"\")","v":""}]
[]
[]
[]
[]
[]
["当該製造施設ごとの情報","施設（６）","施設名称（英語で記入）",null,{"$f":"届出・申告書の作成!$V257&\"\"","v":""}]
[null,null,"プラントコード",null,{"$f":"届出・申告書の作成!$V258&\"\"","v":""}]
[null,null,"事業所内の施設の正確な場所\n（英語で記入）",null,{"$f":"届出・申告書の作成!$V259&\"\"","v":""}]
[null,null,"施設を特定する構造物番号",null,{"$f":"届出・申告書の作成!$V260&\"\"","v":""}]
[null,null,"施設を特定する建物番号",null,{"$f":"届出・申告書の作成!$V261&\"\"","v":""}]
[null,null,"施設についての追加的情報\n（英語で記入）",null,{"$f":"届出・申告書の作成!$V262&\"\"","v":""}]
[null,null,"施設の主要な活動",null,{"$f":"届出・申告書の作成!$V263&\"\"","v":""},null,null,{"$f":"IF($E314=\"\",\"\",$E314)","v":""},{"$f":"$H314","v":""},{"$f":"$H314","v":""},{"$f":"IFERROR($J314,\"\")","v":""}]
[]
[]
[]
[]
[]
["当該製造施設ごとの情報","施設（７）","施設名称（英語で記入）",null,{"$f":"届出・申告書の作成!$V269&\"\"","v":""}]
[null,null,"プラントコード",null,{"$f":"届出・申告書の作成!$V270&\"\"","v":""}]
[null,null,"事業所内の施設の正確な場所\n（英語で記入）",null,{"$f":"届出・申告書の作成!$V271&\"\"","v":""}]
[null,null,"施設を特定する構造物番号",null,{"$f":"届出・申告書の作成!$V272&\"\"","v":""}]
[null,null,"施設を特定する建物番号",null,{"$f":"届出・申告書の作成!$V273&\"\"","v":""}]
[null,null,"施設についての追加的情報\n（英語で記入）",null,{"$f":"届出・申告書の作成!$V274&\"\"","v":""}]
[null,null,"施設の主要な活動",null,{"$f":"届出・申告書の作成!$V275&\"\"","v":""},null,null,{"$f":"IF($E326=\"\",\"\",$E326)","v":""},{"$f":"$H326","v":""},{"$f":"$H326","v":""},{"$f":"IFERROR($J326,\"\")","v":""}]
[]
[]
[]
[]
[]
["当該製造施設ごとの情報","施設（８）","施設名称（英語で記入）",null,{"$f":"届出・申告書の作成!$V281&\"\"","v":""}]
[null,null,"プラントコード",null,{"$f":"届出・申告書の作成!$V282&\"\"","v":""}]
[null,null,"事業所内の施設の正確な場所\n（英語で記入）",null,{"$f":"届出・申告書の作成!$V283&\"\"","v":""}]
[null,null,"施設を特定する構造物番号",null,{"$f":"届出・申告書の作成!$V284&\"\"","v":""}]
[null,null,"施設を特定する建物番号",null,{"$f":"届出・申告書の作成!$V285&\"\"","v":""}]
[null,null,"施設についての追加的情報\n（英語で記入）",null,{"$f":"届出・申告書の作成!$V286&\"\"","v":""}]
[null,null,"施設の主要な活動",null,{"$f":"届出・申告書の作成!$V287&\"\"","v":""},null,null,{"$f":"IF($E338=\"\",\"\",$E338)","v":""},{"$f":"$H338","v":""},{"$f":"$H338","v":""},{"$f":"IFERROR($J338,\"\")","v":""}]
[]
[]
[]
[]
["Form3.4"]
["項目",null,null,null,"値"]
["Formの数",null,null,null,{"$f":"CNT_FORM34","v":1}]
["項目",null,null,null,"値"]
["表3剤の情報（１）\n","CAS番号",null,null,{"$f":"IF(E345>0,届出・申告書の作成!$V299&\"\",\"\")","v":""},null,"CAS番号",{"$f":"IF($E347=STRING_NOCAS, $E348, $E347)","v":""},{"$f":"VSPLIT($H347,\"-\")","v":{"$error":"#VALUE!"}},{"$f":"IFERROR($I347,\"\")","v":""},"物質ID",{"$f":"IF($E347=STRING_NOCAS,0,IFERROR(VLOOKUP($H347,LIST!$X$6:$Y$500,2,FALSE),0))","v":0}]
[null,"※「CAS番号なし」の場合記入\nCAS番号",null,null,{"$f":"IF(E345>0,届出・申告書の作成!$V300&\"\",\"\")","v":""},null,null,null,{"$error":"#VALUE!"},{"$f":"IFERROR($I348,\"\")","v":""}]
[null,"物質名称（英語名）",null,null,{"$f":"IF(E345>0,届出・申告書の作成!$V301&\"\",\"\")","v":""},null,null,null,{"$error":"#VALUE!"},{"$f":"IFERROR($I349,\"\")","v":""}]
[null,"一般名又は取引名(英語で記入）",null,null,{"$f":"IF(E345>0,届出・申告書の作成!$V302&\"\",\"\")","v":""}]
[null,"製造をしようとする第二種指定物質の生産数量区分",null,null,{"$f":"IF(E345>0,届出・申告書の作成!$V303&\"\",\"\")","v":""},null,null,{"$f":"IF($E351=\"\",\"\",VLOOKUP($E351,LIST!$O$5:$P$10,2,FALSE))","v":""},{"$f":"RIGHT($H351,2)","v":""}]
[null,"活動の目的（３つまで）",null,null,{"$f":"IF(E345>0,届出・申告書の作成!$V304&\"\",\"\")","v":""},null,null,{"$f":"IF($E352=\"\",\"\",VLOOKUP($E352,LIST!$L$5:$M$7,2,FALSE))","v":""},{"$f":"RIGHT($H352,2)","v":""},{"$f":"TEXTDELIJOIN(\" \",TRUE,$H352:$H354)","v":""}]
[null,null,null,null,{"$f":"IF(E345>0,届出・申告書の作成!$V305&\"\",\"\")","v":""},null,null,{"$f":"IF($E353=\"\",\"\",VLOOKUP($E353,LIST!$L$5:$M$7,2,FALSE))","v":""},{"$f":"RIGHT($H353,2)","v":""}]
[null,null,null,null,{"$f":"IF(E345>0,届出・申告書の作成!$V306&\"\",\"\")","v":""},null,null,{"$f":"IF($E354=\"\",\"\",VLOOKUP($E354,LIST!$L$5:$M$7,2,FALSE))","v":""},{"$f":"RIGHT($H354,2)","v":""}]
[]
["表3剤の情報（２）\n","CAS番号",null,null,{"$f":"IF(E345>1,届出・申告書の作成!$V308&\"\",\"\")","v":""},null,"CAS番号",{"$f":"IF($E356=STRING_NOCAS, $E357, $E356)","v":""},{"$f":"VSPLIT($H356,\"-\")","v":{"$error":"#VALUE!"}},{"$f":"IFERROR($I356,\"\")","v":""},"物質ID",{"$f":"IF($E356=STRING_NOCAS,0,IFERROR(VLOOKUP($H356,LIST!$X$6:$Y$500,2,FALSE),0))","v":0}]
[null,"※「CAS番号なし」の場合記入\nCAS番号",null,null,{"$f":"IF(E345>1,届出・申告書の作成!$V309&\"\",\"\")","v":""},null,null,null,{"$error":"#VALUE!"},{"$f":"IFERROR($I357,\"\")","v":""}]
[null,"物質名称（英語名）",null,null,{"$f":"IF(E345>1,届出・申告書の作成!$V310&\"\",\"\")","v":""},null,null,null,{"$error":"#VALUE!"},{"$f":"IFERROR($I358,\"\")","v":""}]
[null,"一般名又は取引名(英語で記入）",null,null,{"$f":"IF(E345>1,届出・申告書の作成!$V311&\"\",\"\")","v":""}]
[null,"製造をしようとする第二種指定物質の生産数量区分",null,null,{"$f":"IF(E345>1,届出・申告書の作成!$V312&\"\",\"\")","v":""},null,null,{"$f":"IF($E360=\"\",\"\",VLOOKUP($E360,LIST!$O$5:$P$10,2,FALSE))","v":""},{"$f":"RIGHT($H360,2)","v":""}]
[null,"活動の目的（３つまで）",null,null,{"$f":"IF(E345>1,届出・申告書の作成!$V313&\"\",\"\")","v":""},null,null,{"$f":"IF($E361=\"\",\"\",VLOOKUP($E361,LIST!$L$5:$M$7,2,FALSE))","v":""},{"$f":"RIGHT($H361,2)","v":""},{"$f":"TEXTDELIJOIN(\" \",TRUE,$H361:$H363)","v":""}]
[null,null,null,null,{"$f":"IF(E345>1,届出・申告書の作成!$V314&\"\",\"\")","v":""},null,null,{"$f":"IF($E362=\"\",\"\",VLOOKUP($E362,LIST!$L$5:$M$7,2,FALSE))","v":""},{"$f":"RIGHT($H362,2)","v":""}]
[null,null,null,null,{"$f":"IF(E345>1,届出・申告書の作成!$V315&\"\",\"\")","v":""},null,null,{"$f":"IF($E363=\"\",\"\",VLOOKUP($E363,LIST!$L$5:$M$7,2,FALSE))","v":""},{"$f":"RIGHT($H363,2)","v":""}]
[]
["表3剤の情報（３）\n","CAS番号",null,null,{"$f":"IF(E345>2,届出・申告書の作成!$V317&\"\",\"\")","v":""},null,"CAS番号",{"$f":"IF($E365=STRING_NOCAS, $E366, $E365)","v":""},{"$f":"VSPLIT($H365,\"-\")","v":{"$error":"#VALUE!"}},{"$f":"IFERROR($I365,\"\")","v":""},"物質ID",{"$f":"IF($E365=STRING_NOCAS,0,IFERROR(VLOOKUP($H365,LIST!$X$6:$Y$500,2,FALSE),0))","v":0}]
[null,"※「CAS番号なし」の場合記入\nCAS番号",null,null,{"$f":"IF(E345>2,届出・申告書の作成!$V318&\"\",\"\")","v":""},null,null,null,{"$error":"#VALUE!"},{"$f":"IFERROR($I366,\"\")","v":""}]
[null,"物質名称（英語名）",null,null,{"$f":"IF(E345>2,届出・申告書の作成!$V319&\"\",\"\")","v":""},null,null,null,{"$error":"#VALUE!"},{"$f":"IFERROR($I367,\"\")","v":""}]
[null,"一般名又は取引名(英語で記入）",null,null,{"$f":"IF(E345>2,届出・申告書の作成!$V320&\"\",\"\")","v":""}]
[null,"製造をしようとする第二種指定物質の生産数量区分",null,null,{"$f":"IF(E345>2,届出・申告書の作成!$V321&\"\",\"\")","v":""},null,null,{"$f":"IF($E369=\"\",\"\",VLOOKUP($E369,LIST!$O$5:$P$10,2,FALSE))","v":""},{"$f":"RIGHT($H369,2)","v":""}]
[null,"活動の目的（３つまで）",null,null,{"$f":"IF(E345>2,届出・申告書の作成!$V322&\"\",\"\")","v":""},null,null,{"$f":"IF($E370=\"\",\"\",VLOOKUP($E370,LIST!$L$5:$M$7,2,FALSE))","v":""},{"$f":"RIGHT($H370,2)","v":""},{"$f":"TEXTDELIJOIN(\" \",TRUE,$H370:$H372)","v":""}]
[null,null,null,null,{"$f":"IF(E345>2,届出・申告書の作成!$V323&\"\",\"\")","v":""},null,null,{"$f":"IF($E371=\"\",\"\",VLOOKUP($E371,LIST!$L$5:$M$7,2,FALSE))","v":""},{"$f":"RIGHT($H371,2)","v":""}]
[null,null,null,null,{"$f":"IF(E345>2,届出・申告書の作成!$V324&\"\",\"\")","v":""},null,null,{"$f":"IF($E372=\"\",\"\",VLOOKUP($E372,LIST!$L$5:$M$7,2,FALSE))","v":""},{"$f":"RIGHT($H372,2)","v":""}]
[]
["表3剤の情報（４）\n","CAS番号",null,null,{"$f":"IF(E345>3,届出・申告書の作成!$V326&\"\",\"\")","v":""},null,"CAS番号",{"$f":"IF($E374=STRING_NOCAS, $E375, $E374)","v":""},{"$f":"VSPLIT($H374,\"-\")","v":{"$error":"#VALUE!"}},{"$f":"IFERROR($I374,\"\")","v":""},"物質ID",{"$f":"IF($E374=STRING_NOCAS,0,IFERROR(VLOOKUP($H374,LIST!$X$6:$Y$500,2,FALSE),0))","v":0}]
[null,"※「CAS番号なし」の場合記入\nCAS番号",null,null,{"$f":"IF(E345>3,届出・申告書の作成!$V327&\"\",\"\")","v":""},null,null,null,{"$error":"#VALUE!"},{"$f":"IFERROR($I375,\"\")","v":""}]
[null,"物質名称（英語名）",null,null,{"$f":"IF(E345>3,届出・申告書の作成!$V328&\"\",\"\")","v":""},null,null,null,{"$error":"#VALUE!"},{"$f":"IFERROR($I376,\"\")","v":""}]
[null,"一般名又は取引名(英語で記入）",null,null,{"$f":"IF(E345>3,届出・申告書の作成!$V329&\"\",\"\")","v":""}]
[null,"製造をしようとする第二種指定物質の生産数量区分",null,null,{"$f":"IF(E345>3,届出・申告書の作成!$V330&\"\",\"\")","v":""},null,null,{"$f":"IF($E378=\"\",\"\",VLOOKUP($E378,LIST!$O$5:$P$10,2,FALSE))","v":""},{"$f":"RIGHT($H378,2)","v":""}]
[null,"活動の目的（３つまで）",null,null,{"$f":"IF(E345>3,届出・申告書の作成!$V331&\"\",\"\")","v":""},null,null,{"$f":"IF($E379=\"\",\"\",VLOOKUP($E379,LIST!$L$5:$M$7,2,FALSE))","v":""},{"$f":"RIGHT($H379,2)","v":""},{"$f":"TEXTDELIJOIN(\" \",TRUE,$H379:$H381)","v":""}]
[null,null,null,null,{"$f":"IF(E345>3,届出・申告書の作成!$V332&\"\",\"\")","v":""},null,null,{"$f":"IF($E380=\"\",\"\",VLOOKUP($E380,LIST!$L$5:$M$7,2,FALSE))","v":""},{"$f":"RIGHT($H380,2)","v":""}]
[null,null,null,null,{"$f":"IF(E345>3,届出・申告書の作成!$V333&\"\",\"\")","v":""},null,null,{"$f":"IF($E381=\"\",\"\",VLOOKUP($E381,LIST!$L$5:$M$7,2,FALSE))","v":""},{"$f":"RIGHT($H381,2)","v":""}]
[]
["表3剤の情報（５）\n","CAS番号",null,null,{"$f":"IF(E345>4,届出・申告書の作成!$V335&\"\",\"\")","v":""},null,"CAS番号",{"$f":"IF($E383=STRING_NOCAS, $E384, $E383)","v":""},{"$f":"VSPLIT($H383,\"-\")","v":{"$error":"#VALUE!"}},{"$f":"IFERROR($I383,\"\")","v":""},"物質ID",{"$f":"IF($E383=STRING_NOCAS,0,IFERROR(VLOOKUP($H383,LIST!$X$6:$Y$500,2,FALSE),0))","v":0}]
[null,"※「CAS番号なし」の場合記入\nCAS番号",null,null,{"$f":"IF(E345>4,届出・申告書の作成!$V336&\"\",\"\")","v":""},null,null,null,{"$error":"#VALUE!"},{"$f":"IFERROR($I384,\"\")","v":""}]
[null,"物質名称（英語名）",null,null,{"$f":"IF(E345>4,届出・申告書の作成!$V337&\"\",\"\")","v":""},null,null,null,{"$error":"#VALUE!"},{"$f":"IFERROR($I385,\"\")","v":""}]
[null,"一般名又は取引名(英語で記入）",null,null,{"$f":"IF(E345>4,届出・申告書の作成!$V338&\"\",\"\")","v":""}]
[null,"製造をしようとする第二種指定物質の生産数量区分",null,null,{"$f":"IF(E345>4,届出・申告書の作成!$V339&\"\",\"\")","v":""},null,null,{"$f":"IF($E387=\"\",\"\",VLOOKUP($E387,LIST!$O$5:$P$10,2,FALSE))","v":""},{"$f":"RIGHT($H387,2)","v":""}]
[null,"活動の目的（３つまで）",null,null,{"$f":"IF(E345>4,届出・申告書の作成!$V340&\"\",\"\")","v":""},null,null,{"$f":"IF($E388=\"\",\"\",VLOOKUP($E388,LIST!$L$5:$M$7,2,FALSE))","v":""},{"$f":"RIGHT($H388,2)","v":""},{"$f":"TEXTDELIJOIN(\" \",TRUE,$H388:$H390)","v":""}]
[null,null,null,null,{"$f":"IF(E345>4,届出・申告書の作成!$V341&\"\",\"\")","v":""},null,null,{"$f":"IF($E389=\"\",\"\",VLOOKUP($E389,LIST!$L$5:$M$7,2,FALSE))","v":""},{"$f":"RIGHT($H389,2)","v":""}]
[null,null,null,null,{"$f":"IF(E345>4,届出・申告書の作成!$V342&\"\",\"\")","v":""},null,null,{"$f":"IF($E390=\"\",\"\",VLOOKUP($E390,LIST!$L$5:$M$7,2,FALSE))","v":""},{"$f":"RIGHT($H390,2)","v":""}]
[]
["表3剤の情報（６）\n","CAS番号",null,null,{"$f":"IF(E345>5,届出・申告書の作成!$V344&\"\",\"\")","v":""},null,"CAS番号",{"$f":"IF($E392=STRING_NOCAS, $E393, $E392)","v":""},{"$f":"VSPLIT($H392,\"-\")","v":{"$error":"#VALUE!"}},{"$f":"IFERROR($I392,\"\")","v":""},"物質ID",{"$f":"IF($E392=STRING_NOCAS,0,IFERROR(VLOOKUP($H392,LIST!$X$6:$Y$500,2,FALSE),0))","v":0}]
[null,"※「CAS番号なし」の場合記入\nCAS番号",null,null,{"$f":"IF(E345>5,届出・申告書の作成!$V345&\"\",\"\")","v":""},null,null,null,{"$error":"#VALUE!"},{"$f":"IFERROR($I393,\"\")","v":""}]
[null,"物質名称（英語名）",null,null,{"$f":"IF(E345>5,届出・申告書の作成!$V346&\"\",\"\")","v":""},null,null,null,{"$error":"#VALUE!"},{"$f":"IFERROR($I394,\"\")","v":""}]
[null,"一般名又は取引名(英語で記入）",null,null,{"$f":"IF(E345>5,届出・申告書の作成!$V347&\"\",\"\")","v":""}]
[null,"製造をしようとする第二種指定物質の生産数量区分",null,null,{"$f":"IF(E345>5,届出・申告書の作成!$V348&\"\",\"\")","v":""},null,null,{"$f":"IF($E396=\"\",\"\",VLOOKUP($E396,LIST!$O$5:$P$10,2,FALSE))","v":""},{"$f":"RIGHT($H396,2)","v":""}]
[null,"活動の目的（３つまで）",null,null,{"$f":"IF(E345>5,届出・申告書の作成!$V349&\"\",\"\")","v":""},null,null,{"$f":"IF($E397=\"\",\"\",VLOOKUP($E397,LIST!$L$5:$M$7,2,FALSE))","v":""},{"$f":"RIGHT($H397,2)","v":""},{"$f":"TEXTDELIJOIN(\" \",TRUE,$H397:$H399)","v":""}]
[null,null,null,null,{"$f":"IF(E345>5,届出・申告書の作成!$V350&\"\",\"\")","v":""},null,null,{"$f":"IF($E398=\"\",\"\",VLOOKUP($E398,LIST!$L$5:$M$7,2,FALSE))","v":""},{"$f":"RIGHT($H398,2)","v":""}]
[null,null,null,null,{"$f":"IF(E345>5,届出・申告書の作成!$V351&\"\",\"\")","v":""},null,null,{"$f":"IF($E399=\"\",\"\",VLOOKUP($E399,LIST!$L$5:$M$7,2,FALSE))","v":""},{"$f":"RIGHT($H399,2)","v":""}]
[]
["表3剤の情報（７）\n","CAS番号",null,null,{"$f":"IF(E345>6,届出・申告書の作成!$V353&\"\",\"\")","v":""},null,"CAS番号",{"$f":"IF($E401=STRING_NOCAS, $E402, $E401)","v":""},{"$f":"VSPLIT($H401,\"-\")","v":{"$error":"#VALUE!"}},{"$f":"IFERROR($I401,\"\")","v":""},"物質ID",{"$f":"IF($E401=STRING_NOCAS,0,IFERROR(VLOOKUP($H401,LIST!$X$6:$Y$500,2,FALSE),0))","v":0}]
[null,"※「CAS番号なし」の場合記入\nCAS番号",null,null,{"$f":"IF(E345>6,届出・申告書の作成!$V354&\"\",\"\")","v":""},null,null,null,{"$error":"#VALUE!"},{"$f":"IFERROR($I402,\"\")","v":""}]
[null,"物質名称（英語名）",null,null,{"$f":"IF(E345>6,届出・申告書の作成!$V355&\"\",\"\")","v":""},null,null,null,{"$error":"#VALUE!"},{"$f":"IFERROR($I403,\"\")","v":""}]
[null,"一般名又は取引名(英語で記入）",null,null,{"$f":"IF(E345>6,届出・申告書の作成!$V356&\"\",\"\")","v":""}]
[null,"製造をしようとする第二種指定物質の生産数量区分",null,null,{"$f":"IF(E345>6,届出・申告書の作成!$V357&\"\",\"\")","v":""},null,null,{"$f":"IF($E405=\"\",\"\",VLOOKUP($E405,LIST!$O$5:$P$10,2,FALSE))","v":""},{"$f":"RIGHT($H405,2)","v":""}]
[null,"活動の目的（３つまで）",null,null,{"$f":"IF(E345>6,届出・申告書の作成!$V358&\"\",\"\")","v":""},null,null,{"$f":"IF($E406=\"\",\"\",VLOOKUP($E406,LIST!$L$5:$M$7,2,FALSE))","v":""},{"$f":"RIGHT($H406,2)","v":""},{"$f":"TEXTDELIJOIN(\" \",TRUE,$H406:$H408)","v":""}]
[null,null,null,null,{"$f":"IF(E345>6,届出・申告書の作成!$V359&\"\",\"\")","v":""},null,null,{"$f":"IF($E407=\"\",\"\",VLOOKUP($E407,LIST!$L$5:$M$7,2,FALSE))","v":""},{"$f":"RIGHT($H407,2)","v":""}]
[null,null,null,null,{"$f":"IF(E345>6,届出・申告書の作成!$V360&\"\",\"\")","v":""},null,null,{"$f":"IF($E408=\"\",\"\",VLOOKUP($E408,LIST!$L$5:$M$7,2,FALSE))","v":""},{"$f":"RIGHT($H408,2)","v":""}]
[]
["表3剤の情報（８）\n","CAS番号",null,null,{"$f":"IF(E345>7,届出・申告書の作成!$V362&\"\",\"\")","v":""},null,"CAS番号",{"$f":"IF($E410=STRING_NOCAS, $E411, $E410)","v":""},{"$f":"VSPLIT($H410,\"-\")","v":{"$error":"#VALUE!"}},{"$f":"IFERROR($I410,\"\")","v":""},"物質ID",{"$f":"IF($E410=STRING_NOCAS,0,IFERROR(VLOOKUP($H410,LIST!$X$6:$Y$500,2,FALSE),0))","v":0}]
[null,"※「CAS番号なし」の場合記入\nCAS番号",null,null,{"$f":"IF(E345>7,届出・申告書の作成!$V363&\"\",\"\")","v":""},null,null,null,{"$error":"#VALUE!"},{"$f":"IFERROR($I411,\"\")","v":""}]
[null,"物質名称（英語名）",null,null,{"$f":"IF(E345>7,届出・申告書の作成!$V364&\"\",\"\")","v":""},null,null,null,{"$error":"#VALUE!"},{"$f":"IFERROR($I412,\"\")","v":""}]
[null,"一般名又は取引名(英語で記入）",null,null,{"$f":"IF(E345>7,届出・申告書の作成!$V365&\"\",\"\")","v":""}]
[null,"製造をしようとする第二種指定物質の生産数量区分",null,null,{"$f":"IF(E345>7,届出・申告書の作成!$V366&\"\",\"\")","v":""},null,null,{"$f":"IF($E414=\"\",\"\",VLOOKUP($E414,LIST!$O$5:$P$10,2,FALSE))","v":""},{"$f":"RIGHT($H414,2)","v":""}]
[null,"活動の目的（３つまで）",null,null,{"$f":"IF(E345>7,届出・申告書の作成!$V367&\"\",\"\")","v":""},null,null,{"$f":"IF($E415=\"\",\"\",VLOOKUP($E415,LIST!$L$5:$M$7,2,FALSE))","v":""},{"$f":"RIGHT($H415,2)","v":""},{"$f":"TEXTDELIJOIN(\" \",TRUE,$H415:$H417)","v":""}]
[null,null,null,null,{"$f":"IF(E345>7,届出・申告書の作成!$V368&\"\",\"\")","v":""},null,null,{"$f":"IF($E416=\"\",\"\",VLOOKUP($E416,LIST!$L$5:$M$7,2,FALSE))","v":""},{"$f":"RIGHT($H416,2)","v":""}]
[null,null,null,null,{"$f":"IF(E345>7,届出・申告書の作成!$V369&\"\",\"\")","v":""},null,null,{"$f":"IF($E417=\"\",\"\",VLOOKUP($E417,LIST!$L$5:$M$7,2,FALSE))","v":""},{"$f":"RIGHT($H417,2)","v":""}]
[]
["Form3.4の「CAS番号なし」の物質のまとめ"]
["CASなし CAS番号","物質名称（英語名）"]
[{"$f":"$E348","v":""},{"$f":"IF($A421=\"\",\"\",$E349)","v":""}]
[{"$f":"$E357","v":""},{"$f":"IF($A422=\"\",\"\",$E358)","v":""}]
[{"$f":"$E366","v":""},{"$f":"IF($A423=\"\",\"\",$E367)","v":""}]
[{"$f":"$E375","v":""},{"$f":"IF($A424=\"\",\"\",$E376)","v":""}]
[{"$f":"$E384","v":""},{"$f":"IF($A425=\"\",\"\",$E385)","v":""}]
[{"$f":"$E393","v":""},{"$f":"IF($A426=\"\",\"\",$E394)","v":""}]
[{"$f":"$E402","v":""},{"$f":"IF($A427=\"\",\"\",$E403)","v":""}]
[{"$f":"$E411","v":""},{"$f":"IF($A428=\"\",\"\",$E412)","v":""}]

{"sheet":"LIST","index":5,"n_rows":100,"n_cols":44,"rows_kept":100,"cut":false,"hidden":true,"merged":[[1,1,1,2],[2,1,2,3],[2,17,2,21],[2,23,2,28],[2,40,2,41],[2,43,2,44],[3,8,3,9],[3,11,3,12],[3,14,3,15],[3,34,3,35],[3,36,3,37]]}
[]
[null,"英語表記の大文字（１）小文字（２）切り替えフラグコード",null,"2",null,null,null,null,null,null,null,null,null,null,null,null,null,"化学物質"]
[null,"都道府県コード",null,null,null,"定数",null,null,"共用",null,null,"共用",null,null,"共用",null,null,"表3剤物質（CAS番号無しの場合）（[条約表剤番号]項目 指定物質一覧）",null,null,null,null,null,"表3剤物質（CAS番号ありの場合）",null,null,null,null,null,null,"NODEC_SCHE3",null,null,"様式18",null,null,null,null,null,null,"Form3.3",null,null,"Form3.4"]
[null,"値","ID","英語",null,"値","意味",null,"AT026_AppendixCode（付録コード）の付録種別 = \"APPENDIX_4\"",null,null,"AT026_AppendixCode（付録コード）の付録種別 = \"APPENDIX_5\"",null,null,"AT026_AppendixCode（付録コード）の付録種別 = \"APPENDIX_6\"",null,null,"表示名","条約剤番号","表3剤化兵法政令番号","表3剤物質_政令番号","物質名称（条約上）",null,"CAS番号","物質ID","政令番号","表区分ID","物質名称（日）","物質名称（英）",null,"値","ID",null,"数","製造施設の位置",null,"届出のみ",null,"施設の数",null,"数",null,null,"数"]
[null,"北海道",1,"Hokkaido",null,"CAS番号なし","物質選択などでCAS番号がない場合の選択肢。\n「STRING_NOCAS」で名前定義",null,"511_炭化水素及びそのﾊﾛｹﾞﾝ化、ｽﾙﾎﾝ化、ﾆﾄﾛ化又はﾆﾄﾛｿ化誘導体","511",null,{"$f":"\"(\"&M5&\")\"&\"製造後、同じ施設内で消費(自家消費)\"","v":"(B11)製造後、同じ施設内で消費(自家消費)"},"B11",null,{"$f":"\"(\"&P5&\")\"&\"P≦30\"","v":"(<B21)P≦30"},"<B21",null,{"$f":"IF(AND($S5<>\"\",$T5<>\"\",$V5<>\"\"),CONCATENATE($S5,\"_\",$T5,\"_\",$V5), \"\")","v":"3A01_第ニ種指定物質_毒性物質（一）_ホスゲン／ニ塩化カルボニル"},"3A01","第ニ種指定物質_毒性物質（一）","指2毒01","ホスゲン／ニ塩化カルボニル",null,{"$f":"STRING_NOCAS","v":"CAS番号なし"},null,null,null,null,null,null,"－","0",null,1,"別添資料のとおり","1","いいえ","0",1,null,0,null,null,0]
[null,"青森県",2,"Aomori",null,"0","\"0\"（「-」）を設定",null,"512_ｱﾙｺｰﾙ、ﾌｪﾉｰﾙ、ﾌｪﾉｰﾙ-ｱﾙｺｰﾙ及びそれらのﾊﾛｹﾞﾝ化、ｽﾙﾎﾝ化、ﾆﾄﾛ化又はﾆﾄﾛｿ化誘導体。ただし、ｴﾀﾉｰﾙ及びﾒﾀﾉｰﾙを除く。","512",null,{"$f":"\"(\"&M6&\")\"&\"事業所内において貯蔵される　及び/又は　使用される合成中間体\"","v":"(B12)事業所内において貯蔵される　及び/又は　使用される合成中間体"},"B12",null,{"$f":"\"(\"&P6&\")\"&\"30<P≦200t\"","v":"(B21)30<P≦200t"},"B21",null,"3A02_第ニ種指定物質_毒性物質（二）_塩化シアン","3A02","第ニ種指定物質_毒性物質（二）","指2毒02","塩化シアン",null,"10025-67-9",1,"指2原08","3B12","一塩化硫黄","Sulfur monochloride",null,"低濃度","1",null,2,"別添資料のとおり（変更無し）","2","はい","1",2,null,1,null,null,1]
[null,"岩手県",3,"Iwate",null,null,null,null,"513_ｶﾙﾎﾞﾝ酸及びそれらのｴｽﾃﾙ、無水物、酸ﾊﾛｹﾞﾝ化物、過酸化物及びﾍﾟﾙｵｷｿ酸；それらのﾊﾛｹﾞﾝ化、ｽﾙﾎﾝ化、ﾆﾄﾛ化又はﾆﾄﾛｿ化誘導体及びそれらの塩","513",null,{"$f":"\"(\"&M7&\")\"&\"他の企業に移送\"","v":"(B13)他の企業に移送"},"B13",null,{"$f":"\"(\"&P7&\")\"&\"200<P≦1,000t\"","v":"(B22)200<P≦1,000t"},"B22",null,"3A03_第ニ種指定物質_毒性物質（三） _シアン化水素","3A03","第ニ種指定物質_毒性物質（三） ","指2毒03","シアン化水素",null,"10025-87-3",2,"指2原01","3B05","オキシ塩化リン","Phosphorus oxychloride",null,"申告義務消滅","2",null,3,"別添資料のとおり（変更有り）","3",null,null,3,null,2,null,null,2]
[null,"宮城県",4,"Miyagi",null,null,null,null,"514_窒素官能基化合物。ただし、尿素を除く。","514",null,null,null,null,{"$f":"\"(\"&P8&\")\"&\"1,000<P≦10,000t\"","v":"(B23)1,000<P≦10,000t"},"B23",null,"3A04_第ニ種指定物質_毒性物質（四）_クロロピクリン／トリクロロニトロメタン","3A04","第ニ種指定物質_毒性物質（四）","指2毒04","クロロピクリン／トリクロロニトロメタン",null,"10026-13-8",3,"指2原03","3B07","五塩化リン","Phosphorus pentachloride",null,"低濃度/申告義務消滅","3",null,4,null,null,null,null,4,null,3,null,null,3]
[null,"秋田県",5,"Akita",null,null,null,null,"515_複素環式化合物(環状ｴｰﾃﾙを除く)及びｽﾙﾎﾝｱﾐﾄﾞ","515",null,null,null,null,{"$f":"\"(\"&P9&\")\"&\"10,000<P≦100,000t\"","v":"(B24)10,000<P≦100,000t"},"B24",null,"3B05_第二種指定物質_原料物質（一）_オキシ塩化リン","3B05","第二種指定物質_原料物質（一）","指2原01","オキシ塩化リン",null,"102-71-6",8,"指2原13","3B17","トリエタノールアミン","Triethanolamine",null,"その他","4",null,5,null,null,null,null,5,null,4,null,null,4]
[null,"山形県",6,"Yamagata",null,null,null,null,"516_その他の有機化学物質。ただし、ﾎﾙﾑｱﾙﾃﾞﾋﾄﾞ、ｴﾁﾙ ter-ﾌﾞﾁﾙｴｰﾃﾙ及びﾒﾁﾙ tert-ﾌﾞﾁﾙｴｰﾃﾙ(MTBE)を除く。","516",null,null,null,null,{"$f":"\"(\"&P10&\")\"&\"P>100,000t\"","v":"(B25)P>100,000t"},"B25",null,"3B06_第二種指定物質_原料物質（二）_三塩化リン","3B06","第二種指定物質_原料物質（二）","指2原02","三塩化リン",null,"10545-99-0",9,"指2原09","3B13","二塩化硫黄","Sulfur dichloride",null,null,null,null,6,null,null,null,null,null,null,5,null,null,5]
[null,"福島県",7,"Fukushima",null,null,null,null,"519_ﾒﾀﾉ-ﾙ、ｴﾀﾉｰﾙ、尿素、ﾎﾙﾑｱﾙﾃﾞﾋﾄﾞ、ｴﾁﾙ tert-ﾌﾞﾁﾙｴｰﾃﾙ(ETBE)、ﾒﾁﾙ tert-ﾌﾞﾁﾙｴｰﾃﾙ(MTBE)、ｽﾙﾎﾝ酸及び脂肪酸の塩をﾍﾞｰｽにした界面活性剤","519",null,null,null,null,null,null,null,"3B07_第二種指定物質_原料物質（三） _五塩化リン","3B07","第二種指定物質_原料物質（三） ","指2原03","五塩化リン",null,"105-59-9",10,"指2原12","3B16","メチルジエタノールアミン","Methyldiethanolamine",null,null,null,null,7,null,null,null,null,null,null,6,null,null,6]
[null,"茨城県",8,"Ibaraki",null,null,null,null,"522_無機化学元素、酸化物及びﾊﾛｹﾞﾝ化塩","522",null,null,null,null,null,null,null,"3B08_第二種指定物質_原料物質（四）_亜リン酸トリメチル ","3B08","第二種指定物質_原料物質（四）","指2原04","亜リン酸トリメチル ",null,"121-45-9",20,"指2原04","3B08","亜リン酸トリメチル","Trimethyl phosphite",null,null,null,null,8,null,null,null,null,null,null,7,null,null,7]
[null,"栃木県",9,"Tochigi",null,null,null,null,"523_無機酸の塩及び過酸化物塩、有機及び無機配位子の金属錯体","523",null,null,null,null,null,null,null,"3B09_第二種指定物質_原料物質（五）_亜リン酸トリエチル","3B09","第二種指定物質_原料物質（五）","指2原05","亜リン酸トリエチル",null,"122-52-1",21,"指2原05","3B09","亜リン酸トリエチル","Triethyl phosphite",null,null,null,null,null,null,null,null,null,null,null,8,null,null,8]
[null,"群馬県",10,"Gunma",null,null,null,null,"524_有機金属化合物","524",null,null,null,null,null,null,null,"3B10_第二種指定物質_原料物質（六）_亜リン酸ジメチル","3B10","第二種指定物質_原料物質（六）","指2原06","亜リン酸ジメチル",null,"139-87-7",30,"指2原11","3B15","エチルジエタノールアミン","Ethyldiethanolamine"]
[null,"埼玉県",11,"Saitama",null,null,null,null,"525_放射性物質及び関連物質","525",null,null,null,null,null,null,null,"3B11_第二種指定物質_原料物質（七）_亜リン酸ジエチル","3B11","第二種指定物質_原料物質（七）","指2原07","亜リン酸ジエチル",null,"506-77-4",169,"指2毒02","3A02","塩化シアン","Cyanogen chloride"]
[null,"千葉県",12,"Chiba",null,null,null,null,"531_有機合成着色料及びﾚｰｷ顔料並びにこれらの調製品","531",null,null,null,null,null,null,null,"3B12_第二種指定物質_原料物質（八）_一塩化硫黄","3B12","第二種指定物質_原料物質（八）","指2原08","一塩化硫黄",null,"74-90-8",228,"指2毒03","3A03","シアン化水素","Hydrogen cyanide"]
[null,"東京都",13,"Tokyo",null,null,null,null,"532_染色、なめし抽出物及び合成なめし剤","532",null,null,null,null,null,null,null,"3B13_第二種指定物質_原料物質（九）_ニ塩化硫黄","3B13","第二種指定物質_原料物質（九）","指2原09","ニ塩化硫黄",null,"75-44-5",230,"指2毒01","3A01","二塩化カルボニル","Carbonyl dichloride"]
[null,"神奈川県",14,"Kanagawa",null,null,null,null,"533_顔料、塗料、ﾜﾆｽ及びこれらの関連物質","533",null,null,null,null,null,null,null,"3B14_第二種指定物質_原料物質（一○）_塩化チオニル","3B14","第二種指定物質_原料物質（一○）","指2原10","塩化チオニル",null,"76-06-2",234,"指2毒04","3A04","トリクロロニトロメタン","Trichloronitromethane"]
[null,"新潟県",15,"Niigata",null,null,null,null,"541_医用及び薬用製品(第 542 類の薬剤を除く原体及び有効成分を含む)","541",null,null,null,null,null,null,null,"3B15_第二種指定物質_原料物質（一一）_エチルジエタノールアミン","3B15","第二種指定物質_原料物質（一一）","指2原11","エチルジエタノールアミン",null,"762-04-9",235,"指2原07","3B11","亜リン酸ジエチル","Diethyl phosphite"]
[null,"山梨県",16,"Yamanashi",null,null,null,null,"542_薬剤(獣医・家畜用薬剤を含む)","542",null,null,null,null,null,null,null,"3B16_第二種指定物質_原料物質（一二）_メチルジエタノールアミン","3B16","第二種指定物質_原料物質（一二）","指2原12","メチルジエタノールアミン",null,"7719-09-7",239,"指2原10","3B14","塩化チオニル","Thionyl chloride"]
[null,"長野県",17,"Nagano",null,null,null,null,"551_精油、香水及び香味料","551",null,null,null,null,null,null,null,"3B17_第二種指定物質_原料物質（一三） _トリエタノールアミン ","3B17","第二種指定物質_原料物質（一三） ","指2原13","トリエタノールアミン ",null,"7719-12-2",240,"指2原02","3B06","三塩化リン","Phosphorus trichloride"]
[null,"静岡県",18,"Shizuoka",null,null,null,null,"553_香水調製品、化粧品又は洗面用調製品（石鹸を除く）","553",null,null,null,null,null,null,null,"",null,null,null,null,null,"868-85-9",257,"指2原06","3B10","亜リン酸ジメチル","Dimethyl phosphite"]
[null,"富山県",19,"Toyama",null,null,null,null,"554_石鹸、洗浄剤及び研磨剤調製品。ただし、ｽﾙﾎﾝ酸及び脂肪酸の塩をﾍﾞｰｽにした界面活性剤を除く。","554",null,null,null,null,null,null,null,"",null,null,null,null,null,"73205-32-0",401,"指2原13","3B17","Triethanolamine-d15","Triethanolamine-d15"]
[null,"石川県",20,"Ishikawa",null,null,null,null,"562_合成肥料","562",null,null,null,null,null,null,null,""]
[null,"岐阜県",21,"Gifu",null,null,null,null,"571_ｴﾁﾚﾝの重合物(成型前のもの)","571",null,null,null,null,null,null,null,""]
[null,"愛知県",22,"Aichi",null,null,null,null,"572_ｽﾁﾚﾝの重合物(成型前のもの)","572",null,null,null,null,null,null,null,""]
[null,"三重県",23,"Mie",null,null,null,null,"573_塩化ﾋﾞﾆﾙその他のﾊﾛｹﾞﾝ化ｵﾚﾌｨﾝの重合物(成型前のもの)","573",null,null,null,null,null,null,null,""]
[null,"福井県",24,"Fukui",null,null,null,null,"574_ﾎﾟﾘｱｾﾀｰﾙ、その他のﾎﾟﾘｴｰﾃﾙ及びｴﾎﾟｷｼ樹脂(成型前のもの)；ﾎﾟﾘｶｰﾎﾞﾈｰﾄ、ｱﾙｷﾄﾞ樹脂、ﾎﾟﾘｱﾘﾙｴｽﾃﾙ及びその他のﾎﾟﾘｴｽﾃﾙ","574",null,null,null,null,null,null,null,""]
[null,"滋賀県",25,"Shiga",null,null,null,null,"575_その他のﾌﾟﾗｽﾁｯｸ(成型前のもの)","575",null,null,null,null,null,null,null,""]
[null,"京都府",26,"Kyoto",null,null,null,null,"579_ﾌﾟﾗｽﾁｯｸの廃棄物、切り屑及び小片","579",null,null,null,null,null,null,null,""]
[null,"大阪府",27,"Osaka",null,null,null,null,"581_ﾌﾟﾗｽﾁｯｸのﾁｭｰﾌﾞ、ﾊﾟｲﾌﾟ及びﾎｰｽ並びにその附属品","581",null,null,null,null,null,null,null,""]
[null,"兵庫県",28,"Hyogo",null,null,null,null,"582_ﾌﾟﾗｽﾁｯｸの板、ｼｰﾄ、薄膜、箔及び小片","582",null,null,null,null,null,null,null,""]
[null,"奈良県",29,"Nara",null,null,null,null,"583_ﾌﾟﾗｽﾁｯｸ単繊維(断面直径が1 mmを超えるもの)、ﾌﾟﾗｽﾁｯｸの桿状体、棒及び型(表面加工の有無は問わないが、表面以外の部分は加工されていないもの)","583",null,null,null,null,null,null,null,""]
[null,"和歌山県",30,"Wakayama",null,null,null,null,"591_殺虫剤、殺鼠剤、殺菌剤、除草剤、発芽防止剤製品及び植物生長調節剤、消毒剤並びにこれらの類似製品(小売用に包装されたもの又は調製品若しくは商品の形態になったもの)(例：硫黄処理された帯、灯心及び蝋燭並びに蠅採り紙)","591",null,null,null,null,null,null,null,""]
[null,"鳥取県",31,"Tottori",null,null,null,null,"592_澱粉、ｲﾇﾘﾝ及び小麦ｸﾞﾙﾃﾝ；ｱﾙﾌﾞﾐﾉｲﾄﾞ物質；にかわ","592",null,null,null,null,null,null,null,""]
[null,"島根県",32,"Shimane",null,null,null,null,"593_爆発物及び火工品","593",null,null,null,null,null,null,null,""]
[null,"岡山県",33,"Okayama",null,null,null,null,"597_鉱油類への添加物(調製されたもの)；液圧伝導装置用の液体(調製されたもの)；不凍液調製品及び除氷・防氷液調製品；潤滑剤調製品","597",null,null,null,null,null,null,null,""]
[null,"広島県",34,"Hiroshima",null,null,null,null,"598_その他の各種化学製品","598",null,null,null,null,null,null,null,""]
[null,"山口県",35,"Yamaguchi",null,null,null,null,"599_その他(化学製品以外)","599",null,null,null,null,null,null,null,""]
[null,"徳島県",36,"Tokushima",null,null,null,null,null,null,null,null,null,null,null,null,null,""]
[null,"香川県",37,"Kagawa",null,null,null,null,null,null,null,null,null,null,null,null,null,""]
[null,"愛媛県",38,"Ehime",null,null,null,null,null,null,null,null,null,null,null,null,null,""]
[null,"高知県",39,"Kochi",null,null,null,null,null,null,null,null,null,null,null,null,null,""]
[null,"福岡県",40,"Fukuoka",null,null,null,null,null,null,null,null,null,null,null,null,null,""]
[null,"佐賀県",41,"Saga",null,null,null,null,null,null,null,null,null,null,null,null,null,""]
[null,"長崎県",42,"Nagasaki",null,null,null,null,null,null,null,null,null,null,null,null,null,""]
[null,"熊本県",43,"Kumamoto",null,null,null,null,null,null,null,null,null,null,null,null,null,""]
[null,"大分県",44,"Oita",null,null,null,null,null,null,null,null,null,null,null,null,null,""]
[null,"宮崎県",45,"Miyazaki",null,null,null,null,null,null,null,null,null,null,null,null,null,""]
[null,"鹿児島県",46,"Kagoshima",null,null,null,null,null,null,null,null,null,null,null,null,null,""]
[null,"沖縄県",47,"Okinawa",null,null,null,null,null,null,null,null,null,null,null,null,null,""]
[null,null,null,null,null,null,null,null,null,null,null,null,null,null,null,null,null,""]
[null,null,null,null,null,null,null,null,null,null,null,null,null,null,null,null,null,""]
[null,null,null,null,null,null,null,null,null,null,null,null,null,null,null,null,null,""]
[null,null,null,null,null,null,null,null,null,null,null,null,null,null,null,null,null,""]
[null,null,null,null,null,null,null,null,null,null,null,null,null,null,null,null,null,""]
[null,null,null,null,null,null,null,null,null,null,null,null,null,null,null,null,null,""]
[null,null,null,null,null,null,null,null,null,null,null,null,null,null,null,null,null,""]
[null,null,null,null,null,null,null,null,null,null,null,null,null,null,null,null,null,""]
[null,null,null,null,null,null,null,null,null,null,null,null,null,null,null,null,null,""]
[null,null,null,null,null,null,null,null,null,null,null,null,null,null,null,null,null,""]
[null,null,null,null,null,null,null,null,null,null,null,null,null,null,null,null,null,""]
[null,null,null,null,null,null,null,null,null,null,null,null,null,null,null,null,null,""]
[null,null,null,null,null,null,null,null,null,null,null,null,null,null,null,null,null,""]
[null,null,null,null,null,null,null,null,null,null,null,null,null,null,null,null,null,""]
[null,null,null,null,null,null,null,null,null,null,null,null,null,null,null,null,null,""]
[null,null,null,null,null,null,null,null,null,null,null,null,null,null,null,null,null,""]
[null,null,null,null,null,null,null,null,null,null,null,null,null,null,null,null,null,""]
[null,null,null,null,null,null,null,null,null,null,null,null,null,null,null,null,null,{"$f":"IF(AND($S69<>\"\",$T69<>\"\",$V69<>\"\"),CONCATENATE($S69,\"_\",$T69,\"_\",$V69), \"\")","v":""}]
[null,null,null,null,null,null,null,null,null,null,null,null,null,null,null,null,null,""]
[null,null,null,null,null,null,null,null,null,null,null,null,null,null,null,null,null,""]
[null,null,null,null,null,null,null,null,null,null,null,null,null,null,null,null,null,""]
[null,null,null,null,null,null,null,null,null,null,null,null,null,null,null,null,null,""]
[null,null,null,null,null,null,null,null,null,null,null,null,null,null,null,null,null,""]
[null,null,null,null,null,null,null,null,null,null,null,null,null,null,null,null,null,""]
[null,null,null,null,null,null,null,null,null,null,null,null,null,null,null,null,null,""]
[null,null,null,null,null,null,null,null,null,null,null,null,null,null,null,null,null,""]
[null,null,null,null,null,null,null,null,null,null,null,null,null,null,null,null,null,""]
[null,null,null,null,null,null,null,null,null,null,null,null,null,null,null,null,null,""]
[null,null,null,null,null,null,null,null,null,null,null,null,null,null,null,null,null,""]
[null,null,null,null,null,null,null,null,null,null,null,null,null,null,null,null,null,""]
[null,null,null,null,null,null,null,null,null,null,null,null,null,null,null,null,null,""]
[null,null,null,null,null,null,null,null,null,null,null,null,null,null,null,null,null,""]
[null,null,null,null,null,null,null,null,null,null,null,null,null,null,null,null,null,""]
[null,null,null,null,null,null,null,null,null,null,null,null,null,null,null,null,null,""]
[null,null,null,null,null,null,null,null,null,null,null,null,null,null,null,null,null,""]
[null,null,null,null,null,null,null,null,null,null,null,null,null,null,null,null,null,""]
[null,null,null,null,null,null,null,null,null,null,null,null,null,null,null,null,null,""]
[null,null,null,null,null,null,null,null,null,null,null,null,null,null,null,null,null,""]
[null,null,null,null,null,null,null,null,null,null,null,null,null,null,null,null,null,""]
[null,null,null,null,null,null,null,null,null,null,null,null,null,null,null,null,null,""]
[null,null,null,null,null,null,null,null,null,null,null,null,null,null,null,null,null,""]
[null,null,null,null,null,null,null,null,null,null,null,null,null,null,null,null,null,""]
[null,null,null,null,null,null,null,null,null,null,null,null,null,null,null,null,null,""]
[null,null,null,null,null,null,null,null,null,null,null,null,null,null,null,null,null,""]
[null,null,null,null,null,null,null,null,null,null,null,null,null,null,null,null,null,""]
[null,null,null,null,null,null,null,null,null,null,null,null,null,null,null,null,null,""]
[null,null,null,null,null,null,null,null,null,null,null,null,null,null,null,null,null,""]
[null,null,null,null,null,null,null,null,null,null,null,null,null,null,null,null,null,""]
[null,null,null,null,null,null,null,null,null,null,null,null,null,null,null,null,null,""]

{"sheet":"【自動入力】様式第18","index":6,"n_rows":215,"n_cols":40,"rows_kept":215,"cut":false,"hidden":false,"merged":[[215,5,215,39],[212,34,212,36],[212,37,212,39],[213,22,213,25],[213,26,213,29],[213,30,213,33],[213,34,213,36],[213,37,213,39],[211,1,211,18],[211,19,211,21],[211,22,211,27],[211,28,211,30],[211,31,211,39],[212,1,213,18],[212,19,213,21],[212,22,212,25],[212,26,212,29],[212,30,212,33],[208,19,208,39],[209,19,209,39],[210,19,210,39],[202,13,202,21],[205,1,205,39],[206,1,206,18],[206,19,206,39],[207,1,207,18],[207,19,207,39],[208,1,209,18],[210,1,210,18],[202,23,202,38],[188,5,188,39],[191,1,191,39],[194,0,194,20],[194,29,194,39],[197,1,197,23],[198,13,200,21],[200,39,200,40],[198,23,198,38],[200,23,200,38],[185,34,185,36],[185,37,185,39],[186,22,186,25],[186,26,186,29],[186,30,186,33],[186,34,186,36],[186,37,186,39],[184,1,184,18],[184,19,184,21],[184,22,184,27],[184,28,184,30],[184,31,184,39],[185,1,186,18],[185,19,186,21],[185,22,185,25],[185,26,185,29],[185,30,185,33],[181,19,181,39],[182,19,182,39],[183,19,183,39],[175,13,175,21],[178,1,178,39],[179,1,179,18],[179,19,179,39],[180,1,180,18],[180,19,180,39],[181,1,182,18],[183,1,183,18],[175,23,175,38],[161,5,161,39],[164,1,164,39],[167,0,167,20],[167,29,167,39],[170,1,170,23],[171,13,173,21],[173,39,173,40],[171,23,171,38],[173,23,173,38],[158,34,158,36],[158,37,158,39],[159,22,159,25],[159,26,159,29],[159,30,159,33],[159,34,159,36],[159,37,159,39],[157,1,157,18],[157,19,157,21],[157,22,157,27],[157,28,157,30],[157,31,157,39],[158,1,159,18],[158,19,159,21],[158,22,158,25],[158,26,158,29],[158,30,158,33],[154,19,154,39],[155,19,155,39],[156,19,156,39],[148,13,148,21],[151,1,151,39],[152,1,152,18],[152,19,152,39],[153,1,153,18],[153,19,153,39],[154,1,155,18],[156,1,156,18],[148,23,148,38],[134,5,134,39],[137,1,137,39],[140,0,140,20],[140,29,140,39],[143,1,143,23],[144,13,146,21],[146,39,146,40],[144,23,144,38],[146,23,146,38],[131,34,131,36],[131,37,131,39],[132,22,132,25],[132,26,132,29],[132,30,132,33],[132,34,132,36],[132,37,132,39],[130,1,130,18],[130,19,130,21],[130,22,130,27],[130,28,130,30],[130,31,130,39],[131,1,132,18],[131,19,132,21],[131,22,131,25],[131,26,131,29],[131,30,131,33],[127,19,127,39],[128,19,128,39],[129,19,129,39],[121,13,121,21],[124,1,124,39],[125,1,125,18],[125,19,125,39],[126,1,126,18],[126,19,126,39],[127,1,128,18],[129,1,129,18],[121,23,121,38],[107,5,107,39],[110,1,110,39],[113,0,113,20],[113,29,113,39],[116,1,116,23],[117,13,119,21],[119,39,119,40],[117,23,117,38],[119,23,119,38],[104,34,104,36],[104,37,104,39],[105,22,105,25],[105,26,105,29],[105,30,105,33],[105,34,105,36],[105,37,105,39],[103,1,103,18],[103,19,103,21],[103,22,103,27],[103,28,103,30],[103,31,103,39],[104,1,105,18],[104,19,105,21],[104,22,104,25],[104,26,104,29],[104,30,104,33],[100,19,100,39],[101,19,101,39],[102,19,102,39],[94,13,94,21],[97,1,97,39],[98,1,98,18],[98,19,98,39],[99,1,99,18],[99,19,99,39],[100,1,101,18],[102,1,102,18],[94,23,94,38],[80,5,80,39],[83,1,83,39],[86,0,86,20],[86,29,86,39],[89,1,89,23],[90,13,92,21],[92,39,92,40],[90,23,90,38],[92,23,92,38],[77,34,77,36],[77,37,77,39],[78,22,78,25],[78,26,78,29],[78,30,78,33],[78,34,78,36],[78,37,78,39],[76,1,76,18],[76,19,76,21],[76,22,76,27],[76,28,76,30],[76,31,76,39],[77,1,78,18],[77,19,78,21],[77,22,77,25],[77,26,77,29],[77,30,77,33],[73,19,73,39],[74,19,74,39],[75,19,75,39],[67,13,67,21],[70,1,70,39],[71,1,71,18],[71,19,71,39],[72,1,72,18],[72,19,72,39],[73,1,74,18],[75,1,75,18],[67,23,67,38],[53,5,53,39],[56,1,56,39],[59,0,59,20],[59,29,59,39],[62,1,62,23],[63,13,65,21],[65,39,65,40],[63,23,63,38],[65,23,65,38],[50,34,50,36],[50,37,50,39],[51,22,51,25],[51,26,51,29],[51,30,51,33],[51,34,51,36],[51,37,51,39],[49,1,49,18],[49,19,49,21],[49,22,49,27],[49,28,49,30],[49,31,49,39],[50,1,51,18],[50,19,51,21],[50,22,50,25],[50,26,50,29],[50,30,50,33],[46,19,46,39],[47,19,47,39],[48,19,48,39],[40,13,40,21],[43,1,43,39],[44,1,44,18],[44,19,44,39],[45,1,45,18],[45,19,45,39],[46,1,47,18],[48,1,48,18],[40,23,40,38],[26,5,26,39],[29,1,29,39],[32,0,32,20],[32,29,32,39],[35,1,35,23],[36,13,38,21],[38,39,38,40],[36,23,36,38],[38,23,38,38],[24,22,24,25],[24,26,24,29],[24,30,24,33],[24,34,24,36],[24,37,24,39],[22,1,22,18],[22,19,22,21],[22,22,22,27],[22,28,22,30],[22,31,22,39],[23,1,24,18],[23,19,24,21],[23,22,23,25],[23,26,23,29],[23,30,23,33],[21,19,21,39],[13,13,13,21],[16,1,16,39],[17,1,17,18],[17,19,17,39],[18,1,18,18],[18,19,18,39],[23,34,23,36],[23,37,23,39],[21,1,21,18],[2,1,2,39],[5,0,5,20],[5,29,5,39],[8,1,8,23],[9,13,11,21],[11,39,11,40],[19,19,19,39],[20,19,20,39],[11,23,11,38],[9,23,9,38],[13,23,13,38],[19,1,20,18]]}
[null,"様式第１８（第１９条関係）"]
[]
[null,"製造予定届出書"]
[]
[]
[null,null,null,null,null,null,null,null,null,null,null,null,null,null,null,null,null,null,null,null,null,null,null,null,null,null,null,null,null,{"$f":"ETL!$H$4","v":{"$error":"#NUM!"}}]
[]
[]
[null,"経済産業大臣殿"]
[null,null,null,null,null,null,null,null,null,null,null,null,null,"氏名又は名称及び法人にあっては、その代表者の氏名",null,null,null,null,null,null,null,null,null,{"$f":"ETL!$E$7","v":""}]
[]
[null,null,null,null,null,null,null,null,null,null,null,null,null,null,null,null,null,null,null,null,null,null,null,{"$f":"ETL!$H$8","v":""},null,null,null,null,null,null,null,null,null,null,null,null,null,null,null,"印"]
[]
[null,null,null,null,null,null,null,null,null,null,null,null,null,"住所",null,null,null,null,null,null,null,null,null,{"$f":"ETL!$E$11","v":""}]
[]
[]
[null,"　化学兵器の禁止及び特定物質の規制等に関する法律第２７条において準用する第２４条第１項、第２項及び第３項の規定により次のとおり届け出ます。"]
[null,"製造をしようとする事業所の名称",null,null,null,null,null,null,null,null,null,null,null,null,null,null,null,null,null,{"$f":"ETL!$E$59","v":""}]
[null,"製造をしようとする事業所の所在地",null,null,null,null,null,null,null,null,null,null,null,null,null,null,null,null,null,{"$f":"ETL!$H$63","v":""}]
[null,"製造をしようとする第二種指定物質",null,null,null,null,null,null,null,null,null,null,null,null,null,null,null,null,null,{"$f":"ETL!$H$87","v":""}]
[null,null,null,null,null,null,null,null,null,null,null,null,null,null,null,null,null,null,null,{"$f":"CONCATENATE(\"(CAS: \", ETL!$H$85, \")\")","v":"(CAS: )"}]
[null,"製造をしようとする第二種指定物質の数量",null,null,null,null,null,null,null,null,null,null,null,null,null,null,null,null,null,{"$f":"IF(ETL!$H$90=\"\",\"\",CONCATENATE(ETL!$H$90, \" t\"))","v":"0 t"}]
[null,"事業所内の当該第二種指定物質の製造施設の数及び位置",null,null,null,null,null,null,null,null,null,null,null,null,null,null,null,null,null," 数",null,null,{"$f":"ETL!$E$90","v":1},null,null,null,null,null,"位置",null,null,{"$f":"ETL!$E$91","v":"別添資料のとおり"}]
[null,"当該製造施設ごとの当該第二種指定物質の製造数量",null,null,null,null,null,null,null,null,null,null,null,null,null,null,null,null,null,"数量",null,null,{"$f":"ETL!$H$92","v":""},null,null,null,{"$f":"ETL!$H$94","v":""},null,null,null,{"$f":"ETL!$H$96","v":""},null,null,null,{"$f":"ETL!$H$98","v":""},null,null,{"$f":"ETL!$H$100","v":""}]
[null,null,null,null,null,null,null,null,null,null,null,null,null,null,null,null,null,null,null,null,null,null,{"$f":"ETL!$H$93","v":"0 t"},null,null,null,{"$f":"ETL!$H$95","v":""},null,null,null,{"$f":"ETL!$H$97","v":""},null,null,null,{"$f":"ETL!$H$99","v":""},null,null,{"$f":"ETL!$H$101","v":""}]
[null,"備考",null,null,null,"用紙の大きさは、日本産業規格Ａ４とすること。"]
[]
[null,"様式第１８（第１９条関係）"]
[]
[null,"製造予定届出書"]
[]
[]
[null,null,null,null,null,null,null,null,null,null,null,null,null,null,null,null,null,null,null,null,null,null,null,null,null,null,null,null,null,{"$f":"ETL!$H$4","v":{"$error":"#NUM!"}}]
[]
[]
[null,"経済産業大臣殿"]
[null,null,null,null,null,null,null,null,null,null,null,null,null,"氏名又は名称及び法人にあっては、その代表者の氏名",null,null,null,null,null,null,null,null,null,{"$f":"ETL!$E$7","v":""}]
[]
[null,null,null,null,null,null,null,null,null,null,null,null,null,null,null,null,null,null,null,null,null,null,null,{"$f":"ETL!$H$8","v":""},null,null,null,null,null,null,null,null,null,null,null,null,null,null,null,"印"]
[]
[null,null,null,null,null,null,null,null,null,null,null,null,null,"住所",null,null,null,null,null,null,null,null,null,{"$f":"ETL!$E$11","v":""}]
[]
[]
[null,"　化学兵器の禁止及び特定物質の規制等に関する法律第２７条において準用する第２４条第１項、第２項及び第３項の規定により次のとおり届け出ます。"]
[null,"製造をしようとする事業所の名称",null,null,null,null,null,null,null,null,null,null,null,null,null,null,null,null,null,{"$f":"ETL!$E$59","v":""}]
[null,"製造をしようとする事業所の所在地",null,null,null,null,null,null,null,null,null,null,null,null,null,null,null,null,null,{"$f":"ETL!$H$63","v":""}]
[null,"製造をしようとする第二種指定物質",null,null,null,null,null,null,null,null,null,null,null,null,null,null,null,null,null,{"$f":"ETL!$H$107","v":""}]
[null,null,null,null,null,null,null,null,null,null,null,null,null,null,null,null,null,null,null,{"$f":"CONCATENATE(\"(CAS: \", ETL!$H$105, \")\")","v":"(CAS: )"}]
[null,"製造をしようとする第二種指定物質の数量",null,null,null,null,null,null,null,null,null,null,null,null,null,null,null,null,null,{"$f":"IF(ETL!$H$110=\"\",\"\",CONCATENATE(ETL!$H$110, \" t\"))","v":"0 t"}]
[null,"事業所内の当該第二種指定物質の製造施設の数及び位置",null,null,null,null,null,null,null,null,null,null,null,null,null,null,null,null,null," 数",null,null,{"$f":"ETL!$E$110","v":1},null,null,null,null,null,"位置",null,null,{"$f":"ETL!$E$111","v":"別添資料のとおり"}]
[null,"当該製造施設ごとの当該第二種指定物質の製造数量",null,null,null,null,null,null,null,null,null,null,null,null,null,null,null,null,null,"数量",null,null,{"$f":"ETL!$H$112","v":""},null,null,null,{"$f":"ETL!$H$114","v":""},null,null,null,{"$f":"ETL!$H$116","v":""},null,null,null,{"$f":"ETL!$H$118","v":""},null,null,{"$f":"ETL!$H$120","v":""}]
[null,null,null,null,null,null,null,null,null,null,null,null,null,null,null,null,null,null,null,null,null,null,{"$f":"ETL!$H$113","v":"0 t"},null,null,null,{"$f":"ETL!$H$115","v":""},null,null,null,{"$f":"ETL!$H$117","v":""},null,null,null,{"$f":"ETL!$H$119","v":""},null,null,{"$f":"ETL!$H$121","v":""}]
[null,"備考",null,null,null,"用紙の大きさは、日本産業規格Ａ４とすること。"]
[]
[null,"様式第１８（第１９条関係）"]
[]
[null,"製造予定届出書"]
[]
[]
[null,null,null,null,null,null,null,null,null,null,null,null,null,null,null,null,null,null,null,null,null,null,null,null,null,null,null,null,null,{"$f":"ETL!$H$4","v":{"$error":"#NUM!"}}]
[]
[]
[null,"経済産業大臣殿"]
[null,null,null,null,null,null,null,null,null,null,null,null,null,"氏名又は名称及び法人にあっては、その代表者の氏名",null,null,null,null,null,null,null,null,null,{"$f":"ETL!$E$7","v":""}]
[]
[null,null,null,null,null,null,null,null,null,null,null,null,null,null,null,null,null,null,null,null,null,null,null,{"$f":"ETL!$H$8","v":""},null,null,null,null,null,null,null,null,null,null,null,null,null,null,null,"印"]
[]
[null,null,null,null,null,null,null,null,null,null,null,null,null,"住所",null,null,null,null,null,null,null,null,null,{"$f":"ETL!$E$11","v":""}]
[]
[]
[null,"　化学兵器の禁止及び特定物質の規制等に関する法律第２７条において準用する第２４条第１項、第２項及び第３項の規定により次のとおり届け出ます。"]
[null,"製造をしようとする事業所の名称",null,null,null,null,null,null,null,null,null,null,null,null,null,null,null,null,null,{"$f":"ETL!$E$59","v":""}]
[null,"製造をしようとする事業所の所在地",null,null,null,null,null,null,null,null,null,null,null,null,null,null,null,null,null,{"$f":"ETL!$H$63","v":""}]
[null,"製造をしようとする第二種指定物質",null,null,null,null,null,null,null,null,null,null,null,null,null,null,null,null,null,{"$f":"ETL!$H$127","v":""}]
[null,null,null,null,null,null,null,null,null,null,null,null,null,null,null,null,null,null,null,{"$f":"CONCATENATE(\"(CAS: \", ETL!$H$125, \")\")","v":"(CAS: )"}]
[null,"製造をしようとする第二種指定物質の数量",null,null,null,null,null,null,null,null,null,null,null,null,null,null,null,null,null,{"$f":"IF(ETL!$H$130=\"\",\"\",CONCATENATE(ETL!$H$130, \" t\"))","v":"0 t"}]
[null,"事業所内の当該第二種指定物質の製造施設の数及び位置",null,null,null,null,null,null,null,null,null,null,null,null,null,null,null,null,null," 数",null,null,{"$f":"ETL!$E$130","v":1},null,null,null,null,null,"位置",null,null,{"$f":"ETL!$E$131","v":"別添資料のとおり"}]
[null,"当該製造施設ごとの当該第二種指定物質の製造数量",null,null,null,null,null,null,null,null,null,null,null,null,null,null,null,null,null,"数量",null,null,{"$f":"ETL!$H$132","v":""},null,null,null,{"$f":"ETL!$H$134","v":""},null,null,null,{"$f":"ETL!$H$136","v":""},null,null,null,{"$f":"ETL!$H$138","v":""},null,null,{"$f":"ETL!$H$140","v":""}]
[null,null,null,null,null,null,null,null,null,null,null,null,null,null,null,null,null,null,null,null,null,null,{"$f":"ETL!$H$133","v":"0 t"},null,null,null,{"$f":"ETL!$H$135","v":""},null,null,null,{"$f":"ETL!$H$137","v":""},null,null,null,{"$f":"ETL!$H$139","v":""},null,null,{"$f":"ETL!$H$141","v":""}]
[null,"備考",null,null,null,"用紙の大きさは、日本産業規格Ａ４とすること。"]
[]
[null,"様式第１８（第１９条関係）"]
[]
[null,"製造予定届出書"]
[]
[]
[null,null,null,null,null,null,null,null,null,null,null,null,null,null,null,null,null,null,null,null,null,null,null,null,null,null,null,null,null,{"$f":"ETL!$H$4","v":{"$error":"#NUM!"}}]
[]
[]
[null,"経済産業大臣殿"]
[null,null,null,null,null,null,null,null,null,null,null,null,null,"氏名又は名称及び法人にあっては、その代表者の氏名",null,null,null,null,null,null,null,null,null,{"$f":"ETL!$E$7","v":""}]
[]
[null,null,null,null,null,null,null,null,null,null,null,null,null,null,null,null,null,null,null,null,null,null,null,{"$f":"ETL!$H$8","v":""},null,null,null,null,null,null,null,null,null,null,null,null,null,null,null,"印"]
[]
[null,null,null,null,null,null,null,null,null,null,null,null,null,"住所",null,null,null,null,null,null,null,null,null,{"$f":"ETL!$E$11","v":""}]
[]
[]
[null,"　化学兵器の禁止及び特定物質の規制等に関する法律第２７条において準用する第２４条第１項、第２項及び第３項の規定により次のとおり届け出ます。"]
[null,"製造をしようとする事業所の名称",null,null,null,null,null,null,null,null,null,null,null,null,null,null,null,null,null,{"$f":"ETL!$E$59","v":""}]
[null,"製造をしようとする事業所の所在地",null,null,null,null,null,null,null,null,null,null,null,null,null,null,null,null,null,{"$f":"ETL!$H$63","v":""}]
[null,"製造をしようとする第二種指定物質",null,null,null,null,null,null,null,null,null,null,null,null,null,null,null,null,null,{"$f":"ETL!$H$147","v":""}]
[null,null,null,null,null,null,null,null,null,null,null,null,null,null,null,null,null,null,null,{"$f":"CONCATENATE(\"(CAS: \", ETL!$H$145, \")\")","v":"(CAS: )"}]
[null,"製造をしようとする第二種指定物質の数量",null,null,null,null,null,null,null,null,null,null,null,null,null,null,null,null,null,{"$f":"IF(ETL!$H$150=\"\",\"\",CONCATENATE(ETL!$H$150, \" t\"))","v":"0 t"}]
[null,"事業所内の当該第二種指定物質の製造施設の数及び位置",null,null,null,null,null,null,null,null,null,null,null,null,null,null,null,null,null," 数",null,null,{"$f":"ETL!$E$150","v":1},null,null,null,null,null,"位置",null,null,{"$f":"ETL!$E$151","v":"別添資料のとおり"}]
[null,"当該製造施設ごとの当該第二種指定物質の製造数量",null,null,null,null,null,null,null,null,null,null,null,null,null,null,null,null,null,"数量",null,null,{"$f":"ETL!$H$152","v":""},null,null,null,{"$f":"ETL!$H$154","v":""},null,null,null,{"$f":"ETL!$H$156","v":""},null,null,null,{"$f":"ETL!$H$158","v":""},null,null,{"$f":"ETL!$H$160","v":""}]
[null,null,null,null,null,null,null,null,null,null,null,null,null,null,null,null,null,null,null,null,null,null,{"$f":"ETL!$H$153","v":"0 t"},null,null,null,{"$f":"ETL!$H$155","v":""},null,null,null,{"$f":"ETL!$H$157","v":""},null,null,null,{"$f":"ETL!$H$159","v":""},null,null,{"$f":"ETL!$H$161","v":""}]
[null,"備考",null,null,null,"用紙の大きさは、日本産業規格Ａ４とすること。"]
[]
[null,"様式第１８（第１９条関係）"]
[]
[null,"製造予定届出書"]
[]
[]
[null,null,null,null,null,null,null,null,null,null,null,null,null,null,null,null,null,null,null,null,null,null,null,null,null,null,null,null,null,{"$f":"ETL!$H$4","v":{"$error":"#NUM!"}}]
[]
[]
[null,"経済産業大臣殿"]
[null,null,null,null,null,null,null,null,null,null,null,null,null,"氏名又は名称及び法人にあっては、その代表者の氏名",null,null,null,null,null,null,null,null,null,{"$f":"ETL!$E$7","v":""}]
[]
[null,null,null,null,null,null,null,null,null,null,null,null,null,null,null,null,null,null,null,null,null,null,null,{"$f":"ETL!$H$8","v":""},null,null,null,null,null,null,null,null,null,null,null,null,null,null,null,"印"]
[]
[null,null,null,null,null,null,null,null,null,null,null,null,null,"住所",null,null,null,null,null,null,null,null,null,{"$f":"ETL!$E$11","v":""}]
[]
[]
[null,"　化学兵器の禁止及び特定物質の規制等に関する法律第２７条において準用する第２４条第１項、第２項及び第３項の規定により次のとおり届け出ます。"]
[null,"製造をしようとする事業所の名称",null,null,null,null,null,null,null,null,null,null,null,null,null,null,null,null,null,{"$f":"ETL!$E$59","v":""}]
[null,"製造をしようとする事業所の所在地",null,null,null,null,null,null,null,null,null,null,null,null,null,null,null,null,null,{"$f":"ETL!$H$63","v":""}]
[null,"製造をしようとする第二種指定物質",null,null,null,null,null,null,null,null,null,null,null,null,null,null,null,null,null,{"$f":"ETL!$H$167","v":""}]
[null,null,null,null,null,null,null,null,null,null,null,null,null,null,null,null,null,null,null,{"$f":"CONCATENATE(\"(CAS: \", ETL!$H$165, \")\")","v":"(CAS: )"}]
[null,"製造をしようとする第二種指定物質の数量",null,null,null,null,null,null,null,null,null,null,null,null,null,null,null,null,null,{"$f":"IF(ETL!$H$170=\"\",\"\",CONCATENATE(ETL!$H$170, \" t\"))","v":"0 t"}]
[null,"事業所内の当該第二種指定物質の製造施設の数及び位置",null,null,null,null,null,null,null,null,null,null,null,null,null,null,null,null,null," 数",null,null,{"$f":"ETL!$E$170","v":1},null,null,null,null,null,"位置",null,null,{"$f":"ETL!$E$171","v":"別添資料のとおり"}]
[null,"当該製造施設ごとの当該第二種指定物質の製造数量",null,null,null,null,null,null,null,null,null,null,null,null,null,null,null,null,null,"数量",null,null,{"$f":"ETL!$H$172","v":""},null,null,null,{"$f":"ETL!$H$174","v":""},null,null,null,{"$f":"ETL!$H$176","v":""},null,null,null,{"$f":"ETL!$H$178","v":""},null,null,{"$f":"ETL!$H$180","v":""}]
[null,null,null,null,null,null,null,null,null,null,null,null,null,null,null,null,null,null,null,null,null,null,{"$f":"ETL!$H$173","v":"0 t"},null,null,null,{"$f":"ETL!$H$175","v":""},null,null,null,{"$f":"ETL!$H$177","v":""},null,null,null,{"$f":"ETL!$H$179","v":""},null,null,{"$f":"ETL!$H$181","v":""}]
[null,"備考",null,null,null,"用紙の大きさは、日本産業規格Ａ４とすること。"]
[]
[null,"様式第１８（第１９条関係）"]
[]
[null,"製造予定届出書"]
[]
[]
[null,null,null,null,null,null,null,null,null,null,null,null,null,null,null,null,null,null,null,null,null,null,null,null,null,null,null,null,null,{"$f":"ETL!$H$4","v":{"$error":"#NUM!"}}]
[]
[]
[null,"経済産業大臣殿"]
[null,null,null,null,null,null,null,null,null,null,null,null,null,"氏名又は名称及び法人にあっては、その代表者の氏名",null,null,null,null,null,null,null,null,null,{"$f":"ETL!$E$7","v":""}]
[]
[null,null,null,null,null,null,null,null,null,null,null,null,null,null,null,null,null,null,null,null,null,null,null,{"$f":"ETL!$H$8","v":""},null,null,null,null,null,null,null,null,null,null,null,null,null,null,null,"印"]
[]
[null,null,null,null,null,null,null,null,null,null,null,null,null,"住所",null,null,null,null,null,null,null,null,null,{"$f":"ETL!$E$11","v":""}]
[]
[]
[null,"　化学兵器の禁止及び特定物質の規制等に関する法律第２７条において準用する第２４条第１項、第２項及び第３項の規定により次のとおり届け出ます。"]
[null,"製造をしようとする事業所の名称",null,null,null,null,null,null,null,null,null,null,null,null,null,null,null,null,null,{"$f":"ETL!$E$59","v":""}]
[null,"製造をしようとする事業所の所在地",null,null,null,null,null,null,null,null,null,null,null,null,null,null,null,null,null,{"$f":"ETL!$H$63","v":""}]
[null,"製造をしようとする第二種指定物質",null,null,null,null,null,null,null,null,null,null,null,null,null,null,null,null,null,{"$f":"ETL!$H$187","v":""}]
[null,null,null,null,null,null,null,null,null,null,null,null,null,null,null,null,null,null,null,{"$f":"CONCATENATE(\"(CAS: \", ETL!$H$185, \")\")","v":"(CAS: )"}]
[null,"製造をしようとする第二種指定物質の数量",null,null,null,null,null,null,null,null,null,null,null,null,null,null,null,null,null,{"$f":"IF(ETL!$H$190=\"\",\"\",CONCATENATE(ETL!$H$190, \" t\"))","v":"0 t"}]
[null,"事業所内の当該第二種指定物質の製造施設の数及び位置",null,null,null,null,null,null,null,null,null,null,null,null,null,null,null,null,null," 数",null,null,{"$f":"ETL!$E$190","v":1},null,null,null,null,null,"位置",null,null,{"$f":"ETL!$E$191","v":"別添資料のとおり"}]
[null,"当該製造施設ごとの当該第二種指定物質の製造数量",null,null,null,null,null,null,null,null,null,null,null,null,null,null,null,null,null,"数量",null,null,{"$f":"ETL!$H$192","v":""},null,null,null,{"$f":"ETL!$H$194","v":""},null,null,null,{"$f":"ETL!$H$196","v":""},null,null,null,{"$f":"ETL!$H$198","v":""},null,null,{"$f":"ETL!$H$200","v":""}]
[null,null,null,null,null,null,null,null,null,null,null,null,null,null,null,null,null,null,null,null,null,null,{"$f":"ETL!$H$193","v":"0 t"},null,null,null,{"$f":"ETL!$H$195","v":""},null,null,null,{"$f":"ETL!$H$197","v":""},null,null,null,{"$f":"ETL!$H$199","v":""},null,null,{"$f":"ETL!$H$201","v":""}]
[null,"備考",null,null,null,"用紙の大きさは、日本産業規格Ａ４とすること。"]
[]
[null,"様式第１８（第１９条関係）"]
[]
[null,"製造予定届出書"]
[]
[]
[null,null,null,null,null,null,null,null,null,null,null,null,null,null,null,null,null,null,null,null,null,null,null,null,null,null,null,null,null,{"$f":"ETL!$H$4","v":{"$error":"#NUM!"}}]
[]
[]
[null,"経済産業大臣殿"]
[null,null,null,null,null,null,null,null,null,null,null,null,null,"氏名又は名称及び法人にあっては、その代表者の氏名",null,null,null,null,null,null,null,null,null,{"$f":"ETL!$E$7","v":""}]
[]
[null,null,null,null,null,null,null,null,null,null,null,null,null,null,null,null,null,null,null,null,null,null,null,{"$f":"ETL!$H$8","v":""},null,null,null,null,null,null,null,null,null,null,null,null,null,null,null,"印"]
[]
[null,null,null,null,null,null,null,null,null,null,null,null,null,"住所",null,null,null,null,null,null,null,null,null,{"$f":"ETL!$E$11","v":""}]
[]
[]
[null,"　化学兵器の禁止及び特定物質の規制等に関する法律第２７条において準用する第２４条第１項、第２項及び第３項の規定により次のとおり届け出ます。"]
[null,"製造をしようとする事業所の名称",null,null,null,null,null,null,null,null,null,null,null,null,null,null,null,null,null,{"$f":"ETL!$E$59","v":""}]
[null,"製造をしようとする事業所の所在地",null,null,null,null,null,null,null,null,null,null,null,null,null,null,null,null,null,{"$f":"ETL!$H$63","v":""}]
[null,"製造をしようとする第二種指定物質",null,null,null,null,null,null,null,null,null,null,null,null,null,null,null,null,null,{"$f":"ETL!$H$207","v":""}]
[null,null,null,null,null,null,null,null,null,null,null,null,null,null,null,null,null,null,null,{"$f":"CONCATENATE(\"(CAS: \", ETL!$H$205, \")\")","v":"(CAS: )"}]
[null,"製造をしようとする第二種指定物質の数量",null,null,null,null,null,null,null,null,null,null,null,null,null,null,null,null,null,{"$f":"IF(ETL!$H$210=\"\",\"\",CONCATENATE(ETL!$H$210, \" t\"))","v":"0 t"}]
[null,"事業所内の当該第二種指定物質の製造施設の数及び位置",null,null,null,null,null,null,null,null,null,null,null,null,null,null,null,null,null," 数",null,null,{"$f":"ETL!$E$210","v":1},null,null,null,null,null,"位置",null,null,{"$f":"ETL!$E$211","v":"別添資料のとおり"}]
[null,"当該製造施設ごとの当該第二種指定物質の製造数量",null,null,null,null,null,null,null,null,null,null,null,null,null,null,null,null,null,"数量",null,null,{"$f":"ETL!$H$212","v":""},null,null,null,{"$f":"ETL!$H$214","v":""},null,null,null,{"$f":"ETL!$H$216","v":""},null,null,null,{"$f":"ETL!$H$218","v":""},null,null,{"$f":"ETL!$H$220","v":""}]
[null,null,null,null,null,null,null,null,null,null,null,null,null,null,null,null,null,null,null,null,null,null,{"$f":"ETL!$H$213","v":"0 t"},null,null,null,{"$f":"ETL!$H$215","v":""},null,null,null,{"$f":"ETL!$H$217","v":""},null,null,null,{"$f":"ETL!$H$219","v":""},null,null,{"$f":"ETL!$H$221","v":""}]
[null,"備考",null,null,null,"用紙の大きさは、日本産業規格Ａ４とすること。"]
[]
[null,"様式第１８（第１９条関係）"]
[]
[null,"製造予定届出書"]
[]
[]
[null,null,null,null,null,null,null,null,null,null,null,null,null,null,null,null,null,null,null,null,null,null,null,null,null,null,null,null,null,{"$f":"ETL!$H$4","v":{"$error":"#NUM!"}}]
[]
[]
[null,"経済産業大臣殿"]
[null,null,null,null,null,null,null,null,null,null,null,null,null,"氏名又は名称及び法人にあっては、その代表者の氏名",null,null,null,null,null,null,null,null,null,{"$f":"ETL!$E$7","v":""}]
[]
[null,null,null,null,null,null,null,null,null,null,null,null,null,null,null,null,null,null,null,null,null,null,null,{"$f":"ETL!$H$8","v":""},null,null,null,null,null,null,null,null,null,null,null,null,null,null,null,"印"]
[]
[null,null,null,null,null,null,null,null,null,null,null,null,null,"住所",null,null,null,null,null,null,null,null,null,{"$f":"ETL!$E$11","v":""}]
[]
[]
[null,"　化学兵器の禁止及び特定物質の規制等に関する法律第２７条において準用する第２４条第１項、第２項及び第３項の規定により次のとおり届け出ます。"]
[null,"製造をしようとする事業所の名称",null,null,null,null,null,null,null,null,null,null,null,null,null,null,null,null,null,{"$f":"ETL!$E$59","v":""}]
[null,"製造をしようとする事業所の所在地",null,null,null,null,null,null,null,null,null,null,null,null,null,null,null,null,null,{"$f":"ETL!$H$63","v":""}]
[null,"製造をしようとする第二種指定物質",null,null,null,null,null,null,null,null,null,null,null,null,null,null,null,null,null,{"$f":"ETL!$H$227","v":""}]
[null,null,null,null,null,null,null,null,null,null,null,null,null,null,null,null,null,null,null,{"$f":"CONCATENATE(\"(CAS: \", ETL!$H$225, \")\")","v":"(CAS: )"}]
[null,"製造をしようとする第二種指定物質の数量",null,null,null,null,null,null,null,null,null,null,null,null,null,null,null,null,null,{"$f":"IF(ETL!$H$230=\"\",\"\",CONCATENATE(ETL!$H$230, \" t\"))","v":"0 t"}]
[null,"事業所内の当該第二種指定物質の製造施設の数及び位置",null,null,null,null,null,null,null,null,null,null,null,null,null,null,null,null,null," 数",null,null,{"$f":"ETL!$E$230","v":1},null,null,null,null,null,"位置",null,null,{"$f":"ETL!$E$231","v":"別添資料のとおり"}]
[null,"当該製造施設ごとの当該第二種指定物質の製造数量",null,null,null,null,null,null,null,null,null,null,null,null,null,null,null,null,null,"数量",null,null,{"$f":"ETL!$H$232","v":""},null,null,null,{"$f":"ETL!$H$234","v":""},null,null,null,{"$f":"ETL!$H$236","v":""},null,null,null,{"$f":"ETL!$H$238","v":""},null,null,{"$f":"ETL!$H$240","v":""}]
[null,null,null,null,null,null,null,null,null,null,null,null,null,null,null,null,null,null,null,null,null,null,{"$f":"ETL!$H$233","v":"0 t"},null,null,null,{"$f":"ETL!$H$235","v":""},null,null,null,{"$f":"ETL!$H$237","v":""},null,null,null,{"$f":"ETL!$H$239","v":""},null,null,{"$f":"ETL!$H$241","v":""}]
[null,"備考",null,null,null,"用紙の大きさは、日本産業規格Ａ４とすること。"]

{"sheet":"【自動入力】Form3.2","index":7,"n_rows":30,"n_cols":45,"rows_kept":30,"cut":false,"hidden":false,"merged":[[35,0,35,45],[43,0,43,45],[34,0,34,25],[34,26,34,28],[34,30,34,38],[34,39,34,41],[34,43,34,45],[29,0,29,40],[29,41,29,42],[29,43,29,45],[30,0,30,45],[31,0,33,45],[26,11,26,45],[27,0,27,45],[28,0,28,45],[21,0,21,45],[23,6,23,7],[23,10,23,11],[23,14,23,17],[23,29,23,31],[23,34,23,35],[23,38,23,41],[14,0,14,45],[15,0,15,10],[15,11,15,45],[24,0,24,45],[25,0,25,35],[25,36,25,45],[16,0,16,45],[17,0,17,10],[17,11,17,45],[18,0,18,45],[19,0,19,10],[19,11,19,22],[19,23,19,45],[7,0,7,45],[8,0,8,16],[11,0,11,45],[12,0,12,45],[13,0,13,10],[13,11,13,45],[8,17,8,24],[8,25,8,45],[9,0,9,45],[10,0,10,10],[10,11,10,45],[6,0,6,45],[0,0,0,20],[0,21,0,33],[0,34,0,37],[0,38,0,39],[0,40,0,41],[0,42,0,43],[0,44,0,45],[2,0,2,45],[3,0,3,45],[4,0,4,45],[5,0,5,45]]}
[null,null,null,null,null,null,null,null,null,null,null,null,null,null,null,null,null,null,null,null,null,"届出日 （西暦：ccyy-mm-dd）",null,null,null,null,null,null,null,null,null,null,null,null,{"$f":"ETL!$E$3","v":0},null,null,null,"－",null,{"$f":"ETL!$E$4","v":0},null,"－",null,{"$f":"ETL!$E$5","v":0}]
[]
["Form 3.2: Declaration of Schedule 3 Plant Sites "]
[]
[]
["Ensure to complete one form for each plant site."]
[]
[]
["Plant Site Code:",null,null,null,null,null,null,null,null,null,null,null,null,null,null,null,null,{"$f":"ETL!$E$61","v":""}]
[]
["Name of Plant Site: ",null,null,null,null,null,null,null,null,null,null,{"$f":"ETL!$E$60","v":""}]
[]
["The name of the owner, company, or enterprise operating the plant site:"]
[null,null,null,null,null,null,null,null,null,null,null,{"$f":"ETL!$E$8","v":""}]
[]
["Street address:",null,null,null,null,null,null,null,null,null,null,{"$f":"ETL!$E$67","v":""}]
[]
["City/district:",null,null,null,null,null,null,null,null,null,null,{"$f":"ETL!$E$65","v":""}]
[]
["Province/state/other:",null,null,null,null,null,null,null,null,null,null,{"$f":"ETL!$E$63","v":""}]
[]
["Latitude, longitude/Precise location:"]
[]
[null,"Latitude:",null,null,null,null,{"$f":"ETL!$E$68","v":0},null,"／",null,{"$f":"ETL!$E$69","v":0},null,"／",null,{"$f":"ETL!$E$70","v":0},null,null,null,null,"N",null,null,null,"Longitude:",null,null,null,null,null,{"$f":"ETL!$E$71","v":0},null,null,"／",null,{"$f":"ETL!$E$72","v":0},null,"／",null,{"$f":"ETL!$E$73","v":0},null,null,null,null,"E"]
[]
["Identify the attachement for additional information on this plant site (if available):"]
[null,null,null,null,null,null,null,null,null,null,null,{"$f":"ETL!$E$74","v":""}]
[]
[]
["Number of declared Schedule 2 Plants at the plant site:",null,null,null,null,null,null,null,null,null,null,null,null,null,null,null,null,null,null,null,null,null,null,null,null,null,null,null,null,null,null,null,null,null,null,null,null,null,null,null,null,{"$f":"ETL!$E$80","v":""}]

{"sheet":"【自動入力】Form3.3","index":8,"n_rows":329,"n_cols":45,"rows_kept":329,"cut":false,"hidden":false,"merged":[[329,0,329,45],[330,0,330,45],[331,0,331,45],[332,0,332,45],[334,0,334,45],[335,0,335,45],[326,0,327,45],[328,22,328,45],[320,15,320,45],[321,0,321,45],[322,0,322,45],[323,0,323,45],[324,0,324,45],[325,0,325,45],[310,0,310,45],[311,0,311,45],[312,15,313,45],[315,17,315,45],[317,17,317,45],[319,0,319,45],[305,0,305,45],[306,0,306,14],[306,15,306,45],[307,0,307,45],[308,0,308,45],[309,0,309,14],[309,15,309,45],[301,0,301,45],[302,0,302,16],[302,17,302,26],[302,27,302,45],[303,0,303,45],[304,0,304,16],[304,17,304,24],[304,25,304,45],[296,0,296,45],[297,0,297,45],[298,0,298,45],[299,0,299,45],[300,0,300,45],[284,0,285,45],[286,22,286,45],[294,44,294,45],[278,15,278,45],[279,0,279,45],[280,0,280,45],[281,0,281,45],[282,0,282,45],[283,0,283,45],[294,0,294,20],[294,21,294,33],[294,34,294,37],[294,38,294,39],[294,40,294,41],[294,42,294,43],[287,0,287,45],[288,0,288,45],[289,0,289,45],[290,0,290,45],[292,0,292,45],[293,0,293,45],[268,0,268,45],[269,0,269,45],[270,15,271,45],[273,17,273,45],[275,17,275,45],[277,0,277,45],[263,0,263,45],[264,0,264,14],[264,15,264,45],[265,0,265,45],[266,0,266,45],[267,0,267,14],[267,15,267,45],[259,0,259,45],[260,0,260,16],[260,17,260,26],[260,27,260,45],[261,0,261,45],[262,0,262,16],[262,17,262,24],[262,25,262,45],[254,0,254,45],[255,0,255,45],[256,0,256,45],[257,0,257,45],[258,0,258,45],[242,0,243,45],[244,22,244,45],[252,44,252,45],[236,15,236,45],[237,0,237,45],[238,0,238,45],[239,0,239,45],[240,0,240,45],[241,0,241,45],[252,0,252,20],[252,21,252,33],[252,34,252,37],[252,38,252,39],[252,40,252,41],[252,42,252,43],[245,0,245,45],[246,0,246,45],[247,0,247,45],[248,0,248,45],[250,0,250,45],[251,0,251,45],[226,0,226,45],[227,0,227,45],[228,15,229,45],[231,17,231,45],[233,17,233,45],[235,0,235,45],[221,0,221,45],[222,0,222,14],[222,15,222,45],[223,0,223,45],[224,0,224,45],[225,0,225,14],[225,15,225,45],[218,0,218,16],[218,17,218,26],[218,27,218,45],[219,0,219,45],[220,0,220,16],[220,17,220,24],[220,25,220,45],[213,0,213,45],[214,0,214,45],[215,0,215,45],[216,0,216,45],[217,0,217,45],[200,0,201,45],[202,22,202,45],[212,0,212,45],[194,15,194,45],[195,0,195,45],[196,0,196,45],[197,0,197,45],[198,0,198,45],[199,0,199,45],[209,0,209,45],[210,0,210,20],[210,21,210,33],[210,34,210,37],[210,38,210,39],[210,40,210,41],[210,42,210,43],[210,44,210,45],[203,0,203,45],[204,0,204,45],[205,0,205,45],[206,0,206,45],[207,0,207,45],[208,0,208,45],[184,0,184,45],[185,0,185,45],[186,15,187,45],[189,17,189,45],[191,17,191,45],[193,0,193,45],[179,0,179,45],[180,0,180,14],[180,15,180,45],[181,0,181,45],[182,0,182,45],[183,0,183,14],[183,15,183,45],[176,0,176,16],[176,17,176,26],[176,27,176,45],[177,0,177,45],[178,0,178,16],[178,17,178,24],[178,25,178,45],[171,0,171,45],[172,0,172,45],[173,0,173,45],[174,0,174,45],[175,0,175,45],[158,0,159,45],[160,22,160,45],[170,0,170,45],[152,15,152,45],[153,0,153,45],[154,0,154,45],[155,0,155,45],[156,0,156,45],[157,0,157,45],[167,0,167,45],[168,0,168,20],[168,21,168,33],[168,34,168,37],[168,38,168,39],[168,40,168,41],[168,42,168,43],[168,44,168,45],[161,0,161,45],[162,0,162,45],[163,0,163,45],[164,0,164,45],[165,0,165,45],[166,0,166,45],[142,0,142,45],[143,0,143,45],[144,15,145,45],[147,17,147,45],[149,17,149,45],[151,0,151,45],[137,0,137,45],[138,0,138,14],[138,15,138,45],[139,0,139,45],[140,0,140,45],[141,0,141,14],[141,15,141,45],[134,0,134,16],[134,17,134,26],[134,27,134,45],[135,0,135,45],[136,0,136,16],[136,17,136,24],[136,25,136,45],[129,0,129,45],[130,0,130,45],[131,0,131,45],[132,0,132,45],[133,0,133,45],[116,0,117,45],[118,22,118,45],[128,0,128,45],[110,15,110,45],[111,0,111,45],[112,0,112,45],[113,0,113,45],[114,0,114,45],[115,0,115,45],[125,0,125,45],[126,0,126,20],[126,21,126,33],[126,34,126,37],[126,38,126,39],[126,40,126,41],[126,42,126,43],[126,44,126,45],[119,0,119,45],[120,0,120,45],[121,0,121,45],[122,0,122,45],[123,0,123,45],[124,0,124,45],[100,0,100,45],[101,0,101,45],[102,15,103,45],[105,17,105,45],[107,17,107,45],[109,0,109,45],[95,0,95,45],[96,0,96,14],[96,15,96,45],[97,0,97,45],[98,0,98,45],[99,0,99,14],[99,15,99,45],[92,0,92,16],[92,17,92,26],[92,27,92,45],[93,0,93,45],[94,0,94,16],[94,17,94,24],[94,25,94,45],[87,0,87,45],[88,0,88,45],[89,0,89,45],[90,0,90,45],[91,0,91,45],[74,0,75,45],[76,22,76,45],[86,0,86,45],[68,15,68,45],[69,0,69,45],[70,0,70,45],[71,0,71,45],[72,0,72,45],[73,0,73,45],[83,0,83,45],[84,0,84,20],[84,21,84,33],[84,34,84,37],[84,38,84,39],[84,40,84,41],[84,42,84,43],[84,44,84,45],[77,0,77,45],[78,0,78,45],[79,0,79,45],[80,0,80,45],[81,0,81,45],[82,0,82,45],[58,0,58,45],[59,0,59,45],[60,15,61,45],[63,17,63,45],[65,17,65,45],[67,0,67,45],[53,0,53,45],[54,0,54,14],[54,15,54,45],[55,0,55,45],[56,0,56,45],[57,0,57,14],[57,15,57,45],[50,0,50,16],[50,17,50,26],[50,27,50,45],[51,0,51,45],[52,0,52,16],[52,17,52,24],[52,25,52,45],[45,0,45,45],[46,0,46,45],[47,0,47,45],[48,0,48,45],[49,0,49,45],[32,0,33,45],[34,22,34,45],[44,0,44,45],[26,15,26,45],[27,0,27,45],[28,0,28,45],[29,0,29,45],[30,0,30,45],[31,0,31,45],[41,0,41,45],[42,0,42,20],[42,21,42,33],[42,34,42,37],[42,38,42,39],[42,40,42,41],[42,42,42,43],[42,44,42,45],[35,0,35,45],[36,0,36,45],[37,0,37,45],[38,0,38,45],[39,0,39,45],[40,0,40,45],[16,0,16,45],[17,0,17,45],[18,15,19,45],[21,17,21,45],[23,17,23,45],[25,0,25,45],[11,0,11,45],[12,0,12,14],[12,15,12,45],[13,0,13,45],[14,0,14,45],[15,0,15,14],[15,15,15,45],[7,0,7,45],[8,0,8,16],[8,17,8,26],[8,27,8,45],[9,0,9,45],[10,0,10,16],[10,17,10,24],[10,25,10,45],[0,44,0,45],[2,0,2,45],[3,0,3,45],[4,0,4,45],[5,0,5,45],[6,0,6,45],[0,0,0,20],[0,21,0,33],[0,34,0,37],[0,38,0,39],[0,40,0,41],[0,42,0,43]]}
[null,null,null,null,null,null,null,null,null,null,null,null,null,null,null,null,null,null,null,null,null,"届出日 （西暦：ccyy-mm-dd）",null,null,null,null,null,null,null,null,null,null,null,null,{"$f":"ETL!$E$3","v":0},null,null,null,"－",null,{"$f":"ETL!$E$4","v":0},null,"－",null,{"$f":"ETL!$E$5","v":0}]
[]
["Form 3.3: Declaration of Schedule 3 Plant(s)"]
[]
[]
["Ensure to complete one form for each plant."]
[]
[]
["Plant Code:",null,null,null,null,null,null,null,null,null,null,null,null,null,null,null,null,{"$f":"ETL!$E$249","v":""}]
[]
["Plant Site Code:",null,null,null,null,null,null,null,null,null,null,null,null,null,null,null,null,{"$f":"ETL!$E$61","v":""}]
[]
["Name of plant:",null,null,null,null,null,null,null,null,null,null,null,null,null,null,{"$f":"ETL!$E$248","v":""}]
[]
["The name of the owner, company, or enterprise operating the plant:"]
[null,null,null,null,null,null,null,null,null,null,null,null,null,null,null,{"$f":"ETL!$E$8","v":""}]
[]
["The precise location of the plant within the plant site:"]
[null,null,null,null,null,null,null,null,null,null,null,null,null,null,null,{"$f":"ETL!$E$250","v":""}]
[]
[]
[null,null,"Specific structure number, if any:",null,null,null,null,null,null,null,null,null,null,null,null,null,null,{"$f":"ETL!$E$251","v":""}]
[]
[null,null,"Specific building number, if any:",null,null,null,null,null,null,null,null,null,null,null,null,null,null,{"$f":"ETL!$E$252","v":""}]
[]
["Identify the attachements for additional information on a voluntary basis on this plant (if available):"]
[null,null,null,null,null,null,null,null,null,null,null,null,null,null,null,{"$f":"ETL!$E$253","v":""}]
[]
[]
[]
["Main activities of Schedule 3 plants:"]
[]
["Use product group codes (see Appendix 4) to describe main activities of the plant in terms of product group(s):"]
[]
[null,null,null,null,null,null,null,null,null,null,null,null,null,null,null,null,null,null,null,null,null,null,{"$f":"ETL!$K$254","v":""}]
[]
[]
[]
[]
[]
[]
[]
[null,null,null,null,null,null,null,null,null,null,null,null,null,null,null,null,null,null,null,null,null,"届出日 （西暦：ccyy-mm-dd）",null,null,null,null,null,null,null,null,null,null,null,null,{"$f":"ETL!$E$3","v":0},null,null,null,"－",null,{"$f":"ETL!$E$4","v":0},null,"－",null,{"$f":"ETL!$E$5","v":0}]
[]
["Form 3.3: Declaration of Schedule 3 Plant(s)"]
[]
[]
["Ensure to complete one form for each plant."]
[]
[]
["Plant Code:",null,null,null,null,null,null,null,null,null,null,null,null,null,null,null,null,{"$f":"ETL!$E$261","v":""}]
[]
["Plant Site Code:",null,null,null,null,null,null,null,null,null,null,null,null,null,null,null,null,{"$f":"ETL!$E$61","v":""}]
[]
["Name of plant:",null,null,null,null,null,null,null,null,null,null,null,null,null,null,{"$f":"ETL!$E$260","v":""}]
[]
["The name of the owner, company, or enterprise operating the plant:"]
[null,null,null,null,null,null,null,null,null,null,null,null,null,null,null,{"$f":"ETL!$E$8","v":""}]
[]
["The precise location of the plant within the plant site:"]
[null,null,null,null,null,null,null,null,null,null,null,null,null,null,null,{"$f":"ETL!$E$262","v":""}]
[]
[]
[null,null,"Specific structure number, if any:",null,null,null,null,null,null,null,null,null,null,null,null,null,null,{"$f":"ETL!$E$263","v":""}]
[]
[null,null,"Specific building number, if any:",null,null,null,null,null,null,null,null,null,null,null,null,null,null,{"$f":"ETL!$E$264","v":""}]
[]
["Identify the attachements for additional information on a voluntary basis on this plant (if available):"]
[null,null,null,null,null,null,null,null,null,null,null,null,null,null,null,{"$f":"ETL!$E$265","v":""}]
[]
[]
[]
["Main activities of Schedule 3 plants:"]
[]
["Use product group codes (see Appendix 4) to describe main activities of the plant in terms of product group(s):"]
[]
[null,null,null,null,null,null,null,null,null,null,null,null,null,null,null,null,null,null,null,null,null,null,{"$f":"ETL!$K$266","v":""}]
[]
[]
[]
[]
[]
[]
[]
[null,null,null,null,null,null,null,null,null,null,null,null,null,null,null,null,null,null,null,null,null,"届出日 （西暦：ccyy-mm-dd）",null,null,null,null,null,null,null,null,null,null,null,null,{"$f":"ETL!$E$3","v":0},null,null,null,"－",null,{"$f":"ETL!$E$4","v":0},null,"－",null,{"$f":"ETL!$E$5","v":0}]
[]
["Form 3.3: Declaration of Schedule 3 Plant(s)"]
[]
[]
["Ensure to complete one form for each plant."]
[]
[]
["Plant Code:",null,null,null,null,null,null,null,null,null,null,null,null,null,null,null,null,{"$f":"ETL!$E$273","v":""}]
[]
["Plant Site Code:",null,null,null,null,null,null,null,null,null,null,null,null,null,null,null,null,{"$f":"ETL!$E$61","v":""}]
[]
["Name of plant:",null,null,null,null,null,null,null,null,null,null,null,null,null,null,{"$f":"ETL!$E$272","v":""}]
[]
["The name of the owner, company, or enterprise operating the plant:"]
[null,null,null,null,null,null,null,null,null,null,null,null,null,null,null,{"$f":"ETL!$E$8","v":""}]
[]
["The precise location of the plant within the plant site:"]
[null,null,null,null,null,null,null,null,null,null,null,null,null,null,null,{"$f":"ETL!$E$274","v":""}]
[]
[]
[null,null,"Specific structure number, if any:",null,null,null,null,null,null,null,null,null,null,null,null,null,null,{"$f":"ETL!$E$275","v":""}]
[]
[null,null,"Specific building number, if any:",null,null,null,null,null,null,null,null,null,null,null,null,null,null,{"$f":"ETL!$E$276","v":""}]
[]
["Identify the attachements for additional information on a voluntary basis on this plant (if available):"]
[null,null,null,null,null,null,null,null,null,null,null,null,null,null,null,{"$f":"ETL!$E$277","v":""}]
[]
[]
[]
["Main activities of Schedule 3 plants:"]
[]
["Use product group codes (see Appendix 4) to describe main activities of the plant in terms of product group(s):"]
[]
[null,null,null,null,null,null,null,null,null,null,null,null,null,null,null,null,null,null,null,null,null,null,{"$f":"ETL!$K$278","v":""}]
[]
[]
[]
[]
[]
[]
[]
[null,null,null,null,null,null,null,null,null,null,null,null,null,null,null,null,null,null,null,null,null,"届出日 （西暦：ccyy-mm-dd）",null,null,null,null,null,null,null,null,null,null,null,null,{"$f":"ETL!$E$3","v":0},null,null,null,"－",null,{"$f":"ETL!$E$4","v":0},null,"－",null,{"$f":"ETL!$E$5","v":0}]
[]
["Form 3.3: Declaration of Schedule 3 Plant(s)"]
[]
[]
["Ensure to complete one form for each plant."]
[]
[]
["Plant Code:",null,null,null,null,null,null,null,null,null,null,null,null,null,null,null,null,{"$f":"ETL!$E$285","v":""}]
[]
["Plant Site Code:",null,null,null,null,null,null,null,null,null,null,null,null,null,null,null,null,{"$f":"ETL!$E$61","v":""}]
[]
["Name of plant:",null,null,null,null,null,null,null,null,null,null,null,null,null,null,{"$f":"ETL!$E$284","v":""}]
[]
["The name of the owner, company, or enterprise operating the plant:"]
[null,null,null,null,null,null,null,null,null,null,null,null,null,null,null,{"$f":"ETL!$E$8","v":""}]
[]
["The precise location of the plant within the plant site:"]
[null,null,null,null,null,null,null,null,null,null,null,null,null,null,null,{"$f":"ETL!$E$286","v":""}]
[]
[]
[null,null,"Specific structure number, if any:",null,null,null,null,null,null,null,null,null,null,null,null,null,null,{"$f":"ETL!$E$287","v":""}]
[]
[null,null,"Specific building number, if any:",null,null,null,null,null,null,null,null,null,null,null,null,null,null,{"$f":"ETL!$E$288","v":""}]
[]
["Identify the attachements for additional information on a voluntary basis on this plant (if available):"]
[null,null,null,null,null,null,null,null,null,null,null,null,null,null,null,{"$f":"ETL!$E$289","v":""}]
[]
[]
[]
["Main activities of Schedule 3 plants:"]
[]
["Use product group codes (see Appendix 4) to describe main activities of the plant in terms of product group(s):"]
[]
[null,null,null,null,null,null,null,null,null,null,null,null,null,null,null,null,null,null,null,null,null,null,{"$f":"ETL!$K$290","v":""}]
[]
[]
[]
[]
[]
[]
[]
[null,null,null,null,null,null,null,null,null,null,null,null,null,null,null,null,null,null,null,null,null,"届出日 （西暦：ccyy-mm-dd）",null,null,null,null,null,null,null,null,null,null,null,null,{"$f":"ETL!$E$3","v":0},null,null,null,"－",null,{"$f":"ETL!$E$4","v":0},null,"－",null,{"$f":"ETL!$E$5","v":0}]
[]
["Form 3.3: Declaration of Schedule 3 Plant(s)"]
[]
[]
["Ensure to complete one form for each plant."]
[]
[]
["Plant Code:",null,null,null,null,null,null,null,null,null,null,null,null,null,null,null,null,{"$f":"ETL!$E$297","v":""}]
[]
["Plant Site Code:",null,null,null,null,null,null,null,null,null,null,null,null,null,null,null,null,{"$f":"ETL!$E$61","v":""}]
[]
["Name of plant:",null,null,null,null,null,null,null,null,null,null,null,null,null,null,{"$f":"ETL!$E$296","v":""}]
[]
["The name of the owner, company, or enterprise operating the plant:"]
[null,null,null,null,null,null,null,null,null,null,null,null,null,null,null,{"$f":"ETL!$E$8","v":""}]
[]
["The precise location of the plant within the plant site:"]
[null,null,null,null,null,null,null,null,null,null,null,null,null,null,null,{"$f":"ETL!$E$298","v":""}]
[]
[]
[null,null,"Specific structure number, if any:",null,null,null,null,null,null,null,null,null,null,null,null,null,null,{"$f":"ETL!$E$299","v":""}]
[]
[null,null,"Specific building number, if any:",null,null,null,null,null,null,null,null,null,null,null,null,null,null,{"$f":"ETL!$E$300","v":""}]
[]
["Identify the attachements for additional information on a voluntary basis on this plant (if available):"]
[null,null,null,null,null,null,null,null,null,null,null,null,null,null,null,{"$f":"ETL!$E$301","v":""}]
[]
[]
[]
["Main activities of Schedule 3 plants:"]
[]
["Use product group codes (see Appendix 4) to describe main activities of the plant in terms of product group(s):"]
[]
[null,null,null,null,null,null,null,null,null,null,null,null,null,null,null,null,null,null,null,null,null,null,{"$f":"ETL!$K$302","v":""}]
[]
[]
[]
[]
[]
[]
[]
[null,null,null,null,null,null,null,null,null,null,null,null,null,null,null,null,null,null,null,null,null,"届出日 （西暦：ccyy-mm-dd）",null,null,null,null,null,null,null,null,null,null,null,null,{"$f":"ETL!$E$3","v":0},null,null,null,"－",null,{"$f":"ETL!$E$4","v":0},null,"－",null,{"$f":"ETL!$E$5","v":0}]
[]
["Form 3.3: Declaration of Schedule 3 Plant(s)"]
[]
[]
["Ensure to complete one form for each plant."]
[]
[]
["Plant Code:",null,null,null,null,null,null,null,null,null,null,null,null,null,null,null,null,{"$f":"ETL!$E$309","v":""}]
[]
["Plant Site Code:",null,null,null,null,null,null,null,null,null,null,null,null,null,null,null,null,{"$f":"ETL!$E$61","v":""}]
[]
["Name of plant:",null,null,null,null,null,null,null,null,null,null,null,null,null,null,{"$f":"ETL!$E$308","v":""}]
[]
["The name of the owner, company, or enterprise operating the plant:"]
[null,null,null,null,null,null,null,null,null,null,null,null,null,null,null,{"$f":"ETL!$E$8","v":""}]
[]
["The precise location of the plant within the plant site:"]
[null,null,null,null,null,null,null,null,null,null,null,null,null,null,null,{"$f":"ETL!$E$310","v":""}]
[]
[]
[null,null,"Specific structure number, if any:",null,null,null,null,null,null,null,null,null,null,null,null,null,null,{"$f":"ETL!$E$311","v":""}]
[]
[null,null,"Specific building number, if any:",null,null,null,null,null,null,null,null,null,null,null,null,null,null,{"$f":"ETL!$E$312","v":""}]
[]
["Identify the attachements for additional information on a voluntary basis on this plant (if available):"]
[null,null,null,null,null,null,null,null,null,null,null,null,null,null,null,{"$f":"ETL!$E$313","v":""}]
[]
[]
[]
["Main activities of Schedule 3 plants:"]
[]
["Use product group codes (see Appendix 4) to describe main activities of the plant in terms of product group(s):"]
[]
[null,null,null,null,null,null,null,null,null,null,null,null,null,null,null,null,null,null,null,null,null,null,{"$f":"ETL!$K$314","v":""}]
[]
[]
[]
[]
[]
[]
[]
[null,null,null,null,null,null,null,null,null,null,null,null,null,null,null,null,null,null,null,null,null,"届出日 （西暦：ccyy-mm-dd）",null,null,null,null,null,null,null,null,null,null,null,null,{"$f":"ETL!$E$3","v":0},null,null,null,"－",null,{"$f":"ETL!$E$4","v":0},null,"－",null,{"$f":"ETL!$E$5","v":0}]
[]
["Form 3.3: Declaration of Schedule 3 Plant(s)"]
[]
[]
["Ensure to complete one form for each plant."]
[]
[]
["Plant Code:",null,null,null,null,null,null,null,null,null,null,null,null,null,null,null,null,{"$f":"ETL!$E$321","v":""}]
[]
["Plant Site Code:",null,null,null,null,null,null,null,null,null,null,null,null,null,null,null,null,{"$f":"ETL!$E$61","v":""}]
[]
["Name of plant:",null,null,null,null,null,null,null,null,null,null,null,null,null,null,{"$f":"ETL!$E$320","v":""}]
[]
["The name of the owner, company, or enterprise operating the plant:"]
[null,null,null,null,null,null,null,null,null,null,null,null,null,null,null,{"$f":"ETL!$E$8","v":""}]
[]
["The precise location of the plant within the plant site:"]
[null,null,null,null,null,null,null,null,null,null,null,null,null,null,null,{"$f":"ETL!$E$322","v":""}]
[]
[]
[null,null,"Specific structure number, if any:",null,null,null,null,null,null,null,null,null,null,null,null,null,null,{"$f":"ETL!$E$323","v":""}]
[]
[null,null,"Specific building number, if any:",null,null,null,null,null,null,null,null,null,null,null,null,null,null,{"$f":"ETL!$E$324","v":""}]
[]
["Identify the attachements for additional information on a voluntary basis on this plant (if available):"]
[null,null,null,null,null,null,null,null,null,null,null,null,null,null,null,{"$f":"ETL!$E$325","v":""}]
[]
[]
[]
["Main activities of Schedule 3 plants:"]
[]
["Use product group codes (see Appendix 4) to describe main activities of the plant in terms of product group(s):"]
[]
[null,null,null,null,null,null,null,null,null,null,null,null,null,null,null,null,null,null,null,null,null,null,{"$f":"ETL!$K$326","v":""}]
[]
[]
[]
[]
[]
[]
[]
[null,null,null,null,null,null,null,null,null,null,null,null,null,null,null,null,null,null,null,null,null,"届出日 （西暦：ccyy-mm-dd）",null,null,null,null,null,null,null,null,null,null,null,null,{"$f":"ETL!$E$3","v":0},null,null,null,"－",null,{"$f":"ETL!$E$4","v":0},null,"－",null,{"$f":"ETL!$E$5","v":0}]
[]
["Form 3.3: Declaration of Schedule 3 Plant(s)"]
[]
[]
["Ensure to complete one form for each plant."]
[]
[]
["Plant Code:",null,null,null,null,null,null,null,null,null,null,null,null,null,null,null,null,{"$f":"ETL!$E$333","v":""}]
[]
["Plant Site Code:",null,null,null,null,null,null,null,null,null,null,null,null,null,null,null,null,{"$f":"ETL!$E$61","v":""}]
[]
["Name of plant:",null,null,null,null,null,null,null,null,null,null,null,null,null,null,{"$f":"ETL!$E$332","v":""}]
[]
["The name of the owner, company, or enterprise operating the plant:"]
[null,null,null,null,null,null,null,null,null,null,null,null,null,null,null,{"$f":"ETL!$E$8","v":""}]
[]
["The precise location of the plant within the plant site:"]
[null,null,null,null,null,null,null,null,null,null,null,null,null,null,null,{"$f":"ETL!$E$334","v":""}]
[]
[]
[null,null,"Specific structure number, if any:",null,null,null,null,null,null,null,null,null,null,null,null,null,null,{"$f":"ETL!$E$335","v":""}]
[]
[null,null,"Specific building number, if any:",null,null,null,null,null,null,null,null,null,null,null,null,null,null,{"$f":"ETL!$E$336","v":""}]
[]
["Identify the attachements for additional information on a voluntary basis on this plant (if available):"]
[null,null,null,null,null,null,null,null,null,null,null,null,null,null,null,{"$f":"ETL!$E$337","v":""}]
[]
[]
[]
["Main activities of Schedule 3 plants:"]
[]
["Use product group codes (see Appendix 4) to describe main activities of the plant in terms of product group(s):"]
[]
[null,null,null,null,null,null,null,null,null,null,null,null,null,null,null,null,null,null,null,null,null,null,{"$f":"ETL!$K$338","v":""}]

{"sheet":"【自動入力】Form3.4","index":9,"n_rows":147,"n_cols":42,"rows_kept":147,"cut":false,"hidden":false,"merged":[[147,0,147,42],[144,0,144,42],[146,0,146,25],[146,26,146,27],[146,28,146,29],[146,31,146,32],[146,33,146,34],[146,36,146,37],[146,38,146,39],[146,40,146,42],[140,0,140,42],[141,0,141,42],[142,0,142,35],[142,37,142,39],[142,40,142,42],[143,0,143,42],[137,0,137,6],[137,11,137,42],[138,0,138,42],[139,11,139,16],[139,17,139,18],[139,19,139,20],[139,21,139,22],[139,23,139,24],[130,0,130,42],[131,0,131,42],[132,0,134,10],[132,11,134,42],[135,0,135,42],[136,0,136,42],[127,0,127,42],[129,0,129,25],[129,26,129,27],[129,28,129,29],[129,31,129,32],[129,33,129,34],[129,36,129,37],[129,38,129,39],[129,40,129,42],[123,0,123,42],[124,0,124,42],[125,0,125,35],[125,37,125,39],[125,40,125,42],[126,0,126,42],[120,0,120,6],[120,11,120,42],[121,0,121,42],[122,11,122,16],[122,17,122,18],[122,19,122,20],[122,21,122,22],[122,23,122,24],[113,0,113,42],[114,0,114,42],[115,0,117,10],[115,11,117,42],[118,0,118,42],[119,0,119,42],[110,0,110,42],[112,0,112,25],[112,26,112,27],[112,28,112,29],[112,31,112,32],[112,33,112,34],[112,36,112,37],[112,38,112,39],[112,40,112,42],[106,0,106,42],[107,0,107,42],[108,0,108,35],[108,37,108,39],[108,40,108,42],[109,0,109,42],[103,0,103,6],[103,11,103,42],[104,0,104,42],[105,11,105,16],[105,17,105,18],[105,19,105,20],[105,21,105,22],[105,23,105,24],[96,0,96,42],[97,0,97,42],[98,0,100,10],[98,11,100,42],[101,0,101,42],[102,0,102,42],[93,0,93,42],[95,0,95,25],[95,26,95,27],[95,28,95,29],[95,31,95,32],[95,33,95,34],[95,36,95,37],[95,38,95,39],[95,40,95,42],[89,0,89,42],[90,0,90,42],[91,0,91,35],[91,37,91,39],[91,40,91,42],[92,0,92,42],[86,0,86,6],[86,11,86,42],[87,0,87,42],[88,11,88,16],[88,17,88,18],[88,19,88,20],[88,21,88,22],[88,23,88,24],[79,0,79,42],[80,0,80,42],[81,0,83,10],[81,11,83,42],[84,0,84,42],[85,0,85,42],[76,0,76,42],[78,0,78,25],[78,26,78,27],[78,28,78,29],[78,31,78,32],[78,33,78,34],[78,36,78,37],[78,38,78,39],[78,40,78,42],[72,0,72,42],[73,0,73,42],[74,0,74,35],[74,37,74,39],[74,40,74,42],[75,0,75,42],[69,0,69,6],[69,11,69,42],[70,0,70,42],[71,11,71,16],[71,17,71,18],[71,19,71,20],[71,21,71,22],[71,23,71,24],[62,0,62,42],[63,0,63,42],[64,0,66,10],[64,11,66,42],[67,0,67,42],[68,0,68,42],[59,0,59,42],[61,0,61,25],[61,26,61,27],[61,28,61,29],[61,31,61,32],[61,33,61,34],[61,36,61,37],[61,38,61,39],[61,40,61,42],[55,0,55,42],[56,0,56,42],[57,0,57,35],[57,37,57,39],[57,40,57,42],[58,0,58,42],[52,0,52,6],[52,11,52,42],[53,0,53,42],[54,11,54,16],[54,17,54,18],[54,19,54,20],[54,21,54,22],[54,23,54,24],[45,0,45,42],[46,0,46,42],[47,0,49,10],[47,11,49,42],[50,0,50,42],[51,0,51,42],[42,0,42,42],[44,0,44,25],[44,26,44,27],[44,28,44,29],[44,31,44,32],[44,33,44,34],[44,36,44,37],[44,38,44,39],[44,40,44,42],[38,0,38,42],[39,0,39,42],[40,0,40,35],[40,37,40,39],[40,40,40,42],[41,0,41,42],[35,0,35,6],[35,11,35,42],[36,0,36,42],[37,11,37,16],[37,17,37,18],[37,19,37,20],[37,21,37,22],[37,23,37,24],[28,0,28,42],[29,0,29,42],[30,0,32,10],[30,11,32,42],[33,0,33,42],[34,0,34,42],[25,0,25,42],[27,0,27,25],[27,26,27,27],[27,28,27,29],[27,31,27,32],[27,33,27,34],[27,36,27,37],[27,38,27,39],[27,40,27,42],[21,0,21,42],[22,0,22,42],[23,0,23,35],[23,37,23,39],[23,40,23,42],[24,0,24,42],[16,0,16,42],[17,0,17,42],[18,0,18,6],[18,11,18,42],[19,0,19,42],[20,11,20,16],[20,17,20,18],[20,19,20,20],[20,21,20,22],[20,23,20,24],[12,0,12,42],[13,0,15,10],[13,11,15,42],[2,0,3,42],[4,0,4,42],[5,0,5,42],[6,0,6,42],[7,0,7,16],[7,17,7,24],[7,25,7,42],[0,31,0,34],[0,35,0,36],[0,37,0,38],[0,39,0,40],[0,41,0,42],[1,0,1,42],[8,0,8,42],[9,0,10,42],[11,0,11,42]]}
[null,null,null,null,null,null,null,null,null,null,null,null,null,null,null,null,null,null,null,"届出日 （西暦：ccyy-mm-dd）",null,null,null,null,null,null,null,null,null,null,null,{"$f":"ETL!$E$3","v":0},null,null,null,"－",null,{"$f":"ETL!$E$4","v":0},null,"－",null,{"$f":"ETL!$E$5","v":0}]
[]
["Form 3.4: Information on Each Schedule 3 Chemical above the Declaration Threshold at \n                 the Plant Site"]
[]
[]
["Ensure to complete one or more forms for each plant site, depending on the number of declarable chemicals."]
[]
["Plant Site Code:",null,null,null,null,null,null,null,null,null,null,null,null,null,null,null,null,{"$f":"ETL!$E$61","v":""}]
[]
["Repeat the following block(s) of information as often as necessary to declare all Schedule 3 chemicals \nat the plant site."]
[]
[]
[]
["IUPAC chemical name：",null,null,null,null,null,null,null,null,null,null,{"$f":"ETL!$E$349","v":""}]
[]
[]
[]
["Common or trade name used by the plant site:"]
[null,null,null,null,null,null,null,null,null,null,null,{"$f":"ETL!$E$350","v":""}]
[]
["CAS registry number:",null,null,null,null,null,null,null,null,null,null,{"$f":"ETL!$J$347","v":""},null,null,null,null,null,"-",null,{"$f":"ETL!$J$348","v":""},null,"-",null,{"$f":"ETL!$J$349","v":""}]
[]
["Production range for the Schedule 3 chemical (use code of production range, see Appendix 6):"]
[null,null,null,null,null,null,null,null,null,null,null,null,null,null,null,null,null,null,null,null,null,null,null,null,null,null,null,null,null,null,null,null,null,null,null,null,null,{"$f":"ETL!$H$351","v":""}]
[]
["Purpose of production (use production purpose codes B11 to B13 in Appendix 5, or specify):"]
[]
[null,null,null,null,null,null,null,null,null,null,null,null,null,null,null,null,null,null,null,null,null,null,null,null,null,null,"B",null,{"$f":"ETL!$I$352","v":""},null,null,"B",null,{"$f":"ETL!$I$353","v":""},null,null,"B",null,{"$f":"ETL!$I$354","v":""}]
[]
[]
["IUPAC chemical name：",null,null,null,null,null,null,null,null,null,null,{"$f":"ETL!$E$358","v":""}]
[]
[]
[]
["Common or trade name used by the plant site:"]
[null,null,null,null,null,null,null,null,null,null,null,{"$f":"ETL!$E$359","v":""}]
[]
["CAS registry number:",null,null,null,null,null,null,null,null,null,null,{"$f":"ETL!$J$356","v":""},null,null,null,null,null,"-",null,{"$f":"ETL!$J$357","v":""},null,"-",null,{"$f":"ETL!$J$358","v":""}]
[]
["Production range for the Schedule 3 chemical (use code of production range, see Appendix 6):"]
[null,null,null,null,null,null,null,null,null,null,null,null,null,null,null,null,null,null,null,null,null,null,null,null,null,null,null,null,null,null,null,null,null,null,null,null,null,{"$f":"ETL!$H$360","v":""}]
[]
["Purpose of production (use production purpose codes B11 to B13 in Appendix 5, or specify):"]
[]
[null,null,null,null,null,null,null,null,null,null,null,null,null,null,null,null,null,null,null,null,null,null,null,null,null,null,"B",null,{"$f":"ETL!$I$361","v":""},null,null,"B",null,{"$f":"ETL!$I$362","v":""},null,null,"B",null,{"$f":"ETL!$I$363","v":""}]
[]
[]
["IUPAC chemical name：",null,null,null,null,null,null,null,null,null,null,{"$f":"ETL!$E$367","v":""}]
[]
[]
[]
["Common or trade name used by the plant site:"]
[null,null,null,null,null,null,null,null,null,null,null,{"$f":"ETL!$E$368","v":""}]
[]
["CAS registry number:",null,null,null,null,null,null,null,null,null,null,{"$f":"ETL!$J$365","v":""},null,null,null,null,null,"-",null,{"$f":"ETL!$J$366","v":""},null,"-",null,{"$f":"ETL!$J$367","v":""}]
[]
["Production range for the Schedule 3 chemical (use code of production range, see Appendix 6):"]
[null,null,null,null,null,null,null,null,null,null,null,null,null,null,null,null,null,null,null,null,null,null,null,null,null,null,null,null,null,null,null,null,null,null,null,null,null,{"$f":"ETL!$H$369","v":""}]
[]
["Purpose of production (use production purpose codes B11 to B13 in Appendix 5, or specify):"]
[]
[null,null,null,null,null,null,null,null,null,null,null,null,null,null,null,null,null,null,null,null,null,null,null,null,null,null,"B",null,{"$f":"ETL!$I$370","v":""},null,null,"B",null,{"$f":"ETL!$I$371","v":""},null,null,"B",null,{"$f":"ETL!$I$372","v":""}]
[]
[]
["IUPAC chemical name：",null,null,null,null,null,null,null,null,null,null,{"$f":"ETL!$E$376","v":""}]
[]
[]
[]
["Common or trade name used by the plant site:"]
[null,null,null,null,null,null,null,null,null,null,null,{"$f":"ETL!$E$377","v":""}]
[]
["CAS registry number:",null,null,null,null,null,null,null,null,null,null,{"$f":"ETL!$J$374","v":""},null,null,null,null,null,"-",null,{"$f":"ETL!$J$375","v":""},null,"-",null,{"$f":"ETL!$J$376","v":""}]
[]
["Production range for the Schedule 3 chemical (use code of production range, see Appendix 6):"]
[null,null,null,null,null,null,null,null,null,null,null,null,null,null,null,null,null,null,null,null,null,null,null,null,null,null,null,null,null,null,null,null,null,null,null,null,null,{"$f":"ETL!$H$378","v":""}]
[]
["Purpose of production (use production purpose codes B11 to B13 in Appendix 5, or specify):"]
[]
[null,null,null,null,null,null,null,null,null,null,null,null,null,null,null,null,null,null,null,null,null,null,null,null,null,null,"B",null,{"$f":"ETL!$I$379","v":""},null,null,"B",null,{"$f":"ETL!$I$380","v":""},null,null,"B",null,{"$f":"ETL!$I$381","v":""}]
[]
[]
["IUPAC chemical name：",null,null,null,null,null,null,null,null,null,null,{"$f":"ETL!$E$385","v":""}]
[]
[]
[]
["Common or trade name used by the plant site:"]
[null,null,null,null,null,null,null,null,null,null,null,{"$f":"ETL!$E$386","v":""}]
[]
["CAS registry number:",null,null,null,null,null,null,null,null,null,null,{"$f":"ETL!$J$383","v":""},null,null,null,null,null,"-",null,{"$f":"ETL!$J$384","v":""},null,"-",null,{"$f":"ETL!$J$385","v":""}]
[]
["Production range for the Schedule 3 chemical (use code of production range, see Appendix 6):"]
[null,null,null,null,null,null,null,null,null,null,null,null,null,null,null,null,null,null,null,null,null,null,null,null,null,null,null,null,null,null,null,null,null,null,null,null,null,{"$f":"ETL!$H$387","v":""}]
[]
["Purpose of production (use production purpose codes B11 to B13 in Appendix 5, or specify):"]
[]
[null,null,null,null,null,null,null,null,null,null,null,null,null,null,null,null,null,null,null,null,null,null,null,null,null,null,"B",null,{"$f":"ETL!$I$388","v":""},null,null,"B",null,{"$f":"ETL!$I$389","v":""},null,null,"B",null,{"$f":"ETL!$I$390","v":""}]
[]
[]
["IUPAC chemical name：",null,null,null,null,null,null,null,null,null,null,{"$f":"ETL!$E$394","v":""}]
[]
[]
[]
["Common or trade name used by the plant site:"]
[null,null,null,null,null,null,null,null,null,null,null,{"$f":"ETL!$E$395","v":""}]
[]
["CAS registry number:",null,null,null,null,null,null,null,null,null,null,{"$f":"ETL!$J$392","v":""},null,null,null,null,null,"-",null,{"$f":"ETL!$J$393","v":""},null,"-",null,{"$f":"ETL!$J$394","v":""}]
[]
["Production range for the Schedule 3 chemical (use code of production range, see Appendix 6):"]
[null,null,null,null,null,null,null,null,null,null,null,null,null,null,null,null,null,null,null,null,null,null,null,null,null,null,null,null,null,null,null,null,null,null,null,null,null,{"$f":"ETL!$H$396","v":""}]
[]
["Purpose of production (use production purpose codes B11 to B13 in Appendix 5, or specify):"]
[]
[null,null,null,null,null,null,null,null,null,null,null,null,null,null,null,null,null,null,null,null,null,null,null,null,null,null,"B",null,{"$f":"ETL!$I$397","v":""},null,null,"B",null,{"$f":"ETL!$I$398","v":""},null,null,"B",null,{"$f":"ETL!$I$399","v":""}]
[]
[]
["IUPAC chemical name：",null,null,null,null,null,null,null,null,null,null,{"$f":"ETL!$E$403","v":""}]
[]
[]
[]
["Common or trade name used by the plant site:"]
[null,null,null,null,null,null,null,null,null,null,null,{"$f":"ETL!$E$404","v":""}]
[]
["CAS registry number:",null,null,null,null,null,null,null,null,null,null,{"$f":"ETL!$J$401","v":""},null,null,null,null,null,"-",null,{"$f":"ETL!$J$402","v":""},null,"-",null,{"$f":"ETL!$J$403","v":""}]
[]
["Production range for the Schedule 3 chemical (use code of production range, see Appendix 6):"]
[null,null,null,null,null,null,null,null,null,null,null,null,null,null,null,null,null,null,null,null,null,null,null,null,null,null,null,null,null,null,null,null,null,null,null,null,null,{"$f":"ETL!$H$405","v":""}]
[]
["Purpose of production (use production purpose codes B11 to B13 in Appendix 5, or specify):"]
[]
[null,null,null,null,null,null,null,null,null,null,null,null,null,null,null,null,null,null,null,null,null,null,null,null,null,null,"B",null,{"$f":"ETL!$I$406","v":""},null,null,"B",null,{"$f":"ETL!$I$407","v":""},null,null,"B",null,{"$f":"ETL!$I$408","v":""}]
[]
[]
["IUPAC chemical name：",null,null,null,null,null,null,null,null,null,null,{"$f":"ETL!$E$412","v":""}]
[]
[]
[]
["Common or trade name used by the plant site:"]
[null,null,null,null,null,null,null,null,null,null,null,{"$f":"ETL!$E$413","v":""}]
[]
["CAS registry number:",null,null,null,null,null,null,null,null,null,null,{"$f":"ETL!$J$410","v":""},null,null,null,null,null,"-",null,{"$f":"ETL!$J$411","v":""},null,"-",null,{"$f":"ETL!$J$412","v":""}]
[]
["Production range for the Schedule 3 chemical (use code of production range, see Appendix 6):"]
[null,null,null,null,null,null,null,null,null,null,null,null,null,null,null,null,null,null,null,null,null,null,null,null,null,null,null,null,null,null,null,null,null,null,null,null,null,{"$f":"ETL!$H$414","v":""}]
[]
["Purpose of production (use production purpose codes B11 to B13 in Appendix 5, or specify):"]
[]
[null,null,null,null,null,null,null,null,null,null,null,null,null,null,null,null,null,null,null,null,null,null,null,null,null,null,"B",null,{"$f":"ETL!$I$415","v":""},null,null,"B",null,{"$f":"ETL!$I$416","v":""},null,null,"B",null,{"$f":"ETL!$I$417","v":""}]