{"text_format":"1","workbook":"xlsx","n_sheets":52,"sheets":["表１_対象物質一覧","1","2","3","4","5","6","7","8","9","10","11","12","13","14","15","16","17","18","19","20","21","22","23","24","25","26","27","28","29","30","31","32","33","34","35","36","37","38","39","40","41","42","43","44","45","46","47","48","49","50","TOOL"],"not_rendered":{"charts":0,"images":0,"macros":1,"external_links":0,"defined_names":51,"comments":0,"pivot_tables":0},"unopened":[],"bounds":{"document_bytes":16777216,"sheet_cells":100000,"rows_first":2000,"rows_last":500,"rows_between":2000,"halvings":0,"cell_chars":16384,"cell_head_chars":4096},"cells_cut":0,"cells_raw":0,"read":"whole","date_system":"1900"}

{"sheet":"表１_対象物質一覧","index":0,"n_rows":159,"n_cols":4,"rows_kept":159,"cut":false,"hidden":false,"merged":[[11,3,13,3],[14,3,16,3],[17,3,19,3],[20,3,22,3],[26,3,28,3],[29,3,31,3],[32,3,34,3],[35,3,37,3],[38,3,40,3],[23,3,25,3],[11,1,13,1],[14,1,16,1],[17,1,19,1],[20,1,22,1],[23,1,25,1],[26,0,28,0],[26,2,28,2],[14,0,16,0],[14,2,16,2],[23,0,25,0],[23,2,25,2],[17,0,19,0],[17,2,19,2],[11,0,13,0],[11,2,13,2],[20,0,22,0],[20,2,22,2],[32,1,34,1],[32,0,34,0],[32,2,34,2],[29,1,31,1],[29,0,31,0],[29,2,31,2],[26,1,28,1],[41,1,43,1],[41,0,43,0],[41,2,43,2],[38,1,40,1],[38,0,40,0],[38,2,40,2],[35,1,37,1],[35,0,37,0],[35,2,37,2],[41,3,43,3],[47,1,49,1],[47,0,49,0],[47,2,49,2],[44,1,46,1],[44,0,46,0],[44,2,46,2],[44,3,46,3],[47,3,49,3],[53,1,55,1],[53,0,55,0],[53,2,55,2],[50,1,52,1],[50,0,52,0],[50,2,52,2],[50,3,52,3],[53,3,55,3],[59,1,61,1],[59,0,61,0],[59,2,61,2],[56,1,58,1],[56,0,58,0],[56,2,58,2],[56,3,58,3],[59,3,61,3],[65,1,67,1],[65,0,67,0],[65,2,67,2],[62,1,64,1],[62,0,64,0],[62,2,64,2],[62,3,64,3],[65,3,67,3],[71,1,73,1],[71,0,73,0],[71,2,73,2],[68,1,70,1],[68,0,70,0],[68,2,70,2],[68,3,70,3],[71,3,73,3],[77,1,79,1],[77,0,79,0],[77,2,79,2],[74,1,76,1],[74,0,76,0],[74,2,76,2],[74,3,76,3],[77,3,79,3],[83,1,85,1],[83,0,85,0],[83,2,85,2],[80,1,82,1],[80,0,82,0],[80,2,82,2],[80,3,82,3],[83,3,85,3],[89,1,91,1],[89,0,91,0],[89,2,91,2],[86,1,88,1],[86,0,88,0],[86,2,88,2],[86,3,88,3],[89,3,91,3],[95,1,97,1],[95,0,97,0],[95,2,97,2],[92,1,94,1],[92,0,94,0],[92,2,94,2],[92,3,94,3],[95,3,97,3],[101,1,103,1],[101,0,103,0],[101,2,103,2],[98,1,100,1],[98,0,100,0],[98,2,100,2],[98,3,100,3],[101,3,103,3],[107,1,109,1],[107,0,109,0],[107,2,109,2],[104,1,106,1],[104,0,106,0],[104,2,106,2],[104,3,106,3],[107,3,109,3],[113,1,115,1],[113,0,115,0],[113,2,115,2],[110,1,112,1],[110,0,112,0],[110,2,112,2],[110,3,112,3],[113,3,115,3],[119,1,121,1],[119,0,121,0],[119,2,121,2],[116,1,118,1],[116,0,118,0],[116,2,118,2],[116,3,118,3],[119,3,121,3],[125,1,127,1],[125,0,127,0],[125,2,127,2],[122,1,124,1],[122,0,124,0],[122,2,124,2],[122,3,124,3],[125,3,127,3],[131,1,133,1],[131,0,133,0],[131,2,133,2],[128,1,130,1],[128,0,130,0],[128,2,130,2],[128,3,130,3],[131,3,133,3],[137,1,139,1],[137,0,139,0],[137,2,139,2],[134,1,136,1],[134,0,136,0],[134,2,136,2],[134,3,136,3],[137,3,139,3],[143,1,145,1],[143,0,145,0],[143,2,145,2],[140,1,142,1],[140,0,142,0],[140,2,142,2],[140,3,142,3],[143,3,145,3],[149,1,151,1],[149,0,151,0],[149,2,151,2],[146,1,148,1],[146,0,148,0],[146,2,148,2],[146,3,148,3],[149,3,151,3],[158,1,160,1],[158,0,160,0],[158,2,160,2],[155,1,157,1],[155,0,157,0],[155,2,157,2],[152,1,154,1],[152,0,154,0],[152,2,154,2],[152,3,154,3],[155,3,157,3],[158,3,160,3]]}
["（表１）"]
["報告年度",null,"2026年度"]
["事業者名"]
["法人番号"]
["企業概要\n"]
["部署概要\n※少量新規化学物質、低生産量新規化学物質、中間物等に関わる部署について説明してください。"]
["備考\n※過去に経緯書を提出したことがある場合はその概要及び対応状況"]
[]
[]
[]
["目次","事業所名","新規化学物質の名称","略称"]
[1,{"$f":"IF(ISREF(INDIRECT(1 &\"！A1\" ))=FALSE,\"\",'1'!B2)","v":0},{"$f":"IF('1'!$B$3<>\"\",'1'!$B$3,\"\")","v":""},{"$f":"IF('1'!$B$4<>\"\",'1'!$B$4,\"\")","v":""}]
[]
[]
[{"$f":"A12+1","v":2},{"$f":"IF(ISREF(INDIRECT(2 &\"！A1\" ))=FALSE,\"\",'2'!B2)","v":0},{"$f":"IF('2'!$B$3<>\"\",'2'!$B$3,\"\")","v":""},{"$f":"IF('2'!$B$4<>\"\",'2'!$B$4,\"\")","v":""}]
[]
[]
[{"$f":"A15+1","v":3},{"$f":"IF(ISREF(INDIRECT(3 &\"！A1\" ))=FALSE,\"\",'3'!B2)","v":0},{"$f":"IF('3'!$B$3<>\"\",'3'!$B$3,\"\")","v":""},{"$f":"IF('3'!$B$4<>\"\",'3'!$B$4,\"\")","v":""}]
[]
[]
[{"$f":"A18+1","v":4},{"$f":"IF(ISREF(INDIRECT(4 &\"！A1\" ))=FALSE,\"\",'4'!B2)","v":0},{"$f":"IF('4'!$B$3<>\"\",'4'!$B$3,\"\")","v":""},{"$f":"IF('4'!$B$4<>\"\",'4'!$B$4,\"\")","v":""}]
[]
[]
[{"$f":"A21+1","v":5},{"$f":"IF(ISREF(INDIRECT(5 &\"！A1\" ))=FALSE,\"\",'5'!B2)","v":0},{"$f":"IF('5'!$B$3<>\"\",'5'!$B$3,\"\")","v":""},{"$f":"IF('5'!$B$4<>\"\",'5'!$B$4,\"\")","v":""}]
[]
[]
[{"$f":"A24+1","v":6},{"$f":"IF(ISREF(INDIRECT(6 &\"！A1\" ))=FALSE,\"\",'6'!B2)","v":0},{"$f":"IF('6'!$B$3<>\"\",'6'!$B$3,\"\")","v":""},{"$f":"IF('6'!$B$4<>\"\",'6'!$B$4,\"\")","v":""}]
[]
[]
[{"$f":"A27+1","v":7},{"$f":"IF(ISREF(INDIRECT(7 &\"！A1\" ))=FALSE,\"\",'7'!B2)","v":0},{"$f":"IF('7'!$B$3<>\"\",'7'!$B$3,\"\")","v":""},{"$f":"IF('7'!$B$4<>\"\",'7'!$B$4,\"\")","v":""}]
[]
[]
[{"$f":"A30+1","v":8},{"$f":"IF(ISREF(INDIRECT(8 &\"！A1\" ))=FALSE,\"\",'8'!B2)","v":0},{"$f":"IF('8'!$B$3<>\"\",'8'!$B$3,\"\")","v":""},{"$f":"IF('8'!$B$4<>\"\",'8'!$B$4,\"\")","v":""}]
[]
[]
[{"$f":"A33+1","v":9},{"$f":"IF(ISREF(INDIRECT(9 &\"！A1\" ))=FALSE,\"\",'9'!B2)","v":0},{"$f":"IF('9'!$B$3<>\"\",'9'!$B$3,\"\")","v":""},{"$f":"IF('9'!$B$4<>\"\",'9'!$B$4,\"\")","v":""}]
[]
[]
[{"$f":"A36+1","v":10},{"$f":"IF(ISREF(INDIRECT(10 &\"！A1\" ))=FALSE,\"\",'10'!B2)","v":0},{"$f":"IF('10'!$B$3<>\"\",'10'!$B$3,\"\")","v":""},{"$f":"IF('10'!$B$4<>\"\",'10'!$B$4,\"\")","v":""}]
[]
[]
[{"$f":"A39+1","v":11},{"$f":"IF(ISREF(INDIRECT(11 &\"！A1\" ))=FALSE,\"\",'11'!B2)","v":0},{"$f":"IF('11'!$B$3<>\"\",'11'!$B$3,\"\")","v":""},{"$f":"IF('11'!$B$4<>\"\",'11'!$B$4,\"\")","v":""}]
[]
[]
[{"$f":"A42+1","v":12},{"$f":"IF(ISREF(INDIRECT(12 &\"！A1\" ))=FALSE,\"\",'12'!B2)","v":0},{"$f":"IF('12'!$B$3<>\"\",'12'!$B$3,\"\")","v":""},{"$f":"IF('12'!$B$4<>\"\",'12'!$B$4,\"\")","v":""}]
[]
[]
[{"$f":"A45+1","v":13},{"$f":"IF(ISREF(INDIRECT(13 &\"！A1\" ))=FALSE,\"\",'13'!B2)","v":0},{"$f":"IF('13'!$B$3<>\"\",'13'!$B$3,\"\")","v":""},{"$f":"IF('13'!$B$4<>\"\",'13'!$B$4,\"\")","v":""}]
[]
[]
[{"$f":"A48+1","v":14},{"$f":"IF(ISREF(INDIRECT(14 &\"！A1\" ))=FALSE,\"\",'14'!B2)","v":0},{"$f":"IF('14'!$B$3<>\"\",'14'!$B$3,\"\")","v":""},{"$f":"IF('14'!$B$4<>\"\",'14'!$B$4,\"\")","v":""}]
[]
[]
[{"$f":"A51+1","v":15},{"$f":"IF(ISREF(INDIRECT(15 &\"！A1\" ))=FALSE,\"\",'15'!B2)","v":0},{"$f":"IF('15'!$B$3<>\"\",'15'!$B$3,\"\")","v":""},{"$f":"IF('15'!$B$4<>\"\",'15'!$B$4,\"\")","v":""}]
[]
[]
[{"$f":"A54+1","v":16},{"$f":"IF(ISREF(INDIRECT(16 &\"！A1\" ))=FALSE,\"\",'16'!B2)","v":0},{"$f":"IF('16'!$B$3<>\"\",'16'!$B$3,\"\")","v":""},{"$f":"IF('16'!$B$4<>\"\",'16'!$B$4,\"\")","v":""}]
[]
[]
[{"$f":"A57+1","v":17},{"$f":"IF(ISREF(INDIRECT(17 &\"！A1\" ))=FALSE,\"\",'17'!B2)","v":0},{"$f":"IF('17'!$B$3<>\"\",'17'!$B$3,\"\")","v":""},{"$f":"IF('17'!$B$4<>\"\",'17'!$B$4,\"\")","v":""}]
[]
[]
[{"$f":"A60+1","v":18},{"$f":"IF(ISREF(INDIRECT(18 &\"！A1\" ))=FALSE,\"\",'18'!B2)","v":0},{"$f":"IF('18'!$B$3<>\"\",'18'!$B$3,\"\")","v":""},{"$f":"IF('18'!$B$4<>\"\",'18'!$B$4,\"\")","v":""}]
[]
[]
[{"$f":"A63+1","v":19},{"$f":"IF(ISREF(INDIRECT(19 &\"！A1\" ))=FALSE,\"\",'19'!B2)","v":0},{"$f":"IF('19'!$B$3<>\"\",'19'!$B$3,\"\")","v":""},{"$f":"IF('19'!$B$4<>\"\",'19'!$B$4,\"\")","v":""}]
[]
[]
[{"$f":"A66+1","v":20},{"$f":"IF(ISREF(INDIRECT(20 &\"！A1\" ))=FALSE,\"\",'20'!B2)","v":0},{"$f":"IF('20'!$B$3<>\"\",'20'!$B$3,\"\")","v":""},{"$f":"IF('20'!$B$4<>\"\",'20'!$B$4,\"\")","v":""}]
[]
[]
[{"$f":"A69+1","v":21},{"$f":"IF(ISREF(INDIRECT(21 &\"！A1\" ))=FALSE,\"\",'21'!B2)","v":0},{"$f":"IF('21'!$B$3<>\"\",'21'!$B$3,\"\")","v":""},{"$f":"IF('21'!$B$4<>\"\",'21'!$B$4,\"\")","v":""}]
[]
[]
[{"$f":"A72+1","v":22},{"$f":"IF(ISREF(INDIRECT(22 &\"！A1\" ))=FALSE,\"\",'22'!B2)","v":0},{"$f":"IF('22'!$B$3<>\"\",'22'!$B$3,\"\")","v":""},{"$f":"IF('22'!$B$4<>\"\",'22'!$B$4,\"\")","v":""}]
[]
[]
[{"$f":"A75+1","v":23},{"$f":"IF(ISREF(INDIRECT(23 &\"！A1\" ))=FALSE,\"\",'23'!B2)","v":0},{"$f":"IF('23'!$B$3<>\"\",'23'!$B$3,\"\")","v":""},{"$f":"IF('23'!$B$4<>\"\",'23'!$B$4,\"\")","v":""}]
[]
[]
[{"$f":"A78+1","v":24},{"$f":"IF(ISREF(INDIRECT(24 &\"！A1\" ))=FALSE,\"\",'24'!B2)","v":0},{"$f":"IF('24'!$B$3<>\"\",'24'!$B$3,\"\")","v":""},{"$f":"IF('24'!$B$4<>\"\",'24'!$B$4,\"\")","v":""}]
[]
[]
[{"$f":"A81+1","v":25},{"$f":"IF(ISREF(INDIRECT(25 &\"！A1\" ))=FALSE,\"\",'25'!B2)","v":0},{"$f":"IF('25'!$B$3<>\"\",'25'!$B$3,\"\")","v":""},{"$f":"IF('25'!$B$4<>\"\",'25'!$B$4,\"\")","v":""}]
[]
[]
[{"$f":"A84+1","v":26},{"$f":"IF(ISREF(INDIRECT(26 &\"！A1\" ))=FALSE,\"\",'26'!B2)","v":0},{"$f":"IF('26'!$B$3<>\"\",'26'!$B$3,\"\")","v":""},{"$f":"IF('26'!$B$4<>\"\",'26'!$B$4,\"\")","v":""}]
[]
[]
[{"$f":"A87+1","v":27},{"$f":"IF(ISREF(INDIRECT(27 &\"！A1\" ))=FALSE,\"\",'27'!B2)","v":0},{"$f":"IF('27'!$B$3<>\"\",'27'!$B$3,\"\")","v":""},{"$f":"IF('27'!$B$4<>\"\",'27'!$B$4,\"\")","v":""}]
[]
[]
[{"$f":"A90+1","v":28},{"$f":"IF(ISREF(INDIRECT(28 &\"！A1\" ))=FALSE,\"\",'28'!B2)","v":0},{"$f":"IF('28'!$B$3<>\"\",'28'!$B$3,\"\")","v":""},{"$f":"IF('28'!$B$4<>\"\",'28'!$B$4,\"\")","v":""}]
[]
[]
[{"$f":"A93+1","v":29},{"$f":"IF(ISREF(INDIRECT(29 &\"！A1\" ))=FALSE,\"\",'29'!B2)","v":0},{"$f":"IF('29'!$B$3<>\"\",'29'!$B$3,\"\")","v":""},{"$f":"IF('29'!$B$4<>\"\",'29'!$B$4,\"\")","v":""}]
[]
[]
[{"$f":"A96+1","v":30},{"$f":"IF(ISREF(INDIRECT(30 &\"！A1\" ))=FALSE,\"\",'30'!B2)","v":0},{"$f":"IF('30'!$B$3<>\"\",'30'!$B$3,\"\")","v":""},{"$f":"IF('30'!$B$4<>\"\",'30'!$B$4,\"\")","v":""}]
[]
[]
[{"$f":"A99+1","v":31},{"$f":"IF(ISREF(INDIRECT(31 &\"！A1\" ))=FALSE,\"\",'31'!B2)","v":0},{"$f":"IF('31'!$B$3<>\"\",'31'!$B$3,\"\")","v":""},{"$f":"IF('31'!$B$4<>\"\",'31'!$B$4,\"\")","v":""}]
[]
[]
[{"$f":"A102+1","v":32},{"$f":"IF(ISREF(INDIRECT(32 &\"！A1\" ))=FALSE,\"\",'32'!B2)","v":0},{"$f":"IF('32'!$B$3<>\"\",'32'!$B$3,\"\")","v":""},{"$f":"IF('32'!$B$4<>\"\",'32'!$B$4,\"\")","v":""}]
[]
[]
[{"$f":"A105+1","v":33},{"$f":"IF(ISREF(INDIRECT(33 &\"！A1\" ))=FALSE,\"\",'33'!B2)","v":0},{"$f":"IF('33'!$B$3<>\"\",'33'!$B$3,\"\")","v":""},{"$f":"IF('33'!$B$4<>\"\",'33'!$B$4,\"\")","v":""}]
[]
[]
[{"$f":"A108+1","v":34},{"$f":"IF(ISREF(INDIRECT(34 &\"！A1\" ))=FALSE,\"\",'34'!B2)","v":0},{"$f":"IF('34'!$B$3<>\"\",'34'!$B$3,\"\")","v":""},{"$f":"IF('34'!$B$4<>\"\",'34'!$B$4,\"\")","v":""}]
[]
[]
[{"$f":"A111+1","v":35},{"$f":"IF(ISREF(INDIRECT(35 &\"！A1\" ))=FALSE,\"\",'35'!B2)","v":0},{"$f":"IF('35'!$B$3<>\"\",'35'!$B$3,\"\")","v":""},{"$f":"IF('35'!$B$4<>\"\",'35'!$B$4,\"\")","v":""}]
[]
[]
[{"$f":"A114+1","v":36},{"$f":"IF(ISREF(INDIRECT(36 &\"！A1\" ))=FALSE,\"\",'36'!B2)","v":0},{"$f":"IF('36'!$B$3<>\"\",'36'!$B$3,\"\")","v":""},{"$f":"IF('36'!$B$4<>\"\",'36'!$B$4,\"\")","v":""}]
[]
[]
[{"$f":"A117+1","v":37},{"$f":"IF(ISREF(INDIRECT(37 &\"！A1\" ))=FALSE,\"\",'37'!B2)","v":0},{"$f":"IF('37'!$B$3<>\"\",'37'!$B$3,\"\")","v":""},{"$f":"IF('37'!$B$4<>\"\",'37'!$B$4,\"\")","v":""}]
[]
[]
[{"$f":"A120+1","v":38},{"$f":"IF(ISREF(INDIRECT(38 &\"！A1\" ))=FALSE,\"\",'38'!B2)","v":0},{"$f":"IF('38'!$B$3<>\"\",'38'!$B$3,\"\")","v":""},{"$f":"IF('38'!$B$4<>\"\",'38'!$B$4,\"\")","v":""}]
[]
[]
[{"$f":"A123+1","v":39},{"$f":"IF(ISREF(INDIRECT(39 &\"！A1\" ))=FALSE,\"\",'39'!B2)","v":0},{"$f":"IF('39'!$B$3<>\"\",'39'!$B$3,\"\")","v":""},{"$f":"IF('39'!$B$4<>\"\",'39'!$B$4,\"\")","v":""}]
[]
[]
[{"$f":"A126+1","v":40},{"$f":"IF(ISREF(INDIRECT(40 &\"！A1\" ))=FALSE,\"\",'40'!B2)","v":0},{"$f":"IF('40'!$B$3<>\"\",'40'!$B$3,\"\")","v":""},{"$f":"IF('40'!$B$4<>\"\",'40'!$B$4,\"\")","v":""}]
[]
[]
[{"$f":"A129+1","v":41},{"$f":"IF(ISREF(INDIRECT(41 &\"！A1\" ))=FALSE,\"\",'41'!B2)","v":0},{"$f":"IF('41'!$B$3<>\"\",'41'!$B$3,\"\")","v":""},{"$f":"IF('41'!$B$4<>\"\",'41'!$B$4,\"\")","v":""}]
[]
[]
[{"$f":"A132+1","v":42},{"$f":"IF(ISREF(INDIRECT(42 &\"！A1\" ))=FALSE,\"\",'42'!B2)","v":0},{"$f":"IF('42'!$B$3<>\"\",'42'!$B$3,\"\")","v":""},{"$f":"IF('42'!$B$4<>\"\",'42'!$B$4,\"\")","v":""}]
[]
[]
[{"$f":"A135+1","v":43},{"$f":"IF(ISREF(INDIRECT(43 &\"！A1\" ))=FALSE,\"\",'43'!B2)","v":0},{"$f":"IF('43'!$B$3<>\"\",'43'!$B$3,\"\")","v":""},{"$f":"IF('43'!$B$4<>\"\",'43'!$B$4,\"\")","v":""}]
[]
[]
[{"$f":"A138+1","v":44},{"$f":"IF(ISREF(INDIRECT(44 &\"！A1\" ))=FALSE,\"\",'44'!B2)","v":0},{"$f":"IF('44'!$B$3<>\"\",'44'!$B$3,\"\")","v":""},{"$f":"IF('44'!$B$4<>\"\",'44'!$B$4,\"\")","v":""}]
[]
[]
[{"$f":"A141+1","v":45},{"$f":"IF(ISREF(INDIRECT(45 &\"！A1\" ))=FALSE,\"\",'45'!B2)","v":0},{"$f":"IF('45'!$B$3<>\"\",'45'!$B$3,\"\")","v":""},{"$f":"IF('45'!$B$4<>\"\",'45'!$B$4,\"\")","v":""}]
[]
[]
[{"$f":"A144+1","v":46},{"$f":"IF(ISREF(INDIRECT(46 &\"！A1\" ))=FALSE,\"\",'46'!B2)","v":0},{"$f":"IF('46'!$B$3<>\"\",'46'!$B$3,\"\")","v":""},{"$f":"IF('46'!$B$4<>\"\",'46'!$B$4,\"\")","v":""}]
[]
[]
[{"$f":"A147+1","v":47},{"$f":"IF(ISREF(INDIRECT(47 &\"！A1\" ))=FALSE,\"\",'47'!B2)","v":0},{"$f":"IF('47'!$B$3<>\"\",'47'!$B$3,\"\")","v":""},{"$f":"IF('47'!$B$4<>\"\",'47'!$B$4,\"\")","v":""}]
[]
[]
[{"$f":"A150+1","v":48},{"$f":"IF(ISREF(INDIRECT(48 &\"！A1\" ))=FALSE,\"\",'48'!B2)","v":0},{"$f":"IF('48'!$B$3<>\"\",'48'!$B$3,\"\")","v":""},{"$f":"IF('48'!$B$4<>\"\",'48'!$B$4,\"\")","v":""}]
[]
[]
[{"$f":"A153+1","v":49},{"$f":"IF(ISREF(INDIRECT(49 &\"！A1\" ))=FALSE,\"\",'49'!B2)","v":0},{"$f":"IF('49'!$B$3<>\"\",'49'!$B$3,\"\")","v":""},{"$f":"IF('49'!$B$4<>\"\",'49'!$B$4,\"\")","v":""}]
[]
[]
[{"$f":"A156+1","v":50},{"$f":"IF(ISREF(INDIRECT(50 &\"！A1\" ))=FALSE,\"\",'50'!B2)","v":0},{"$f":"IF('50'!$B$3<>\"\",'50'!$B$3,\"\")","v":""},{"$f":"IF('50'!$B$4<>\"\",'50'!$B$4,\"\")","v":""}]

{"sheet":"1","index":1,"n_rows":106,"n_cols":20,"rows_kept":106,"cut":false,"hidden":false,"merged":[[1,5,1,6],[1,12,1,13],[3,5,5,6],[3,12,5,13]]}
["「表１_対象物質一覧」に戻る"]
["事業所名",null,null,null,null,"輸入量",null,null,null,null,null,null,"払出量"]
["新規化学物質の名称",null,null,null,null,"Ｎｏ",{"$f":"_xlfn.IFS(F2=\"製造量\",\"製造ロット\",F2=\"輸入量\",\"輸入ロット\",F2=\"製造・輸入量\",\"製造・輸入ロット\")","v":"輸入ロット"},{"$f":"_xlfn.IFS(F2=\"製造量\",\"製造日　（最終製品日）\",F2=\"輸入量\",\"輸入許可日\",F2=\"製造・輸入量\",\"製造日・輸入許可日\")","v":"輸入許可日"},{"$f":"_xlfn.IFS(F2=\"製造量\",\"製造数量（kg)\",F2=\"輸入量\",\"輸入数量（kg)\",F2=\"製造・輸入量\",\"製造・輸入数量（kg)\")","v":"輸入数量（kg)"},"含有率（％）","含有率換算数量(kg)",null,"Ｎｏ","ロット","払出日","払出数量（kg)","含有率（％）","含有率換算数量(kg)","用途番号","変更前ロット"]
["略称",null,null,null,null,"実績数量合計",null,{"$f":"B6","v":"2024年度"},{"$f":"SUMIF($E$7:$E106,$H$4,$I$7:$I106)","v":0},"-",{"$f":"SUMIF($E$7:$E106,$H$4,$K$7:$K106)","v":0},null,"払出数量合計",null,{"$f":"B6","v":"2024年度"},{"$f":"SUMIF($L$7:$L95,$O$4,$P$7:$P106)","v":0},"-",{"$f":"SUMIF($L$7:$L106,$H$4,$R$7:$R106)","v":0},"-","-"]
[null,null,null,null,null,null,null,{"$f":"C6","v":"2025年度"},{"$f":"SUMIF($E$7:$E106,$H$5,$I$7:$I106)","v":0},"-",{"$f":"SUMIF($E$7:$E106,$H$5,$K$7:$K106)","v":0},null,null,null,{"$f":"C6","v":"2025年度"},{"$f":"SUMIF($L$7:$L95,$O$5,$P$7:$P106)","v":0},"-",{"$f":"SUMIF($E$7:$E106,$H$5,$K$7:$K106)","v":0},"-","-"]
[null,{"$f":"LEFT(表１_対象物質一覧!$C$2, 4)-2&\"年度\"","v":"2024年度"},{"$f":"LEFT(表１_対象物質一覧!$C$2, 4)-1&\"年度\"","v":"2025年度"},{"$f":"表１_対象物質一覧!C2","v":"2026年度"},null,null,null,{"$f":"D6","v":"2026年度"},{"$f":"SUMIF($E$7:$E106,$H$6,$I$7:$I106)","v":0},"-",{"$f":"SUMIF($E$7:$E106,$H$6,$K$7:$K106)","v":0},null,null,null,{"$f":"D6","v":"2026年度"},{"$f":"SUMIF($L$7:$L95,$O$6,$P$7:$P106)","v":0},"-",{"$f":"SUMIF($E$7:$E106,$H$6,$K$7:$K106)","v":0},"-","-"]
["確認年月日",null,null,null,{"$f":"IF(H7=\"\", \"\",YEAR(H7) - IF(MONTH(H7)<4, 1, 0) & \"年度\")","v":""},1,null,null,null,null,{"$f":"IF(J7=\"\",I7,I7*J7)","v":0},{"$f":"IF(O7=\"\", \"\",YEAR(O7) - IF(MONTH(O7)<4, 1, 0) & \"年度\")","v":""},1,null,null,null,null,{"$f":"IF(Q7=\"\",P7,P7*Q7)","v":0}]
["確認数量（kg）",null,null,null,{"$f":"IF(H8=\"\", \"\",YEAR(H8) - IF(MONTH(H8)<4, 1, 0) & \"年度\")","v":""},2,null,null,null,null,{"$f":"IF(J8=\"\",I8,I8*J8)","v":0},"",2,null,null,null,null,{"$f":"IF(Q8=\"\",P8,P8*Q8)","v":0}]
["申出番号（受付コード下4桁）",null,null,null,"",3,null,null,null,null,{"$f":"IF(J9=\"\",I9,I9*J9)","v":0},"",3,null,null,null,null,{"$f":"IF(Q9=\"\",P9,P9*Q9)","v":0}]
["受付コード",{"$f":"IF(B$9=\"\",\"\",表１_対象物質一覧!$C$4&(MID($B$6,3,2)&B$9))","v":""},{"$f":"IF(C$9=\"\",\"\",表１_対象物質一覧!$C$4&(MID($C$6, 3, 2))&C$9)","v":""},{"$f":"IF(D$9=\"\",\"\",表１_対象物質一覧!$C$4&(MID($D$6, 3, 2))&D$9)","v":""},"",4,null,null,null,null,0,"",4,null,null,null,null,{"$f":"IF(Q10=\"\",P10,P10*Q10)","v":0}]
["用途番号",null,null,null,"",5,null,null,null,null,0,"",5,null,null,null,null,0]
[null,null,null,null,"",6,null,null,null,null,0,"",6,null,null,null,null,0]
[null,null,null,null,"",7,null,null,null,null,0,"",7,null,null,null,null,0]
[null,null,null,null,"",8,null,null,null,null,0,"",8,null,null,null,null,0]
[null,null,null,null,"",9,null,null,null,null,0,"",9,null,null,null,null,0]
[null,null,null,null,null,10,null,null,null,null,0,"",10,null,null,null,null,0]
["申出書に記載の「前年度の実績数量」",null,null,null,"",11,null,null,null,null,0,"",11,null,null,null,null,0]
["実績数量",{"$f":"$K$4","v":0},{"$f":"$K$5","v":0},{"$f":"$K$6","v":0},"",12,null,null,null,null,0,"",12,null,null,null,null,0]
["確認を受けている中間物等の分類",null,null,null,"",13,null,null,null,null,0,"",13,null,null,null,null,0]
["用途追加手続を省略して追加した用途の用途番号",null,null,null,"",14,null,null,null,null,0,"",14,null,null,null,null,0]
["備考（３年連続して実積数量がゼロの場合はその理由）",null,null,null,"",15,null,null,null,null,0,"",15,null,null,null,null,0]
["用途証明書なしであって確認年月日が複数ある場合の",null,null,null,"",16,null,null,null,null,0,"",16,null,null,null,null,0]
["確認年月日（上段）及び確認数量(kg)（下段）",null,null,null,"",17,null,null,null,null,0,"",17,null,null,null,null,0]
[null,null,null,null,"",18,null,null,null,null,0,"",18,null,null,null,null,0]
[null,null,null,null,"",19,null,null,null,null,0,"",19,null,null,null,null,0]
[null,null,null,null,"",20,null,null,null,null,0,"",20,null,null,null,null,0]
[null,null,null,null,"",21,null,null,null,null,0,"",21,null,null,null,null,0]
[null,null,null,null,"",22,null,null,null,null,0,"",22,null,null,null,null,0]
[null,null,null,null,"",23,null,null,null,null,0,"",23,null,null,null,null,0]
[null,null,null,null,"",24,null,null,null,null,0,"",24,null,null,null,null,0]
[null,null,null,null,"",25,null,null,null,null,0,"",25,null,null,null,null,0]
[null,null,null,null,"",26,null,null,null,null,0,"",26,null,null,null,null,0]
[null,null,null,null,"",27,null,null,null,null,0,"",27,null,null,null,null,0]
[null,null,null,null,"",28,null,null,null,null,0,"",28,null,null,null,null,0]
[null,null,null,null,"",29,null,null,null,null,0,"",29,null,null,null,null,0]
[null,null,null,null,"",30,null,null,null,null,0,"",30,null,null,null,null,0]
[null,null,null,null,"",31,null,null,null,null,0,"",31,null,null,null,null,0]
[null,null,null,null,"",32,null,null,null,null,0,"",32,null,null,null,null,0]
[null,null,null,null,{"$f":"IF(H39=\"\", \"\",YEAR(H39) - IF(MONTH(H39)<4, 1, 0) & \"年度\")","v":""},33,null,null,null,null,0,{"$f":"IF(O39=\"\", \"\",YEAR(O39) - IF(MONTH(O39)<4, 1, 0) & \"年度\")","v":""},33,null,null,null,null,0]
[null,null,null,null,"",34,null,null,null,null,0,"",34,null,null,null,null,0]
[null,null,null,null,"",35,null,null,null,null,0,"",35,null,null,null,null,0]
["同一年度で同じ化学物質を複数申請している場合は、その確認を受けた事項",null,null,null,"",36,null,null,null,null,0,"",36,null,null,null,null,0]
[null,{"$f":"$B$6","v":"2024年度"},{"$f":"$C$6","v":"2025年度"},{"$f":"$D$6","v":"2026年度"},"",37,null,null,null,null,0,"",37,null,null,null,null,0]
["複数手続きの種類",null,null,null,"",38,null,null,null,null,0,"",38,null,null,null,null,0]
["確認年月日",null,null,null,"",39,null,null,null,null,0,"",39,null,null,null,null,0]
["確認数量（kg）",null,null,null,"",40,null,null,null,null,0,"",40,null,null,null,null,0]
["申出番号（受付コード下4桁）",null,null,null,"",41,null,null,null,null,0,"",41,null,null,null,null,0]
["受付コード",{"$f":"IF(B$47=\"\",\"\",表１_対象物質一覧!$C$4&(MID($B$6,3,2)&B$47))","v":""},{"$f":"IF(C$47=\"\",\"\",表１_対象物質一覧!$C$4&(MID($C$6, 3, 2))&C$47)","v":""},{"$f":"IF(D$47=\"\",\"\",表１_対象物質一覧!$C$4&(MID($D$6, 3, 2))&D$47)","v":""},"",42,null,null,null,null,0,"",42,null,null,null,null,0]
["用途番号",null,null,null,"",43,null,null,null,null,0,"",43,null,null,null,null,0]
[null,null,null,null,"",44,null,null,null,null,0,"",44,null,null,null,null,0]
[null,null,null,null,"",45,null,null,null,null,0,"",45,null,null,null,null,0]
[null,null,null,null,"",46,null,null,null,null,0,"",46,null,null,null,null,0]
[null,null,null,null,"",47,null,null,null,null,0,"",47,null,null,null,null,0]
[null,null,null,null,"",48,null,null,null,null,0,"",48,null,null,null,null,0]
[null,null,null,null,"",49,null,null,null,null,0,"",49,null,null,null,null,0]
[null,{"$f":"$B$6","v":"2024年度"},{"$f":"$C$6","v":"2025年度"},{"$f":"$D$6","v":"2026年度"},"",50,null,null,null,null,0,"",50,null,null,null,null,0]
["複数手続きの種類",null,null,null,"",51,null,null,null,null,0,"",51,null,null,null,null,0]
["確認年月日",null,null,null,"",52,null,null,null,null,0,"",52,null,null,null,null,0]
["確認数量（kg）",null,null,null,"",53,null,null,null,null,0,"",53,null,null,null,null,0]
["申出番号（受付コード下4桁）",null,null,null,"",54,null,null,null,null,0,"",54,null,null,null,null,0]
["受付コード",{"$f":"IF(B$60=\"\",\"\",表１_対象物質一覧!$C$4&(MID($B$6,3,2)&B$60))","v":""},{"$f":"IF(C$60=\"\",\"\",表１_対象物質一覧!$C$4&(MID($C$6, 3, 2))&C$60)","v":""},{"$f":"IF(D$60=\"\",\"\",表１_対象物質一覧!$C$4&(MID($D$6, 3, 2))&D$60)","v":""},"",55,null,null,null,null,0,"",55,null,null,null,null,0]
["用途番号",null,null,null,"",56,null,null,null,null,0,"",56,null,null,null,null,0]
[null,null,null,null,"",57,null,null,null,null,0,"",57,null,null,null,null,0]
[null,null,null,null,"",58,null,null,null,null,0,"",58,null,null,null,null,0]
[null,null,null,null,"",59,null,null,null,null,0,"",59,null,null,null,null,0]
[null,null,null,null,"",60,null,null,null,null,0,"",60,null,null,null,null,0]
[null,null,null,null,"",61,null,null,null,null,0,"",61,null,null,null,null,0]
[null,null,null,null,"",62,null,null,null,null,0,"",62,null,null,null,null,0]
[null,{"$f":"$B$6","v":"2024年度"},{"$f":"$C$6","v":"2025年度"},{"$f":"$D$6","v":"2026年度"},"",63,null,null,null,null,0,"",63,null,null,null,null,0]
["複数手続きの種類",null,null,null,"",64,null,null,null,null,0,"",64,null,null,null,null,0]
["確認年月日",null,null,null,{"$f":"IF(H71=\"\", \"\",YEAR(H71) - IF(MONTH(H71)<4, 1, 0) & \"年度\")","v":""},65,null,null,null,null,0,{"$f":"IF(O71=\"\", \"\",YEAR(O71) - IF(MONTH(O71)<4, 1, 0) & \"年度\")","v":""},65,null,null,null,null,0]
["確認数量（kg）",null,null,null,"",66,null,null,null,null,0,"",66,null,null,null,null,0]
["申出番号（受付コード下4桁）",null,null,null,"",67,null,null,null,null,{"$f":"IF(J73=\"\",I73,I73*J73)","v":0},"",67,null,null,null,null,{"$f":"IF(Q73=\"\",P73,P73*Q73)","v":0}]
["受付コード",{"$f":"IF(B$73=\"\",\"\",表１_対象物質一覧!$C$4&(MID($B$6,3,2)&B$73))","v":""},{"$f":"IF(C$73=\"\",\"\",表１_対象物質一覧!$C$4&(MID($C$6, 3, 2))&C$73)","v":""},{"$f":"IF(D$73=\"\",\"\",表１_対象物質一覧!$C$4&(MID($D$6, 3, 2))&D$73)","v":""},"",68,null,null,null,null,0,"",68,null,null,null,null,0]
["用途番号",null,null,null,"",69,null,null,null,null,0,"",69,null,null,null,null,0]
[null,null,null,null,"",70,null,null,null,null,0,"",70,null,null,null,null,0]
[null,null,null,null,"",71,null,null,null,null,0,"",71,null,null,null,null,0]
[null,null,null,null,"",72,null,null,null,null,0,"",72,null,null,null,null,0]
[null,null,null,null,"",73,null,null,null,null,0,"",73,null,null,null,null,0]
[null,null,null,null,"",74,null,null,null,null,0,"",74,null,null,null,null,0]
[null,null,null,null,"",75,null,null,null,null,0,"",75,null,null,null,null,0]
["備考",null,null,null,"",76,null,null,null,null,0,"",76,null,null,null,null,0]
[null,null,null,null,"",77,null,null,null,null,0,"",77,null,null,null,null,0]
[null,null,null,null,"",78,null,null,null,null,0,"",78,null,null,null,null,0]
[null,null,null,null,"",79,null,null,null,null,0,"",79,null,null,null,null,0]
[null,null,null,null,"",80,null,null,null,null,0,"",80,null,null,null,null,0]
[null,null,null,null,"",81,null,null,null,null,0,"",81,null,null,null,null,0]
[null,null,null,null,"",82,null,null,null,null,0,"",82,null,null,null,null,0]
[null,null,null,null,"",83,null,null,null,null,0,"",83,null,null,null,null,0]
[null,null,null,null,"",84,null,null,null,null,0,"",84,null,null,null,null,0]
[null,null,null,null,"",85,null,null,null,null,0,"",85,null,null,null,null,0]
[null,null,null,null,"",86,null,null,null,null,0,"",86,null,null,null,null,0]
[null,null,null,null,"",87,null,null,null,null,0,"",87,null,null,null,null,0]
[null,null,null,null,"",88,null,null,null,null,0,"",88,null,null,null,null,0]
[null,null,null,null,"",89,null,null,null,null,0,"",89,null,null,null,null,0]
[null,null,null,null,"",90,null,null,null,null,0,"",90,null,null,null,null,0]
[null,null,null,null,"",91,null,null,null,null,0,"",91,null,null,null,null,0]
[null,null,null,null,"",92,null,null,null,null,0,"",92,null,null,null,null,0]
[null,null,null,null,"",93,null,null,null,null,0,"",93,null,null,null,null,0]
[null,null,null,null,"",94,null,null,null,null,0,"",94,null,null,null,null,0]
[null,null,null,null,"",95,null,null,null,null,0,"",95,null,null,null,null,0]
[null,null,null,null,"",96,null,null,null,null,0,"",96,null,null,null,null,0]
[null,null,null,null,"",97,null,null,null,null,0,"",97,null,null,null,null,0]
[null,null,null,null,"",98,null,null,null,null,0,"",98,null,null,null,null,0]
[null,null,null,null,"",99,null,null,null,null,{"$f":"IF(J105=\"\",I105,I105*J105)","v":0},"",99,null,null,null,null,{"$f":"IF(Q105=\"\",P105,P105*Q105)","v":0}]
[null,null,null,null,"",100,null,null,null,null,0,"",100,null,null,null,null,0]

{"sheet":"2","index":2,"n_rows":106,"n_cols":20,"rows_kept":106,"cut":false,"hidden":false,"merged":[[1,5,1,6],[1,12,1,13],[3,5,5,6],[3,12,5,13]]}
["「表１_対象物質一覧」に戻る"]
["事業所名",null,null,null,null,"輸入量",null,null,null,null,null,null,"払出量"]
["新規化学物質の名称",null,null,null,null,"Ｎｏ",{"$f":"_xlfn.IFS(F2=\"製造量\",\"製造ロット\",F2=\"輸入量\",\"輸入ロット\",F2=\"製造・輸入量\",\"製造・輸入ロット\")","v":"輸入ロット"},{"$f":"_xlfn.IFS(F2=\"製造量\",\"製造日　（最終製品日）\",F2=\"輸入量\",\"輸入許可日\",F2=\"製造・輸入量\",\"製造日・輸入許可日\")","v":"輸入許可日"},{"$f":"_xlfn.IFS(F2=\"製造量\",\"製造数量（kg)\",F2=\"輸入量\",\"輸入数量（kg)\",F2=\"製造・輸入量\",\"製造・輸入数量（kg)\")","v":"輸入数量（kg)"},"含有率（％）","含有率換算数量(kg)",null,"Ｎｏ","ロット","払出日","払出数量（kg)","含有率（％）","含有率換算数量(kg)","用途番号","変更前ロット"]
["略称",null,null,null,null,"実績数量合計",null,{"$f":"B6","v":"2024年度"},{"$f":"SUMIF($E$7:$E106,$H$4,$I$7:$I106)","v":0},"-",{"$f":"SUMIF($E$7:$E106,$H$4,$K$7:$K106)","v":0},null,"払出数量合計",null,{"$f":"B6","v":"2024年度"},{"$f":"SUMIF($L$7:$L95,$O$4,$P$7:$P106)","v":0},"-",{"$f":"SUMIF($L$7:$L106,$H$4,$R$7:$R106)","v":0},"-","-"]
[null,null,null,null,null,null,null,{"$f":"C6","v":"2025年度"},{"$f":"SUMIF($E$7:$E106,$H$5,$I$7:$I106)","v":0},"-",{"$f":"SUMIF($E$7:$E106,$H$5,$K$7:$K106)","v":0},null,null,null,{"$f":"C6","v":"2025年度"},{"$f":"SUMIF($L$7:$L95,$O$5,$P$7:$P106)","v":0},"-",{"$f":"SUMIF($E$7:$E106,$H$5,$K$7:$K106)","v":0},"-","-"]
[null,{"$f":"'1'!B6","v":"2024年度"},{"$f":"'1'!C6","v":"2025年度"},{"$f":"'1'!D6","v":"2026年度"},null,null,null,{"$f":"D6","v":"2026年度"},{"$f":"SUMIF($E$7:$E106,$H$6,$I$7:$I106)","v":0},"-",{"$f":"SUMIF($E$7:$E106,$H$6,$K$7:$K106)","v":0},null,null,null,{"$f":"D6","v":"2026年度"},{"$f":"SUMIF($L$7:$L95,$O$6,$P$7:$P106)","v":0},"-",{"$f":"SUMIF($E$7:$E106,$H$6,$K$7:$K106)","v":0},"-","-"]
["確認年月日",null,null,null,{"$f":"IF(H7=\"\", \"\",YEAR(H7) - IF(MONTH(H7)<4, 1, 0) & \"年度\")","v":""},1,null,null,null,null,{"$f":"IF(J7=\"\",I7,I7*J7)","v":0},{"$f":"IF(O7=\"\", \"\",YEAR(O7) - IF(MONTH(O7)<4, 1, 0) & \"年度\")","v":""},1,null,null,null,null,{"$f":"IF(Q7=\"\",P7,P7*Q7)","v":0}]
["確認数量（kg）",null,null,null,"",2,null,null,null,null,{"$f":"IF(J8=\"\",I8,I8*J8)","v":0},"",2,null,null,null,null,{"$f":"IF(Q8=\"\",P8,P8*Q8)","v":0}]
["申出番号（受付コード下4桁）",null,null,null,"",3,null,null,null,null,{"$f":"IF(J9=\"\",I9,I9*J9)","v":0},"",3,null,null,null,null,{"$f":"IF(Q9=\"\",P9,P9*Q9)","v":0}]
["受付コード",{"$f":"IF(B$9=\"\",\"\",表１_対象物質一覧!$C$4&(MID($B$6,3,2)&B$9))","v":""},{"$f":"IF(C$9=\"\",\"\",表１_対象物質一覧!$C$4&(MID($C$6, 3, 2))&C$9)","v":""},{"$f":"IF(D$9=\"\",\"\",表１_対象物質一覧!$C$4&(MID($D$6, 3, 2))&D$9)","v":""},null,4,null,null,null,null,0,"",4,null,null,null,null,{"$f":"IF(Q10=\"\",P10,P10*Q10)","v":0}]
["用途番号",null,null,null,"",5,null,null,null,null,0,"",5,null,null,null,null,0]
[null,null,null,null,"",6,null,null,null,null,0,"",6,null,null,null,null,0]
[null,null,null,null,"",7,null,null,null,null,0,"",7,null,null,null,null,0]
[null,null,null,null,"",8,null,null,null,null,0,"",8,null,null,null,null,0]
[null,null,null,null,"",9,null,null,null,null,0,"",9,null,null,null,null,0]
[null,null,null,null,"",10,null,null,null,null,0,"",10,null,null,null,null,0]
["申出書に記載の「前年度の実績数量」",null,null,null,"",11,null,null,null,null,0,"",11,null,null,null,null,0]
["実績数量",{"$f":"$K$4","v":0},{"$f":"$K$5","v":0},{"$f":"$K$6","v":0},"",12,null,null,null,null,0,"",12,null,null,null,null,0]
["確認を受けている中間物等の分類",null,null,null,"",13,null,null,null,null,0,"",13,null,null,null,null,0]
["用途追加手続を省略して追加した用途の用途番号",null,null,null,null,14,null,null,null,null,0,"",14,null,null,null,null,0]
["備考（３年連続して実積数量がゼロの場合はその理由）",null,null,null,"",15,null,null,null,null,0,"",15,null,null,null,null,0]
["用途証明書なしであって確認年月日が複数ある場合の",null,null,null,"",16,null,null,null,null,0,"",16,null,null,null,null,0]
["確認年月日（上段）及び確認数量(kg)（下段）",null,null,null,"",17,null,null,null,null,0,"",17,null,null,null,null,0]
[null,null,null,null,"",18,null,null,null,null,0,"",18,null,null,null,null,0]
[null,null,null,null,"",19,null,null,null,null,0,"",19,null,null,null,null,0]
[null,null,null,null,"",20,null,null,null,null,0,"",20,null,null,null,null,0]
[null,null,null,null,null,21,null,null,null,null,0,"",21,null,null,null,null,0]
[null,null,null,null,"",22,null,null,null,null,0,"",22,null,null,null,null,0]
[null,null,null,null,"",23,null,null,null,null,0,"",23,null,null,null,null,0]
[null,null,null,null,"",24,null,null,null,null,0,"",24,null,null,null,null,0]
[null,null,null,null,"",25,null,null,null,null,0,"",25,null,null,null,null,0]
[null,null,null,null,"",26,null,null,null,null,0,"",26,null,null,null,null,0]
[null,null,null,null,"",27,null,null,null,null,0,"",27,null,null,null,null,0]
[null,null,null,null,"",28,null,null,null,null,0,"",28,null,null,null,null,0]
[null,null,null,null,"",29,null,null,null,null,0,"",29,null,null,null,null,0]
[null,null,null,null,"",30,null,null,null,null,0,"",30,null,null,null,null,0]
[null,null,null,null,"",31,null,null,null,null,0,"",31,null,null,null,null,0]
[null,null,null,null,"",32,null,null,null,null,0,"",32,null,null,null,null,0]
[null,null,null,null,{"$f":"IF(H39=\"\", \"\",YEAR(H39) - IF(MONTH(H39)<4, 1, 0) & \"年度\")","v":""},33,null,null,null,null,0,{"$f":"IF(O39=\"\", \"\",YEAR(O39) - IF(MONTH(O39)<4, 1, 0) & \"年度\")","v":""},33,null,null,null,null,0]
[null,null,null,null,"",34,null,null,null,null,0,"",34,null,null,null,null,0]
[null,null,null,null,"",35,null,null,null,null,0,"",35,null,null,null,null,0]
["同一年度で同じ化学物質を複数申請している場合は、その確認を受けた事項",null,null,null,"",36,null,null,null,null,0,"",36,null,null,null,null,0]
[null,{"$f":"$B$6","v":"2024年度"},{"$f":"$C$6","v":"2025年度"},{"$f":"$D$6","v":"2026年度"},"",37,null,null,null,null,0,"",37,null,null,null,null,0]
["複数手続きの種類",null,null,null,"",38,null,null,null,null,0,"",38,null,null,null,null,0]
["確認年月日",null,null,null,"",39,null,null,null,null,0,"",39,null,null,null,null,0]
["確認数量（kg）",null,null,null,"",40,null,null,null,null,0,"",40,null,null,null,null,0]
["申出番号（受付コード下4桁）",null,null,null,"",41,null,null,null,null,0,"",41,null,null,null,null,0]
["受付コード",{"$f":"IF(B$47=\"\",\"\",表１_対象物質一覧!$C$4&(MID($B$6,3,2)&B$47))","v":""},{"$f":"IF(C$47=\"\",\"\",表１_対象物質一覧!$C$4&(MID($C$6, 3, 2))&C$47)","v":""},{"$f":"IF(D$47=\"\",\"\",表１_対象物質一覧!$C$4&(MID($D$6, 3, 2))&D$47)","v":""},"",42,null,null,null,null,0,"",42,null,null,null,null,0]
["用途番号",null,null,null,"",43,null,null,null,null,0,"",43,null,null,null,null,0]
[null,null,null,null,"",44,null,null,null,null,0,"",44,null,null,null,null,0]
[null,null,null,null,"",45,null,null,null,null,0,"",45,null,null,null,null,0]
[null,null,null,null,"",46,null,null,null,null,0,"",46,null,null,null,null,0]
[null,null,null,null,"",47,null,null,null,null,0,"",47,null,null,null,null,0]
[null,null,null,null,"",48,null,null,null,null,0,"",48,null,null,null,null,0]
[null,null,null,null,"",49,null,null,null,null,0,"",49,null,null,null,null,0]
[null,{"$f":"$B$6","v":"2024年度"},{"$f":"$C$6","v":"2025年度"},{"$f":"$D$6","v":"2026年度"},"",50,null,null,null,null,0,"",50,null,null,null,null,0]
["複数手続きの種類",null,null,null,"",51,null,null,null,null,0,"",51,null,null,null,null,0]
["確認年月日",null,null,null,"",52,null,null,null,null,0,"",52,null,null,null,null,0]
["確認数量（kg）",null,null,null,"",53,null,null,null,null,0,"",53,null,null,null,null,0]
["申出番号（受付コード下4桁）",null,null,null,"",54,null,null,null,null,0,"",54,null,null,null,null,0]
["受付コード",{"$f":"IF(B$60=\"\",\"\",表１_対象物質一覧!$C$4&(MID($B$6,3,2)&B$60))","v":""},{"$f":"IF(C$60=\"\",\"\",表１_対象物質一覧!$C$4&(MID($C$6, 3, 2))&C$60)","v":""},{"$f":"IF(D$60=\"\",\"\",表１_対象物質一覧!$C$4&(MID($D$6, 3, 2))&D$60)","v":""},"",55,null,null,null,null,0,"",55,null,null,null,null,0]
["用途番号",null,null,null,"",56,null,null,null,null,0,"",56,null,null,null,null,0]
[null,null,null,null,"",57,null,null,null,null,0,"",57,null,null,null,null,0]
[null,null,null,null,"",58,null,null,null,null,0,"",58,null,null,null,null,0]
[null,null,null,null,"",59,null,null,null,null,0,"",59,null,null,null,null,0]
[null,null,null,null,"",60,null,null,null,null,0,"",60,null,null,null,null,0]
[null,null,null,null,"",61,null,null,null,null,0,"",61,null,null,null,null,0]
[null,null,null,null,"",62,null,null,null,null,0,"",62,null,null,null,null,0]
[null,{"$f":"$B$6","v":"2024年度"},{"$f":"$C$6","v":"2025年度"},{"$f":"$D$6","v":"2026年度"},"",63,null,null,null,null,0,"",63,null,null,null,null,0]
["複数手続きの種類",null,null,null,"",64,null,null,null,null,0,"",64,null,null,null,null,0]
["確認年月日",null,null,null,{"$f":"IF(H71=\"\", \"\",YEAR(H71) - IF(MONTH(H71)<4, 1, 0) & \"年度\")","v":""},65,null,null,null,null,0,{"$f":"IF(O71=\"\", \"\",YEAR(O71) - IF(MONTH(O71)<4, 1, 0) & \"年度\")","v":""},65,null,null,null,null,0]
["確認数量（kg）",null,null,null,"",66,null,null,null,null,0,"",66,null,null,null,null,0]
["申出番号（受付コード下4桁）",null,null,null,"",67,null,null,null,null,{"$f":"IF(J73=\"\",I73,I73*J73)","v":0},"",67,null,null,null,null,{"$f":"IF(Q73=\"\",P73,P73*Q73)","v":0}]
["受付コード",{"$f":"IF(B$73=\"\",\"\",表１_対象物質一覧!$C$4&(MID($B$6,3,2)&B$73))","v":""},{"$f":"IF(C$73=\"\",\"\",表１_対象物質一覧!$C$4&(MID($C$6, 3, 2))&C$73)","v":""},{"$f":"IF(D$73=\"\",\"\",表１_対象物質一覧!$C$4&(MID($D$6, 3, 2))&D$73)","v":""},"",68,null,null,null,null,0,"",68,null,null,null,null,0]
["用途番号",null,null,null,"",69,null,null,null,null,0,"",69,null,null,null,null,0]
[null,null,null,null,"",70,null,null,null,null,0,"",70,null,null,null,null,0]
[null,null,null,null,"",71,null,null,null,null,0,"",71,null,null,null,null,0]
[null,null,null,null,"",72,null,null,null,null,0,"",72,null,null,null,null,0]
[null,null,null,null,"",73,null,null,null,null,0,"",73,null,null,null,null,0]
[null,null,null,null,"",74,null,null,null,null,0,"",74,null,null,null,null,0]
[null,null,null,null,"",75,null,null,null,null,0,"",75,null,null,null,null,0]
["備考",null,null,null,"",76,null,null,null,null,0,"",76,null,null,null,null,0]
[null,null,null,null,"",77,null,null,null,null,0,"",77,null,null,null,null,0]
[null,null,null,null,"",78,null,null,null,null,0,"",78,null,null,null,null,0]
[null,null,null,null,"",79,null,null,null,null,0,"",79,null,null,null,null,0]
[null,null,null,null,"",80,null,null,null,null,0,"",80,null,null,null,null,0]
[null,null,null,null,"",81,null,null,null,null,0,"",81,null,null,null,null,0]
[null,null,null,null,"",82,null,null,null,null,0,"",82,null,null,null,null,0]
[null,null,null,null,"",83,null,null,null,null,0,"",83,null,null,null,null,0]
[null,null,null,null,"",84,null,null,null,null,0,"",84,null,null,null,null,0]
[null,null,null,null,"",85,null,null,null,null,0,"",85,null,null,null,null,0]
[null,null,null,null,"",86,null,null,null,null,0,"",86,null,null,null,null,0]
[null,null,null,null,"",87,null,null,null,null,0,"",87,null,null,null,null,0]
[null,null,null,null,"",88,null,null,null,null,0,"",88,null,null,null,null,0]
[null,null,null,null,"",89,null,null,null,null,0,"",89,null,null,null,null,0]
[null,null,null,null,"",90,null,null,null,null,0,"",90,null,null,null,null,0]
[null,null,null,null,"",91,null,null,null,null,0,"",91,null,null,null,null,0]
[null,null,null,null,"",92,null,null,null,null,0,"",92,null,null,null,null,0]
[null,null,null,null,"",93,null,null,null,null,0,"",93,null,null,null,null,0]
[null,null,null,null,"",94,null,null,null,null,0,"",94,null,null,null,null,0]
[null,null,null,null,"",95,null,null,null,null,0,"",95,null,null,null,null,0]
[null,null,null,null,"",96,null,null,null,null,0,"",96,null,null,null,null,0]
[null,null,null,null,"",97,null,null,null,null,0,"",97,null,null,null,null,0]
[null,null,null,null,"",98,null,null,null,null,0,"",98,null,null,null,null,0]
[null,null,null,null,"",99,null,null,null,null,{"$f":"IF(J105=\"\",I105,I105*J105)","v":0},"",99,null,null,null,null,{"$f":"IF(Q105=\"\",P105,P105*Q105)","v":0}]
[null,null,null,null,"",100,null,null,null,null,{"$f":"IF(J106=\"\",I106,I106*J106)","v":0},"",100,null,null,null,null,{"$f":"IF(Q106=\"\",P106,P106*Q106)","v":0}]

{"sheet":"3","index":3,"n_rows":106,"n_cols":20,"rows_kept":106,"cut":false,"hidden":false,"merged":[[1,5,1,6],[1,12,1,13],[3,5,5,6],[3,12,5,13]]}
["「表１_対象物質一覧」に戻る"]
["事業所名",null,null,null,null,"輸入量",null,null,null,null,null,null,"払出量"]
["新規化学物質の名称",null,null,null,null,"Ｎｏ",{"$f":"_xlfn.IFS(F2=\"製造量\",\"製造ロット\",F2=\"輸入量\",\"輸入ロット\",F2=\"製造・輸入量\",\"製造・輸入ロット\")","v":"輸入ロット"},{"$f":"_xlfn.IFS(F2=\"製造量\",\"製造日　（最終製品日）\",F2=\"輸入量\",\"輸入許可日\",F2=\"製造・輸入量\",\"製造日・輸入許可日\")","v":"輸入許可日"},{"$f":"_xlfn.IFS(F2=\"製造量\",\"製造数量（kg)\",F2=\"輸入量\",\"輸入数量（kg)\",F2=\"製造・輸入量\",\"製造・輸入数量（kg)\")","v":"輸入数量（kg)"},"含有率（％）","含有率換算数量(kg)",null,"Ｎｏ","ロット","払出日","払出数量（kg)","含有率（％）","含有率換算数量(kg)","用途番号","変更前ロット"]
["略称",null,null,null,null,"実績数量合計",null,{"$f":"B6","v":"2024年度"},{"$f":"SUMIF($E$7:$E106,$H$4,$I$7:$I106)","v":0},"-",{"$f":"SUMIF($E$7:$E106,$H$4,$K$7:$K106)","v":0},null,"払出数量合計",null,{"$f":"B6","v":"2024年度"},{"$f":"SUMIF($L$7:$L95,$O$4,$P$7:$P106)","v":0},"-",{"$f":"SUMIF($L$7:$L106,$H$4,$R$7:$R106)","v":0},"-","-"]
[null,null,null,null,null,null,null,{"$f":"C6","v":"2025年度"},{"$f":"SUMIF($E$7:$E106,$H$5,$I$7:$I106)","v":0},"-",{"$f":"SUMIF($E$7:$E106,$H$5,$K$7:$K106)","v":0},null,null,null,{"$f":"C6","v":"2025年度"},{"$f":"SUMIF($L$7:$L95,$O$5,$P$7:$P106)","v":0},"-",{"$f":"SUMIF($E$7:$E106,$H$5,$K$7:$K106)","v":0},"-","-"]
[null,{"$f":"'1'!B6","v":"2024年度"},{"$f":"'1'!C6","v":"2025年度"},{"$f":"'1'!D6","v":"2026年度"},null,null,null,{"$f":"D6","v":"2026年度"},{"$f":"SUMIF($E$7:$E106,$H$6,$I$7:$I106)","v":0},"-",{"$f":"SUMIF($E$7:$E106,$H$6,$K$7:$K106)","v":0},null,null,null,{"$f":"D6","v":"2026年度"},{"$f":"SUMIF($L$7:$L95,$O$6,$P$7:$P106)","v":0},"-",{"$f":"SUMIF($E$7:$E106,$H$6,$K$7:$K106)","v":0},"-","-"]
["確認年月日",null,null,null,{"$f":"IF(H7=\"\", \"\",YEAR(H7) - IF(MONTH(H7)<4, 1, 0) & \"年度\")","v":""},1,null,null,null,null,{"$f":"IF(J7=\"\",I7,I7*J7)","v":0},{"$f":"IF(O7=\"\", \"\",YEAR(O7) - IF(MONTH(O7)<4, 1, 0) & \"年度\")","v":""},1,null,null,null,null,{"$f":"IF(Q7=\"\",P7,P7*Q7)","v":0}]
["確認数量（kg）",null,null,null,"",2,null,null,null,null,{"$f":"IF(J8=\"\",I8,I8*J8)","v":0},"",2,null,null,null,null,{"$f":"IF(Q8=\"\",P8,P8*Q8)","v":0}]
["申出番号（受付コード下4桁）",null,null,null,"",3,null,null,null,null,{"$f":"IF(J9=\"\",I9,I9*J9)","v":0},"",3,null,null,null,null,{"$f":"IF(Q9=\"\",P9,P9*Q9)","v":0}]
["受付コード",{"$f":"IF(B$9=\"\",\"\",表１_対象物質一覧!$C$4&(MID($B$6,3,2)&B$9))","v":""},{"$f":"IF(C$9=\"\",\"\",表１_対象物質一覧!$C$4&(MID($C$6, 3, 2))&C$9)","v":""},{"$f":"IF(D$9=\"\",\"\",表１_対象物質一覧!$C$4&(MID($D$6, 3, 2))&D$9)","v":""},"",4,null,null,null,null,0,"",4,null,null,null,null,{"$f":"IF(Q10=\"\",P10,P10*Q10)","v":0}]
["用途番号",null,null,null,"",5,null,null,null,null,0,"",5,null,null,null,null,0]
[null,null,null,null,"",6,null,null,null,null,0,"",6,null,null,null,null,0]
[null,null,null,null,"",7,null,null,null,null,0,"",7,null,null,null,null,0]
[null,null,null,null,"",8,null,null,null,null,0,"",8,null,null,null,null,0]
[null,null,null,null,"",9,null,null,null,null,0,"",9,null,null,null,null,0]
[null,null,null,null,"",10,null,null,null,null,0,"",10,null,null,null,null,0]
["申出書に記載の「前年度の実績数量」",null,null,null,"",11,null,null,null,null,0,"",11,null,null,null,null,0]
["実績数量",{"$f":"$K$4","v":0},{"$f":"$K$5","v":0},{"$f":"$K$6","v":0},"",12,null,null,null,null,0,"",12,null,null,null,null,0]
["確認を受けている中間物等の分類",null,null,null,"",13,null,null,null,null,0,"",13,null,null,null,null,0]
["用途追加手続を省略して追加した用途の用途番号",null,null,null,"",14,null,null,null,null,0,"",14,null,null,null,null,0]
["備考（３年連続して実積数量がゼロの場合はその理由）",null,null,null,"",15,null,null,null,null,0,"",15,null,null,null,null,0]
["用途証明書なしであって確認年月日が複数ある場合の",null,null,null,"",16,null,null,null,null,0,"",16,null,null,null,null,0]
["確認年月日（上段）及び確認数量(kg)（下段）",null,null,null,"",17,null,null,null,null,0,"",17,null,null,null,null,0]
[null,null,null,null,"",18,null,null,null,null,0,"",18,null,null,null,null,0]
[null,null,null,null,"",19,null,null,null,null,0,"",19,null,null,null,null,0]
[null,null,null,null,"",20,null,null,null,null,0,"",20,null,null,null,null,0]
[null,null,null,null,"",21,null,null,null,null,0,"",21,null,null,null,null,0]
[null,null,null,null,"",22,null,null,null,null,0,"",22,null,null,null,null,0]
[null,null,null,null,"",23,null,null,null,null,0,"",23,null,null,null,null,0]
[null,null,null,null,"",24,null,null,null,null,0,"",24,null,null,null,null,0]
[null,null,null,null,"",25,null,null,null,null,0,"",25,null,null,null,null,0]
[null,null,null,null,"",26,null,null,null,null,0,"",26,null,null,null,null,0]
[null,null,null,null,"",27,null,null,null,null,0,"",27,null,null,null,null,0]
[null,null,null,null,"",28,null,null,null,null,0,"",28,null,null,null,null,0]
[null,null,null,null,"",29,null,null,null,null,0,"",29,null,null,null,null,0]
[null,null,null,null,"",30,null,null,null,null,0,"",30,null,null,null,null,0]
[null,null,null,null,"",31,null,null,null,null,0,"",31,null,null,null,null,0]
[null,null,null,null,"",32,null,null,null,null,0,"",32,null,null,null,null,0]
[null,null,null,null,{"$f":"IF(H39=\"\", \"\",YEAR(H39) - IF(MONTH(H39)<4, 1, 0) & \"年度\")","v":""},33,null,null,null,null,0,{"$f":"IF(O39=\"\", \"\",YEAR(O39) - IF(MONTH(O39)<4, 1, 0) & \"年度\")","v":""},33,null,null,null,null,0]
[null,null,null,null,"",34,null,null,null,null,0,"",34,null,null,null,null,0]
[null,null,null,null,"",35,null,null,null,null,0,"",35,null,null,null,null,0]
["同一年度で同じ化学物質を複数申請している場合は、その確認を受けた事項",null,null,null,"",36,null,null,null,null,0,"",36,null,null,null,null,0]
[null,{"$f":"$B$6","v":"2024年度"},{"$f":"$C$6","v":"2025年度"},{"$f":"$D$6","v":"2026年度"},"",37,null,null,null,null,0,"",37,null,null,null,null,0]
["複数手続きの種類",null,null,null,"",38,null,null,null,null,0,"",38,null,null,null,null,0]
["確認年月日",null,null,null,"",39,null,null,null,null,0,"",39,null,null,null,null,0]
["確認数量（kg）",null,null,null,"",40,null,null,null,null,0,"",40,null,null,null,null,0]
["申出番号（受付コード下4桁）",null,null,null,"",41,null,null,null,null,0,"",41,null,null,null,null,0]
["受付コード",{"$f":"IF(B$47=\"\",\"\",表１_対象物質一覧!$C$4&(MID($B$6,3,2)&B$47))","v":""},{"$f":"IF(C$47=\"\",\"\",表１_対象物質一覧!$C$4&(MID($C$6, 3, 2))&C$47)","v":""},{"$f":"IF(D$47=\"\",\"\",表１_対象物質一覧!$C$4&(MID($D$6, 3, 2))&D$47)","v":""},"",42,null,null,null,null,0,"",42,null,null,null,null,0]
["用途番号",null,null,null,"",43,null,null,null,null,0,"",43,null,null,null,null,0]
[null,null,null,null,"",44,null,null,null,null,0,"",44,null,null,null,null,0]
[null,null,null,null,"",45,null,null,null,null,0,"",45,null,null,null,null,0]
[null,null,null,null,"",46,null,null,null,null,0,"",46,null,null,null,null,0]
[null,null,null,null,"",47,null,null,null,null,0,"",47,null,null,null,null,0]
[null,null,null,null,"",48,null,null,null,null,0,"",48,null,null,null,null,0]
[null,null,null,null,"",49,null,null,null,null,0,"",49,null,null,null,null,0]
[null,{"$f":"$B$6","v":"2024年度"},{"$f":"$C$6","v":"2025年度"},{"$f":"$D$6","v":"2026年度"},"",50,null,null,null,null,0,"",50,null,null,null,null,0]
["複数手続きの種類",null,null,null,"",51,null,null,null,null,0,"",51,null,null,null,null,0]
["確認年月日",null,null,null,"",52,null,null,null,null,0,"",52,null,null,null,null,0]
["確認数量（kg）",null,null,null,"",53,null,null,null,null,0,"",53,null,null,null,null,0]
["申出番号（受付コード下4桁）",null,null,null,"",54,null,null,null,null,0,"",54,null,null,null,null,0]
["受付コード",{"$f":"IF(B$60=\"\",\"\",表１_対象物質一覧!$C$4&(MID($B$6,3,2)&B$60))","v":""},{"$f":"IF(C$60=\"\",\"\",表１_対象物質一覧!$C$4&(MID($C$6, 3, 2))&C$60)","v":""},{"$f":"IF(D$60=\"\",\"\",表１_対象物質一覧!$C$4&(MID($D$6, 3, 2))&D$60)","v":""},"",55,null,null,null,null,0,"",55,null,null,null,null,0]
["用途番号",null,null,null,"",56,null,null,null,null,0,"",56,null,null,null,null,0]
[null,null,null,null,"",57,null,null,null,null,0,"",57,null,null,null,null,0]
[null,null,null,null,"",58,null,null,null,null,0,"",58,null,null,null,null,0]
[null,null,null,null,"",59,null,null,null,null,0,"",59,null,null,null,null,0]
[null,null,null,null,"",60,null,null,null,null,0,"",60,null,null,null,null,0]
[null,null,null,null,"",61,null,null,null,null,0,"",61,null,null,null,null,0]
[null,null,null,null,"",62,null,null,null,null,0,"",62,null,null,null,null,0]
[null,{"$f":"$B$6","v":"2024年度"},{"$f":"$C$6","v":"2025年度"},{"$f":"$D$6","v":"2026年度"},"",63,null,null,null,null,0,"",63,null,null,null,null,0]
["複数手続きの種類",null,null,null,"",64,null,null,null,null,0,"",64,null,null,null,null,0]
["確認年月日",null,null,null,{"$f":"IF(H71=\"\", \"\",YEAR(H71) - IF(MONTH(H71)<4, 1, 0) & \"年度\")","v":""},65,null,null,null,null,0,{"$f":"IF(O71=\"\", \"\",YEAR(O71) - IF(MONTH(O71)<4, 1, 0) & \"年度\")","v":""},65,null,null,null,null,0]
["確認数量（kg）",null,null,null,"",66,null,null,null,null,0,"",66,null,null,null,null,0]
["申出番号（受付コード下4桁）",null,null,null,"",67,null,null,null,null,{"$f":"IF(J73=\"\",I73,I73*J73)","v":0},"",67,null,null,null,null,{"$f":"IF(Q73=\"\",P73,P73*Q73)","v":0}]
["受付コード",{"$f":"IF(B$73=\"\",\"\",表１_対象物質一覧!$C$4&(MID($B$6,3,2)&B$73))","v":""},{"$f":"IF(C$73=\"\",\"\",表１_対象物質一覧!$C$4&(MID($C$6, 3, 2))&C$73)","v":""},{"$f":"IF(D$73=\"\",\"\",表１_対象物質一覧!$C$4&(MID($D$6, 3, 2))&D$73)","v":""},"",68,null,null,null,null,0,"",68,null,null,null,null,0]
["用途番号",null,null,null,"",69,null,null,null,null,0,"",69,null,null,null,null,0]
[null,null,null,null,"",70,null,null,null,null,0,"",70,null,null,null,null,0]
[null,null,null,null,"",71,null,null,null,null,0,"",71,null,null,null,null,0]
[null,null,null,null,"",72,null,null,null,null,0,"",72,null,null,null,null,0]
[null,null,null,null,"",73,null,null,null,null,0,"",73,null,null,null,null,0]
[null,null,null,null,"",74,null,null,null,null,0,"",74,null,null,null,null,0]
[null,null,null,null,"",75,null,null,null,null,0,"",75,null,null,null,null,0]
["備考",null,null,null,"",76,null,null,null,null,0,"",76,null,null,null,null,0]
[null,null,null,null,"",77,null,null,null,null,0,"",77,null,null,null,null,0]
[null,null,null,null,"",78,null,null,null,null,0,"",78,null,null,null,null,0]
[null,null,null,null,"",79,null,null,null,null,0,"",79,null,null,null,null,0]
[null,null,null,null,"",80,null,null,null,null,0,"",80,null,null,null,null,0]
[null,null,null,null,"",81,null,null,null,null,0,"",81,null,null,null,null,0]
[null,null,null,null,"",82,null,null,null,null,0,"",82,null,null,null,null,0]
[null,null,null,null,"",83,null,null,null,null,0,"",83,null,null,null,null,0]
[null,null,null,null,"",84,null,null,null,null,0,"",84,null,null,null,null,0]
[null,null,null,null,"",85,null,null,null,null,0,"",85,null,null,null,null,0]
[null,null,null,null,"",86,null,null,null,null,0,"",86,null,null,null,null,0]
[null,null,null,null,"",87,null,null,null,null,0,"",87,null,null,null,null,0]
[null,null,null,null,"",88,null,null,null,null,0,"",88,null,null,null,null,0]
[null,null,null,null,"",89,null,null,null,null,0,"",89,null,null,null,null,0]
[null,null,null,null,"",90,null,null,null,null,0,"",90,null,null,null,null,0]
[null,null,null,null,"",91,null,null,null,null,0,"",91,null,null,null,null,0]
[null,null,null,null,"",92,null,null,null,null,0,"",92,null,null,null,null,0]
[null,null,null,null,"",93,null,null,null,null,0,"",93,null,null,null,null,0]
[null,null,null,null,"",94,null,null,null,null,0,"",94,null,null,null,null,0]
[null,null,null,null,"",95,null,null,null,null,0,"",95,null,null,null,null,0]
[null,null,null,null,"",96,null,null,null,null,0,"",96,null,null,null,null,0]
[null,null,null,null,"",97,null,null,null,null,0,"",97,null,null,null,null,0]
[null,null,null,null,"",98,null,null,null,null,0,"",98,null,null,null,null,0]
[null,null,null,null,"",99,null,null,null,null,{"$f":"IF(J105=\"\",I105,I105*J105)","v":0},"",99,null,null,null,null,{"$f":"IF(Q105=\"\",P105,P105*Q105)","v":0}]
[null,null,null,null,"",100,null,null,null,null,{"$f":"IF(J106=\"\",I106,I106*J106)","v":0},"",100,null,null,null,null,{"$f":"IF(Q106=\"\",P106,P106*Q106)","v":0}]

{"sheet":"4","index":4,"n_rows":106,"n_cols":20,"rows_kept":106,"cut":false,"hidden":false,"merged":[[1,5,1,6],[1,12,1,13],[3,5,5,6],[3,12,5,13]]}
["「表１_対象物質一覧」に戻る"]
["事業所名",null,null,null,null,"輸入量",null,null,null,null,null,null,"払出量"]
["新規化学物質の名称",null,null,null,null,"Ｎｏ",{"$f":"_xlfn.IFS(F2=\"製造量\",\"製造ロット\",F2=\"輸入量\",\"輸入ロット\",F2=\"製造・輸入量\",\"製造・輸入ロット\")","v":"輸入ロット"},{"$f":"_xlfn.IFS(F2=\"製造量\",\"製造日　（最終製品日）\",F2=\"輸入量\",\"輸入許可日\",F2=\"製造・輸入量\",\"製造日・輸入許可日\")","v":"輸入許可日"},{"$f":"_xlfn.IFS(F2=\"製造量\",\"製造数量（kg)\",F2=\"輸入量\",\"輸入数量（kg)\",F2=\"製造・輸入量\",\"製造・輸入数量（kg)\")","v":"輸入数量（kg)"},"含有率（％）","含有率換算数量(kg)",null,"Ｎｏ","ロット","払出日","払出数量（kg)","含有率（％）","含有率換算数量(kg)","用途番号","変更前ロット"]
["略称",null,null,null,null,"実績数量合計",null,{"$f":"B6","v":"2024年度"},{"$f":"SUMIF($E$7:$E106,$H$4,$I$7:$I106)","v":0},"-",{"$f":"SUMIF($E$7:$E106,$H$4,$K$7:$K106)","v":0},null,"払出数量合計",null,{"$f":"B6","v":"2024年度"},{"$f":"SUMIF($L$7:$L95,$O$4,$P$7:$P106)","v":0},"-",{"$f":"SUMIF($L$7:$L106,$H$4,$R$7:$R106)","v":0},"-","-"]
[null,null,null,null,null,null,null,{"$f":"C6","v":"2025年度"},{"$f":"SUMIF($E$7:$E106,$H$5,$I$7:$I106)","v":0},"-",{"$f":"SUMIF($E$7:$E106,$H$5,$K$7:$K106)","v":0},null,null,null,{"$f":"C6","v":"2025年度"},{"$f":"SUMIF($L$7:$L95,$O$5,$P$7:$P106)","v":0},"-",{"$f":"SUMIF($E$7:$E106,$H$5,$K$7:$K106)","v":0},"-","-"]
[null,{"$f":"'1'!B6","v":"2024年度"},{"$f":"'1'!C6","v":"2025年度"},{"$f":"'1'!D6","v":"2026年度"},null,null,null,{"$f":"D6","v":"2026年度"},{"$f":"SUMIF($E$7:$E106,$H$6,$I$7:$I106)","v":0},"-",{"$f":"SUMIF($E$7:$E106,$H$6,$K$7:$K106)","v":0},null,null,null,{"$f":"D6","v":"2026年度"},{"$f":"SUMIF($L$7:$L95,$O$6,$P$7:$P106)","v":0},"-",{"$f":"SUMIF($E$7:$E106,$H$6,$K$7:$K106)","v":0},"-","-"]
["確認年月日",null,null,null,{"$f":"IF(H7=\"\", \"\",YEAR(H7) - IF(MONTH(H7)<4, 1, 0) & \"年度\")","v":""},1,null,null,null,null,{"$f":"IF(J7=\"\",I7,I7*J7)","v":0},{"$f":"IF(O7=\"\", \"\",YEAR(O7) - IF(MONTH(O7)<4, 1, 0) & \"年度\")","v":""},1,null,null,null,null,{"$f":"IF(Q7=\"\",P7,P7*Q7)","v":0}]
["確認数量（kg）",null,null,null,"",2,null,null,null,null,{"$f":"IF(J8=\"\",I8,I8*J8)","v":0},"",2,null,null,null,null,{"$f":"IF(Q8=\"\",P8,P8*Q8)","v":0}]
["申出番号（受付コード下4桁）",null,null,null,"",3,null,null,null,null,{"$f":"IF(J9=\"\",I9,I9*J9)","v":0},"",3,null,null,null,null,{"$f":"IF(Q9=\"\",P9,P9*Q9)","v":0}]
["受付コード",{"$f":"IF(B$9=\"\",\"\",表１_対象物質一覧!$C$4&(MID($B$6,3,2)&B$9))","v":""},{"$f":"IF(C$9=\"\",\"\",表１_対象物質一覧!$C$4&(MID($C$6, 3, 2))&C$9)","v":""},{"$f":"IF(D$9=\"\",\"\",表１_対象物質一覧!$C$4&(MID($D$6, 3, 2))&D$9)","v":""},"",4,null,null,null,null,0,"",4,null,null,null,null,{"$f":"IF(Q10=\"\",P10,P10*Q10)","v":0}]
["用途番号",null,null,null,"",5,null,null,null,null,0,"",5,null,null,null,null,0]
[null,null,null,null,"",6,null,null,null,null,0,"",6,null,null,null,null,0]
[null,null,null,null,"",7,null,null,null,null,0,"",7,null,null,null,null,0]
[null,null,null,null,"",8,null,null,null,null,0,"",8,null,null,null,null,0]
[null,null,null,null,"",9,null,null,null,null,0,"",9,null,null,null,null,0]
[null,null,null,null,"",10,null,null,null,null,0,"",10,null,null,null,null,0]
["申出書に記載の「前年度の実績数量」",null,null,null,"",11,null,null,null,null,0,"",11,null,null,null,null,0]
["実績数量",{"$f":"$K$4","v":0},{"$f":"$K$5","v":0},{"$f":"$K$6","v":0},"",12,null,null,null,null,0,"",12,null,null,null,null,0]
["確認を受けている中間物等の分類",null,null,null,"",13,null,null,null,null,0,"",13,null,null,null,null,0]
["用途追加手続を省略して追加した用途の用途番号",null,null,null,"",14,null,null,null,null,0,"",14,null,null,null,null,0]
["備考（３年連続して実積数量がゼロの場合はその理由）",null,null,null,"",15,null,null,null,null,0,"",15,null,null,null,null,0]
["用途証明書なしであって確認年月日が複数ある場合の",null,null,null,"",16,null,null,null,null,0,"",16,null,null,null,null,0]
["確認年月日（上段）及び確認数量(kg)（下段）",null,null,null,"",17,null,null,null,null,0,"",17,null,null,null,null,0]
[null,null,null,null,"",18,null,null,null,null,0,"",18,null,null,null,null,0]
[null,null,null,null,"",19,null,null,null,null,0,"",19,null,null,null,null,0]
[null,null,null,null,"",20,null,null,null,null,0,"",20,null,null,null,null,0]
[null,null,null,null,"",21,null,null,null,null,0,"",21,null,null,null,null,0]
[null,null,null,null,"",22,null,null,null,null,0,"",22,null,null,null,null,0]
[null,null,null,null,"",23,null,null,null,null,0,"",23,null,null,null,null,0]
[null,null,null,null,"",24,null,null,null,null,0,"",24,null,null,null,null,0]
[null,null,null,null,"",25,null,null,null,null,0,"",25,null,null,null,null,0]
[null,null,null,null,"",26,null,null,null,null,0,"",26,null,null,null,null,0]
[null,null,null,null,"",27,null,null,null,null,0,"",27,null,null,null,null,0]
[null,null,null,null,"",28,null,null,null,null,0,"",28,null,null,null,null,0]
[null,null,null,null,"",29,null,null,null,null,0,"",29,null,null,null,null,0]
[null,null,null,null,"",30,null,null,null,null,0,"",30,null,null,null,null,0]
[null,null,null,null,"",31,null,null,null,null,0,"",31,null,null,null,null,0]
[null,null,null,null,"",32,null,null,null,null,0,"",32,null,null,null,null,0]
[null,null,null,null,{"$f":"IF(H39=\"\", \"\",YEAR(H39) - IF(MONTH(H39)<4, 1, 0) & \"年度\")","v":""},33,null,null,null,null,0,{"$f":"IF(O39=\"\", \"\",YEAR(O39) - IF(MONTH(O39)<4, 1, 0) & \"年度\")","v":""},33,null,null,null,null,0]
[null,null,null,null,"",34,null,null,null,null,0,"",34,null,null,null,null,0]
[null,null,null,null,"",35,null,null,null,null,0,"",35,null,null,null,null,0]
["同一年度で同じ化学物質を複数申請している場合は、その確認を受けた事項",null,null,null,"",36,null,null,null,null,0,"",36,null,null,null,null,0]
[null,{"$f":"$B$6","v":"2024年度"},{"$f":"$C$6","v":"2025年度"},{"$f":"$D$6","v":"2026年度"},"",37,null,null,null,null,0,"",37,null,null,null,null,0]
["複数手続きの種類",null,null,null,"",38,null,null,null,null,0,"",38,null,null,null,null,0]
["確認年月日",null,null,null,"",39,null,null,null,null,0,"",39,null,null,null,null,0]
["確認数量（kg）",null,null,null,"",40,null,null,null,null,0,"",40,null,null,null,null,0]
["申出番号（受付コード下4桁）",null,null,null,"",41,null,null,null,null,0,"",41,null,null,null,null,0]
["受付コード",{"$f":"IF(B$47=\"\",\"\",表１_対象物質一覧!$C$4&(MID($B$6,3,2)&B$47))","v":""},{"$f":"IF(C$47=\"\",\"\",表１_対象物質一覧!$C$4&(MID($C$6, 3, 2))&C$47)","v":""},{"$f":"IF(D$47=\"\",\"\",表１_対象物質一覧!$C$4&(MID($D$6, 3, 2))&D$47)","v":""},"",42,null,null,null,null,0,"",42,null,null,null,null,0]
["用途番号",null,null,null,"",43,null,null,null,null,0,"",43,null,null,null,null,0]
[null,null,null,null,"",44,null,null,null,null,0,"",44,null,null,null,null,0]
[null,null,null,null,"",45,null,null,null,null,0,"",45,null,null,null,null,0]
[null,null,null,null,"",46,null,null,null,null,0,"",46,null,null,null,null,0]
[null,null,null,null,"",47,null,null,null,null,0,"",47,null,null,null,null,0]
[null,null,null,null,"",48,null,null,null,null,0,"",48,null,null,null,null,0]
[null,null,null,null,"",49,null,null,null,null,0,"",49,null,null,null,null,0]
[null,{"$f":"$B$6","v":"2024年度"},{"$f":"$C$6","v":"2025年度"},{"$f":"$D$6","v":"2026年度"},"",50,null,null,null,null,0,"",50,null,null,null,null,0]
["複数手続きの種類",null,null,null,"",51,null,null,null,null,0,"",51,null,null,null,null,0]
["確認年月日",null,null,null,"",52,null,null,null,null,0,"",52,null,null,null,null,0]
["確認数量（kg）",null,null,null,"",53,null,null,null,null,0,"",53,null,null,null,null,0]
["申出番号（受付コード下4桁）",null,null,null,"",54,null,null,null,null,0,"",54,null,null,null,null,0]
["受付コード",{"$f":"IF(B$60=\"\",\"\",表１_対象物質一覧!$C$4&(MID($B$6,3,2)&B$60))","v":""},{"$f":"IF(C$60=\"\",\"\",表１_対象物質一覧!$C$4&(MID($C$6, 3, 2))&C$60)","v":""},{"$f":"IF(D$60=\"\",\"\",表１_対象物質一覧!$C$4&(MID($D$6, 3, 2))&D$60)","v":""},"",55,null,null,null,null,0,"",55,null,null,null,null,0]
["用途番号",null,null,null,"",56,null,null,null,null,0,"",56,null,null,null,null,0]
[null,null,null,null,"",57,null,null,null,null,0,"",57,null,null,null,null,0]
[null,null,null,null,"",58,null,null,null,null,0,"",58,null,null,null,null,0]
[null,null,null,null,"",59,null,null,null,null,0,"",59,null,null,null,null,0]
[null,null,null,null,"",60,null,null,null,null,0,"",60,null,null,null,null,0]
[null,null,null,null,"",61,null,null,null,null,0,"",61,null,null,null,null,0]
[null,null,null,null,"",62,null,null,null,null,0,"",62,null,null,null,null,0]
[null,{"$f":"$B$6","v":"2024年度"},{"$f":"$C$6","v":"2025年度"},{"$f":"$D$6","v":"2026年度"},"",63,null,null,null,null,0,"",63,null,null,null,null,0]
["複数手続きの種類",null,null,null,"",64,null,null,null,null,0,"",64,null,null,null,null,0]
["確認年月日",null,null,null,{"$f":"IF(H71=\"\", \"\",YEAR(H71) - IF(MONTH(H71)<4, 1, 0) & \"年度\")","v":""},65,null,null,null,null,0,{"$f":"IF(O71=\"\", \"\",YEAR(O71) - IF(MONTH(O71)<4, 1, 0) & \"年度\")","v":""},65,null,null,null,null,0]
["確認数量（kg）",null,null,null,"",66,null,null,null,null,0,"",66,null,null,null,null,0]
["申出番号（受付コード下4桁）",null,null,null,"",67,null,null,null,null,{"$f":"IF(J73=\"\",I73,I73*J73)","v":0},"",67,null,null,null,null,{"$f":"IF(Q73=\"\",P73,P73*Q73)","v":0}]
["受付コード",{"$f":"IF(B$73=\"\",\"\",表１_対象物質一覧!$C$4&(MID($B$6,3,2)&B$73))","v":""},{"$f":"IF(C$73=\"\",\"\",表１_対象物質一覧!$C$4&(MID($C$6, 3, 2))&C$73)","v":""},{"$f":"IF(D$73=\"\",\"\",表１_対象物質一覧!$C$4&(MID($D$6, 3, 2))&D$73)","v":""},"",68,null,null,null,null,0,"",68,null,null,null,null,0]
["用途番号",null,null,null,"",69,null,null,null,null,0,"",69,null,null,null,null,0]
[null,null,null,null,"",70,null,null,null,null,0,"",70,null,null,null,null,0]
[null,null,null,null,"",71,null,null,null,null,0,"",71,null,null,null,null,0]
[null,null,null,null,"",72,null,null,null,null,0,"",72,null,null,null,null,0]
[null,null,null,null,"",73,null,null,null,null,0,"",73,null,null,null,null,0]
[null,null,null,null,"",74,null,null,null,null,0,"",74,null,null,null,null,0]
[null,null,null,null,"",75,null,null,null,null,0,"",75,null,null,null,null,0]
["備考",null,null,null,"",76,null,null,null,null,0,"",76,null,null,null,null,0]
[null,null,null,null,"",77,null,null,null,null,0,"",77,null,null,null,null,0]
[null,null,null,null,"",78,null,null,null,null,0,"",78,null,null,null,null,0]
[null,null,null,null,"",79,null,null,null,null,0,"",79,null,null,null,null,0]
[null,null,null,null,"",80,null,null,null,null,0,"",80,null,null,null,null,0]
[null,null,null,null,"",81,null,null,null,null,0,"",81,null,null,null,null,0]
[null,null,null,null,"",82,null,null,null,null,0,"",82,null,null,null,null,0]
[null,null,null,null,"",83,null,null,null,null,0,"",83,null,null,null,null,0]
[null,null,null,null,"",84,null,null,null,null,0,"",84,null,null,null,null,0]
[null,null,null,null,"",85,null,null,null,null,0,"",85,null,null,null,null,0]
[null,null,null,null,"",86,null,null,null,null,0,"",86,null,null,null,null,0]
[null,null,null,null,"",87,null,null,null,null,0,"",87,null,null,null,null,0]
[null,null,null,null,"",88,null,null,null,null,0,"",88,null,null,null,null,0]
[null,null,null,null,"",89,null,null,null,null,0,"",89,null,null,null,null,0]
[null,null,null,null,"",90,null,null,null,null,0,"",90,null,null,null,null,0]
[null,null,null,null,"",91,null,null,null,null,0,"",91,null,null,null,null,0]
[null,null,null,null,"",92,null,null,null,null,0,"",92,null,null,null,null,0]
[null,null,null,null,"",93,null,null,null,null,0,"",93,null,null,null,null,0]
[null,null,null,null,"",94,null,null,null,null,0,"",94,null,null,null,null,0]
[null,null,null,null,"",95,null,null,null,null,0,"",95,null,null,null,null,0]
[null,null,null,null,"",96,null,null,null,null,0,"",96,null,null,null,null,0]
[null,null,null,null,"",97,null,null,null,null,0,"",97,null,null,null,null,0]
[null,null,null,null,"",98,null,null,null,null,0,"",98,null,null,null,null,0]
[null,null,null,null,"",99,null,null,null,null,{"$f":"IF(J105=\"\",I105,I105*J105)","v":0},"",99,null,null,null,null,{"$f":"IF(Q105=\"\",P105,P105*Q105)","v":0}]
[null,null,null,null,"",100,null,null,null,null,{"$f":"IF(J106=\"\",I106,I106*J106)","v":0},"",100,null,null,null,null,{"$f":"IF(Q106=\"\",P106,P106*Q106)","v":0}]

{"sheet":"5","index":5,"n_rows":106,"n_cols":20,"rows_kept":106,"cut":false,"hidden":false,"merged":[[1,5,1,6],[1,12,1,13],[3,5,5,6],[3,12,5,13]]}
["「表１_対象物質一覧」に戻る"]
["事業所名",null,null,null,null,"輸入量",null,null,null,null,null,null,"払出量"]
["新規化学物質の名称",null,null,null,null,"Ｎｏ",{"$f":"_xlfn.IFS(F2=\"製造量\",\"製造ロット\",F2=\"輸入量\",\"輸入ロット\",F2=\"製造・輸入量\",\"製造・輸入ロット\")","v":"輸入ロット"},{"$f":"_xlfn.IFS(F2=\"製造量\",\"製造日　（最終製品日）\",F2=\"輸入量\",\"輸入許可日\",F2=\"製造・輸入量\",\"製造日・輸入許可日\")","v":"輸入許可日"},{"$f":"_xlfn.IFS(F2=\"製造量\",\"製造数量（kg)\",F2=\"輸入量\",\"輸入数量（kg)\",F2=\"製造・輸入量\",\"製造・輸入数量（kg)\")","v":"輸入数量（kg)"},"含有率（％）","含有率換算数量(kg)",null,"Ｎｏ","ロット","払出日","払出数量（kg)","含有率（％）","含有率換算数量(kg)","用途番号","変更前ロット"]
["略称",null,null,null,null,"実績数量合計",null,{"$f":"B6","v":"2024年度"},{"$f":"SUMIF($E$7:$E106,$H$4,$I$7:$I106)","v":0},"-",{"$f":"SUMIF($E$7:$E106,$H$4,$K$7:$K106)","v":0},null,"払出数量合計",null,{"$f":"B6","v":"2024年度"},{"$f":"SUMIF($L$7:$L95,$O$4,$P$7:$P106)","v":0},"-",{"$f":"SUMIF($L$7:$L106,$H$4,$R$7:$R106)","v":0},"-","-"]
[null,null,null,null,null,null,null,{"$f":"C6","v":"2025年度"},{"$f":"SUMIF($E$7:$E106,$H$5,$I$7:$I106)","v":0},"-",{"$f":"SUMIF($E$7:$E106,$H$5,$K$7:$K106)","v":0},null,null,null,{"$f":"C6","v":"2025年度"},{"$f":"SUMIF($L$7:$L95,$O$5,$P$7:$P106)","v":0},"-",{"$f":"SUMIF($E$7:$E106,$H$5,$K$7:$K106)","v":0},"-","-"]
[null,{"$f":"'1'!B6","v":"2024年度"},{"$f":"'1'!C6","v":"2025年度"},{"$f":"'1'!D6","v":"2026年度"},null,null,null,{"$f":"D6","v":"2026年度"},{"$f":"SUMIF($E$7:$E106,$H$6,$I$7:$I106)","v":0},"-",{"$f":"SUMIF($E$7:$E106,$H$6,$K$7:$K106)","v":0},null,null,null,{"$f":"D6","v":"2026年度"},{"$f":"SUMIF($L$7:$L95,$O$6,$P$7:$P106)","v":0},"-",{"$f":"SUMIF($E$7:$E106,$H$6,$K$7:$K106)","v":0},"-","-"]
["確認年月日",null,null,null,{"$f":"IF(H7=\"\", \"\",YEAR(H7) - IF(MONTH(H7)<4, 1, 0) & \"年度\")","v":""},1,null,null,null,null,{"$f":"IF(J7=\"\",I7,I7*J7)","v":0},{"$f":"IF(O7=\"\", \"\",YEAR(O7) - IF(MONTH(O7)<4, 1, 0) & \"年度\")","v":""},1,null,null,null,null,{"$f":"IF(Q7=\"\",P7,P7*Q7)","v":0}]
["確認数量（kg）",null,null,null,"",2,null,null,null,null,{"$f":"IF(J8=\"\",I8,I8*J8)","v":0},"",2,null,null,null,null,{"$f":"IF(Q8=\"\",P8,P8*Q8)","v":0}]
["申出番号（受付コード下4桁）",null,null,null,"",3,null,null,null,null,{"$f":"IF(J9=\"\",I9,I9*J9)","v":0},"",3,null,null,null,null,{"$f":"IF(Q9=\"\",P9,P9*Q9)","v":0}]
["受付コード",{"$f":"IF(B$9=\"\",\"\",表１_対象物質一覧!$C$4&(MID($B$6,3,2)&B$9))","v":""},{"$f":"IF(C$9=\"\",\"\",表１_対象物質一覧!$C$4&(MID($C$6, 3, 2))&C$9)","v":""},{"$f":"IF(D$9=\"\",\"\",表１_対象物質一覧!$C$4&(MID($D$6, 3, 2))&D$9)","v":""},"",4,null,null,null,null,0,"",4,null,null,null,null,{"$f":"IF(Q10=\"\",P10,P10*Q10)","v":0}]
["用途番号",null,null,null,"",5,null,null,null,null,0,"",5,null,null,null,null,0]
[null,null,null,null,"",6,null,null,null,null,0,"",6,null,null,null,null,0]
[null,null,null,null,"",7,null,null,null,null,0,"",7,null,null,null,null,0]
[null,null,null,null,"",8,null,null,null,null,0,"",8,null,null,null,null,0]
[null,null,null,null,"",9,null,null,null,null,0,"",9,null,null,null,null,0]
[null,null,null,null,"",10,null,null,null,null,0,"",10,null,null,null,null,0]
["申出書に記載の「前年度の実績数量」",null,null,null,"",11,null,null,null,null,0,"",11,null,null,null,null,0]
["実績数量",{"$f":"$K$4","v":0},{"$f":"$K$5","v":0},{"$f":"$K$6","v":0},"",12,null,null,null,null,0,"",12,null,null,null,null,0]
["確認を受けている中間物等の分類",null,null,null,"",13,null,null,null,null,0,"",13,null,null,null,null,0]
["用途追加手続を省略して追加した用途の用途番号",null,null,null,"",14,null,null,null,null,0,"",14,null,null,null,null,0]
["備考（３年連続して実積数量がゼロの場合はその理由）",null,null,null,"",15,null,null,null,null,0,"",15,null,null,null,null,0]
["用途証明書なしであって確認年月日が複数ある場合の",null,null,null,"",16,null,null,null,null,0,"",16,null,null,null,null,0]
["確認年月日（上段）及び確認数量(kg)（下段）",null,null,null,"",17,null,null,null,null,0,"",17,null,null,null,null,0]
[null,null,null,null,"",18,null,null,null,null,0,"",18,null,null,null,null,0]
[null,null,null,null,"",19,null,null,null,null,0,"",19,null,null,null,null,0]
[null,null,null,null,"",20,null,null,null,null,0,"",20,null,null,null,null,0]
[null,null,null,null,"",21,null,null,null,null,0,"",21,null,null,null,null,0]
[null,null,null,null,"",22,null,null,null,null,0,"",22,null,null,null,null,0]
[null,null,null,null,"",23,null,null,null,null,0,"",23,null,null,null,null,0]
[null,null,null,null,"",24,null,null,null,null,0,"",24,null,null,null,null,0]
[null,null,null,null,"",25,null,null,null,null,0,"",25,null,null,null,null,0]
[null,null,null,null,"",26,null,null,null,null,0,"",26,null,null,null,null,0]
[null,null,null,null,"",27,null,null,null,null,0,"",27,null,null,null,null,0]
[null,null,null,null,"",28,null,null,null,null,0,"",28,null,null,null,null,0]
[null,null,null,null,"",29,null,null,null,null,0,"",29,null,null,null,null,0]
[null,null,null,null,"",30,null,null,null,null,0,"",30,null,null,null,null,0]
[null,null,null,null,"",31,null,null,null,null,0,"",31,null,null,null,null,0]
[null,null,null,null,"",32,null,null,null,null,0,"",32,null,null,null,null,0]
[null,null,null,null,{"$f":"IF(H39=\"\", \"\",YEAR(H39) - IF(MONTH(H39)<4, 1, 0) & \"年度\")","v":""},33,null,null,null,null,0,{"$f":"IF(O39=\"\", \"\",YEAR(O39) - IF(MONTH(O39)<4, 1, 0) & \"年度\")","v":""},33,null,null,null,null,0]
[null,null,null,null,"",34,null,null,null,null,0,"",34,null,null,null,null,0]
[null,null,null,null,"",35,null,null,null,null,0,"",35,null,null,null,null,0]
["同一年度で同じ化学物質を複数申請している場合は、その確認を受けた事項",null,null,null,"",36,null,null,null,null,0,"",36,null,null,null,null,0]
[null,{"$f":"$B$6","v":"2024年度"},{"$f":"$C$6","v":"2025年度"},{"$f":"$D$6","v":"2026年度"},"",37,null,null,null,null,0,"",37,null,null,null,null,0]
["複数手続きの種類",null,null,null,"",38,null,null,null,null,0,"",38,null,null,null,null,0]
["確認年月日",null,null,null,"",39,null,null,null,null,0,"",39,null,null,null,null,0]
["確認数量（kg）",null,null,null,"",40,null,null,null,null,0,"",40,null,null,null,null,0]
["申出番号（受付コード下4桁）",null,null,null,"",41,null,null,null,null,0,"",41,null,null,null,null,0]
["受付コード",{"$f":"IF(B$47=\"\",\"\",表１_対象物質一覧!$C$4&(MID($B$6,3,2)&B$47))","v":""},{"$f":"IF(C$47=\"\",\"\",表１_対象物質一覧!$C$4&(MID($C$6, 3, 2))&C$47)","v":""},{"$f":"IF(D$47=\"\",\"\",表１_対象物質一覧!$C$4&(MID($D$6, 3, 2))&D$47)","v":""},"",42,null,null,null,null,0,"",42,null,null,null,null,0]
["用途番号",null,null,null,"",43,null,null,null,null,0,"",43,null,null,null,null,0]
[null,null,null,null,"",44,null,null,null,null,0,"",44,null,null,null,null,0]
[null,null,null,null,"",45,null,null,null,null,0,"",45,null,null,null,null,0]
[null,null,null,null,"",46,null,null,null,null,0,"",46,null,null,null,null,0]
[null,null,null,null,"",47,null,null,null,null,0,"",47,null,null,null,null,0]
[null,null,null,null,"",48,null,null,null,null,0,"",48,null,null,null,null,0]
[null,null,null,null,"",49,null,null,null,null,0,"",49,null,null,null,null,0]
[null,{"$f":"$B$6","v":"2024年度"},{"$f":"$C$6","v":"2025年度"},{"$f":"$D$6","v":"2026年度"},"",50,null,null,null,null,0,"",50,null,null,null,null,0]
["複数手続きの種類",null,null,null,"",51,null,null,null,null,0,"",51,null,null,null,null,0]
["確認年月日",null,null,null,"",52,null,null,null,null,0,"",52,null,null,null,null,0]
["確認数量（kg）",null,null,null,"",53,null,null,null,null,0,"",53,null,null,null,null,0]
["申出番号（受付コード下4桁）",null,null,null,"",54,null,null,null,null,0,"",54,null,null,null,null,0]
["受付コード",{"$f":"IF(B$60=\"\",\"\",表１_対象物質一覧!$C$4&(MID($B$6,3,2)&B$60))","v":""},{"$f":"IF(C$60=\"\",\"\",表１_対象物質一覧!$C$4&(MID($C$6, 3, 2))&C$60)","v":""},{"$f":"IF(D$60=\"\",\"\",表１_対象物質一覧!$C$4&(MID($D$6, 3, 2))&D$60)","v":""},"",55,null,null,null,null,0,"",55,null,null,null,null,0]
["用途番号",null,null,null,"",56,null,null,null,null,0,"",56,null,null,null,null,0]
[null,null,null,null,"",57,null,null,null,null,0,"",57,null,null,null,null,0]
[null,null,null,null,"",58,null,null,null,null,0,"",58,null,null,null,null,0]
[null,null,null,null,"",59,null,null,null,null,0,"",59,null,null,null,null,0]
[null,null,null,null,"",60,null,null,null,null,0,"",60,null,null,null,null,0]
[null,null,null,null,"",61,null,null,null,null,0,"",61,null,null,null,null,0]
[null,null,null,null,"",62,null,null,null,null,0,"",62,null,null,null,null,0]
[null,{"$f":"$B$6","v":"2024年度"},{"$f":"$C$6","v":"2025年度"},{"$f":"$D$6","v":"2026年度"},"",63,null,null,null,null,0,"",63,null,null,null,null,0]
["複数手続きの種類",null,null,null,"",64,null,null,null,null,0,"",64,null,null,null,null,0]
["確認年月日",null,null,null,{"$f":"IF(H71=\"\", \"\",YEAR(H71) - IF(MONTH(H71)<4, 1, 0) & \"年度\")","v":""},65,null,null,null,null,0,{"$f":"IF(O71=\"\", \"\",YEAR(O71) - IF(MONTH(O71)<4, 1, 0) & \"年度\")","v":""},65,null,null,null,null,0]
["確認数量（kg）",null,null,null,"",66,null,null,null,null,0,"",66,null,null,null,null,0]
["申出番号（受付コード下4桁）",null,null,null,"",67,null,null,null,null,{"$f":"IF(J73=\"\",I73,I73*J73)","v":0},"",67,null,null,null,null,{"$f":"IF(Q73=\"\",P73,P73*Q73)","v":0}]
["受付コード",{"$f":"IF(B$73=\"\",\"\",表１_対象物質一覧!$C$4&(MID($B$6,3,2)&B$73))","v":""},{"$f":"IF(C$73=\"\",\"\",表１_対象物質一覧!$C$4&(MID($C$6, 3, 2))&C$73)","v":""},{"$f":"IF(D$73=\"\",\"\",表１_対象物質一覧!$C$4&(MID($D$6, 3, 2))&D$73)","v":""},"",68,null,null,null,null,0,"",68,null,null,null,null,0]
["用途番号",null,null,null,"",69,null,null,null,null,0,"",69,null,null,null,null,0]
[null,null,null,null,"",70,null,null,null,null,0,"",70,null,null,null,null,0]
[null,null,null,null,"",71,null,null,null,null,0,"",71,null,null,null,null,0]
[null,null,null,null,"",72,null,null,null,null,0,"",72,null,null,null,null,0]
[null,null,null,null,"",73,null,null,null,null,0,"",73,null,null,null,null,0]
[null,null,null,null,"",74,null,null,null,null,0,"",74,null,null,null,null,0]
[null,null,null,null,"",75,null,null,null,null,0,"",75,null,null,null,null,0]
["備考",null,null,null,"",76,null,null,null,null,0,"",76,null,null,null,null,0]
[null,null,null,null,"",77,null,null,null,null,0,"",77,null,null,null,null,0]
[null,null,null,null,"",78,null,null,null,null,0,"",78,null,null,null,null,0]
[null,null,null,null,"",79,null,null,null,null,0,"",79,null,null,null,null,0]
[null,null,null,null,"",80,null,null,null,null,0,"",80,null,null,null,null,0]
[null,null,null,null,"",81,null,null,null,null,0,"",81,null,null,null,null,0]
[null,null,null,null,"",82,null,null,null,null,0,"",82,null,null,null,null,0]
[null,null,null,null,"",83,null,null,null,null,0,"",83,null,null,null,null,0]
[null,null,null,null,"",84,null,null,null,null,0,"",84,null,null,null,null,0]
[null,null,null,null,"",85,null,null,null,null,0,"",85,null,null,null,null,0]
[null,null,null,null,"",86,null,null,null,null,0,"",86,null,null,null,null,0]
[null,null,null,null,"",87,null,null,null,null,0,"",87,null,null,null,null,0]
[null,null,null,null,"",88,null,null,null,null,0,"",88,null,null,null,null,0]
[null,null,null,null,"",89,null,null,null,null,0,"",89,null,null,null,null,0]
[null,null,null,null,"",90,null,null,null,null,0,"",90,null,null,null,null,0]
[null,null,null,null,"",91,null,null,null,null,0,"",91,null,null,null,null,0]
[null,null,null,null,"",92,null,null,null,null,0,"",92,null,null,null,null,0]
[null,null,null,null,"",93,null,null,null,null,0,"",93,null,null,null,null,0]
[null,null,null,null,"",94,null,null,null,null,0,"",94,null,null,null,null,0]
[null,null,null,null,"",95,null,null,null,null,0,"",95,null,null,null,null,0]
[null,null,null,null,"",96,null,null,null,null,0,"",96,null,null,null,null,0]
[null,null,null,null,"",97,null,null,null,null,0,"",97,null,null,null,null,0]
[null,null,null,null,"",98,null,null,null,null,0,"",98,null,null,null,null,0]
[null,null,null,null,"",99,null,null,null,null,{"$f":"IF(J105=\"\",I105,I105*J105)","v":0},"",99,null,null,null,null,{"$f":"IF(Q105=\"\",P105,P105*Q105)","v":0}]
[null,null,null,null,"",100,null,null,null,null,{"$f":"IF(J106=\"\",I106,I106*J106)","v":0},"",100,null,null,null,null,{"$f":"IF(Q106=\"\",P106,P106*Q106)","v":0}]

{"sheet":"6","index":6,"n_rows":106,"n_cols":20,"rows_kept":106,"cut":false,"hidden":false,"merged":[[1,5,1,6],[1,12,1,13],[3,5,5,6],[3,12,5,13]]}
["「表１_対象物質一覧」に戻る"]
["事業所名",null,null,null,null,"輸入量",null,null,null,null,null,null,"払出量"]
["新規化学物質の名称",null,null,null,null,"Ｎｏ",{"$f":"_xlfn.IFS(F2=\"製造量\",\"製造ロット\",F2=\"輸入量\",\"輸入ロット\",F2=\"製造・輸入量\",\"製造・輸入ロット\")","v":"輸入ロット"},{"$f":"_xlfn.IFS(F2=\"製造量\",\"製造日　（最終製品日）\",F2=\"輸入量\",\"輸入許可日\",F2=\"製造・輸入量\",\"製造日・輸入許可日\")","v":"輸入許可日"},{"$f":"_xlfn.IFS(F2=\"製造量\",\"製造数量（kg)\",F2=\"輸入量\",\"輸入数量（kg)\",F2=\"製造・輸入量\",\"製造・輸入数量（kg)\")","v":"輸入数量（kg)"},"含有率（％）","含有率換算数量(kg)",null,"Ｎｏ","ロット","払出日","払出数量（kg)","含有率（％）","含有率換算数量(kg)","用途番号","変更前ロット"]
["略称",null,null,null,null,"実績数量合計",null,{"$f":"B6","v":"2024年度"},{"$f":"SUMIF($E$7:$E106,$H$4,$I$7:$I106)","v":0},"-",{"$f":"SUMIF($E$7:$E106,$H$4,$K$7:$K106)","v":0},null,"払出数量合計",null,{"$f":"B6","v":"2024年度"},{"$f":"SUMIF($L$7:$L95,$O$4,$P$7:$P106)","v":0},"-",{"$f":"SUMIF($L$7:$L106,$H$4,$R$7:$R106)","v":0},"-","-"]
[null,null,null,null,null,null,null,{"$f":"C6","v":"2025年度"},{"$f":"SUMIF($E$7:$E106,$H$5,$I$7:$I106)","v":0},"-",{"$f":"SUMIF($E$7:$E106,$H$5,$K$7:$K106)","v":0},null,null,null,{"$f":"C6","v":"2025年度"},{"$f":"SUMIF($L$7:$L95,$O$5,$P$7:$P106)","v":0},"-",{"$f":"SUMIF($E$7:$E106,$H$5,$K$7:$K106)","v":0},"-","-"]
[null,{"$f":"'1'!B6","v":"2024年度"},{"$f":"'1'!C6","v":"2025年度"},{"$f":"'1'!D6","v":"2026年度"},null,null,null,{"$f":"D6","v":"2026年度"},{"$f":"SUMIF($E$7:$E106,$H$6,$I$7:$I106)","v":0},"-",{"$f":"SUMIF($E$7:$E106,$H$6,$K$7:$K106)","v":0},null,null,null,{"$f":"D6","v":"2026年度"},{"$f":"SUMIF($L$7:$L95,$O$6,$P$7:$P106)","v":0},"-",{"$f":"SUMIF($E$7:$E106,$H$6,$K$7:$K106)","v":0},"-","-"]
["確認年月日",null,null,null,{"$f":"IF(H7=\"\", \"\",YEAR(H7) - IF(MONTH(H7)<4, 1, 0) & \"年度\")","v":""},1,null,null,null,null,{"$f":"IF(J7=\"\",I7,I7*J7)","v":0},{"$f":"IF(O7=\"\", \"\",YEAR(O7) - IF(MONTH(O7)<4, 1, 0) & \"年度\")","v":""},1,null,null,null,null,{"$f":"IF(Q7=\"\",P7,P7*Q7)","v":0}]
["確認数量（kg）",null,null,null,"",2,null,null,null,null,{"$f":"IF(J8=\"\",I8,I8*J8)","v":0},"",2,null,null,null,null,{"$f":"IF(Q8=\"\",P8,P8*Q8)","v":0}]
["申出番号（受付コード下4桁）",null,null,null,"",3,null,null,null,null,{"$f":"IF(J9=\"\",I9,I9*J9)","v":0},"",3,null,null,null,null,{"$f":"IF(Q9=\"\",P9,P9*Q9)","v":0}]
["受付コード",{"$f":"IF(B$9=\"\",\"\",表１_対象物質一覧!$C$4&(MID($B$6,3,2)&B$9))","v":""},{"$f":"IF(C$9=\"\",\"\",表１_対象物質一覧!$C$4&(MID($C$6, 3, 2))&C$9)","v":""},{"$f":"IF(D$9=\"\",\"\",表１_対象物質一覧!$C$4&(MID($D$6, 3, 2))&D$9)","v":""},"",4,null,null,null,null,0,"",4,null,null,null,null,{"$f":"IF(Q10=\"\",P10,P10*Q10)","v":0}]
["用途番号",null,null,null,"",5,null,null,null,null,0,"",5,null,null,null,null,0]
[null,null,null,null,"",6,null,null,null,null,0,"",6,null,null,null,null,0]
[null,null,null,null,"",7,null,null,null,null,0,"",7,null,null,null,null,0]
[null,null,null,null,"",8,null,null,null,null,0,"",8,null,null,null,null,0]
[null,null,null,null,"",9,null,null,null,null,0,"",9,null,null,null,null,0]
[null,null,null,null,"",10,null,null,null,null,0,"",10,null,null,null,null,0]
["申出書に記載の「前年度の実績数量」",null,null,null,"",11,null,null,null,null,0,"",11,null,null,null,null,0]
["実績数量",{"$f":"$K$4","v":0},{"$f":"$K$5","v":0},{"$f":"$K$6","v":0},"",12,null,null,null,null,0,"",12,null,null,null,null,0]
["確認を受けている中間物等の分類",null,null,null,"",13,null,null,null,null,0,"",13,null,null,null,null,0]
["用途追加手続を省略して追加した用途の用途番号",null,null,null,"",14,null,null,null,null,0,"",14,null,null,null,null,0]
["備考（３年連続して実積数量がゼロの場合はその理由）",null,null,null,"",15,null,null,null,null,0,"",15,null,null,null,null,0]
["用途証明書なしであって確認年月日が複数ある場合の",null,null,null,"",16,null,null,null,null,0,"",16,null,null,null,null,0]
["確認年月日（上段）及び確認数量(kg)（下段）",null,null,null,"",17,null,null,null,null,0,"",17,null,null,null,null,0]
[null,null,null,null,"",18,null,null,null,null,0,"",18,null,null,null,null,0]
[null,null,null,null,"",19,null,null,null,null,0,"",19,null,null,null,null,0]
[null,null,null,null,"",20,null,null,null,null,0,"",20,null,null,null,null,0]
[null,null,null,null,"",21,null,null,null,null,0,"",21,null,null,null,null,0]
[null,null,null,null,"",22,null,null,null,null,0,"",22,null,null,null,null,0]
[null,null,null,null,"",23,null,null,null,null,0,"",23,null,null,null,null,0]
[null,null,null,null,"",24,null,null,null,null,0,"",24,null,null,null,null,0]
[null,null,null,null,"",25,null,null,null,null,0,"",25,null,null,null,null,0]
[null,null,null,null,"",26,null,null,null,null,0,"",26,null,null,null,null,0]
[null,null,null,null,"",27,null,null,null,null,0,"",27,null,null,null,null,0]
[null,null,null,null,"",28,null,null,null,null,0,"",28,null,null,null,null,0]
[null,null,null,null,"",29,null,null,null,null,0,"",29,null,null,null,null,0]
[null,null,null,null,"",30,null,null,null,null,0,"",30,null,null,null,null,0]
[null,null,null,null,"",31,null,null,null,null,0,"",31,null,null,null,null,0]
[null,null,null,null,"",32,null,null,null,null,0,"",32,null,null,null,null,0]
[null,null,null,null,{"$f":"IF(H39=\"\", \"\",YEAR(H39) - IF(MONTH(H39)<4, 1, 0) & \"年度\")","v":""},33,null,null,null,null,0,{"$f":"IF(O39=\"\", \"\",YEAR(O39) - IF(MONTH(O39)<4, 1, 0) & \"年度\")","v":""},33,null,null,null,null,0]
[null,null,null,null,"",34,null,null,null,null,0,"",34,null,null,null,null,0]
[null,null,null,null,"",35,null,null,null,null,0,"",35,null,null,null,null,0]
["同一年度で同じ化学物質を複数申請している場合は、その確認を受けた事項",null,null,null,"",36,null,null,null,null,0,"",36,null,null,null,null,0]
[null,{"$f":"$B$6","v":"2024年度"},{"$f":"$C$6","v":"2025年度"},{"$f":"$D$6","v":"2026年度"},"",37,null,null,null,null,0,"",37,null,null,null,null,0]
["複数手続きの種類",null,null,null,"",38,null,null,null,null,0,"",38,null,null,null,null,0]
["確認年月日",null,null,null,"",39,null,null,null,null,0,"",39,null,null,null,null,0]
["確認数量（kg）",null,null,null,"",40,null,null,null,null,0,"",40,null,null,null,null,0]
["申出番号（受付コード下4桁）",null,null,null,"",41,null,null,null,null,0,"",41,null,null,null,null,0]
["受付コード",{"$f":"IF(B$47=\"\",\"\",表１_対象物質一覧!$C$4&(MID($B$6,3,2)&B$47))","v":""},{"$f":"IF(C$47=\"\",\"\",表１_対象物質一覧!$C$4&(MID($C$6, 3, 2))&C$47)","v":""},{"$f":"IF(D$47=\"\",\"\",表１_対象物質一覧!$C$4&(MID($D$6, 3, 2))&D$47)","v":""},"",42,null,null,null,null,0,"",42,null,null,null,null,0]
["用途番号",null,null,null,"",43,null,null,null,null,0,"",43,null,null,null,null,0]
[null,null,null,null,"",44,null,null,null,null,0,"",44,null,null,null,null,0]
[null,null,null,null,"",45,null,null,null,null,0,"",45,null,null,null,null,0]
[null,null,null,null,"",46,null,null,null,null,0,"",46,null,null,null,null,0]
[null,null,null,null,"",47,null,null,null,null,0,"",47,null,null,null,null,0]
[null,null,null,null,"",48,null,null,null,null,0,"",48,null,null,null,null,0]
[null,null,null,null,"",49,null,null,null,null,0,"",49,null,null,null,null,0]
[null,{"$f":"$B$6","v":"2024年度"},{"$f":"$C$6","v":"2025年度"},{"$f":"$D$6","v":"2026年度"},"",50,null,null,null,null,0,"",50,null,null,null,null,0]
["複数手続きの種類",null,null,null,"",51,null,null,null,null,0,"",51,null,null,null,null,0]
["確認年月日",null,null,null,"",52,null,null,null,null,0,"",52,null,null,null,null,0]
["確認数量（kg）",null,null,null,"",53,null,null,null,null,0,"",53,null,null,null,null,0]
["申出番号（受付コード下4桁）",null,null,null,"",54,null,null,null,null,0,"",54,null,null,null,null,0]
["受付コード",{"$f":"IF(B$60=\"\",\"\",表１_対象物質一覧!$C$4&(MID($B$6,3,2)&B$60))","v":""},{"$f":"IF(C$60=\"\",\"\",表１_対象物質一覧!$C$4&(MID($C$6, 3, 2))&C$60)","v":""},{"$f":"IF(D$60=\"\",\"\",表１_対象物質一覧!$C$4&(MID($D$6, 3, 2))&D$60)","v":""},"",55,null,null,null,null,0,"",55,null,null,null,null,0]
["用途番号",null,null,null,"",56,null,null,null,null,0,"",56,null,null,null,null,0]
[null,null,null,null,"",57,null,null,null,null,0,"",57,null,null,null,null,0]
[null,null,null,null,"",58,null,null,null,null,0,"",58,null,null,null,null,0]
[null,null,null,null,"",59,null,null,null,null,0,"",59,null,null,null,null,0]
[null,null,null,null,"",60,null,null,null,null,0,"",60,null,null,null,null,0]
[null,null,null,null,"",61,null,null,null,null,0,"",61,null,null,null,null,0]
[null,null,null,null,"",62,null,null,null,null,0,"",62,null,null,null,null,0]
[null,{"$f":"$B$6","v":"2024年度"},{"$f":"$C$6","v":"2025年度"},{"$f":"$D$6","v":"2026年度"},"",63,null,null,null,null,0,"",63,null,null,null,null,0]
["複数手続きの種類",null,null,null,"",64,null,null,null,null,0,"",64,null,null,null,null,0]
["確認年月日",null,null,null,{"$f":"IF(H71=\"\", \"\",YEAR(H71) - IF(MONTH(H71)<4, 1, 0) & \"年度\")","v":""},65,null,null,null,null,0,{"$f":"IF(O71=\"\", \"\",YEAR(O71) - IF(MONTH(O71)<4, 1, 0) & \"年度\")","v":""},65,null,null,null,null,0]
["確認数量（kg）",null,null,null,"",66,null,null,null,null,0,"",66,null,null,null,null,0]
["申出番号（受付コード下4桁）",null,null,null,"",67,null,null,null,null,{"$f":"IF(J73=\"\",I73,I73*J73)","v":0},"",67,null,null,null,null,{"$f":"IF(Q73=\"\",P73,P73*Q73)","v":0}]
["受付コード",{"$f":"IF(B$73=\"\",\"\",表１_対象物質一覧!$C$4&(MID($B$6,3,2)&B$73))","v":""},{"$f":"IF(C$73=\"\",\"\",表１_対象物質一覧!$C$4&(MID($C$6, 3, 2))&C$73)","v":""},{"$f":"IF(D$73=\"\",\"\",表１_対象物質一覧!$C$4&(MID($D$6, 3, 2))&D$73)","v":""},"",68,null,null,null,null,0,"",68,null,null,null,null,0]
["用途番号",null,null,null,"",69,null,null,null,null,0,"",69,null,null,null,null,0]
[null,null,null,null,"",70,null,null,null,null,0,"",70,null,null,null,null,0]
[null,null,null,null,"",71,null,null,null,null,0,"",71,null,null,null,null,0]
[null,null,null,null,"",72,null,null,null,null,0,"",72,null,null,null,null,0]
[null,null,null,null,"",73,null,null,null,null,0,"",73,null,null,null,null,0]
[null,null,null,null,"",74,null,null,null,null,0,"",74,null,null,null,null,0]
[null,null,null,null,"",75,null,null,null,null,0,"",75,null,null,null,null,0]
["備考",null,null,null,"",76,null,null,null,null,0,"",76,null,null,null,null,0]
[null,null,null,null,"",77,null,null,null,null,0,"",77,null,null,null,null,0]
[null,null,null,null,"",78,null,null,null,null,0,"",78,null,null,null,null,0]
[null,null,null,null,"",79,null,null,null,null,0,"",79,null,null,null,null,0]
[null,null,null,null,"",80,null,null,null,null,0,"",80,null,null,null,null,0]
[null,null,null,null,"",81,null,null,null,null,0,"",81,null,null,null,null,0]
[null,null,null,null,"",82,null,null,null,null,0,"",82,null,null,null,null,0]
[null,null,null,null,"",83,null,null,null,null,0,"",83,null,null,null,null,0]
[null,null,null,null,"",84,null,null,null,null,0,"",84,null,null,null,null,0]
[null,null,null,null,"",85,null,null,null,null,0,"",85,null,null,null,null,0]
[null,null,null,null,"",86,null,null,null,null,0,"",86,null,null,null,null,0]
[null,null,null,null,"",87,null,null,null,null,0,"",87,null,null,null,null,0]
[null,null,null,null,"",88,null,null,null,null,0,"",88,null,null,null,null,0]
[null,null,null,null,"",89,null,null,null,null,0,"",89,null,null,null,null,0]
[null,null,null,null,"",90,null,null,null,null,0,"",90,null,null,null,null,0]
[null,null,null,null,"",91,null,null,null,null,0,"",91,null,null,null,null,0]
[null,null,null,null,"",92,null,null,null,null,0,"",92,null,null,null,null,0]
[null,null,null,null,"",93,null,null,null,null,0,"",93,null,null,null,null,0]
[null,null,null,null,"",94,null,null,null,null,0,"",94,null,null,null,null,0]
[null,null,null,null,"",95,null,null,null,null,0,"",95,null,null,null,null,0]
[null,null,null,null,"",96,null,null,null,null,0,"",96,null,null,null,null,0]
[null,null,null,null,"",97,null,null,null,null,0,"",97,null,null,null,null,0]
[null,null,null,null,"",98,null,null,null,null,0,"",98,null,null,null,null,0]
[null,null,null,null,"",99,null,null,null,null,{"$f":"IF(J105=\"\",I105,I105*J105)","v":0},"",99,null,null,null,null,{"$f":"IF(Q105=\"\",P105,P105*Q105)","v":0}]
[null,null,null,null,"",100,null,null,null,null,0,"",100,null,null,null,null,0]

{"sheet":"7","index":7,"n_rows":106,"n_cols":20,"rows_kept":106,"cut":false,"hidden":false,"merged":[[1,5,1,6],[1,12,1,13],[3,5,5,6],[3,12,5,13]]}
["「表１_対象物質一覧」に戻る"]
["事業所名",null,null,null,null,"輸入量",null,null,null,null,null,null,"払出量"]
["新規化学物質の名称",null,null,null,null,"Ｎｏ",{"$f":"_xlfn.IFS(F2=\"製造量\",\"製造ロット\",F2=\"輸入量\",\"輸入ロット\",F2=\"製造・輸入量\",\"製造・輸入ロット\")","v":"輸入ロット"},{"$f":"_xlfn.IFS(F2=\"製造量\",\"製造日　（最終製品日）\",F2=\"輸入量\",\"輸入許可日\",F2=\"製造・輸入量\",\"製造日・輸入許可日\")","v":"輸入許可日"},{"$f":"_xlfn.IFS(F2=\"製造量\",\"製造数量（kg)\",F2=\"輸入量\",\"輸入数量（kg)\",F2=\"製造・輸入量\",\"製造・輸入数量（kg)\")","v":"輸入数量（kg)"},"含有率（％）","含有率換算数量(kg)",null,"Ｎｏ","ロット","払出日","払出数量（kg)","含有率（％）","含有率換算数量(kg)","用途番号","変更前ロット"]
["略称",null,null,null,null,"実績数量合計",null,{"$f":"B6","v":"2024年度"},{"$f":"SUMIF($E$7:$E106,$H$4,$I$7:$I106)","v":0},"-",{"$f":"SUMIF($E$7:$E106,$H$4,$K$7:$K106)","v":0},null,"払出数量合計",null,{"$f":"B6","v":"2024年度"},{"$f":"SUMIF($L$7:$L95,$O$4,$P$7:$P106)","v":0},"-",{"$f":"SUMIF($L$7:$L106,$H$4,$R$7:$R106)","v":0},"-","-"]
[null,null,null,null,null,null,null,{"$f":"C6","v":"2025年度"},{"$f":"SUMIF($E$7:$E106,$H$5,$I$7:$I106)","v":0},"-",{"$f":"SUMIF($E$7:$E106,$H$5,$K$7:$K106)","v":0},null,null,null,{"$f":"C6","v":"2025年度"},{"$f":"SUMIF($L$7:$L95,$O$5,$P$7:$P106)","v":0},"-",{"$f":"SUMIF($E$7:$E106,$H$5,$K$7:$K106)","v":0},"-","-"]
[null,{"$f":"'1'!B6","v":"2024年度"},{"$f":"'1'!C6","v":"2025年度"},{"$f":"'1'!D6","v":"2026年度"},null,null,null,{"$f":"D6","v":"2026年度"},{"$f":"SUMIF($E$7:$E106,$H$6,$I$7:$I106)","v":0},"-",{"$f":"SUMIF($E$7:$E106,$H$6,$K$7:$K106)","v":0},null,null,null,{"$f":"D6","v":"2026年度"},{"$f":"SUMIF($L$7:$L95,$O$6,$P$7:$P106)","v":0},"-",{"$f":"SUMIF($E$7:$E106,$H$6,$K$7:$K106)","v":0},"-","-"]
["確認年月日",null,null,null,{"$f":"IF(H7=\"\", \"\",YEAR(H7) - IF(MONTH(H7)<4, 1, 0) & \"年度\")","v":""},1,null,null,null,null,{"$f":"IF(J7=\"\",I7,I7*J7)","v":0},{"$f":"IF(O7=\"\", \"\",YEAR(O7) - IF(MONTH(O7)<4, 1, 0) & \"年度\")","v":""},1,null,null,null,null,{"$f":"IF(Q7=\"\",P7,P7*Q7)","v":0}]
["確認数量（kg）",null,null,null,"",2,null,null,null,null,{"$f":"IF(J8=\"\",I8,I8*J8)","v":0},"",2,null,null,null,null,{"$f":"IF(Q8=\"\",P8,P8*Q8)","v":0}]
["申出番号（受付コード下4桁）",null,null,null,"",3,null,null,null,null,{"$f":"IF(J9=\"\",I9,I9*J9)","v":0},"",3,null,null,null,null,{"$f":"IF(Q9=\"\",P9,P9*Q9)","v":0}]
["受付コード",{"$f":"IF(B$9=\"\",\"\",表１_対象物質一覧!$C$4&(MID($B$6,3,2)&B$9))","v":""},{"$f":"IF(C$9=\"\",\"\",表１_対象物質一覧!$C$4&(MID($C$6, 3, 2))&C$9)","v":""},{"$f":"IF(D$9=\"\",\"\",表１_対象物質一覧!$C$4&(MID($D$6, 3, 2))&D$9)","v":""},"",4,null,null,null,null,0,"",4,null,null,null,null,{"$f":"IF(Q10=\"\",P10,P10*Q10)","v":0}]
["用途番号",null,null,null,"",5,null,null,null,null,0,"",5,null,null,null,null,0]
[null,null,null,null,"",6,null,null,null,null,0,"",6,null,null,null,null,0]
[null,null,null,null,"",7,null,null,null,null,0,"",7,null,null,null,null,0]
[null,null,null,null,"",8,null,null,null,null,0,"",8,null,null,null,null,0]
[null,null,null,null,"",9,null,null,null,null,0,"",9,null,null,null,null,0]
[null,null,null,null,"",10,null,null,null,null,0,"",10,null,null,null,null,0]
["申出書に記載の「前年度の実績数量」",null,null,null,"",11,null,null,null,null,0,"",11,null,null,null,null,0]
["実績数量",{"$f":"$K$4","v":0},{"$f":"$K$5","v":0},{"$f":"$K$6","v":0},"",12,null,null,null,null,0,"",12,null,null,null,null,0]
["確認を受けている中間物等の分類",null,null,null,"",13,null,null,null,null,0,"",13,null,null,null,null,0]
["用途追加手続を省略して追加した用途の用途番号",null,null,null,"",14,null,null,null,null,0,"",14,null,null,null,null,0]
["備考（３年連続して実積数量がゼロの場合はその理由）",null,null,null,"",15,null,null,null,null,0,"",15,null,null,null,null,0]
["用途証明書なしであって確認年月日が複数ある場合の",null,null,null,"",16,null,null,null,null,0,"",16,null,null,null,null,0]
["確認年月日（上段）及び確認数量(kg)（下段）",null,null,null,"",17,null,null,null,null,0,"",17,null,null,null,null,0]
[null,null,null,null,"",18,null,null,null,null,0,"",18,null,null,null,null,0]
[null,null,null,null,"",19,null,null,null,null,0,"",19,null,null,null,null,0]
[null,null,null,null,"",20,null,null,null,null,0,"",20,null,null,null,null,0]
[null,null,null,null,"",21,null,null,null,null,0,"",21,null,null,null,null,0]
[null,null,null,null,"",22,null,null,null,null,0,"",22,null,null,null,null,0]
[null,null,null,null,"",23,null,null,null,null,0,"",23,null,null,null,null,0]
[null,null,null,null,"",24,null,null,null,null,0,"",24,null,null,null,null,0]
[null,null,null,null,"",25,null,null,null,null,0,"",25,null,null,null,null,0]
[null,null,null,null,"",26,null,null,null,null,0,"",26,null,null,null,null,0]
[null,null,null,null,"",27,null,null,null,null,0,"",27,null,null,null,null,0]
[null,null,null,null,"",28,null,null,null,null,0,"",28,null,null,null,null,0]
[null,null,null,null,"",29,null,null,null,null,0,"",29,null,null,null,null,0]
[null,null,null,null,"",30,null,null,null,null,0,"",30,null,null,null,null,0]
[null,null,null,null,"",31,null,null,null,null,0,"",31,null,null,null,null,0]
[null,null,null,null,"",32,null,null,null,null,0,"",32,null,null,null,null,0]
[null,null,null,null,{"$f":"IF(H39=\"\", \"\",YEAR(H39) - IF(MONTH(H39)<4, 1, 0) & \"年度\")","v":""},33,null,null,null,null,0,{"$f":"IF(O39=\"\", \"\",YEAR(O39) - IF(MONTH(O39)<4, 1, 0) & \"年度\")","v":""},33,null,null,null,null,0]
[null,null,null,null,"",34,null,null,null,null,0,"",34,null,null,null,null,0]
[null,null,null,null,"",35,null,null,null,null,0,"",35,null,null,null,null,0]
["同一年度で同じ化学物質を複数申請している場合は、その確認を受けた事項",null,null,null,"",36,null,null,null,null,0,"",36,null,null,null,null,0]
[null,{"$f":"$B$6","v":"2024年度"},{"$f":"$C$6","v":"2025年度"},{"$f":"$D$6","v":"2026年度"},"",37,null,null,null,null,0,"",37,null,null,null,null,0]
["複数手続きの種類",null,null,null,"",38,null,null,null,null,0,"",38,null,null,null,null,0]
["確認年月日",null,null,null,"",39,null,null,null,null,0,"",39,null,null,null,null,0]
["確認数量（kg）",null,null,null,"",40,null,null,null,null,0,"",40,null,null,null,null,0]
["申出番号（受付コード下4桁）",null,null,null,"",41,null,null,null,null,0,"",41,null,null,null,null,0]
["受付コード",{"$f":"IF(B$47=\"\",\"\",表１_対象物質一覧!$C$4&(MID($B$6,3,2)&B$47))","v":""},{"$f":"IF(C$47=\"\",\"\",表１_対象物質一覧!$C$4&(MID($C$6, 3, 2))&C$47)","v":""},{"$f":"IF(D$47=\"\",\"\",表１_対象物質一覧!$C$4&(MID($D$6, 3, 2))&D$47)","v":""},"",42,null,null,null,null,0,"",42,null,null,null,null,0]
["用途番号",null,null,null,"",43,null,null,null,null,0,"",43,null,null,null,null,0]
[null,null,null,null,"",44,null,null,null,null,0,"",44,null,null,null,null,0]
[null,null,null,null,"",45,null,null,null,null,0,"",45,null,null,null,null,0]
[null,null,null,null,"",46,null,null,null,null,0,"",46,null,null,null,null,0]
[null,null,null,null,"",47,null,null,null,null,0,"",47,null,null,null,null,0]
[null,null,null,null,"",48,null,null,null,null,0,"",48,null,null,null,null,0]
[null,null,null,null,"",49,null,null,null,null,0,"",49,null,null,null,null,0]
[null,{"$f":"$B$6","v":"2024年度"},{"$f":"$C$6","v":"2025年度"},{"$f":"$D$6","v":"2026年度"},"",50,null,null,null,null,0,"",50,null,null,null,null,0]
["複数手続きの種類",null,null,null,"",51,null,null,null,null,0,"",51,null,null,null,null,0]
["確認年月日",null,null,null,"",52,null,null,null,null,0,"",52,null,null,null,null,0]
["確認数量（kg）",null,null,null,"",53,null,null,null,null,0,"",53,null,null,null,null,0]
["申出番号（受付コード下4桁）",null,null,null,"",54,null,null,null,null,0,"",54,null,null,null,null,0]
["受付コード",{"$f":"IF(B$60=\"\",\"\",表１_対象物質一覧!$C$4&(MID($B$6,3,2)&B$60))","v":""},{"$f":"IF(C$60=\"\",\"\",表１_対象物質一覧!$C$4&(MID($C$6, 3, 2))&C$60)","v":""},{"$f":"IF(D$60=\"\",\"\",表１_対象物質一覧!$C$4&(MID($D$6, 3, 2))&D$60)","v":""},"",55,null,null,null,null,0,"",55,null,null,null,null,0]
["用途番号",null,null,null,"",56,null,null,null,null,0,"",56,null,null,null,null,0]
[null,null,null,null,"",57,null,null,null,null,0,"",57,null,null,null,null,0]
[null,null,null,null,"",58,null,null,null,null,0,"",58,null,null,null,null,0]
[null,null,null,null,"",59,null,null,null,null,0,"",59,null,null,null,null,0]
[null,null,null,null,"",60,null,null,null,null,0,"",60,null,null,null,null,0]
[null,null,null,null,"",61,null,null,null,null,0,"",61,null,null,null,null,0]
[null,null,null,null,"",62,null,null,null,null,0,"",62,null,null,null,null,0]
[null,{"$f":"$B$6","v":"2024年度"},{"$f":"$C$6","v":"2025年度"},{"$f":"$D$6","v":"2026年度"},"",63,null,null,null,null,0,"",63,null,null,null,null,0]
["複数手続きの種類",null,null,null,"",64,null,null,null,null,0,"",64,null,null,null,null,0]
["確認年月日",null,null,null,{"$f":"IF(H71=\"\", \"\",YEAR(H71) - IF(MONTH(H71)<4, 1, 0) & \"年度\")","v":""},65,null,null,null,null,0,{"$f":"IF(O71=\"\", \"\",YEAR(O71) - IF(MONTH(O71)<4, 1, 0) & \"年度\")","v":""},65,null,null,null,null,0]
["確認数量（kg）",null,null,null,"",66,null,null,null,null,0,"",66,null,null,null,null,0]
["申出番号（受付コード下4桁）",null,null,null,"",67,null,null,null,null,{"$f":"IF(J73=\"\",I73,I73*J73)","v":0},"",67,null,null,null,null,{"$f":"IF(Q73=\"\",P73,P73*Q73)","v":0}]
["受付コード",{"$f":"IF(B$73=\"\",\"\",表１_対象物質一覧!$C$4&(MID($B$6,3,2)&B$73))","v":""},{"$f":"IF(C$73=\"\",\"\",表１_対象物質一覧!$C$4&(MID($C$6, 3, 2))&C$73)","v":""},{"$f":"IF(D$73=\"\",\"\",表１_対象物質一覧!$C$4&(MID($D$6, 3, 2))&D$73)","v":""},"",68,null,null,null,null,0,"",68,null,null,null,null,0]
["用途番号",null,null,null,"",69,null,null,null,null,0,"",69,null,null,null,null,0]
[null,null,null,null,"",70,null,null,null,null,0,"",70,null,null,null,null,0]
[null,null,null,null,"",71,null,null,null,null,0,"",71,null,null,null,null,0]
[null,null,null,null,"",72,null,null,null,null,0,"",72,null,null,null,null,0]
[null,null,null,null,"",73,null,null,null,null,0,"",73,null,null,null,null,0]
[null,null,null,null,"",74,null,null,null,null,0,"",74,null,null,null,null,0]
[null,null,null,null,"",75,null,null,null,null,0,"",75,null,null,null,null,0]
["備考",null,null,null,"",76,null,null,null,null,0,"",76,null,null,null,null,0]
[null,null,null,null,"",77,null,null,null,null,0,"",77,null,null,null,null,0]
[null,null,null,null,"",78,null,null,null,null,0,"",78,null,null,null,null,0]
[null,null,null,null,"",79,null,null,null,null,0,"",79,null,null,null,null,0]
[null,null,null,null,"",80,null,null,null,null,0,"",80,null,null,null,null,0]
[null,null,null,null,"",81,null,null,null,null,0,"",81,null,null,null,null,0]
[null,null,null,null,"",82,null,null,null,null,0,"",82,null,null,null,null,0]
[null,null,null,null,"",83,null,null,null,null,0,"",83,null,null,null,null,0]
[null,null,null,null,"",84,null,null,null,null,0,"",84,null,null,null,null,0]
[null,null,null,null,"",85,null,null,null,null,0,"",85,null,null,null,null,0]
[null,null,null,null,"",86,null,null,null,null,0,"",86,null,null,null,null,0]
[null,null,null,null,"",87,null,null,null,null,0,"",87,null,null,null,null,0]
[null,null,null,null,"",88,null,null,null,null,0,"",88,null,null,null,null,0]
[null,null,null,null,"",89,null,null,null,null,0,"",89,null,null,null,null,0]
[null,null,null,null,"",90,null,null,null,null,0,"",90,null,null,null,null,0]
[null,null,null,null,"",91,null,null,null,null,0,"",91,null,null,null,null,0]
[null,null,null,null,"",92,null,null,null,null,0,"",92,null,null,null,null,0]
[null,null,null,null,"",93,null,null,null,null,0,"",93,null,null,null,null,0]
[null,null,null,null,"",94,null,null,null,null,0,"",94,null,null,null,null,0]
[null,null,null,null,"",95,null,null,null,null,0,"",95,null,null,null,null,0]
[null,null,null,null,"",96,null,null,null,null,0,"",96,null,null,null,null,0]
[null,null,null,null,"",97,null,null,null,null,0,"",97,null,null,null,null,0]
[null,null,null,null,"",98,null,null,null,null,0,"",98,null,null,null,null,0]
[null,null,null,null,"",99,null,null,null,null,{"$f":"IF(J105=\"\",I105,I105*J105)","v":0},"",99,null,null,null,null,{"$f":"IF(Q105=\"\",P105,P105*Q105)","v":0}]
[null,null,null,null,"",100,null,null,null,null,0,"",100,null,null,null,null,0]

{"sheet":"8","index":8,"n_rows":106,"n_cols":20,"rows_kept":106,"cut":false,"hidden":false,"merged":[[1,5,1,6],[1,12,1,13],[3,5,5,6],[3,12,5,13]]}
["「表１_対象物質一覧」に戻る"]
["事業所名",null,null,null,null,"輸入量",null,null,null,null,null,null,"払出量"]
["新規化学物質の名称",null,null,null,null,"Ｎｏ",{"$f":"_xlfn.IFS(F2=\"製造量\",\"製造ロット\",F2=\"輸入量\",\"輸入ロット\",F2=\"製造・輸入量\",\"製造・輸入ロット\")","v":"輸入ロット"},{"$f":"_xlfn.IFS(F2=\"製造量\",\"製造日　（最終製品日）\",F2=\"輸入量\",\"輸入許可日\",F2=\"製造・輸入量\",\"製造日・輸入許可日\")","v":"輸入許可日"},{"$f":"_xlfn.IFS(F2=\"製造量\",\"製造数量（kg)\",F2=\"輸入量\",\"輸入数量（kg)\",F2=\"製造・輸入量\",\"製造・輸入数量（kg)\")","v":"輸入数量（kg)"},"含有率（％）","含有率換算数量(kg)",null,"Ｎｏ","ロット","払出日","払出数量（kg)","含有率（％）","含有率換算数量(kg)","用途番号","変更前ロット"]
["略称",null,null,null,null,"実績数量合計",null,{"$f":"B6","v":"2024年度"},{"$f":"SUMIF($E$7:$E106,$H$4,$I$7:$I106)","v":0},"-",{"$f":"SUMIF($E$7:$E106,$H$4,$K$7:$K106)","v":0},null,"払出数量合計",null,{"$f":"B6","v":"2024年度"},{"$f":"SUMIF($L$7:$L95,$O$4,$P$7:$P106)","v":0},"-",{"$f":"SUMIF($L$7:$L106,$H$4,$R$7:$R106)","v":0},"-","-"]
[null,null,null,null,null,null,null,{"$f":"C6","v":"2025年度"},{"$f":"SUMIF($E$7:$E106,$H$5,$I$7:$I106)","v":0},"-",{"$f":"SUMIF($E$7:$E106,$H$5,$K$7:$K106)","v":0},null,null,null,{"$f":"C6","v":"2025年度"},{"$f":"SUMIF($L$7:$L95,$O$5,$P$7:$P106)","v":0},"-",{"$f":"SUMIF($E$7:$E106,$H$5,$K$7:$K106)","v":0},"-","-"]
[null,{"$f":"'1'!B6","v":"2024年度"},{"$f":"'1'!C6","v":"2025年度"},{"$f":"'1'!D6","v":"2026年度"},null,null,null,{"$f":"D6","v":"2026年度"},{"$f":"SUMIF($E$7:$E106,$H$6,$I$7:$I106)","v":0},"-",{"$f":"SUMIF($E$7:$E106,$H$6,$K$7:$K106)","v":0},null,null,null,{"$f":"D6","v":"2026年度"},{"$f":"SUMIF($L$7:$L95,$O$6,$P$7:$P106)","v":0},"-",{"$f":"SUMIF($E$7:$E106,$H$6,$K$7:$K106)","v":0},"-","-"]
["確認年月日",null,null,null,{"$f":"IF(H7=\"\", \"\",YEAR(H7) - IF(MONTH(H7)<4, 1, 0) & \"年度\")","v":""},1,null,null,null,null,{"$f":"IF(J7=\"\",I7,I7*J7)","v":0},{"$f":"IF(O7=\"\", \"\",YEAR(O7) - IF(MONTH(O7)<4, 1, 0) & \"年度\")","v":""},1,null,null,null,null,{"$f":"IF(Q7=\"\",P7,P7*Q7)","v":0}]
["確認数量（kg）",null,null,null,"",2,null,null,null,null,{"$f":"IF(J8=\"\",I8,I8*J8)","v":0},"",2,null,null,null,null,{"$f":"IF(Q8=\"\",P8,P8*Q8)","v":0}]
["申出番号（受付コード下4桁）",null,null,null,"",3,null,null,null,null,{"$f":"IF(J9=\"\",I9,I9*J9)","v":0},"",3,null,null,null,null,{"$f":"IF(Q9=\"\",P9,P9*Q9)","v":0}]
["受付コード",{"$f":"IF(B$9=\"\",\"\",表１_対象物質一覧!$C$4&(MID($B$6,3,2)&B$9))","v":""},{"$f":"IF(C$9=\"\",\"\",表１_対象物質一覧!$C$4&(MID($C$6, 3, 2))&C$9)","v":""},{"$f":"IF(D$9=\"\",\"\",表１_対象物質一覧!$C$4&(MID($D$6, 3, 2))&D$9)","v":""},"",4,null,null,null,null,0,"",4,null,null,null,null,{"$f":"IF(Q10=\"\",P10,P10*Q10)","v":0}]
["用途番号",null,null,null,null,5,null,null,null,null,0,"",5,null,null,null,null,0]
[null,null,null,null,"",6,null,null,null,null,0,"",6,null,null,null,null,0]
[null,null,null,null,"",7,null,null,null,null,0,"",7,null,null,null,null,0]
[null,null,null,null,"",8,null,null,null,null,0,"",8,null,null,null,null,0]
[null,null,null,null,"",9,null,null,null,null,0,"",9,null,null,null,null,0]
[null,null,null,null,"",10,null,null,null,null,0,"",10,null,null,null,null,0]
["申出書に記載の「前年度の実績数量」",null,null,null,"",11,null,null,null,null,0,"",11,null,null,null,null,0]
["実績数量",{"$f":"$K$4","v":0},{"$f":"$K$5","v":0},{"$f":"$K$6","v":0},"",12,null,null,null,null,0,"",12,null,null,null,null,0]
["確認を受けている中間物等の分類",null,null,null,"",13,null,null,null,null,0,"",13,null,null,null,null,0]
["用途追加手続を省略して追加した用途の用途番号",null,null,null,"",14,null,null,null,null,0,"",14,null,null,null,null,0]
["備考（３年連続して実積数量がゼロの場合はその理由）",null,null,null,"",15,null,null,null,null,0,"",15,null,null,null,null,0]
["用途証明書なしであって確認年月日が複数ある場合の",null,null,null,"",16,null,null,null,null,0,"",16,null,null,null,null,0]
["確認年月日（上段）及び確認数量(kg)（下段）",null,null,null,"",17,null,null,null,null,0,"",17,null,null,null,null,0]
[null,null,null,null,"",18,null,null,null,null,0,"",18,null,null,null,null,0]
[null,null,null,null,"",19,null,null,null,null,0,"",19,null,null,null,null,0]
[null,null,null,null,"",20,null,null,null,null,0,"",20,null,null,null,null,0]
[null,null,null,null,"",21,null,null,null,null,0,"",21,null,null,null,null,0]
[null,null,null,null,"",22,null,null,null,null,0,"",22,null,null,null,null,0]
[null,null,null,null,"",23,null,null,null,null,0,"",23,null,null,null,null,0]
[null,null,null,null,"",24,null,null,null,null,0,"",24,null,null,null,null,0]
[null,null,null,null,"",25,null,null,null,null,0,"",25,null,null,null,null,0]
[null,null,null,null,"",26,null,null,null,null,0,"",26,null,null,null,null,0]
[null,null,null,null,"",27,null,null,null,null,0,"",27,null,null,null,null,0]
[null,null,null,null,"",28,null,null,null,null,0,"",28,null,null,null,null,0]
[null,null,null,null,"",29,null,null,null,null,0,"",29,null,null,null,null,0]
[null,null,null,null,"",30,null,null,null,null,0,"",30,null,null,null,null,0]
[null,null,null,null,"",31,null,null,null,null,0,"",31,null,null,null,null,0]
[null,null,null,null,"",32,null,null,null,null,0,"",32,null,null,null,null,0]
[null,null,null,null,{"$f":"IF(H39=\"\", \"\",YEAR(H39) - IF(MONTH(H39)<4, 1, 0) & \"年度\")","v":""},33,null,null,null,null,0,{"$f":"IF(O39=\"\", \"\",YEAR(O39) - IF(MONTH(O39)<4, 1, 0) & \"年度\")","v":""},33,null,null,null,null,0]
[null,null,null,null,"",34,null,null,null,null,0,"",34,null,null,null,null,0]
[null,null,null,null,"",35,null,null,null,null,0,"",35,null,null,null,null,0]
["同一年度で同じ化学物質を複数申請している場合は、その確認を受けた事項",null,null,null,"",36,null,null,null,null,0,"",36,null,null,null,null,0]
[null,{"$f":"$B$6","v":"2024年度"},{"$f":"$C$6","v":"2025年度"},{"$f":"$D$6","v":"2026年度"},"",37,null,null,null,null,0,"",37,null,null,null,null,0]
["複数手続きの種類",null,null,null,"",38,null,null,null,null,0,"",38,null,null,null,null,0]
["確認年月日",null,null,null,"",39,null,null,null,null,0,"",39,null,null,null,null,0]
["確認数量（kg）",null,null,null,"",40,null,null,null,null,0,"",40,null,null,null,null,0]
["申出番号（受付コード下4桁）",null,null,null,"",41,null,null,null,null,0,"",41,null,null,null,null,0]
["受付コード",{"$f":"IF(B$47=\"\",\"\",表１_対象物質一覧!$C$4&(MID($B$6,3,2)&B$47))","v":""},{"$f":"IF(C$47=\"\",\"\",表１_対象物質一覧!$C$4&(MID($C$6, 3, 2))&C$47)","v":""},{"$f":"IF(D$47=\"\",\"\",表１_対象物質一覧!$C$4&(MID($D$6, 3, 2))&D$47)","v":""},"",42,null,null,null,null,0,"",42,null,null,null,null,0]
["用途番号",null,null,null,"",43,null,null,null,null,0,"",43,null,null,null,null,0]
[null,null,null,null,"",44,null,null,null,null,0,"",44,null,null,null,null,0]
[null,null,null,null,"",45,null,null,null,null,0,"",45,null,null,null,null,0]
[null,null,null,null,"",46,null,null,null,null,0,"",46,null,null,null,null,0]
[null,null,null,null,"",47,null,null,null,null,0,"",47,null,null,null,null,0]
[null,null,null,null,"",48,null,null,null,null,0,"",48,null,null,null,null,0]
[null,null,null,null,"",49,null,null,null,null,0,"",49,null,null,null,null,0]
[null,{"$f":"$B$6","v":"2024年度"},{"$f":"$C$6","v":"2025年度"},{"$f":"$D$6","v":"2026年度"},"",50,null,null,null,null,0,"",50,null,null,null,null,0]
["複数手続きの種類",null,null,null,"",51,null,null,null,null,0,"",51,null,null,null,null,0]
["確認年月日",null,null,null,"",52,null,null,null,null,0,"",52,null,null,null,null,0]
["確認数量（kg）",null,null,null,"",53,null,null,null,null,0,"",53,null,null,null,null,0]
["申出番号（受付コード下4桁）",null,null,null,"",54,null,null,null,null,0,"",54,null,null,null,null,0]
["受付コード",{"$f":"IF(B$60=\"\",\"\",表１_対象物質一覧!$C$4&(MID($B$6,3,2)&B$60))","v":""},{"$f":"IF(C$60=\"\",\"\",表１_対象物質一覧!$C$4&(MID($C$6, 3, 2))&C$60)","v":""},{"$f":"IF(D$60=\"\",\"\",表１_対象物質一覧!$C$4&(MID($D$6, 3, 2))&D$60)","v":""},"",55,null,null,null,null,0,"",55,null,null,null,null,0]
["用途番号",null,null,null,"",56,null,null,null,null,0,"",56,null,null,null,null,0]
[null,null,null,null,"",57,null,null,null,null,0,"",57,null,null,null,null,0]
[null,null,null,null,"",58,null,null,null,null,0,"",58,null,null,null,null,0]
[null,null,null,null,"",59,null,null,null,null,0,"",59,null,null,null,null,0]
[null,null,null,null,"",60,null,null,null,null,0,"",60,null,null,null,null,0]
[null,null,null,null,"",61,null,null,null,null,0,"",61,null,null,null,null,0]
[null,null,null,null,"",62,null,null,null,null,0,"",62,null,null,null,null,0]
[null,{"$f":"$B$6","v":"2024年度"},{"$f":"$C$6","v":"2025年度"},{"$f":"$D$6","v":"2026年度"},"",63,null,null,null,null,0,"",63,null,null,null,null,0]
["複数手続きの種類",null,null,null,"",64,null,null,null,null,0,"",64,null,null,null,null,0]
["確認年月日",null,null,null,{"$f":"IF(H71=\"\", \"\",YEAR(H71) - IF(MONTH(H71)<4, 1, 0) & \"年度\")","v":""},65,null,null,null,null,0,{"$f":"IF(O71=\"\", \"\",YEAR(O71) - IF(MONTH(O71)<4, 1, 0) & \"年度\")","v":""},65,null,null,null,null,0]
["確認数量（kg）",null,null,null,"",66,null,null,null,null,0,"",66,null,null,null,null,0]
["申出番号（受付コード下4桁）",null,null,null,"",67,null,null,null,null,{"$f":"IF(J73=\"\",I73,I73*J73)","v":0},"",67,null,null,null,null,{"$f":"IF(Q73=\"\",P73,P73*Q73)","v":0}]
["受付コード",{"$f":"IF(B$73=\"\",\"\",表１_対象物質一覧!$C$4&(MID($B$6,3,2)&B$73))","v":""},{"$f":"IF(C$73=\"\",\"\",表１_対象物質一覧!$C$4&(MID($C$6, 3, 2))&C$73)","v":""},{"$f":"IF(D$73=\"\",\"\",表１_対象物質一覧!$C$4&(MID($D$6, 3, 2))&D$73)","v":""},"",68,null,null,null,null,0,"",68,null,null,null,null,0]
["用途番号",null,null,null,"",69,null,null,null,null,0,"",69,null,null,null,null,0]
[null,null,null,null,"",70,null,null,null,null,0,"",70,null,null,null,null,0]
[null,null,null,null,"",71,null,null,null,null,0,"",71,null,null,null,null,0]
[null,null,null,null,"",72,null,null,null,null,0,"",72,null,null,null,null,0]
[null,null,null,null,"",73,null,null,null,null,0,"",73,null,null,null,null,0]
[null,null,null,null,"",74,null,null,null,null,0,"",74,null,null,null,null,0]
[null,null,null,null,"",75,null,null,null,null,0,"",75,null,null,null,null,0]
["備考",null,null,null,"",76,null,null,null,null,0,"",76,null,null,null,null,0]
[null,null,null,null,"",77,null,null,null,null,0,"",77,null,null,null,null,0]
[null,null,null,null,"",78,null,null,null,null,0,"",78,null,null,null,null,0]
[null,null,null,null,"",79,null,null,null,null,0,"",79,null,null,null,null,0]
[null,null,null,null,"",80,null,null,null,null,0,"",80,null,null,null,null,0]
[null,null,null,null,"",81,null,null,null,null,0,"",81,null,null,null,null,0]
[null,null,null,null,"",82,null,null,null,null,0,"",82,null,null,null,null,0]
[null,null,null,null,"",83,null,null,null,null,0,"",83,null,null,null,null,0]
[null,null,null,null,"",84,null,null,null,null,0,"",84,null,null,null,null,0]
[null,null,null,null,"",85,null,null,null,null,0,"",85,null,null,null,null,0]
[null,null,null,null,"",86,null,null,null,null,0,"",86,null,null,null,null,0]
[null,null,null,null,"",87,null,null,null,null,0,"",87,null,null,null,null,0]
[null,null,null,null,"",88,null,null,null,null,0,"",88,null,null,null,null,0]
[null,null,null,null,"",89,null,null,null,null,0,"",89,null,null,null,null,0]
[null,null,null,null,"",90,null,null,null,null,0,"",90,null,null,null,null,0]
[null,null,null,null,"",91,null,null,null,null,0,"",91,null,null,null,null,0]
[null,null,null,null,"",92,null,null,null,null,0,"",92,null,null,null,null,0]
[null,null,null,null,"",93,null,null,null,null,0,"",93,null,null,null,null,0]
[null,null,null,null,"",94,null,null,null,null,0,"",94,null,null,null,null,0]
[null,null,null,null,"",95,null,null,null,null,0,"",95,null,null,null,null,0]
[null,null,null,null,"",96,null,null,null,null,0,"",96,null,null,null,null,0]
[null,null,null,null,"",97,null,null,null,null,0,"",97,null,null,null,null,0]
[null,null,null,null,"",98,null,null,null,null,0,"",98,null,null,null,null,0]
[null,null,null,null,"",99,null,null,null,null,{"$f":"IF(J105=\"\",I105,I105*J105)","v":0},"",99,null,null,null,null,{"$f":"IF(Q105=\"\",P105,P105*Q105)","v":0}]
[null,null,null,null,"",100,null,null,null,null,{"$f":"IF(J106=\"\",I106,I106*J106)","v":0},"",100,null,null,null,null,{"$f":"IF(Q106=\"\",P106,P106*Q106)","v":0}]

{"sheet":"9","index":9,"n_rows":106,"n_cols":20,"rows_kept":106,"cut":false,"hidden":false,"merged":[[1,5,1,6],[1,12,1,13],[3,5,5,6],[3,12,5,13]]}
["「表１_対象物質一覧」に戻る"]
["事業所名",null,null,null,null,"輸入量",null,null,null,null,null,null,"払出量"]
["新規化学物質の名称",null,null,null,null,"Ｎｏ",{"$f":"_xlfn.IFS(F2=\"製造量\",\"製造ロット\",F2=\"輸入量\",\"輸入ロット\",F2=\"製造・輸入量\",\"製造・輸入ロット\")","v":"輸入ロット"},{"$f":"_xlfn.IFS(F2=\"製造量\",\"製造日　（最終製品日）\",F2=\"輸入量\",\"輸入許可日\",F2=\"製造・輸入量\",\"製造日・輸入許可日\")","v":"輸入許可日"},{"$f":"_xlfn.IFS(F2=\"製造量\",\"製造数量（kg)\",F2=\"輸入量\",\"輸入数量（kg)\",F2=\"製造・輸入量\",\"製造・輸入数量（kg)\")","v":"輸入数量（kg)"},"含有率（％）","含有率換算数量(kg)",null,"Ｎｏ","ロット","払出日","払出数量（kg)","含有率（％）","含有率換算数量(kg)","用途番号","変更前ロット"]
["略称",null,null,null,null,"実績数量合計",null,{"$f":"B6","v":"2024年度"},{"$f":"SUMIF($E$7:$E106,$H$4,$I$7:$I106)","v":0},"-",{"$f":"SUMIF($E$7:$E106,$H$4,$K$7:$K106)","v":0},null,"払出数量合計",null,{"$f":"B6","v":"2024年度"},{"$f":"SUMIF($L$7:$L95,$O$4,$P$7:$P106)","v":0},"-",{"$f":"SUMIF($L$7:$L106,$H$4,$R$7:$R106)","v":0},"-","-"]
[null,null,null,null,null,null,null,{"$f":"C6","v":"2025年度"},{"$f":"SUMIF($E$7:$E106,$H$5,$I$7:$I106)","v":0},"-",{"$f":"SUMIF($E$7:$E106,$H$5,$K$7:$K106)","v":0},null,null,null,{"$f":"C6","v":"2025年度"},{"$f":"SUMIF($L$7:$L95,$O$5,$P$7:$P106)","v":0},"-",{"$f":"SUMIF($E$7:$E106,$H$5,$K$7:$K106)","v":0},"-","-"]
[null,{"$f":"'1'!B6","v":"2024年度"},{"$f":"'1'!C6","v":"2025年度"},{"$f":"'1'!D6","v":"2026年度"},null,null,null,{"$f":"D6","v":"2026年度"},{"$f":"SUMIF($E$7:$E106,$H$6,$I$7:$I106)","v":0},"-",{"$f":"SUMIF($E$7:$E106,$H$6,$K$7:$K106)","v":0},null,null,null,{"$f":"D6","v":"2026年度"},{"$f":"SUMIF($L$7:$L95,$O$6,$P$7:$P106)","v":0},"-",{"$f":"SUMIF($E$7:$E106,$H$6,$K$7:$K106)","v":0},"-","-"]
["確認年月日",null,null,null,{"$f":"IF(H7=\"\", \"\",YEAR(H7) - IF(MONTH(H7)<4, 1, 0) & \"年度\")","v":""},1,null,null,null,null,{"$f":"IF(J7=\"\",I7,I7*J7)","v":0},{"$f":"IF(O7=\"\", \"\",YEAR(O7) - IF(MONTH(O7)<4, 1, 0) & \"年度\")","v":""},1,null,null,null,null,{"$f":"IF(Q7=\"\",P7,P7*Q7)","v":0}]
["確認数量（kg）",null,null,null,"",2,null,null,null,null,{"$f":"IF(J8=\"\",I8,I8*J8)","v":0},"",2,null,null,null,null,{"$f":"IF(Q8=\"\",P8,P8*Q8)","v":0}]
["申出番号（受付コード下4桁）",null,null,null,"",3,null,null,null,null,{"$f":"IF(J9=\"\",I9,I9*J9)","v":0},"",3,null,null,null,null,{"$f":"IF(Q9=\"\",P9,P9*Q9)","v":0}]
["受付コード",{"$f":"IF(B$9=\"\",\"\",表１_対象物質一覧!$C$4&(MID($B$6,3,2)&B$9))","v":""},{"$f":"IF(C$9=\"\",\"\",表１_対象物質一覧!$C$4&(MID($C$6, 3, 2))&C$9)","v":""},{"$f":"IF(D$9=\"\",\"\",表１_対象物質一覧!$C$4&(MID($D$6, 3, 2))&D$9)","v":""},"",4,null,null,null,null,0,"",4,null,null,null,null,{"$f":"IF(Q10=\"\",P10,P10*Q10)","v":0}]
["用途番号",null,null,null,"",5,null,null,null,null,0,"",5,null,null,null,null,0]
[null,null,null,null,"",6,null,null,null,null,0,"",6,null,null,null,null,0]
[null,null,null,null,"",7,null,null,null,null,0,"",7,null,null,null,null,0]
[null,null,null,null,"",8,null,null,null,null,0,"",8,null,null,null,null,0]
[null,null,null,null,"",9,null,null,null,null,0,"",9,null,null,null,null,0]
[null,null,null,null,"",10,null,null,null,null,0,"",10,null,null,null,null,0]
["申出書に記載の「前年度の実績数量」",null,null,null,"",11,null,null,null,null,0,"",11,null,null,null,null,0]
["実績数量",{"$f":"$K$4","v":0},{"$f":"$K$5","v":0},{"$f":"$K$6","v":0},"",12,null,null,null,null,0,"",12,null,null,null,null,0]
["確認を受けている中間物等の分類",null,null,null,"",13,null,null,null,null,0,"",13,null,null,null,null,0]
["用途追加手続を省略して追加した用途の用途番号",null,null,null,"",14,null,null,null,null,0,"",14,null,null,null,null,0]
["備考（３年連続して実積数量がゼロの場合はその理由）",null,null,null,"",15,null,null,null,null,0,"",15,null,null,null,null,0]
["用途証明書なしであって確認年月日が複数ある場合の",null,null,null,"",16,null,null,null,null,0,"",16,null,null,null,null,0]
["確認年月日（上段）及び確認数量(kg)（下段）",null,null,null,"",17,null,null,null,null,0,"",17,null,null,null,null,0]
[null,null,null,null,"",18,null,null,null,null,0,"",18,null,null,null,null,0]
[null,null,null,null,"",19,null,null,null,null,0,"",19,null,null,null,null,0]
[null,null,null,null,"",20,null,null,null,null,0,"",20,null,null,null,null,0]
[null,null,null,null,"",21,null,null,null,null,0,"",21,null,null,null,null,0]
[null,null,null,null,"",22,null,null,null,null,0,"",22,null,null,null,null,0]
[null,null,null,null,"",23,null,null,null,null,0,"",23,null,null,null,null,0]
[null,null,null,null,"",24,null,null,null,null,0,"",24,null,null,null,null,0]
[null,null,null,null,"",25,null,null,null,null,0,"",25,null,null,null,null,0]
[null,null,null,null,"",26,null,null,null,null,0,"",26,null,null,null,null,0]
[null,null,null,null,"",27,null,null,null,null,0,"",27,null,null,null,null,0]
[null,null,null,null,"",28,null,null,null,null,0,"",28,null,null,null,null,0]
[null,null,null,null,"",29,null,null,null,null,0,"",29,null,null,null,null,0]
[null,null,null,null,"",30,null,null,null,null,0,"",30,null,null,null,null,0]
[null,null,null,null,"",31,null,null,null,null,0,"",31,null,null,null,null,0]
[null,null,null,null,"",32,null,null,null,null,0,"",32,null,null,null,null,0]
[null,null,null,null,{"$f":"IF(H39=\"\", \"\",YEAR(H39) - IF(MONTH(H39)<4, 1, 0) & \"年度\")","v":""},33,null,null,null,null,0,{"$f":"IF(O39=\"\", \"\",YEAR(O39) - IF(MONTH(O39)<4, 1, 0) & \"年度\")","v":""},33,null,null,null,null,0]
[null,null,null,null,"",34,null,null,null,null,0,"",34,null,null,null,null,0]
[null,null,null,null,"",35,null,null,null,null,0,"",35,null,null,null,null,0]
["同一年度で同じ化学物質を複数申請している場合は、その確認を受けた事項",null,null,null,"",36,null,null,null,null,0,"",36,null,null,null,null,0]
[null,{"$f":"$B$6","v":"2024年度"},{"$f":"$C$6","v":"2025年度"},{"$f":"$D$6","v":"2026年度"},"",37,null,null,null,null,0,"",37,null,null,null,null,0]
["複数手続きの種類",null,null,null,"",38,null,null,null,null,0,"",38,null,null,null,null,0]
["確認年月日",null,null,null,"",39,null,null,null,null,0,"",39,null,null,null,null,0]
["確認数量（kg）",null,null,null,"",40,null,null,null,null,0,"",40,null,null,null,null,0]
["申出番号（受付コード下4桁）",null,null,null,"",41,null,null,null,null,0,"",41,null,null,null,null,0]
["受付コード",{"$f":"IF(B$47=\"\",\"\",表１_対象物質一覧!$C$4&(MID($B$6,3,2)&B$47))","v":""},{"$f":"IF(C$47=\"\",\"\",表１_対象物質一覧!$C$4&(MID($C$6, 3, 2))&C$47)","v":""},{"$f":"IF(D$47=\"\",\"\",表１_対象物質一覧!$C$4&(MID($D$6, 3, 2))&D$47)","v":""},"",42,null,null,null,null,0,"",42,null,null,null,null,0]
["用途番号",null,null,null,"",43,null,null,null,null,0,"",43,null,null,null,null,0]
[null,null,null,null,"",44,null,null,null,null,0,"",44,null,null,null,null,0]
[null,null,null,null,"",45,null,null,null,null,0,"",45,null,null,null,null,0]
[null,null,null,null,"",46,null,null,null,null,0,"",46,null,null,null,null,0]
[null,null,null,null,"",47,null,null,null,null,0,"",47,null,null,null,null,0]
[null,null,null,null,"",48,null,null,null,null,0,"",48,null,null,null,null,0]
[null,null,null,null,"",49,null,null,null,null,0,"",49,null,null,null,null,0]
[null,{"$f":"$B$6","v":"2024年度"},{"$f":"$C$6","v":"2025年度"},{"$f":"$D$6","v":"2026年度"},"",50,null,null,null,null,0,"",50,null,null,null,null,0]
["複数手続きの種類",null,null,null,"",51,null,null,null,null,0,"",51,null,null,null,null,0]
["確認年月日",null,null,null,"",52,null,null,null,null,0,"",52,null,null,null,null,0]
["確認数量（kg）",null,null,null,"",53,null,null,null,null,0,"",53,null,null,null,null,0]
["申出番号（受付コード下4桁）",null,null,null,"",54,null,null,null,null,0,"",54,null,null,null,null,0]
["受付コード",{"$f":"IF(B$60=\"\",\"\",表１_対象物質一覧!$C$4&(MID($B$6,3,2)&B$60))","v":""},{"$f":"IF(C$60=\"\",\"\",表１_対象物質一覧!$C$4&(MID($C$6, 3, 2))&C$60)","v":""},{"$f":"IF(D$60=\"\",\"\",表１_対象物質一覧!$C$4&(MID($D$6, 3, 2))&D$60)","v":""},"",55,null,null,null,null,0,"",55,null,null,null,null,0]
["用途番号",null,null,null,"",56,null,null,null,null,0,"",56,null,null,null,null,0]
[null,null,null,null,"",57,null,null,null,null,0,"",57,null,null,null,null,0]
[null,null,null,null,"",58,null,null,null,null,0,"",58,null,null,null,null,0]
[null,null,null,null,"",59,null,null,null,null,0,"",59,null,null,null,null,0]
[null,null,null,null,"",60,null,null,null,null,0,"",60,null,null,null,null,0]
[null,null,null,null,"",61,null,null,null,null,0,"",61,null,null,null,null,0]
[null,null,null,null,"",62,null,null,null,null,0,"",62,null,null,null,null,0]
[null,{"$f":"$B$6","v":"2024年度"},{"$f":"$C$6","v":"2025年度"},{"$f":"$D$6","v":"2026年度"},"",63,null,null,null,null,0,"",63,null,null,null,null,0]
["複数手続きの種類",null,null,null,"",64,null,null,null,null,0,"",64,null,null,null,null,0]
["確認年月日",null,null,null,{"$f":"IF(H71=\"\", \"\",YEAR(H71) - IF(MONTH(H71)<4, 1, 0) & \"年度\")","v":""},65,null,null,null,null,0,{"$f":"IF(O71=\"\", \"\",YEAR(O71) - IF(MONTH(O71)<4, 1, 0) & \"年度\")","v":""},65,null,null,null,null,0]
["確認数量（kg）",null,null,null,"",66,null,null,null,null,0,"",66,null,null,null,null,0]
["申出番号（受付コード下4桁）",null,null,null,"",67,null,null,null,null,{"$f":"IF(J73=\"\",I73,I73*J73)","v":0},"",67,null,null,null,null,{"$f":"IF(Q73=\"\",P73,P73*Q73)","v":0}]
["受付コード",{"$f":"IF(B$73=\"\",\"\",表１_対象物質一覧!$C$4&(MID($B$6,3,2)&B$73))","v":""},{"$f":"IF(C$73=\"\",\"\",表１_対象物質一覧!$C$4&(MID($C$6, 3, 2))&C$73)","v":""},{"$f":"IF(D$73=\"\",\"\",表１_対象物質一覧!$C$4&(MID($D$6, 3, 2))&D$73)","v":""},"",68,null,null,null,null,0,"",68,null,null,null,null,0]
["用途番号",null,null,null,"",69,null,null,null,null,0,"",69,null,null,null,null,0]
[null,null,null,null,"",70,null,null,null,null,0,"",70,null,null,null,null,0]
[null,null,null,null,"",71,null,null,null,null,0,"",71,null,null,null,null,0]
[null,null,null,null,"",72,null,null,null,null,0,"",72,null,null,null,null,0]
[null,null,null,null,"",73,null,null,null,null,0,"",73,null,null,null,null,0]
[null,null,null,null,"",74,null,null,null,null,0,"",74,null,null,null,null,0]
[null,null,null,null,"",75,null,null,null,null,0,"",75,null,null,null,null,0]
["備考",null,null,null,"",76,null,null,null,null,0,"",76,null,null,null,null,0]
[null,null,null,null,"",77,null,null,null,null,0,"",77,null,null,null,null,0]
[null,null,null,null,"",78,null,null,null,null,0,"",78,null,null,null,null,0]
[null,null,null,null,"",79,null,null,null,null,0,"",79,null,null,null,null,0]
[null,null,null,null,"",80,null,null,null,null,0,"",80,null,null,null,null,0]
[null,null,null,null,"",81,null,null,null,null,0,"",81,null,null,null,null,0]
[null,null,null,null,"",82,null,null,null,null,0,"",82,null,null,null,null,0]
[null,null,null,null,"",83,null,null,null,null,0,"",83,null,null,null,null,0]
[null,null,null,null,"",84,null,null,null,null,0,"",84,null,null,null,null,0]
[null,null,null,null,"",85,null,null,null,null,0,"",85,null,null,null,null,0]
[null,null,null,null,"",86,null,null,null,null,0,"",86,null,null,null,null,0]
[null,null,null,null,"",87,null,null,null,null,0,"",87,null,null,null,null,0]
[null,null,null,null,"",88,null,null,null,null,0,"",88,null,null,null,null,0]
[null,null,null,null,"",89,null,null,null,null,0,"",89,null,null,null,null,0]
[null,null,null,null,"",90,null,null,null,null,0,"",90,null,null,null,null,0]
[null,null,null,null,"",91,null,null,null,null,0,"",91,null,null,null,null,0]
[null,null,null,null,"",92,null,null,null,null,0,"",92,null,null,null,null,0]
[null,null,null,null,"",93,null,null,null,null,0,"",93,null,null,null,null,0]
[null,null,null,null,"",94,null,null,null,null,0,"",94,null,null,null,null,0]
[null,null,null,null,"",95,null,null,null,null,0,"",95,null,null,null,null,0]
[null,null,null,null,"",96,null,null,null,null,0,"",96,null,null,null,null,0]
[null,null,null,null,"",97,null,null,null,null,0,"",97,null,null,null,null,0]
[null,null,null,null,"",98,null,null,null,null,0,"",98,null,null,null,null,0]
[null,null,null,null,"",99,null,null,null,null,{"$f":"IF(J105=\"\",I105,I105*J105)","v":0},"",99,null,null,null,null,{"$f":"IF(Q105=\"\",P105,P105*Q105)","v":0}]
[null,null,null,null,"",100,null,null,null,null,{"$f":"IF(J106=\"\",I106,I106*J106)","v":0},"",100,null,null,null,null,{"$f":"IF(Q106=\"\",P106,P106*Q106)","v":0}]

{"sheet":"10","index":10,"n_rows":106,"n_cols":20,"rows_kept":106,"cut":false,"hidden":false,"merged":[[1,5,1,6],[1,12,1,13],[3,5,5,6],[3,12,5,13]]}
["「表１_対象物質一覧」に戻る"]
["事業所名",null,null,null,null,"輸入量",null,null,null,null,null,null,"払出量"]
["新規化学物質の名称",null,null,null,null,"Ｎｏ",{"$f":"_xlfn.IFS(F2=\"製造量\",\"製造ロット\",F2=\"輸入量\",\"輸入ロット\",F2=\"製造・輸入量\",\"製造・輸入ロット\")","v":"輸入ロット"},{"$f":"_xlfn.IFS(F2=\"製造量\",\"製造日　（最終製品日）\",F2=\"輸入量\",\"輸入許可日\",F2=\"製造・輸入量\",\"製造日・輸入許可日\")","v":"輸入許可日"},{"$f":"_xlfn.IFS(F2=\"製造量\",\"製造数量（kg)\",F2=\"輸入量\",\"輸入数量（kg)\",F2=\"製造・輸入量\",\"製造・輸入数量（kg)\")","v":"輸入数量（kg)"},"含有率（％）","含有率換算数量(kg)",null,"Ｎｏ","ロット","払出日","払出数量（kg)","含有率（％）","含有率換算数量(kg)","用途番号","変更前ロット"]
["略称",null,null,null,null,"実績数量合計",null,{"$f":"B6","v":"2024年度"},{"$f":"SUMIF($E$7:$E106,$H$4,$I$7:$I106)","v":0},"-",{"$f":"SUMIF($E$7:$E106,$H$4,$K$7:$K106)","v":0},null,"払出数量合計",null,{"$f":"B6","v":"2024年度"},{"$f":"SUMIF($L$7:$L95,$O$4,$P$7:$P106)","v":0},"-",{"$f":"SUMIF($L$7:$L106,$H$4,$R$7:$R106)","v":0},"-","-"]
[null,null,null,null,null,null,null,{"$f":"C6","v":"2025年度"},{"$f":"SUMIF($E$7:$E106,$H$5,$I$7:$I106)","v":0},"-",{"$f":"SUMIF($E$7:$E106,$H$5,$K$7:$K106)","v":0},null,null,null,{"$f":"C6","v":"2025年度"},{"$f":"SUMIF($L$7:$L95,$O$5,$P$7:$P106)","v":0},"-",{"$f":"SUMIF($E$7:$E106,$H$5,$K$7:$K106)","v":0},"-","-"]
[null,{"$f":"'1'!B6","v":"2024年度"},{"$f":"'1'!C6","v":"2025年度"},{"$f":"'1'!D6","v":"2026年度"},null,null,null,{"$f":"D6","v":"2026年度"},{"$f":"SUMIF($E$7:$E106,$H$6,$I$7:$I106)","v":0},"-",{"$f":"SUMIF($E$7:$E106,$H$6,$K$7:$K106)","v":0},null,null,null,{"$f":"D6","v":"2026年度"},{"$f":"SUMIF($L$7:$L95,$O$6,$P$7:$P106)","v":0},"-",{"$f":"SUMIF($E$7:$E106,$H$6,$K$7:$K106)","v":0},"-","-"]
["確認年月日",null,null,null,{"$f":"IF(H7=\"\", \"\",YEAR(H7) - IF(MONTH(H7)<4, 1, 0) & \"年度\")","v":""},1,null,null,null,null,{"$f":"IF(J7=\"\",I7,I7*J7)","v":0},{"$f":"IF(O7=\"\", \"\",YEAR(O7) - IF(MONTH(O7)<4, 1, 0) & \"年度\")","v":""},1,null,null,null,null,{"$f":"IF(Q7=\"\",P7,P7*Q7)","v":0}]
["確認数量（kg）",null,null,null,"",2,null,null,null,null,{"$f":"IF(J8=\"\",I8,I8*J8)","v":0},"",2,null,null,null,null,{"$f":"IF(Q8=\"\",P8,P8*Q8)","v":0}]
["申出番号（受付コード下4桁）",null,null,null,"",3,null,null,null,null,{"$f":"IF(J9=\"\",I9,I9*J9)","v":0},"",3,null,null,null,null,{"$f":"IF(Q9=\"\",P9,P9*Q9)","v":0}]
["受付コード",{"$f":"IF(B$9=\"\",\"\",表１_対象物質一覧!$C$4&(MID($B$6,3,2)&B$9))","v":""},{"$f":"IF(C$9=\"\",\"\",表１_対象物質一覧!$C$4&(MID($C$6, 3, 2))&C$9)","v":""},{"$f":"IF(D$9=\"\",\"\",表１_対象物質一覧!$C$4&(MID($D$6, 3, 2))&D$9)","v":""},"",4,null,null,null,null,0,"",4,null,null,null,null,{"$f":"IF(Q10=\"\",P10,P10*Q10)","v":0}]
["用途番号",null,null,null,"",5,null,null,null,null,0,"",5,null,null,null,null,0]
[null,null,null,null,"",6,null,null,null,null,0,"",6,null,null,null,null,0]
[null,null,null,null,"",7,null,null,null,null,0,"",7,null,null,null,null,0]
[null,null,null,null,"",8,null,null,null,null,0,"",8,null,null,null,null,0]
[null,null,null,null,"",9,null,null,null,null,0,"",9,null,null,null,null,0]
[null,null,null,null,"",10,null,null,null,null,0,"",10,null,null,null,null,0]
["申出書に記載の「前年度の実績数量」",null,null,null,"",11,null,null,null,null,0,"",11,null,null,null,null,0]
["実績数量",{"$f":"$K$4","v":0},{"$f":"$K$5","v":0},{"$f":"$K$6","v":0},"",12,null,null,null,null,0,"",12,null,null,null,null,0]
["確認を受けている中間物等の分類",null,null,null,"",13,null,null,null,null,0,"",13,null,null,null,null,0]
["用途追加手続を省略して追加した用途の用途番号",null,null,null,"",14,null,null,null,null,0,"",14,null,null,null,null,0]
["備考（３年連続して実積数量がゼロの場合はその理由）",null,null,null,"",15,null,null,null,null,0,"",15,null,null,null,null,0]
["用途証明書なしであって確認年月日が複数ある場合の",null,null,null,"",16,null,null,null,null,0,"",16,null,null,null,null,0]
["確認年月日（上段）及び確認数量(kg)（下段）",null,null,null,"",17,null,null,null,null,0,"",17,null,null,null,null,0]
[null,null,null,null,"",18,null,null,null,null,0,"",18,null,null,null,null,0]
[null,null,null,null,"",19,null,null,null,null,0,"",19,null,null,null,null,0]
[null,null,null,null,"",20,null,null,null,null,0,"",20,null,null,null,null,0]
[null,null,null,null,"",21,null,null,null,null,0,"",21,null,null,null,null,0]
[null,null,null,null,"",22,null,null,null,null,0,"",22,null,null,null,null,0]
[null,null,null,null,"",23,null,null,null,null,0,"",23,null,null,null,null,0]
[null,null,null,null,"",24,null,null,null,null,0,"",24,null,null,null,null,0]
[null,null,null,null,"",25,null,null,null,null,0,"",25,null,null,null,null,0]
[null,null,null,null,"",26,null,null,null,null,0,"",26,null,null,null,null,0]
[null,null,null,null,"",27,null,null,null,null,0,"",27,null,null,null,null,0]
[null,null,null,null,"",28,null,null,null,null,0,"",28,null,null,null,null,0]
[null,null,null,null,"",29,null,null,null,null,0,"",29,null,null,null,null,0]
[null,null,null,null,"",30,null,null,null,null,0,"",30,null,null,null,null,0]
[null,null,null,null,"",31,null,null,null,null,0,"",31,null,null,null,null,0]
[null,null,null,null,"",32,null,null,null,null,0,"",32,null,null,null,null,0]
[null,null,null,null,{"$f":"IF(H39=\"\", \"\",YEAR(H39) - IF(MONTH(H39)<4, 1, 0) & \"年度\")","v":""},33,null,null,null,null,0,{"$f":"IF(O39=\"\", \"\",YEAR(O39) - IF(MONTH(O39)<4, 1, 0) & \"年度\")","v":""},33,null,null,null,null,0]
[null,null,null,null,"",34,null,null,null,null,0,"",34,null,null,null,null,0]
[null,null,null,null,"",35,null,null,null,null,0,"",35,null,null,null,null,0]
["同一年度で同じ化学物質を複数申請している場合は、その確認を受けた事項",null,null,null,"",36,null,null,null,null,0,"",36,null,null,null,null,0]
[null,{"$f":"$B$6","v":"2024年度"},{"$f":"$C$6","v":"2025年度"},{"$f":"$D$6","v":"2026年度"},"",37,null,null,null,null,0,"",37,null,null,null,null,0]
["複数手続きの種類",null,null,null,"",38,null,null,null,null,0,"",38,null,null,null,null,0]
["確認年月日",null,null,null,"",39,null,null,null,null,0,"",39,null,null,null,null,0]
["確認数量（kg）",null,null,null,"",40,null,null,null,null,0,"",40,null,null,null,null,0]
["申出番号（受付コード下4桁）",null,null,null,"",41,null,null,null,null,0,"",41,null,null,null,null,0]
["受付コード",{"$f":"IF(B$47=\"\",\"\",表１_対象物質一覧!$C$4&(MID($B$6,3,2)&B$47))","v":""},{"$f":"IF(C$47=\"\",\"\",表１_対象物質一覧!$C$4&(MID($C$6, 3, 2))&C$47)","v":""},{"$f":"IF(D$47=\"\",\"\",表１_対象物質一覧!$C$4&(MID($D$6, 3, 2))&D$47)","v":""},"",42,null,null,null,null,0,"",42,null,null,null,null,0]
["用途番号",null,null,null,"",43,null,null,null,null,0,"",43,null,null,null,null,0]
[null,null,null,null,"",44,null,null,null,null,0,"",44,null,null,null,null,0]
[null,null,null,null,"",45,null,null,null,null,0,"",45,null,null,null,null,0]
[null,null,null,null,"",46,null,null,null,null,0,"",46,null,null,null,null,0]
[null,null,null,null,"",47,null,null,null,null,0,"",47,null,null,null,null,0]
[null,null,null,null,"",48,null,null,null,null,0,"",48,null,null,null,null,0]
[null,null,null,null,"",49,null,null,null,null,0,"",49,null,null,null,null,0]
[null,{"$f":"$B$6","v":"2024年度"},{"$f":"$C$6","v":"2025年度"},{"$f":"$D$6","v":"2026年度"},"",50,null,null,null,null,0,"",50,null,null,null,null,0]
["複数手続きの種類",null,null,null,"",51,null,null,null,null,0,"",51,null,null,null,null,0]
["確認年月日",null,null,null,"",52,null,null,null,null,0,"",52,null,null,null,null,0]
["確認数量（kg）",null,null,null,"",53,null,null,null,null,0,"",53,null,null,null,null,0]
["申出番号（受付コード下4桁）",null,null,null,"",54,null,null,null,null,0,"",54,null,null,null,null,0]
["受付コード",{"$f":"IF(B$60=\"\",\"\",表１_対象物質一覧!$C$4&(MID($B$6,3,2)&B$60))","v":""},{"$f":"IF(C$60=\"\",\"\",表１_対象物質一覧!$C$4&(MID($C$6, 3, 2))&C$60)","v":""},{"$f":"IF(D$60=\"\",\"\",表１_対象物質一覧!$C$4&(MID($D$6, 3, 2))&D$60)","v":""},"",55,null,null,null,null,0,"",55,null,null,null,null,0]
["用途番号",null,null,null,"",56,null,null,null,null,0,"",56,null,null,null,null,0]
[null,null,null,null,"",57,null,null,null,null,0,"",57,null,null,null,null,0]
[null,null,null,null,"",58,null,null,null,null,0,"",58,null,null,null,null,0]
[null,null,null,null,"",59,null,null,null,null,0,"",59,null,null,null,null,0]
[null,null,null,null,"",60,null,null,null,null,0,"",60,null,null,null,null,0]
[null,null,null,null,"",61,null,null,null,null,0,"",61,null,null,null,null,0]
[null,null,null,null,"",62,null,null,null,null,0,"",62,null,null,null,null,0]
[null,{"$f":"$B$6","v":"2024年度"},{"$f":"$C$6","v":"2025年度"},{"$f":"$D$6","v":"2026年度"},"",63,null,null,null,null,0,"",63,null,null,null,null,0]
["複数手続きの種類",null,null,null,"",64,null,null,null,null,0,"",64,null,null,null,null,0]
["確認年月日",null,null,null,{"$f":"IF(H71=\"\", \"\",YEAR(H71) - IF(MONTH(H71)<4, 1, 0) & \"年度\")","v":""},65,null,null,null,null,0,{"$f":"IF(O71=\"\", \"\",YEAR(O71) - IF(MONTH(O71)<4, 1, 0) & \"年度\")","v":""},65,null,null,null,null,0]
["確認数量（kg）",null,null,null,"",66,null,null,null,null,0,"",66,null,null,null,null,0]
["申出番号（受付コード下4桁）",null,null,null,"",67,null,null,null,null,{"$f":"IF(J73=\"\",I73,I73*J73)","v":0},"",67,null,null,null,null,{"$f":"IF(Q73=\"\",P73,P73*Q73)","v":0}]
["受付コード",{"$f":"IF(B$73=\"\",\"\",表１_対象物質一覧!$C$4&(MID($B$6,3,2)&B$73))","v":""},{"$f":"IF(C$73=\"\",\"\",表１_対象物質一覧!$C$4&(MID($C$6, 3, 2))&C$73)","v":""},{"$f":"IF(D$73=\"\",\"\",表１_対象物質一覧!$C$4&(MID($D$6, 3, 2))&D$73)","v":""},"",68,null,null,null,null,0,"",68,null,null,null,null,0]
["用途番号",null,null,null,"",69,null,null,null,null,0,"",69,null,null,null,null,0]
[null,null,null,null,"",70,null,null,null,null,0,"",70,null,null,null,null,0]
[null,null,null,null,"",71,null,null,null,null,0,"",71,null,null,null,null,0]
[null,null,null,null,"",72,null,null,null,null,0,"",72,null,null,null,null,0]
[null,null,null,null,"",73,null,null,null,null,0,"",73,null,null,null,null,0]
[null,null,null,null,"",74,null,null,null,null,0,"",74,null,null,null,null,0]
[null,null,null,null,"",75,null,null,null,null,0,"",75,null,null,null,null,0]
["備考",null,null,null,"",76,null,null,null,null,0,"",76,null,null,null,null,0]
[null,null,null,null,"",77,null,null,null,null,0,"",77,null,null,null,null,0]
[null,null,null,null,"",78,null,null,null,null,0,"",78,null,null,null,null,0]
[null,null,null,null,"",79,null,null,null,null,0,"",79,null,null,null,null,0]
[null,null,null,null,"",80,null,null,null,null,0,"",80,null,null,null,null,0]
[null,null,null,null,"",81,null,null,null,null,0,"",81,null,null,null,null,0]
[null,null,null,null,"",82,null,null,null,null,0,"",82,null,null,null,null,0]
[null,null,null,null,"",83,null,null,null,null,0,"",83,null,null,null,null,0]
[null,null,null,null,"",84,null,null,null,null,0,"",84,null,null,null,null,0]
[null,null,null,null,"",85,null,null,null,null,0,"",85,null,null,null,null,0]
[null,null,null,null,"",86,null,null,null,null,0,"",86,null,null,null,null,0]
[null,null,null,null,"",87,null,null,null,null,0,"",87,null,null,null,null,0]
[null,null,null,null,"",88,null,null,null,null,0,"",88,null,null,null,null,0]
[null,null,null,null,"",89,null,null,null,null,0,"",89,null,null,null,null,0]
[null,null,null,null,"",90,null,null,null,null,0,"",90,null,null,null,null,0]
[null,null,null,null,"",91,null,null,null,null,0,"",91,null,null,null,null,0]
[null,null,null,null,"",92,null,null,null,null,0,"",92,null,null,null,null,0]
[null,null,null,null,"",93,null,null,null,null,0,"",93,null,null,null,null,0]
[null,null,null,null,"",94,null,null,null,null,0,"",94,null,null,null,null,0]
[null,null,null,null,"",95,null,null,null,null,0,"",95,null,null,null,null,0]
[null,null,null,null,"",96,null,null,null,null,0,"",96,null,null,null,null,0]
[null,null,null,null,"",97,null,null,null,null,0,"",97,null,null,null,null,0]
[null,null,null,null,"",98,null,null,null,null,0,"",98,null,null,null,null,0]
[null,null,null,null,"",99,null,null,null,null,{"$f":"IF(J105=\"\",I105,I105*J105)","v":0},"",99,null,null,null,null,{"$f":"IF(Q105=\"\",P105,P105*Q105)","v":0}]
[null,null,null,null,"",100,null,null,null,null,{"$f":"IF(J106=\"\",I106,I106*J106)","v":0},"",100,null,null,null,null,{"$f":"IF(Q106=\"\",P106,P106*Q106)","v":0}]

{"sheet":"11","index":11,"n_rows":106,"n_cols":20,"rows_kept":106,"cut":false,"hidden":false,"merged":[[1,5,1,6],[1,12,1,13],[3,5,5,6],[3,12,5,13]]}
["「表１_対象物質一覧」に戻る"]
["事業所名",null,null,null,null,"輸入量",null,null,null,null,null,null,"払出量"]
["新規化学物質の名称",null,null,null,null,"Ｎｏ",{"$f":"_xlfn.IFS(F2=\"製造量\",\"製造ロット\",F2=\"輸入量\",\"輸入ロット\",F2=\"製造・輸入量\",\"製造・輸入ロット\")","v":"輸入ロット"},{"$f":"_xlfn.IFS(F2=\"製造量\",\"製造日　（最終製品日）\",F2=\"輸入量\",\"輸入許可日\",F2=\"製造・輸入量\",\"製造日・輸入許可日\")","v":"輸入許可日"},{"$f":"_xlfn.IFS(F2=\"製造量\",\"製造数量（kg)\",F2=\"輸入量\",\"輸入数量（kg)\",F2=\"製造・輸入量\",\"製造・輸入数量（kg)\")","v":"輸入数量（kg)"},"含有率（％）","含有率換算数量(kg)",null,"Ｎｏ","ロット","払出日","払出数量（kg)","含有率（％）","含有率換算数量(kg)","用途番号","変更前ロット"]
["略称",null,null,null,null,"実績数量合計",null,{"$f":"B6","v":"2024年度"},{"$f":"SUMIF($E$7:$E106,$H$4,$I$7:$I106)","v":0},"-",{"$f":"SUMIF($E$7:$E106,$H$4,$K$7:$K106)","v":0},null,"払出数量合計",null,{"$f":"B6","v":"2024年度"},{"$f":"SUMIF($L$7:$L95,$O$4,$P$7:$P106)","v":0},"-",{"$f":"SUMIF($L$7:$L106,$H$4,$R$7:$R106)","v":0},"-","-"]
[null,null,null,null,null,null,null,{"$f":"C6","v":"2025年度"},{"$f":"SUMIF($E$7:$E106,$H$5,$I$7:$I106)","v":0},"-",{"$f":"SUMIF($E$7:$E106,$H$5,$K$7:$K106)","v":0},null,null,null,{"$f":"C6","v":"2025年度"},{"$f":"SUMIF($L$7:$L95,$O$5,$P$7:$P106)","v":0},"-",{"$f":"SUMIF($E$7:$E106,$H$5,$K$7:$K106)","v":0},"-","-"]
[null,{"$f":"'1'!B6","v":"2024年度"},{"$f":"'1'!C6","v":"2025年度"},{"$f":"'1'!D6","v":"2026年度"},null,null,null,{"$f":"D6","v":"2026年度"},{"$f":"SUMIF($E$7:$E106,$H$6,$I$7:$I106)","v":0},"-",{"$f":"SUMIF($E$7:$E106,$H$6,$K$7:$K106)","v":0},null,null,null,{"$f":"D6","v":"2026年度"},{"$f":"SUMIF($L$7:$L95,$O$6,$P$7:$P106)","v":0},"-",{"$f":"SUMIF($E$7:$E106,$H$6,$K$7:$K106)","v":0},"-","-"]
["確認年月日",null,null,null,{"$f":"IF(H7=\"\", \"\",YEAR(H7) - IF(MONTH(H7)<4, 1, 0) & \"年度\")","v":""},1,null,null,null,null,{"$f":"IF(J7=\"\",I7,I7*J7)","v":0},{"$f":"IF(O7=\"\", \"\",YEAR(O7) - IF(MONTH(O7)<4, 1, 0) & \"年度\")","v":""},1,null,null,null,null,{"$f":"IF(Q7=\"\",P7,P7*Q7)","v":0}]
["確認数量（kg）",null,null,null,"",2,null,null,null,null,{"$f":"IF(J8=\"\",I8,I8*J8)","v":0},"",2,null,null,null,null,{"$f":"IF(Q8=\"\",P8,P8*Q8)","v":0}]
["申出番号（受付コード下4桁）",null,null,null,"",3,null,null,null,null,{"$f":"IF(J9=\"\",I9,I9*J9)","v":0},"",3,null,null,null,null,{"$f":"IF(Q9=\"\",P9,P9*Q9)","v":0}]
["受付コード",{"$f":"IF(B$9=\"\",\"\",表１_対象物質一覧!$C$4&(MID($B$6,3,2)&B$9))","v":""},{"$f":"IF(C$9=\"\",\"\",表１_対象物質一覧!$C$4&(MID($C$6, 3, 2))&C$9)","v":""},{"$f":"IF(D$9=\"\",\"\",表１_対象物質一覧!$C$4&(MID($D$6, 3, 2))&D$9)","v":""},"",4,null,null,null,null,0,"",4,null,null,null,null,{"$f":"IF(Q10=\"\",P10,P10*Q10)","v":0}]
["用途番号",null,null,null,"",5,null,null,null,null,0,"",5,null,null,null,null,0]
[null,null,null,null,"",6,null,null,null,null,0,"",6,null,null,null,null,0]
[null,null,null,null,"",7,null,null,null,null,0,"",7,null,null,null,null,0]
[null,null,null,null,"",8,null,null,null,null,0,"",8,null,null,null,null,0]
[null,null,null,null,"",9,null,null,null,null,0,"",9,null,null,null,null,0]
[null,null,null,null,"",10,null,null,null,null,0,"",10,null,null,null,null,0]
["申出書に記載の「前年度の実績数量」",null,null,null,"",11,null,null,null,null,0,"",11,null,null,null,null,0]
["実績数量",{"$f":"$K$4","v":0},{"$f":"$K$5","v":0},{"$f":"$K$6","v":0},"",12,null,null,null,null,0,"",12,null,null,null,null,0]
["確認を受けている中間物等の分類",null,null,null,"",13,null,null,null,null,0,"",13,null,null,null,null,0]
["用途追加手続を省略して追加した用途の用途番号",null,null,null,"",14,null,null,null,null,0,"",14,null,null,null,null,0]
["備考（３年連続して実積数量がゼロの場合はその理由）",null,null,null,"",15,null,null,null,null,0,"",15,null,null,null,null,0]
["用途証明書なしであって確認年月日が複数ある場合の",null,null,null,"",16,null,null,null,null,0,"",16,null,null,null,null,0]
["確認年月日（上段）及び確認数量(kg)（下段）",null,null,null,"",17,null,null,null,null,0,"",17,null,null,null,null,0]
[null,null,null,null,"",18,null,null,null,null,0,"",18,null,null,null,null,0]
[null,null,null,null,"",19,null,null,null,null,0,"",19,null,null,null,null,0]
[null,null,null,null,"",20,null,null,null,null,0,"",20,null,null,null,null,0]
[null,null,null,null,"",21,null,null,null,null,0,"",21,null,null,null,null,0]
[null,null,null,null,"",22,null,null,null,null,0,"",22,null,null,null,null,0]
[null,null,null,null,"",23,null,null,null,null,0,"",23,null,null,null,null,0]
[null,null,null,null,"",24,null,null,null,null,0,"",24,null,null,null,null,0]
[null,null,null,null,"",25,null,null,null,null,0,"",25,null,null,null,null,0]
[null,null,null,null,"",26,null,null,null,null,0,"",26,null,null,null,null,0]
[null,null,null,null,"",27,null,null,null,null,0,"",27,null,null,null,null,0]
[null,null,null,null,"",28,null,null,null,null,0,"",28,null,null,null,null,0]
[null,null,null,null,"",29,null,null,null,null,0,"",29,null,null,null,null,0]
[null,null,null,null,"",30,null,null,null,null,0,"",30,null,null,null,null,0]
[null,null,null,null,"",31,null,null,null,null,0,"",31,null,null,null,null,0]
[null,null,null,null,"",32,null,null,null,null,0,"",32,null,null,null,null,0]
[null,null,null,null,{"$f":"IF(H39=\"\", \"\",YEAR(H39) - IF(MONTH(H39)<4, 1, 0) & \"年度\")","v":""},33,null,null,null,null,0,{"$f":"IF(O39=\"\", \"\",YEAR(O39) - IF(MONTH(O39)<4, 1, 0) & \"年度\")","v":""},33,null,null,null,null,0]
[null,null,null,null,"",34,null,null,null,null,0,"",34,null,null,null,null,0]
[null,null,null,null,"",35,null,null,null,null,0,"",35,null,null,null,null,0]
["同一年度で同じ化学物質を複数申請している場合は、その確認を受けた事項",null,null,null,"",36,null,null,null,null,0,"",36,null,null,null,null,0]
[null,{"$f":"$B$6","v":"2024年度"},{"$f":"$C$6","v":"2025年度"},{"$f":"$D$6","v":"2026年度"},"",37,null,null,null,null,0,"",37,null,null,null,null,0]
["複数手続きの種類",null,null,null,"",38,null,null,null,null,0,"",38,null,null,null,null,0]
["確認年月日",null,null,null,"",39,null,null,null,null,0,"",39,null,null,null,null,0]
["確認数量（kg）",null,null,null,"",40,null,null,null,null,0,"",40,null,null,null,null,0]
["申出番号（受付コード下4桁）",null,null,null,"",41,null,null,null,null,0,"",41,null,null,null,null,0]
["受付コード",{"$f":"IF(B$47=\"\",\"\",表１_対象物質一覧!$C$4&(MID($B$6,3,2)&B$47))","v":""},{"$f":"IF(C$47=\"\",\"\",表１_対象物質一覧!$C$4&(MID($C$6, 3, 2))&C$47)","v":""},{"$f":"IF(D$47=\"\",\"\",表１_対象物質一覧!$C$4&(MID($D$6, 3, 2))&D$47)","v":""},"",42,null,null,null,null,0,"",42,null,null,null,null,0]
["用途番号",null,null,null,"",43,null,null,null,null,0,"",43,null,null,null,null,0]
[null,null,null,null,"",44,null,null,null,null,0,"",44,null,null,null,null,0]
[null,null,null,null,"",45,null,null,null,null,0,"",45,null,null,null,null,0]
[null,null,null,null,"",46,null,null,null,null,0,"",46,null,null,null,null,0]
[null,null,null,null,"",47,null,null,null,null,0,"",47,null,null,null,null,0]
[null,null,null,null,"",48,null,null,null,null,0,"",48,null,null,null,null,0]
[null,null,null,null,"",49,null,null,null,null,0,"",49,null,null,null,null,0]
[null,{"$f":"$B$6","v":"2024年度"},{"$f":"$C$6","v":"2025年度"},{"$f":"$D$6","v":"2026年度"},"",50,null,null,null,null,0,"",50,null,null,null,null,0]
["複数手続きの種類",null,null,null,"",51,null,null,null,null,0,"",51,null,null,null,null,0]
["確認年月日",null,null,null,"",52,null,null,null,null,0,"",52,null,null,null,null,0]
["確認数量（kg）",null,null,null,"",53,null,null,null,null,0,"",53,null,null,null,null,0]
["申出番号（受付コード下4桁）",null,null,null,"",54,null,null,null,null,0,"",54,null,null,null,null,0]
["受付コード",{"$f":"IF(B$60=\"\",\"\",表１_対象物質一覧!$C$4&(MID($B$6,3,2)&B$60))","v":""},{"$f":"IF(C$60=\"\",\"\",表１_対象物質一覧!$C$4&(MID($C$6, 3, 2))&C$60)","v":""},{"$f":"IF(D$60=\"\",\"\",表１_対象物質一覧!$C$4&(MID($D$6, 3, 2))&D$60)","v":""},"",55,null,null,null,null,0,"",55,null,null,null,null,0]
["用途番号",null,null,null,"",56,null,null,null,null,0,"",56,null,null,null,null,0]
[null,null,null,null,"",57,null,null,null,null,0,"",57,null,null,null,null,0]
[null,null,null,null,"",58,null,null,null,null,0,"",58,null,null,null,null,0]
[null,null,null,null,"",59,null,null,null,null,0,"",59,null,null,null,null,0]
[null,null,null,null,"",60,null,null,null,null,0,"",60,null,null,null,null,0]
[null,null,null,null,"",61,null,null,null,null,0,"",61,null,null,null,null,0]
[null,null,null,null,"",62,null,null,null,null,0,"",62,null,null,null,null,0]
[null,{"$f":"$B$6","v":"2024年度"},{"$f":"$C$6","v":"2025年度"},{"$f":"$D$6","v":"2026年度"},"",63,null,null,null,null,0,"",63,null,null,null,null,0]
["複数手続きの種類",null,null,null,"",64,null,null,null,null,0,"",64,null,null,null,null,0]
["確認年月日",null,null,null,{"$f":"IF(H71=\"\", \"\",YEAR(H71) - IF(MONTH(H71)<4, 1, 0) & \"年度\")","v":""},65,null,null,null,null,0,{"$f":"IF(O71=\"\", \"\",YEAR(O71) - IF(MONTH(O71)<4, 1, 0) & \"年度\")","v":""},65,null,null,null,null,0]
["確認数量（kg）",null,null,null,"",66,null,null,null,null,0,"",66,null,null,null,null,0]
["申出番号（受付コード下4桁）",null,null,null,"",67,null,null,null,null,{"$f":"IF(J73=\"\",I73,I73*J73)","v":0},"",67,null,null,null,null,{"$f":"IF(Q73=\"\",P73,P73*Q73)","v":0}]
["受付コード",{"$f":"IF(B$73=\"\",\"\",表１_対象物質一覧!$C$4&(MID($B$6,3,2)&B$73))","v":""},{"$f":"IF(C$73=\"\",\"\",表１_対象物質一覧!$C$4&(MID($C$6, 3, 2))&C$73)","v":""},{"$f":"IF(D$73=\"\",\"\",表１_対象物質一覧!$C$4&(MID($D$6, 3, 2))&D$73)","v":""},"",68,null,null,null,null,0,"",68,null,null,null,null,0]
["用途番号",null,null,null,"",69,null,null,null,null,0,"",69,null,null,null,null,0]
[null,null,null,null,"",70,null,null,null,null,0,"",70,null,null,null,null,0]
[null,null,null,null,"",71,null,null,null,null,0,"",71,null,null,null,null,0]
[null,null,null,null,"",72,null,null,null,null,0,"",72,null,null,null,null,0]
[null,null,null,null,"",73,null,null,null,null,0,"",73,null,null,null,null,0]
[null,null,null,null,"",74,null,null,null,null,0,"",74,null,null,null,null,0]
[null,null,null,null,"",75,null,null,null,null,0,"",75,null,null,null,null,0]
["備考",null,null,null,"",76,null,null,null,null,0,"",76,null,null,null,null,0]
[null,null,null,null,"",77,null,null,null,null,0,"",77,null,null,null,null,0]
[null,null,null,null,"",78,null,null,null,null,0,"",78,null,null,null,null,0]
[null,null,null,null,"",79,null,null,null,null,0,"",79,null,null,null,null,0]
[null,null,null,null,"",80,null,null,null,null,0,"",80,null,null,null,null,0]
[null,null,null,null,"",81,null,null,null,null,0,"",81,null,null,null,null,0]
[null,null,null,null,"",82,null,null,null,null,0,"",82,null,null,null,null,0]
[null,null,null,null,"",83,null,null,null,null,0,"",83,null,null,null,null,0]
[null,null,null,null,"",84,null,null,null,null,0,"",84,null,null,null,null,0]
[null,null,null,null,"",85,null,null,null,null,0,"",85,null,null,null,null,0]
[null,null,null,null,"",86,null,null,null,null,0,"",86,null,null,null,null,0]
[null,null,null,null,"",87,null,null,null,null,0,"",87,null,null,null,null,0]
[null,null,null,null,"",88,null,null,null,null,0,"",88,null,null,null,null,0]
[null,null,null,null,"",89,null,null,null,null,0,"",89,null,null,null,null,0]
[null,null,null,null,"",90,null,null,null,null,0,"",90,null,null,null,null,0]
[null,null,null,null,"",91,null,null,null,null,0,"",91,null,null,null,null,0]
[null,null,null,null,"",92,null,null,null,null,0,"",92,null,null,null,null,0]
[null,null,null,null,"",93,null,null,null,null,0,"",93,null,null,null,null,0]
[null,null,null,null,"",94,null,null,null,null,0,"",94,null,null,null,null,0]
[null,null,null,null,"",95,null,null,null,null,0,"",95,null,null,null,null,0]
[null,null,null,null,"",96,null,null,null,null,0,"",96,null,null,null,null,0]
[null,null,null,null,"",97,null,null,null,null,0,"",97,null,null,null,null,0]
[null,null,null,null,"",98,null,null,null,null,0,"",98,null,null,null,null,0]
[null,null,null,null,"",99,null,null,null,null,{"$f":"IF(J105=\"\",I105,I105*J105)","v":0},"",99,null,null,null,null,{"$f":"IF(Q105=\"\",P105,P105*Q105)","v":0}]
[null,null,null,null,"",100,null,null,null,null,{"$f":"IF(J106=\"\",I106,I106*J106)","v":0},"",100,null,null,null,null,{"$f":"IF(Q106=\"\",P106,P106*Q106)","v":0}]

{"sheet":"12","index":12,"n_rows":106,"n_cols":20,"rows_kept":106,"cut":false,"hidden":false,"merged":[[1,5,1,6],[1,12,1,13],[3,5,5,6],[3,12,5,13]]}
["「表１_対象物質一覧」に戻る"]
["事業所名",null,null,null,null,"輸入量",null,null,null,null,null,null,"払出量"]
["新規化学物質の名称",null,null,null,null,"Ｎｏ",{"$f":"_xlfn.IFS(F2=\"製造量\",\"製造ロット\",F2=\"輸入量\",\"輸入ロット\",F2=\"製造・輸入量\",\"製造・輸入ロット\")","v":"輸入ロット"},{"$f":"_xlfn.IFS(F2=\"製造量\",\"製造日　（最終製品日）\",F2=\"輸入量\",\"輸入許可日\",F2=\"製造・輸入量\",\"製造日・輸入許可日\")","v":"輸入許可日"},{"$f":"_xlfn.IFS(F2=\"製造量\",\"製造数量（kg)\",F2=\"輸入量\",\"輸入数量（kg)\",F2=\"製造・輸入量\",\"製造・輸入数量（kg)\")","v":"輸入数量（kg)"},"含有率（％）","含有率換算数量(kg)",null,"Ｎｏ","ロット","払出日","払出数量（kg)","含有率（％）","含有率換算数量(kg)","用途番号","変更前ロット"]
["略称",null,null,null,null,"実績数量合計",null,{"$f":"B6","v":"2024年度"},{"$f":"SUMIF($E$7:$E106,$H$4,$I$7:$I106)","v":0},"-",{"$f":"SUMIF($E$7:$E106,$H$4,$K$7:$K106)","v":0},null,"払出数量合計",null,{"$f":"B6","v":"2024年度"},{"$f":"SUMIF($L$7:$L95,$O$4,$P$7:$P106)","v":0},"-",{"$f":"SUMIF($L$7:$L106,$H$4,$R$7:$R106)","v":0},"-","-"]
[null,null,null,null,null,null,null,{"$f":"C6","v":"2025年度"},{"$f":"SUMIF($E$7:$E106,$H$5,$I$7:$I106)","v":0},"-",{"$f":"SUMIF($E$7:$E106,$H$5,$K$7:$K106)","v":0},null,null,null,{"$f":"C6","v":"2025年度"},{"$f":"SUMIF($L$7:$L95,$O$5,$P$7:$P106)","v":0},"-",{"$f":"SUMIF($E$7:$E106,$H$5,$K$7:$K106)","v":0},"-","-"]
[null,{"$f":"'1'!B6","v":"2024年度"},{"$f":"'1'!C6","v":"2025年度"},{"$f":"'1'!D6","v":"2026年度"},null,null,null,{"$f":"D6","v":"2026年度"},{"$f":"SUMIF($E$7:$E106,$H$6,$I$7:$I106)","v":0},"-",{"$f":"SUMIF($E$7:$E106,$H$6,$K$7:$K106)","v":0},null,null,null,{"$f":"D6","v":"2026年度"},{"$f":"SUMIF($L$7:$L95,$O$6,$P$7:$P106)","v":0},"-",{"$f":"SUMIF($E$7:$E106,$H$6,$K$7:$K106)","v":0},"-","-"]
["確認年月日",null,null,null,{"$f":"IF(H7=\"\", \"\",YEAR(H7) - IF(MONTH(H7)<4, 1, 0) & \"年度\")","v":""},1,null,null,null,null,{"$f":"IF(J7=\"\",I7,I7*J7)","v":0},{"$f":"IF(O7=\"\", \"\",YEAR(O7) - IF(MONTH(O7)<4, 1, 0) & \"年度\")","v":""},1,null,null,null,null,{"$f":"IF(Q7=\"\",P7,P7*Q7)","v":0}]
["確認数量（kg）",null,null,null,"",2,null,null,null,null,{"$f":"IF(J8=\"\",I8,I8*J8)","v":0},"",2,null,null,null,null,{"$f":"IF(Q8=\"\",P8,P8*Q8)","v":0}]
["申出番号（受付コード下4桁）",null,null,null,"",3,null,null,null,null,{"$f":"IF(J9=\"\",I9,I9*J9)","v":0},"",3,null,null,null,null,{"$f":"IF(Q9=\"\",P9,P9*Q9)","v":0}]
["受付コード",{"$f":"IF(B$9=\"\",\"\",表１_対象物質一覧!$C$4&(MID($B$6,3,2)&B$9))","v":""},{"$f":"IF(C$9=\"\",\"\",表１_対象物質一覧!$C$4&(MID($C$6, 3, 2))&C$9)","v":""},{"$f":"IF(D$9=\"\",\"\",表１_対象物質一覧!$C$4&(MID($D$6, 3, 2))&D$9)","v":""},"",4,null,null,null,null,0,"",4,null,null,null,null,{"$f":"IF(Q10=\"\",P10,P10*Q10)","v":0}]
["用途番号",null,null,null,"",5,null,null,null,null,0,"",5,null,null,null,null,0]
[null,null,null,null,"",6,null,null,null,null,0,"",6,null,null,null,null,0]
[null,null,null,null,"",7,null,null,null,null,0,"",7,null,null,null,null,0]
[null,null,null,null,"",8,null,null,null,null,0,"",8,null,null,null,null,0]
[null,null,null,null,"",9,null,null,null,null,0,"",9,null,null,null,null,0]
[null,null,null,null,"",10,null,null,null,null,0,"",10,null,null,null,null,0]
["申出書に記載の「前年度の実績数量」",null,null,null,"",11,null,null,null,null,0,"",11,null,null,null,null,0]
["実績数量",{"$f":"$K$4","v":0},{"$f":"$K$5","v":0},{"$f":"$K$6","v":0},"",12,null,null,null,null,0,"",12,null,null,null,null,0]
["確認を受けている中間物等の分類",null,null,null,"",13,null,null,null,null,0,"",13,null,null,null,null,0]
["用途追加手続を省略して追加した用途の用途番号",null,null,null,"",14,null,null,null,null,0,"",14,null,null,null,null,0]
["備考（３年連続して実積数量がゼロの場合はその理由）",null,null,null,"",15,null,null,null,null,0,"",15,null,null,null,null,0]
["用途証明書なしであって確認年月日が複数ある場合の",null,null,null,"",16,null,null,null,null,0,"",16,null,null,null,null,0]
["確認年月日（上段）及び確認数量(kg)（下段）",null,null,null,"",17,null,null,null,null,0,"",17,null,null,null,null,0]
[null,null,null,null,"",18,null,null,null,null,0,"",18,null,null,null,null,0]
[null,null,null,null,"",19,null,null,null,null,0,"",19,null,null,null,null,0]
[null,null,null,null,"",20,null,null,null,null,0,"",20,null,null,null,null,0]
[null,null,null,null,"",21,null,null,null,null,0,"",21,null,null,null,null,0]
[null,null,null,null,"",22,null,null,null,null,0,"",22,null,null,null,null,0]
[null,null,null,null,"",23,null,null,null,null,0,"",23,null,null,null,null,0]
[null,null,null,null,"",24,null,null,null,null,0,"",24,null,null,null,null,0]
[null,null,null,null,"",25,null,null,null,null,0,"",25,null,null,null,null,0]
[null,null,null,null,"",26,null,null,null,null,0,"",26,null,null,null,null,0]
[null,null,null,null,"",27,null,null,null,null,0,"",27,null,null,null,null,0]
[null,null,null,null,"",28,null,null,null,null,0,"",28,null,null,null,null,0]
[null,null,null,null,"",29,null,null,null,null,0,"",29,null,null,null,null,0]
[null,null,null,null,"",30,null,null,null,null,0,"",30,null,null,null,null,0]
[null,null,null,null,"",31,null,null,null,null,0,"",31,null,null,null,null,0]
[null,null,null,null,"",32,null,null,null,null,0,"",32,null,null,null,null,0]
[null,null,null,null,{"$f":"IF(H39=\"\", \"\",YEAR(H39) - IF(MONTH(H39)<4, 1, 0) & \"年度\")","v":""},33,null,null,null,null,0,{"$f":"IF(O39=\"\", \"\",YEAR(O39) - IF(MONTH(O39)<4, 1, 0) & \"年度\")","v":""},33,null,null,null,null,0]
[null,null,null,null,"",34,null,null,null,null,0,"",34,null,null,null,null,0]
[null,null,null,null,"",35,null,null,null,null,0,"",35,null,null,null,null,0]
["同一年度で同じ化学物質を複数申請している場合は、その確認を受けた事項",null,null,null,"",36,null,null,null,null,0,"",36,null,null,null,null,0]
[null,{"$f":"$B$6","v":"2024年度"},{"$f":"$C$6","v":"2025年度"},{"$f":"$D$6","v":"2026年度"},"",37,null,null,null,null,0,"",37,null,null,null,null,0]
["複数手続きの種類",null,null,null,"",38,null,null,null,null,0,"",38,null,null,null,null,0]
["確認年月日",null,null,null,"",39,null,null,null,null,0,"",39,null,null,null,null,0]
["確認数量（kg）",null,null,null,"",40,null,null,null,null,0,"",40,null,null,null,null,0]
["申出番号（受付コード下4桁）",null,null,null,"",41,null,null,null,null,0,"",41,null,null,null,null,0]
["受付コード",{"$f":"IF(B$47=\"\",\"\",表１_対象物質一覧!$C$4&(MID($B$6,3,2)&B$47))","v":""},{"$f":"IF(C$47=\"\",\"\",表１_対象物質一覧!$C$4&(MID($C$6, 3, 2))&C$47)","v":""},{"$f":"IF(D$47=\"\",\"\",表１_対象物質一覧!$C$4&(MID($D$6, 3, 2))&D$47)","v":""},"",42,null,null,null,null,0,"",42,null,null,null,null,0]
["用途番号",null,null,null,"",43,null,null,null,null,0,"",43,null,null,null,null,0]
[null,null,null,null,"",44,null,null,null,null,0,"",44,null,null,null,null,0]
[null,null,null,null,"",45,null,null,null,null,0,"",45,null,null,null,null,0]
[null,null,null,null,"",46,null,null,null,null,0,"",46,null,null,null,null,0]
[null,null,null,null,"",47,null,null,null,null,0,"",47,null,null,null,null,0]
[null,null,null,null,"",48,null,null,null,null,0,"",48,null,null,null,null,0]
[null,null,null,null,"",49,null,null,null,null,0,"",49,null,null,null,null,0]
[null,{"$f":"$B$6","v":"2024年度"},{"$f":"$C$6","v":"2025年度"},{"$f":"$D$6","v":"2026年度"},"",50,null,null,null,null,0,"",50,null,null,null,null,0]
["複数手続きの種類",null,null,null,"",51,null,null,null,null,0,"",51,null,null,null,null,0]
["確認年月日",null,null,null,"",52,null,null,null,null,0,"",52,null,null,null,null,0]
["確認数量（kg）",null,null,null,"",53,null,null,null,null,0,"",53,null,null,null,null,0]
["申出番号（受付コード下4桁）",null,null,null,"",54,null,null,null,null,0,"",54,null,null,null,null,0]
["受付コード",{"$f":"IF(B$60=\"\",\"\",表１_対象物質一覧!$C$4&(MID($B$6,3,2)&B$60))","v":""},{"$f":"IF(C$60=\"\",\"\",表１_対象物質一覧!$C$4&(MID($C$6, 3, 2))&C$60)","v":""},{"$f":"IF(D$60=\"\",\"\",表１_対象物質一覧!$C$4&(MID($D$6, 3, 2))&D$60)","v":""},"",55,null,null,null,null,0,"",55,null,null,null,null,0]
["用途番号",null,null,null,"",56,null,null,null,null,0,"",56,null,null,null,null,0]
[null,null,null,null,"",57,null,null,null,null,0,"",57,null,null,null,null,0]
[null,null,null,null,"",58,null,null,null,null,0,"",58,null,null,null,null,0]
[null,null,null,null,"",59,null,null,null,null,0,"",59,null,null,null,null,0]
[null,null,null,null,"",60,null,null,null,null,0,"",60,null,null,null,null,0]
[null,null,null,null,"",61,null,null,null,null,0,"",61,null,null,null,null,0]
[null,null,null,null,"",62,null,null,null,null,0,"",62,null,null,null,null,0]
[null,{"$f":"$B$6","v":"2024年度"},{"$f":"$C$6","v":"2025年度"},{"$f":"$D$6","v":"2026年度"},"",63,null,null,null,null,0,"",63,null,null,null,null,0]
["複数手続きの種類",null,null,null,"",64,null,null,null,null,0,"",64,null,null,null,null,0]
["確認年月日",null,null,null,{"$f":"IF(H71=\"\", \"\",YEAR(H71) - IF(MONTH(H71)<4, 1, 0) & \"年度\")","v":""},65,null,null,null,null,0,{"$f":"IF(O71=\"\", \"\",YEAR(O71) - IF(MONTH(O71)<4, 1, 0) & \"年度\")","v":""},65,null,null,null,null,0]
["確認数量（kg）",null,null,null,"",66,null,null,null,null,0,"",66,null,null,null,null,0]
["申出番号（受付コード下4桁）",null,null,null,"",67,null,null,null,null,{"$f":"IF(J73=\"\",I73,I73*J73)","v":0},"",67,null,null,null,null,{"$f":"IF(Q73=\"\",P73,P73*Q73)","v":0}]
["受付コード",{"$f":"IF(B$73=\"\",\"\",表１_対象物質一覧!$C$4&(MID($B$6,3,2)&B$73))","v":""},{"$f":"IF(C$73=\"\",\"\",表１_対象物質一覧!$C$4&(MID($C$6, 3, 2))&C$73)","v":""},{"$f":"IF(D$73=\"\",\"\",表１_対象物質一覧!$C$4&(MID($D$6, 3, 2))&D$73)","v":""},"",68,null,null,null,null,0,"",68,null,null,null,null,0]
["用途番号",null,null,null,"",69,null,null,null,null,0,"",69,null,null,null,null,0]
[null,null,null,null,"",70,null,null,null,null,0,"",70,null,null,null,null,0]
[null,null,null,null,"",71,null,null,null,null,0,"",71,null,null,null,null,0]
[null,null,null,null,"",72,null,null,null,null,0,"",72,null,null,null,null,0]
[null,null,null,null,"",73,null,null,null,null,0,"",73,null,null,null,null,0]
[null,null,null,null,"",74,null,null,null,null,0,"",74,null,null,null,null,0]
[null,null,null,null,"",75,null,null,null,null,0,"",75,null,null,null,null,0]
["備考",null,null,null,"",76,null,null,null,null,0,"",76,null,null,null,null,0]
[null,null,null,null,"",77,null,null,null,null,0,"",77,null,null,null,null,0]
[null,null,null,null,"",78,null,null,null,null,0,"",78,null,null,null,null,0]
[null,null,null,null,"",79,null,null,null,null,0,"",79,null,null,null,null,0]
[null,null,null,null,"",80,null,null,null,null,0,"",80,null,null,null,null,0]
[null,null,null,null,"",81,null,null,null,null,0,"",81,null,null,null,null,0]
[null,null,null,null,"",82,null,null,null,null,0,"",82,null,null,null,null,0]
[null,null,null,null,"",83,null,null,null,null,0,"",83,null,null,null,null,0]
[null,null,null,null,"",84,null,null,null,null,0,"",84,null,null,null,null,0]
[null,null,null,null,"",85,null,null,null,null,0,"",85,null,null,null,null,0]
[null,null,null,null,"",86,null,null,null,null,0,"",86,null,null,null,null,0]
[null,null,null,null,"",87,null,null,null,null,0,"",87,null,null,null,null,0]
[null,null,null,null,"",88,null,null,null,null,0,"",88,null,null,null,null,0]
[null,null,null,null,"",89,null,null,null,null,0,"",89,null,null,null,null,0]
[null,null,null,null,"",90,null,null,null,null,0,"",90,null,null,null,null,0]
[null,null,null,null,"",91,null,null,null,null,0,"",91,null,null,null,null,0]
[null,null,null,null,"",92,null,null,null,null,0,"",92,null,null,null,null,0]
[null,null,null,null,"",93,null,null,null,null,0,"",93,null,null,null,null,0]
[null,null,null,null,"",94,null,null,null,null,0,"",94,null,null,null,null,0]
[null,null,null,null,"",95,null,null,null,null,0,"",95,null,null,null,null,0]
[null,null,null,null,"",96,null,null,null,null,0,"",96,null,null,null,null,0]
[null,null,null,null,"",97,null,null,null,null,0,"",97,null,null,null,null,0]
[null,null,null,null,"",98,null,null,null,null,0,"",98,null,null,null,null,0]
[null,null,null,null,"",99,null,null,null,null,{"$f":"IF(J105=\"\",I105,I105*J105)","v":0},"",99,null,null,null,null,{"$f":"IF(Q105=\"\",P105,P105*Q105)","v":0}]
[null,null,null,null,"",100,null,null,null,null,{"$f":"IF(J106=\"\",I106,I106*J106)","v":0},"",100,null,null,null,null,{"$f":"IF(Q106=\"\",P106,P106*Q106)","v":0}]

{"sheet":"13","index":13,"n_rows":106,"n_cols":20,"rows_kept":106,"cut":false,"hidden":false,"merged":[[1,5,1,6],[1,12,1,13],[3,5,5,6],[3,12,5,13]]}
["「表１_対象物質一覧」に戻る"]
["事業所名",null,null,null,null,"輸入量",null,null,null,null,null,null,"払出量"]
["新規化学物質の名称",null,null,null,null,"Ｎｏ",{"$f":"_xlfn.IFS(F2=\"製造量\",\"製造ロット\",F2=\"輸入量\",\"輸入ロット\",F2=\"製造・輸入量\",\"製造・輸入ロット\")","v":"輸入ロット"},{"$f":"_xlfn.IFS(F2=\"製造量\",\"製造日　（最終製品日）\",F2=\"輸入量\",\"輸入許可日\",F2=\"製造・輸入量\",\"製造日・輸入許可日\")","v":"輸入許可日"},{"$f":"_xlfn.IFS(F2=\"製造量\",\"製造数量（kg)\",F2=\"輸入量\",\"輸入数量（kg)\",F2=\"製造・輸入量\",\"製造・輸入数量（kg)\")","v":"輸入数量（kg)"},"含有率（％）","含有率換算数量(kg)",null,"Ｎｏ","ロット","払出日","払出数量（kg)","含有率（％）","含有率換算数量(kg)","用途番号","変更前ロット"]
["略称",null,null,null,null,"実績数量合計",null,{"$f":"B6","v":"2024年度"},{"$f":"SUMIF($E$7:$E106,$H$4,$I$7:$I106)","v":0},"-",{"$f":"SUMIF($E$7:$E106,$H$4,$K$7:$K106)","v":0},null,"払出数量合計",null,{"$f":"B6","v":"2024年度"},{"$f":"SUMIF($L$7:$L95,$O$4,$P$7:$P106)","v":0},"-",{"$f":"SUMIF($L$7:$L106,$H$4,$R$7:$R106)","v":0},"-","-"]
[null,null,null,null,null,null,null,{"$f":"C6","v":"2025年度"},{"$f":"SUMIF($E$7:$E106,$H$5,$I$7:$I106)","v":0},"-",{"$f":"SUMIF($E$7:$E106,$H$5,$K$7:$K106)","v":0},null,null,null,{"$f":"C6","v":"2025年度"},{"$f":"SUMIF($L$7:$L95,$O$5,$P$7:$P106)","v":0},"-",{"$f":"SUMIF($E$7:$E106,$H$5,$K$7:$K106)","v":0},"-","-"]
[null,{"$f":"'1'!B6","v":"2024年度"},{"$f":"'1'!C6","v":"2025年度"},{"$f":"'1'!D6","v":"2026年度"},null,null,null,{"$f":"D6","v":"2026年度"},{"$f":"SUMIF($E$7:$E106,$H$6,$I$7:$I106)","v":0},"-",{"$f":"SUMIF($E$7:$E106,$H$6,$K$7:$K106)","v":0},null,null,null,{"$f":"D6","v":"2026年度"},{"$f":"SUMIF($L$7:$L95,$O$6,$P$7:$P106)","v":0},"-",{"$f":"SUMIF($E$7:$E106,$H$6,$K$7:$K106)","v":0},"-","-"]
["確認年月日",null,null,null,{"$f":"IF(H7=\"\", \"\",YEAR(H7) - IF(MONTH(H7)<4, 1, 0) & \"年度\")","v":""},1,null,null,null,null,{"$f":"IF(J7=\"\",I7,I7*J7)","v":0},{"$f":"IF(O7=\"\", \"\",YEAR(O7) - IF(MONTH(O7)<4, 1, 0) & \"年度\")","v":""},1,null,null,null,null,{"$f":"IF(Q7=\"\",P7,P7*Q7)","v":0}]
["確認数量（kg）",null,null,null,"",2,null,null,null,null,{"$f":"IF(J8=\"\",I8,I8*J8)","v":0},"",2,null,null,null,null,{"$f":"IF(Q8=\"\",P8,P8*Q8)","v":0}]
["申出番号（受付コード下4桁）",null,null,null,"",3,null,null,null,null,{"$f":"IF(J9=\"\",I9,I9*J9)","v":0},"",3,null,null,null,null,{"$f":"IF(Q9=\"\",P9,P9*Q9)","v":0}]
["受付コード",{"$f":"IF(B$9=\"\",\"\",表１_対象物質一覧!$C$4&(MID($B$6,3,2)&B$9))","v":""},{"$f":"IF(C$9=\"\",\"\",表１_対象物質一覧!$C$4&(MID($C$6, 3, 2))&C$9)","v":""},{"$f":"IF(D$9=\"\",\"\",表１_対象物質一覧!$C$4&(MID($D$6, 3, 2))&D$9)","v":""},"",4,null,null,null,null,0,"",4,null,null,null,null,{"$f":"IF(Q10=\"\",P10,P10*Q10)","v":0}]
["用途番号",null,null,null,"",5,null,null,null,null,0,"",5,null,null,null,null,0]
[null,null,null,null,"",6,null,null,null,null,0,"",6,null,null,null,null,0]
[null,null,null,null,"",7,null,null,null,null,0,"",7,null,null,null,null,0]
[null,null,null,null,"",8,null,null,null,null,0,"",8,null,null,null,null,0]
[null,null,null,null,"",9,null,null,null,null,0,"",9,null,null,null,null,0]
[null,null,null,null,"",10,null,null,null,null,0,"",10,null,null,null,null,0]
["申出書に記載の「前年度の実績数量」",null,null,null,"",11,null,null,null,null,0,"",11,null,null,null,null,0]
["実績数量",{"$f":"$K$4","v":0},{"$f":"$K$5","v":0},{"$f":"$K$6","v":0},"",12,null,null,null,null,0,"",12,null,null,null,null,0]
["確認を受けている中間物等の分類",null,null,null,"",13,null,null,null,null,0,"",13,null,null,null,null,0]
["用途追加手続を省略して追加した用途の用途番号",null,null,null,"",14,null,null,null,null,0,"",14,null,null,null,null,0]
["備考（３年連続して実積数量がゼロの場合はその理由）",null,null,null,"",15,null,null,null,null,0,"",15,null,null,null,null,0]
["用途証明書なしであって確認年月日が複数ある場合の",null,null,null,"",16,null,null,null,null,0,"",16,null,null,null,null,0]
["確認年月日（上段）及び確認数量(kg)（下段）",null,null,null,"",17,null,null,null,null,0,"",17,null,null,null,null,0]
[null,null,null,null,"",18,null,null,null,null,0,"",18,null,null,null,null,0]
[null,null,null,null,"",19,null,null,null,null,0,"",19,null,null,null,null,0]
[null,null,null,null,"",20,null,null,null,null,0,"",20,null,null,null,null,0]
[null,null,null,null,"",21,null,null,null,null,0,"",21,null,null,null,null,0]
[null,null,null,null,"",22,null,null,null,null,0,"",22,null,null,null,null,0]
[null,null,null,null,"",23,null,null,null,null,0,"",23,null,null,null,null,0]
[null,null,null,null,"",24,null,null,null,null,0,"",24,null,null,null,null,0]
[null,null,null,null,"",25,null,null,null,null,0,"",25,null,null,null,null,0]
[null,null,null,null,"",26,null,null,null,null,0,"",26,null,null,null,null,0]
[null,null,null,null,"",27,null,null,null,null,0,"",27,null,null,null,null,0]
[null,null,null,null,"",28,null,null,null,null,0,"",28,null,null,null,null,0]
[null,null,null,null,"",29,null,null,null,null,0,"",29,null,null,null,null,0]
[null,null,null,null,"",30,null,null,null,null,0,"",30,null,null,null,null,0]
[null,null,null,null,"",31,null,null,null,null,0,"",31,null,null,null,null,0]
[null,null,null,null,"",32,null,null,null,null,0,"",32,null,null,null,null,0]
[null,null,null,null,{"$f":"IF(H39=\"\", \"\",YEAR(H39) - IF(MONTH(H39)<4, 1, 0) & \"年度\")","v":""},33,null,null,null,null,0,{"$f":"IF(O39=\"\", \"\",YEAR(O39) - IF(MONTH(O39)<4, 1, 0) & \"年度\")","v":""},33,null,null,null,null,0]
[null,null,null,null,"",34,null,null,null,null,0,"",34,null,null,null,null,0]
[null,null,null,null,"",35,null,null,null,null,0,"",35,null,null,null,null,0]
["同一年度で同じ化学物質を複数申請している場合は、その確認を受けた事項",null,null,null,"",36,null,null,null,null,0,"",36,null,null,null,null,0]
[null,{"$f":"$B$6","v":"2024年度"},{"$f":"$C$6","v":"2025年度"},{"$f":"$D$6","v":"2026年度"},"",37,null,null,null,null,0,"",37,null,null,null,null,0]
["複数手続きの種類",null,null,null,"",38,null,null,null,null,0,"",38,null,null,null,null,0]
["確認年月日",null,null,null,"",39,null,null,null,null,0,"",39,null,null,null,null,0]
["確認数量（kg）",null,null,null,"",40,null,null,null,null,0,"",40,null,null,null,null,0]
["申出番号（受付コード下4桁）",null,null,null,"",41,null,null,null,null,0,"",41,null,null,null,null,0]
["受付コード",{"$f":"IF(B$47=\"\",\"\",表１_対象物質一覧!$C$4&(MID($B$6,3,2)&B$47))","v":""},{"$f":"IF(C$47=\"\",\"\",表１_対象物質一覧!$C$4&(MID($C$6, 3, 2))&C$47)","v":""},{"$f":"IF(D$47=\"\",\"\",表１_対象物質一覧!$C$4&(MID($D$6, 3, 2))&D$47)","v":""},"",42,null,null,null,null,0,"",42,null,null,null,null,0]
["用途番号",null,null,null,"",43,null,null,null,null,0,"",43,null,null,null,null,0]
[null,null,null,null,"",44,null,null,null,null,0,"",44,null,null,null,null,0]
[null,null,null,null,"",45,null,null,null,null,0,"",45,null,null,null,null,0]
[null,null,null,null,"",46,null,null,null,null,0,"",46,null,null,null,null,0]
[null,null,null,null,"",47,null,null,null,null,0,"",47,null,null,null,null,0]
[null,null,null,null,"",48,null,null,null,null,0,"",48,null,null,null,null,0]
[null,null,null,null,"",49,null,null,null,null,0,"",49,null,null,null,null,0]
[null,{"$f":"$B$6","v":"2024年度"},{"$f":"$C$6","v":"2025年度"},{"$f":"$D$6","v":"2026年度"},"",50,null,null,null,null,0,"",50,null,null,null,null,0]
["複数手続きの種類",null,null,null,"",51,null,null,null,null,0,"",51,null,null,null,null,0]
["確認年月日",null,null,null,"",52,null,null,null,null,0,"",52,null,null,null,null,0]
["確認数量（kg）",null,null,null,"",53,null,null,null,null,0,"",53,null,null,null,null,0]
["申出番号（受付コード下4桁）",null,null,null,"",54,null,null,null,null,0,"",54,null,null,null,null,0]
["受付コード",{"$f":"IF(B$60=\"\",\"\",表１_対象物質一覧!$C$4&(MID($B$6,3,2)&B$60))","v":""},{"$f":"IF(C$60=\"\",\"\",表１_対象物質一覧!$C$4&(MID($C$6, 3, 2))&C$60)","v":""},{"$f":"IF(D$60=\"\",\"\",表１_対象物質一覧!$C$4&(MID($D$6, 3, 2))&D$60)","v":""},"",55,null,null,null,null,0,"",55,null,null,null,null,0]
["用途番号",null,null,null,"",56,null,null,null,null,0,"",56,null,null,null,null,0]
[null,null,null,null,"",57,null,null,null,null,0,"",57,null,null,null,null,0]
[null,null,null,null,"",58,null,null,null,null,0,"",58,null,null,null,null,0]
[null,null,null,null,"",59,null,null,null,null,0,"",59,null,null,null,null,0]
[null,null,null,null,"",60,null,null,null,null,0,"",60,null,null,null,null,0]
[null,null,null,null,"",61,null,null,null,null,0,"",61,null,null,null,null,0]
[null,null,null,null,"",62,null,null,null,null,0,"",62,null,null,null,null,0]
[null,{"$f":"$B$6","v":"2024年度"},{"$f":"$C$6","v":"2025年度"},{"$f":"$D$6","v":"2026年度"},"",63,null,null,null,null,0,"",63,null,null,null,null,0]
["複数手続きの種類",null,null,null,"",64,null,null,null,null,0,"",64,null,null,null,null,0]
["確認年月日",null,null,null,{"$f":"IF(H71=\"\", \"\",YEAR(H71) - IF(MONTH(H71)<4, 1, 0) & \"年度\")","v":""},65,null,null,null,null,0,{"$f":"IF(O71=\"\", \"\",YEAR(O71) - IF(MONTH(O71)<4, 1, 0) & \"年度\")","v":""},65,null,null,null,null,0]
["確認数量（kg）",null,null,null,"",66,null,null,null,null,0,"",66,null,null,null,null,0]
["申出番号（受付コード下4桁）",null,null,null,"",67,null,null,null,null,{"$f":"IF(J73=\"\",I73,I73*J73)","v":0},"",67,null,null,null,null,{"$f":"IF(Q73=\"\",P73,P73*Q73)","v":0}]
["受付コード",{"$f":"IF(B$73=\"\",\"\",表１_対象物質一覧!$C$4&(MID($B$6,3,2)&B$73))","v":""},{"$f":"IF(C$73=\"\",\"\",表１_対象物質一覧!$C$4&(MID($C$6, 3, 2))&C$73)","v":""},{"$f":"IF(D$73=\"\",\"\",表１_対象物質一覧!$C$4&(MID($D$6, 3, 2))&D$73)","v":""},"",68,null,null,null,null,0,"",68,null,null,null,null,0]
["用途番号",null,null,null,"",69,null,null,null,null,0,"",69,null,null,null,null,0]
[null,null,null,null,"",70,null,null,null,null,0,"",70,null,null,null,null,0]
[null,null,null,null,"",71,null,null,null,null,0,"",71,null,null,null,null,0]
[null,null,null,null,"",72,null,null,null,null,0,"",72,null,null,null,null,0]
[null,null,null,null,"",73,null,null,null,null,0,"",73,null,null,null,null,0]
[null,null,null,null,"",74,null,null,null,null,0,"",74,null,null,null,null,0]
[null,null,null,null,"",75,null,null,null,null,0,"",75,null,null,null,null,0]
["備考",null,null,null,"",76,null,null,null,null,0,"",76,null,null,null,null,0]
[null,null,null,null,"",77,null,null,null,null,0,"",77,null,null,null,null,0]
[null,null,null,null,"",78,null,null,null,null,0,"",78,null,null,null,null,0]
[null,null,null,null,"",79,null,null,null,null,0,"",79,null,null,null,null,0]
[null,null,null,null,"",80,null,null,null,null,0,"",80,null,null,null,null,0]
[null,null,null,null,"",81,null,null,null,null,0,"",81,null,null,null,null,0]
[null,null,null,null,"",82,null,null,null,null,0,"",82,null,null,null,null,0]
[null,null,null,null,"",83,null,null,null,null,0,"",83,null,null,null,null,0]
[null,null,null,null,"",84,null,null,null,null,0,"",84,null,null,null,null,0]
[null,null,null,null,"",85,null,null,null,null,0,"",85,null,null,null,null,0]
[null,null,null,null,"",86,null,null,null,null,0,"",86,null,null,null,null,0]
[null,null,null,null,"",87,null,null,null,null,0,"",87,null,null,null,null,0]
[null,null,null,null,"",88,null,null,null,null,0,"",88,null,null,null,null,0]
[null,null,null,null,"",89,null,null,null,null,0,"",89,null,null,null,null,0]
[null,null,null,null,"",90,null,null,null,null,0,"",90,null,null,null,null,0]
[null,null,null,null,"",91,null,null,null,null,0,"",91,null,null,null,null,0]
[null,null,null,null,"",92,null,null,null,null,0,"",92,null,null,null,null,0]
[null,null,null,null,"",93,null,null,null,null,0,"",93,null,null,null,null,0]
[null,null,null,null,"",94,null,null,null,null,0,"",94,null,null,null,null,0]
[null,null,null,null,"",95,null,null,null,null,0,"",95,null,null,null,null,0]
[null,null,null,null,"",96,null,null,null,null,0,"",96,null,null,null,null,0]
[null,null,null,null,"",97,null,null,null,null,0,"",97,null,null,null,null,0]
[null,null,null,null,"",98,null,null,null,null,0,"",98,null,null,null,null,0]
[null,null,null,null,"",99,null,null,null,null,{"$f":"IF(J105=\"\",I105,I105*J105)","v":0},"",99,null,null,null,null,{"$f":"IF(Q105=\"\",P105,P105*Q105)","v":0}]
[null,null,null,null,"",100,null,null,null,null,{"$f":"IF(J106=\"\",I106,I106*J106)","v":0},"",100,null,null,null,null,{"$f":"IF(Q106=\"\",P106,P106*Q106)","v":0}]

{"sheet":"14","index":14,"n_rows":106,"n_cols":20,"rows_kept":106,"cut":false,"hidden":false,"merged":[[1,5,1,6],[1,12,1,13],[3,5,5,6],[3,12,5,13]]}
["「表１_対象物質一覧」に戻る"]
["事業所名",null,null,null,null,"輸入量",null,null,null,null,null,null,"払出量"]
["新規化学物質の名称",null,null,null,null,"Ｎｏ",{"$f":"_xlfn.IFS(F2=\"製造量\",\"製造ロット\",F2=\"輸入量\",\"輸入ロット\",F2=\"製造・輸入量\",\"製造・輸入ロット\")","v":"輸入ロット"},{"$f":"_xlfn.IFS(F2=\"製造量\",\"製造日　（最終製品日）\",F2=\"輸入量\",\"輸入許可日\",F2=\"製造・輸入量\",\"製造日・輸入許可日\")","v":"輸入許可日"},{"$f":"_xlfn.IFS(F2=\"製造量\",\"製造数量（kg)\",F2=\"輸入量\",\"輸入数量（kg)\",F2=\"製造・輸入量\",\"製造・輸入数量（kg)\")","v":"輸入数量（kg)"},"含有率（％）","含有率換算数量(kg)",null,"Ｎｏ","ロット","払出日","払出数量（kg)","含有率（％）","含有率換算数量(kg)","用途番号","変更前ロット"]
["略称",null,null,null,null,"実績数量合計",null,{"$f":"B6","v":"2024年度"},{"$f":"SUMIF($E$7:$E106,$H$4,$I$7:$I106)","v":0},"-",{"$f":"SUMIF($E$7:$E106,$H$4,$K$7:$K106)","v":0},null,"払出数量合計",null,{"$f":"B6","v":"2024年度"},{"$f":"SUMIF($L$7:$L95,$O$4,$P$7:$P106)","v":0},"-",{"$f":"SUMIF($L$7:$L106,$H$4,$R$7:$R106)","v":0},"-","-"]
[null,null,null,null,null,null,null,{"$f":"C6","v":"2025年度"},{"$f":"SUMIF($E$7:$E106,$H$5,$I$7:$I106)","v":0},"-",{"$f":"SUMIF($E$7:$E106,$H$5,$K$7:$K106)","v":0},null,null,null,{"$f":"C6","v":"2025年度"},{"$f":"SUMIF($L$7:$L95,$O$5,$P$7:$P106)","v":0},"-",{"$f":"SUMIF($E$7:$E106,$H$5,$K$7:$K106)","v":0},"-","-"]
[null,{"$f":"'1'!B6","v":"2024年度"},{"$f":"'1'!C6","v":"2025年度"},{"$f":"'1'!D6","v":"2026年度"},null,null,null,{"$f":"D6","v":"2026年度"},{"$f":"SUMIF($E$7:$E106,$H$6,$I$7:$I106)","v":0},"-",{"$f":"SUMIF($E$7:$E106,$H$6,$K$7:$K106)","v":0},null,null,null,{"$f":"D6","v":"2026年度"},{"$f":"SUMIF($L$7:$L95,$O$6,$P$7:$P106)","v":0},"-",{"$f":"SUMIF($E$7:$E106,$H$6,$K$7:$K106)","v":0},"-","-"]
["確認年月日",null,null,null,{"$f":"IF(H7=\"\", \"\",YEAR(H7) - IF(MONTH(H7)<4, 1, 0) & \"年度\")","v":""},1,null,null,null,null,{"$f":"IF(J7=\"\",I7,I7*J7)","v":0},{"$f":"IF(O7=\"\", \"\",YEAR(O7) - IF(MONTH(O7)<4, 1, 0) & \"年度\")","v":""},1,null,null,null,null,{"$f":"IF(Q7=\"\",P7,P7*Q7)","v":0}]
["確認数量（kg）",null,null,null,"",2,null,null,null,null,{"$f":"IF(J8=\"\",I8,I8*J8)","v":0},"",2,null,null,null,null,{"$f":"IF(Q8=\"\",P8,P8*Q8)","v":0}]
["申出番号（受付コード下4桁）",null,null,null,"",3,null,null,null,null,{"$f":"IF(J9=\"\",I9,I9*J9)","v":0},"",3,null,null,null,null,{"$f":"IF(Q9=\"\",P9,P9*Q9)","v":0}]
["受付コード",{"$f":"IF(B$9=\"\",\"\",表１_対象物質一覧!$C$4&(MID($B$6,3,2)&B$9))","v":""},{"$f":"IF(C$9=\"\",\"\",表１_対象物質一覧!$C$4&(MID($C$6, 3, 2))&C$9)","v":""},{"$f":"IF(D$9=\"\",\"\",表１_対象物質一覧!$C$4&(MID($D$6, 3, 2))&D$9)","v":""},"",4,null,null,null,null,0,"",4,null,null,null,null,{"$f":"IF(Q10=\"\",P10,P10*Q10)","v":0}]
["用途番号",null,null,null,"",5,null,null,null,null,0,"",5,null,null,null,null,0]
[null,null,null,null,"",6,null,null,null,null,0,"",6,null,null,null,null,0]
[null,null,null,null,"",7,null,null,null,null,0,"",7,null,null,null,null,0]
[null,null,null,null,"",8,null,null,null,null,0,"",8,null,null,null,null,0]
[null,null,null,null,"",9,null,null,null,null,0,"",9,null,null,null,null,0]
[null,null,null,null,"",10,null,null,null,null,0,"",10,null,null,null,null,0]
["申出書に記載の「前年度の実績数量」",null,null,null,"",11,null,null,null,null,0,"",11,null,null,null,null,0]
["実績数量",{"$f":"$K$4","v":0},{"$f":"$K$5","v":0},{"$f":"$K$6","v":0},"",12,null,null,null,null,0,"",12,null,null,null,null,0]
["確認を受けている中間物等の分類",null,null,null,"",13,null,null,null,null,0,"",13,null,null,null,null,0]
["用途追加手続を省略して追加した用途の用途番号",null,null,null,"",14,null,null,null,null,0,"",14,null,null,null,null,0]
["備考（３年連続して実積数量がゼロの場合はその理由）",null,null,null,"",15,null,null,null,null,0,"",15,null,null,null,null,0]
["用途証明書なしであって確認年月日が複数ある場合の",null,null,null,"",16,null,null,null,null,0,"",16,null,null,null,null,0]
["確認年月日（上段）及び確認数量(kg)（下段）",null,null,null,"",17,null,null,null,null,0,"",17,null,null,null,null,0]
[null,null,null,null,"",18,null,null,null,null,0,"",18,null,null,null,null,0]
[null,null,null,null,"",19,null,null,null,null,0,"",19,null,null,null,null,0]
[null,null,null,null,"",20,null,null,null,null,0,"",20,null,null,null,null,0]
[null,null,null,null,"",21,null,null,null,null,0,"",21,null,null,null,null,0]
[null,null,null,null,"",22,null,null,null,null,0,"",22,null,null,null,null,0]
[null,null,null,null,"",23,null,null,null,null,0,"",23,null,null,null,null,0]
[null,null,null,null,"",24,null,null,null,null,0,"",24,null,null,null,null,0]
[null,null,null,null,"",25,null,null,null,null,0,"",25,null,null,null,null,0]
[null,null,null,null,"",26,null,null,null,null,0,"",26,null,null,null,null,0]
[null,null,null,null,"",27,null,null,null,null,0,"",27,null,null,null,null,0]
[null,null,null,null,"",28,null,null,null,null,0,"",28,null,null,null,null,0]
[null,null,null,null,"",29,null,null,null,null,0,"",29,null,null,null,null,0]
[null,null,null,null,"",30,null,null,null,null,0,"",30,null,null,null,null,0]
[null,null,null,null,"",31,null,null,null,null,0,"",31,null,null,null,null,0]
[null,null,null,null,"",32,null,null,null,null,0,"",32,null,null,null,null,0]
[null,null,null,null,{"$f":"IF(H39=\"\", \"\",YEAR(H39) - IF(MONTH(H39)<4, 1, 0) & \"年度\")","v":""},33,null,null,null,null,0,{"$f":"IF(O39=\"\", \"\",YEAR(O39) - IF(MONTH(O39)<4, 1, 0) & \"年度\")","v":""},33,null,null,null,null,0]
[null,null,null,null,"",34,null,null,null,null,0,"",34,null,null,null,null,0]
[null,null,null,null,"",35,null,null,null,null,0,"",35,null,null,null,null,0]
["同一年度で同じ化学物質を複数申請している場合は、その確認を受けた事項",null,null,null,"",36,null,null,null,null,0,"",36,null,null,null,null,0]
[null,{"$f":"$B$6","v":"2024年度"},{"$f":"$C$6","v":"2025年度"},{"$f":"$D$6","v":"2026年度"},"",37,null,null,null,null,0,"",37,null,null,null,null,0]
["複数手続きの種類",null,null,null,"",38,null,null,null,null,0,"",38,null,null,null,null,0]
["確認年月日",null,null,null,"",39,null,null,null,null,0,"",39,null,null,null,null,0]
["確認数量（kg）",null,null,null,"",40,null,null,null,null,0,"",40,null,null,null,null,0]
["申出番号（受付コード下4桁）",null,null,null,"",41,null,null,null,null,0,"",41,null,null,null,null,0]
["受付コード",{"$f":"IF(B$47=\"\",\"\",表１_対象物質一覧!$C$4&(MID($B$6,3,2)&B$47))","v":""},{"$f":"IF(C$47=\"\",\"\",表１_対象物質一覧!$C$4&(MID($C$6, 3, 2))&C$47)","v":""},{"$f":"IF(D$47=\"\",\"\",表１_対象物質一覧!$C$4&(MID($D$6, 3, 2))&D$47)","v":""},"",42,null,null,null,null,0,"",42,null,null,null,null,0]
["用途番号",null,null,null,"",43,null,null,null,null,0,"",43,null,null,null,null,0]
[null,null,null,null,"",44,null,null,null,null,0,"",44,null,null,null,null,0]
[null,null,null,null,"",45,null,null,null,null,0,"",45,null,null,null,null,0]
[null,null,null,null,"",46,null,null,null,null,0,"",46,null,null,null,null,0]
[null,null,null,null,"",47,null,null,null,null,0,"",47,null,null,null,null,0]
[null,null,null,null,"",48,null,null,null,null,0,"",48,null,null,null,null,0]
[null,null,null,null,"",49,null,null,null,null,0,"",49,null,null,null,null,0]
[null,{"$f":"$B$6","v":"2024年度"},{"$f":"$C$6","v":"2025年度"},{"$f":"$D$6","v":"2026年度"},"",50,null,null,null,null,0,"",50,null,null,null,null,0]
["複数手続きの種類",null,null,null,"",51,null,null,null,null,0,"",51,null,null,null,null,0]
["確認年月日",null,null,null,"",52,null,null,null,null,0,"",52,null,null,null,null,0]
["確認数量（kg）",null,null,null,"",53,null,null,null,null,0,"",53,null,null,null,null,0]
["申出番号（受付コード下4桁）",null,null,null,"",54,null,null,null,null,0,"",54,null,null,null,null,0]
["受付コード",{"$f":"IF(B$60=\"\",\"\",表１_対象物質一覧!$C$4&(MID($B$6,3,2)&B$60))","v":""},{"$f":"IF(C$60=\"\",\"\",表１_対象物質一覧!$C$4&(MID($C$6, 3, 2))&C$60)","v":""},{"$f":"IF(D$60=\"\",\"\",表１_対象物質一覧!$C$4&(MID($D$6, 3, 2))&D$60)","v":""},"",55,null,null,null,null,0,"",55,null,null,null,null,0]
["用途番号",null,null,null,"",56,null,null,null,null,0,"",56,null,null,null,null,0]
[null,null,null,null,"",57,null,null,null,null,0,"",57,null,null,null,null,0]
[null,null,null,null,"",58,null,null,null,null,0,"",58,null,null,null,null,0]
[null,null,null,null,"",59,null,null,null,null,0,"",59,null,null,null,null,0]
[null,null,null,null,"",60,null,null,null,null,0,"",60,null,null,null,null,0]
[null,null,null,null,"",61,null,null,null,null,0,"",61,null,null,null,null,0]
[null,null,null,null,"",62,null,null,null,null,0,"",62,null,null,null,null,0]
[null,{"$f":"$B$6","v":"2024年度"},{"$f":"$C$6","v":"2025年度"},{"$f":"$D$6","v":"2026年度"},"",63,null,null,null,null,0,"",63,null,null,null,null,0]
["複数手続きの種類",null,null,null,"",64,null,null,null,null,0,"",64,null,null,null,null,0]
["確認年月日",null,null,null,{"$f":"IF(H71=\"\", \"\",YEAR(H71) - IF(MONTH(H71)<4, 1, 0) & \"年度\")","v":""},65,null,null,null,null,0,{"$f":"IF(O71=\"\", \"\",YEAR(O71) - IF(MONTH(O71)<4, 1, 0) & \"年度\")","v":""},65,null,null,null,null,0]
["確認数量（kg）",null,null,null,"",66,null,null,null,null,0,"",66,null,null,null,null,0]
["申出番号（受付コード下4桁）",null,null,null,"",67,null,null,null,null,{"$f":"IF(J73=\"\",I73,I73*J73)","v":0},"",67,null,null,null,null,{"$f":"IF(Q73=\"\",P73,P73*Q73)","v":0}]
["受付コード",{"$f":"IF(B$73=\"\",\"\",表１_対象物質一覧!$C$4&(MID($B$6,3,2)&B$73))","v":""},{"$f":"IF(C$73=\"\",\"\",表１_対象物質一覧!$C$4&(MID($C$6, 3, 2))&C$73)","v":""},{"$f":"IF(D$73=\"\",\"\",表１_対象物質一覧!$C$4&(MID($D$6, 3, 2))&D$73)","v":""},"",68,null,null,null,null,0,"",68,null,null,null,null,0]
["用途番号",null,null,null,"",69,null,null,null,null,0,"",69,null,null,null,null,0]
[null,null,null,null,"",70,null,null,null,null,0,"",70,null,null,null,null,0]
[null,null,null,null,"",71,null,null,null,null,0,"",71,null,null,null,null,0]
[null,null,null,null,"",72,null,null,null,null,0,"",72,null,null,null,null,0]
[null,null,null,null,"",73,null,null,null,null,0,"",73,null,null,null,null,0]
[null,null,null,null,"",74,null,null,null,null,0,"",74,null,null,null,null,0]
[null,null,null,null,"",75,null,null,null,null,0,"",75,null,null,null,null,0]
["備考",null,null,null,"",76,null,null,null,null,0,"",76,null,null,null,null,0]
[null,null,null,null,"",77,null,null,null,null,0,"",77,null,null,null,null,0]
[null,null,null,null,"",78,null,null,null,null,0,"",78,null,null,null,null,0]
[null,null,null,null,"",79,null,null,null,null,0,"",79,null,null,null,null,0]
[null,null,null,null,"",80,null,null,null,null,0,"",80,null,null,null,null,0]
[null,null,null,null,"",81,null,null,null,null,0,"",81,null,null,null,null,0]
[null,null,null,null,"",82,null,null,null,null,0,"",82,null,null,null,null,0]
[null,null,null,null,"",83,null,null,null,null,0,"",83,null,null,null,null,0]
[null,null,null,null,"",84,null,null,null,null,0,"",84,null,null,null,null,0]
[null,null,null,null,"",85,null,null,null,null,0,"",85,null,null,null,null,0]
[null,null,null,null,"",86,null,null,null,null,0,"",86,null,null,null,null,0]
[null,null,null,null,"",87,null,null,null,null,0,"",87,null,null,null,null,0]
[null,null,null,null,"",88,null,null,null,null,0,"",88,null,null,null,null,0]
[null,null,null,null,"",89,null,null,null,null,0,"",89,null,null,null,null,0]
[null,null,null,null,"",90,null,null,null,null,0,"",90,null,null,null,null,0]
[null,null,null,null,"",91,null,null,null,null,0,"",91,null,null,null,null,0]
[null,null,null,null,"",92,null,null,null,null,0,"",92,null,null,null,null,0]
[null,null,null,null,"",93,null,null,null,null,0,"",93,null,null,null,null,0]
[null,null,null,null,"",94,null,null,null,null,0,"",94,null,null,null,null,0]
[null,null,null,null,"",95,null,null,null,null,0,"",95,null,null,null,null,0]
[null,null,null,null,"",96,null,null,null,null,0,"",96,null,null,null,null,0]
[null,null,null,null,"",97,null,null,null,null,0,"",97,null,null,null,null,0]
[null,null,null,null,"",98,null,null,null,null,0,"",98,null,null,null,null,0]
[null,null,null,null,"",99,null,null,null,null,{"$f":"IF(J105=\"\",I105,I105*J105)","v":0},"",99,null,null,null,null,{"$f":"IF(Q105=\"\",P105,P105*Q105)","v":0}]
[null,null,null,null,"",100,null,null,null,null,{"$f":"IF(J106=\"\",I106,I106*J106)","v":0},"",100,null,null,null,null,{"$f":"IF(Q106=\"\",P106,P106*Q106)","v":0}]

{"sheet":"15","index":15,"n_rows":106,"n_cols":20,"rows_kept":106,"cut":false,"hidden":false,"merged":[[1,5,1,6],[1,12,1,13],[3,5,5,6],[3,12,5,13]]}
["「表１_対象物質一覧」に戻る"]
["事業所名",null,null,null,null,"輸入量",null,null,null,null,null,null,"払出量"]
["新規化学物質の名称",null,null,null,null,"Ｎｏ",{"$f":"_xlfn.IFS(F2=\"製造量\",\"製造ロット\",F2=\"輸入量\",\"輸入ロット\",F2=\"製造・輸入量\",\"製造・輸入ロット\")","v":"輸入ロット"},{"$f":"_xlfn.IFS(F2=\"製造量\",\"製造日　（最終製品日）\",F2=\"輸入量\",\"輸入許可日\",F2=\"製造・輸入量\",\"製造日・輸入許可日\")","v":"輸入許可日"},{"$f":"_xlfn.IFS(F2=\"製造量\",\"製造数量（kg)\",F2=\"輸入量\",\"輸入数量（kg)\",F2=\"製造・輸入量\",\"製造・輸入数量（kg)\")","v":"輸入数量（kg)"},"含有率（％）","含有率換算数量(kg)",null,"Ｎｏ","ロット","払出日","払出数量（kg)","含有率（％）","含有率換算数量(kg)","用途番号","変更前ロット"]
["略称",null,null,null,null,"実績数量合計",null,{"$f":"B6","v":"2024年度"},{"$f":"SUMIF($E$7:$E106,$H$4,$I$7:$I106)","v":0},"-",{"$f":"SUMIF($E$7:$E106,$H$4,$K$7:$K106)","v":0},null,"払出数量合計",null,{"$f":"B6","v":"2024年度"},{"$f":"SUMIF($L$7:$L95,$O$4,$P$7:$P106)","v":0},"-",{"$f":"SUMIF($L$7:$L106,$H$4,$R$7:$R106)","v":0},"-","-"]
[null,null,null,null,null,null,null,{"$f":"C6","v":"2025年度"},{"$f":"SUMIF($E$7:$E106,$H$5,$I$7:$I106)","v":0},"-",{"$f":"SUMIF($E$7:$E106,$H$5,$K$7:$K106)","v":0},null,null,null,{"$f":"C6","v":"2025年度"},{"$f":"SUMIF($L$7:$L95,$O$5,$P$7:$P106)","v":0},"-",{"$f":"SUMIF($E$7:$E106,$H$5,$K$7:$K106)","v":0},"-","-"]
[null,{"$f":"'1'!B6","v":"2024年度"},{"$f":"'1'!C6","v":"2025年度"},{"$f":"'1'!D6","v":"2026年度"},null,null,null,{"$f":"D6","v":"2026年度"},{"$f":"SUMIF($E$7:$E106,$H$6,$I$7:$I106)","v":0},"-",{"$f":"SUMIF($E$7:$E106,$H$6,$K$7:$K106)","v":0},null,null,null,{"$f":"D6","v":"2026年度"},{"$f":"SUMIF($L$7:$L95,$O$6,$P$7:$P106)","v":0},"-",{"$f":"SUMIF($E$7:$E106,$H$6,$K$7:$K106)","v":0},"-","-"]
["確認年月日",null,null,null,{"$f":"IF(H7=\"\", \"\",YEAR(H7) - IF(MONTH(H7)<4, 1, 0) & \"年度\")","v":""},1,null,null,null,null,{"$f":"IF(J7=\"\",I7,I7*J7)","v":0},{"$f":"IF(O7=\"\", \"\",YEAR(O7) - IF(MONTH(O7)<4, 1, 0) & \"年度\")","v":""},1,null,null,null,null,{"$f":"IF(Q7=\"\",P7,P7*Q7)","v":0}]
["確認数量（kg）",null,null,null,"",2,null,null,null,null,{"$f":"IF(J8=\"\",I8,I8*J8)","v":0},"",2,null,null,null,null,{"$f":"IF(Q8=\"\",P8,P8*Q8)","v":0}]
["申出番号（受付コード下4桁）",null,null,null,"",3,null,null,null,null,{"$f":"IF(J9=\"\",I9,I9*J9)","v":0},"",3,null,null,null,null,{"$f":"IF(Q9=\"\",P9,P9*Q9)","v":0}]
["受付コード",{"$f":"IF(B$9=\"\",\"\",表１_対象物質一覧!$C$4&(MID($B$6,3,2)&B$9))","v":""},{"$f":"IF(C$9=\"\",\"\",表１_対象物質一覧!$C$4&(MID($C$6, 3, 2))&C$9)","v":""},{"$f":"IF(D$9=\"\",\"\",表１_対象物質一覧!$C$4&(MID($D$6, 3, 2))&D$9)","v":""},"",4,null,null,null,null,0,"",4,null,null,null,null,{"$f":"IF(Q10=\"\",P10,P10*Q10)","v":0}]
["用途番号",null,null,null,"",5,null,null,null,null,0,"",5,null,null,null,null,0]
[null,null,null,null,"",6,null,null,null,null,0,"",6,null,null,null,null,0]
[null,null,null,null,"",7,null,null,null,null,0,"",7,null,null,null,null,0]
[null,null,null,null,"",8,null,null,null,null,0,"",8,null,null,null,null,0]
[null,null,null,null,"",9,null,null,null,null,0,"",9,null,null,null,null,0]
[null,null,null,null,"",10,null,null,null,null,0,"",10,null,null,null,null,0]
["申出書に記載の「前年度の実績数量」",null,null,null,"",11,null,null,null,null,0,"",11,null,null,null,null,0]
["実績数量",{"$f":"$K$4","v":0},{"$f":"$K$5","v":0},{"$f":"$K$6","v":0},"",12,null,null,null,null,0,"",12,null,null,null,null,0]
["確認を受けている中間物等の分類",null,null,null,"",13,null,null,null,null,0,"",13,null,null,null,null,0]
["用途追加手続を省略して追加した用途の用途番号",null,null,null,"",14,null,null,null,null,0,"",14,null,null,null,null,0]
["備考（３年連続して実積数量がゼロの場合はその理由）",null,null,null,"",15,null,null,null,null,0,"",15,null,null,null,null,0]
["用途証明書なしであって確認年月日が複数ある場合の",null,null,null,"",16,null,null,null,null,0,"",16,null,null,null,null,0]
["確認年月日（上段）及び確認数量(kg)（下段）",null,null,null,"",17,null,null,null,null,0,"",17,null,null,null,null,0]
[null,null,null,null,"",18,null,null,null,null,0,"",18,null,null,null,null,0]
[null,null,null,null,"",19,null,null,null,null,0,"",19,null,null,null,null,0]
[null,null,null,null,"",20,null,null,null,null,0,"",20,null,null,null,null,0]
[null,null,null,null,"",21,null,null,null,null,0,"",21,null,null,null,null,0]
[null,null,null,null,"",22,null,null,null,null,0,"",22,null,null,null,null,0]
[null,null,null,null,"",23,null,null,null,null,0,"",23,null,null,null,null,0]
[null,null,null,null,"",24,null,null,null,null,0,"",24,null,null,null,null,0]
[null,null,null,null,"",25,null,null,null,null,0,"",25,null,null,null,null,0]
[null,null,null,null,"",26,null,null,null,null,0,"",26,null,null,null,null,0]
[null,null,null,null,"",27,null,null,null,null,0,"",27,null,null,null,null,0]
[null,null,null,null,"",28,null,null,null,null,0,"",28,null,null,null,null,0]
[null,null,null,null,"",29,null,null,null,null,0,"",29,null,null,null,null,0]
[null,null,null,null,"",30,null,null,null,null,0,"",30,null,null,null,null,0]
[null,null,null,null,"",31,null,null,null,null,0,"",31,null,null,null,null,0]
[null,null,null,null,"",32,null,null,null,null,0,"",32,null,null,null,null,0]
[null,null,null,null,{"$f":"IF(H39=\"\", \"\",YEAR(H39) - IF(MONTH(H39)<4, 1, 0) & \"年度\")","v":""},33,null,null,null,null,0,{"$f":"IF(O39=\"\", \"\",YEAR(O39) - IF(MONTH(O39)<4, 1, 0) & \"年度\")","v":""},33,null,null,null,null,0]
[null,null,null,null,"",34,null,null,null,null,0,"",34,null,null,null,null,0]
[null,null,null,null,"",35,null,null,null,null,0,"",35,null,null,null,null,0]
["同一年度で同じ化学物質を複数申請している場合は、その確認を受けた事項",null,null,null,"",36,null,null,null,null,0,"",36,null,null,null,null,0]
[null,{"$f":"$B$6","v":"2024年度"},{"$f":"$C$6","v":"2025年度"},{"$f":"$D$6","v":"2026年度"},"",37,null,null,null,null,0,"",37,null,null,null,null,0]
["複数手続きの種類",null,null,null,"",38,null,null,null,null,0,"",38,null,null,null,null,0]
["確認年月日",null,null,null,"",39,null,null,null,null,0,"",39,null,null,null,null,0]
["確認数量（kg）",null,null,null,"",40,null,null,null,null,0,"",40,null,null,null,null,0]
["申出番号（受付コード下4桁）",null,null,null,"",41,null,null,null,null,0,"",41,null,null,null,null,0]
["受付コード",{"$f":"IF(B$47=\"\",\"\",表１_対象物質一覧!$C$4&(MID($B$6,3,2)&B$47))","v":""},{"$f":"IF(C$47=\"\",\"\",表１_対象物質一覧!$C$4&(MID($C$6, 3, 2))&C$47)","v":""},{"$f":"IF(D$47=\"\",\"\",表１_対象物質一覧!$C$4&(MID($D$6, 3, 2))&D$47)","v":""},"",42,null,null,null,null,0,"",42,null,null,null,null,0]
["用途番号",null,null,null,"",43,null,null,null,null,0,"",43,null,null,null,null,0]
[null,null,null,null,"",44,null,null,null,null,0,"",44,null,null,null,null,0]
[null,null,null,null,"",45,null,null,null,null,0,"",45,null,null,null,null,0]
[null,null,null,null,"",46,null,null,null,null,0,"",46,null,null,null,null,0]
[null,null,null,null,"",47,null,null,null,null,0,"",47,null,null,null,null,0]
[null,null,null,null,"",48,null,null,null,null,0,"",48,null,null,null,null,0]
[null,null,null,null,"",49,null,null,null,null,0,"",49,null,null,null,null,0]
[null,{"$f":"$B$6","v":"2024年度"},{"$f":"$C$6","v":"2025年度"},{"$f":"$D$6","v":"2026年度"},"",50,null,null,null,null,0,"",50,null,null,null,null,0]
["複数手続きの種類",null,null,null,"",51,null,null,null,null,0,"",51,null,null,null,null,0]
["確認年月日",null,null,null,"",52,null,null,null,null,0,"",52,null,null,null,null,0]
["確認数量（kg）",null,null,null,"",53,null,null,null,null,0,"",53,null,null,null,null,0]
["申出番号（受付コード下4桁）",null,null,null,"",54,null,null,null,null,0,"",54,null,null,null,null,0]
["受付コード",{"$f":"IF(B$60=\"\",\"\",表１_対象物質一覧!$C$4&(MID($B$6,3,2)&B$60))","v":""},{"$f":"IF(C$60=\"\",\"\",表１_対象物質一覧!$C$4&(MID($C$6, 3, 2))&C$60)","v":""},{"$f":"IF(D$60=\"\",\"\",表１_対象物質一覧!$C$4&(MID($D$6, 3, 2))&D$60)","v":""},"",55,null,null,null,null,0,"",55,null,null,null,null,0]
["用途番号",null,null,null,"",56,null,null,null,null,0,"",56,null,null,null,null,0]
[null,null,null,null,"",57,null,null,null,null,0,"",57,null,null,null,null,0]
[null,null,null,null,"",58,null,null,null,null,0,"",58,null,null,null,null,0]
[null,null,null,null,"",59,null,null,null,null,0,"",59,null,null,null,null,0]
[null,null,null,null,"",60,null,null,null,null,0,"",60,null,null,null,null,0]
[null,null,null,null,"",61,null,null,null,null,0,"",61,null,null,null,null,0]
[null,null,null,null,"",62,null,null,null,null,0,"",62,null,null,null,null,0]
[null,{"$f":"$B$6","v":"2024年度"},{"$f":"$C$6","v":"2025年度"},{"$f":"$D$6","v":"2026年度"},"",63,null,null,null,null,0,"",63,null,null,null,null,0]
["複数手続きの種類",null,null,null,"",64,null,null,null,null,0,"",64,null,null,null,null,0]
["確認年月日",null,null,null,{"$f":"IF(H71=\"\", \"\",YEAR(H71) - IF(MONTH(H71)<4, 1, 0) & \"年度\")","v":""},65,null,null,null,null,0,{"$f":"IF(O71=\"\", \"\",YEAR(O71) - IF(MONTH(O71)<4, 1, 0) & \"年度\")","v":""},65,null,null,null,null,0]
["確認数量（kg）",null,null,null,"",66,null,null,null,null,0,"",66,null,null,null,null,0]
["申出番号（受付コード下4桁）",null,null,null,"",67,null,null,null,null,{"$f":"IF(J73=\"\",I73,I73*J73)","v":0},"",67,null,null,null,null,{"$f":"IF(Q73=\"\",P73,P73*Q73)","v":0}]
["受付コード",{"$f":"IF(B$73=\"\",\"\",表１_対象物質一覧!$C$4&(MID($B$6,3,2)&B$73))","v":""},{"$f":"IF(C$73=\"\",\"\",表１_対象物質一覧!$C$4&(MID($C$6, 3, 2))&C$73)","v":""},{"$f":"IF(D$73=\"\",\"\",表１_対象物質一覧!$C$4&(MID($D$6, 3, 2))&D$73)","v":""},"",68,null,null,null,null,0,"",68,null,null,null,null,0]
["用途番号",null,null,null,"",69,null,null,null,null,0,"",69,null,null,null,null,0]
[null,null,null,null,"",70,null,null,null,null,0,"",70,null,null,null,null,0]
[null,null,null,null,"",71,null,null,null,null,0,"",71,null,null,null,null,0]
[null,null,null,null,"",72,null,null,null,null,0,"",72,null,null,null,null,0]
[null,null,null,null,"",73,null,null,null,null,0,"",73,null,null,null,null,0]
[null,null,null,null,"",74,null,null,null,null,0,"",74,null,null,null,null,0]
[null,null,null,null,"",75,null,null,null,null,0,"",75,null,null,null,null,0]
["備考",null,null,null,"",76,null,null,null,null,0,"",76,null,null,null,null,0]
[null,null,null,null,"",77,null,null,null,null,0,"",77,null,null,null,null,0]
[null,null,null,null,"",78,null,null,null,null,0,"",78,null,null,null,null,0]
[null,null,null,null,"",79,null,null,null,null,0,"",79,null,null,null,null,0]
[null,null,null,null,"",80,null,null,null,null,0,"",80,null,null,null,null,0]
[null,null,null,null,"",81,null,null,null,null,0,"",81,null,null,null,null,0]
[null,null,null,null,"",82,null,null,null,null,0,"",82,null,null,null,null,0]
[null,null,null,null,"",83,null,null,null,null,0,"",83,null,null,null,null,0]
[null,null,null,null,"",84,null,null,null,null,0,"",84,null,null,null,null,0]
[null,null,null,null,"",85,null,null,null,null,0,"",85,null,null,null,null,0]
[null,null,null,null,"",86,null,null,null,null,0,"",86,null,null,null,null,0]
[null,null,null,null,"",87,null,null,null,null,0,"",87,null,null,null,null,0]
[null,null,null,null,"",88,null,null,null,null,0,"",88,null,null,null,null,0]
[null,null,null,null,"",89,null,null,null,null,0,"",89,null,null,null,null,0]
[null,null,null,null,"",90,null,null,null,null,0,"",90,null,null,null,null,0]
[null,null,null,null,"",91,null,null,null,null,0,"",91,null,null,null,null,0]
[null,null,null,null,"",92,null,null,null,null,0,"",92,null,null,null,null,0]
[null,null,null,null,"",93,null,null,null,null,0,"",93,null,null,null,null,0]
[null,null,null,null,"",94,null,null,null,null,0,"",94,null,null,null,null,0]
[null,null,null,null,"",95,null,null,null,null,0,"",95,null,null,null,null,0]
[null,null,null,null,"",96,null,null,null,null,0,"",96,null,null,null,null,0]
[null,null,null,null,"",97,null,null,null,null,0,"",97,null,null,null,null,0]
[null,null,null,null,"",98,null,null,null,null,0,"",98,null,null,null,null,0]
[null,null,null,null,"",99,null,null,null,null,{"$f":"IF(J105=\"\",I105,I105*J105)","v":0},"",99,null,null,null,null,{"$f":"IF(Q105=\"\",P105,P105*Q105)","v":0}]
[null,null,null,null,"",100,null,null,null,null,{"$f":"IF(J106=\"\",I106,I106*J106)","v":0},"",100,null,null,null,null,{"$f":"IF(Q106=\"\",P106,P106*Q106)","v":0}]

{"sheet":"16","index":16,"n_rows":106,"n_cols":20,"rows_kept":106,"cut":false,"hidden":false,"merged":[[1,5,1,6],[1,12,1,13],[3,5,5,6],[3,12,5,13]]}
["「表１_対象物質一覧」に戻る"]
["事業所名",null,null,null,null,"輸入量",null,null,null,null,null,null,"払出量"]
["新規化学物質の名称",null,null,null,null,"Ｎｏ",{"$f":"_xlfn.IFS(F2=\"製造量\",\"製造ロット\",F2=\"輸入量\",\"輸入ロット\",F2=\"製造・輸入量\",\"製造・輸入ロット\")","v":"輸入ロット"},{"$f":"_xlfn.IFS(F2=\"製造量\",\"製造日　（最終製品日）\",F2=\"輸入量\",\"輸入許可日\",F2=\"製造・輸入量\",\"製造日・輸入許可日\")","v":"輸入許可日"},{"$f":"_xlfn.IFS(F2=\"製造量\",\"製造数量（kg)\",F2=\"輸入量\",\"輸入数量（kg)\",F2=\"製造・輸入量\",\"製造・輸入数量（kg)\")","v":"輸入数量（kg)"},"含有率（％）","含有率換算数量(kg)",null,"Ｎｏ","ロット","払出日","払出数量（kg)","含有率（％）","含有率換算数量(kg)","用途番号","変更前ロット"]
["略称",null,null,null,null,"実績数量合計",null,{"$f":"B6","v":"2024年度"},{"$f":"SUMIF($E$7:$E106,$H$4,$I$7:$I106)","v":0},"-",{"$f":"SUMIF($E$7:$E106,$H$4,$K$7:$K106)","v":0},null,"払出数量合計",null,{"$f":"B6","v":"2024年度"},{"$f":"SUMIF($L$7:$L95,$O$4,$P$7:$P106)","v":0},"-",{"$f":"SUMIF($L$7:$L106,$H$4,$R$7:$R106)","v":0},"-","-"]
[null,null,null,null,null,null,null,{"$f":"C6","v":"2025年度"},{"$f":"SUMIF($E$7:$E106,$H$5,$I$7:$I106)","v":0},"-",{"$f":"SUMIF($E$7:$E106,$H$5,$K$7:$K106)","v":0},null,null,null,{"$f":"C6","v":"2025年度"},{"$f":"SUMIF($L$7:$L95,$O$5,$P$7:$P106)","v":0},"-",{"$f":"SUMIF($E$7:$E106,$H$5,$K$7:$K106)","v":0},"-","-"]
[null,{"$f":"'1'!B6","v":"2024年度"},{"$f":"'1'!C6","v":"2025年度"},{"$f":"'1'!D6","v":"2026年度"},null,null,null,{"$f":"D6","v":"2026年度"},{"$f":"SUMIF($E$7:$E106,$H$6,$I$7:$I106)","v":0},"-",{"$f":"SUMIF($E$7:$E106,$H$6,$K$7:$K106)","v":0},null,null,null,{"$f":"D6","v":"2026年度"},{"$f":"SUMIF($L$7:$L95,$O$6,$P$7:$P106)","v":0},"-",{"$f":"SUMIF($E$7:$E106,$H$6,$K$7:$K106)","v":0},"-","-"]
["確認年月日",null,null,null,{"$f":"IF(H7=\"\", \"\",YEAR(H7) - IF(MONTH(H7)<4, 1, 0) & \"年度\")","v":""},1,null,null,null,null,{"$f":"IF(J7=\"\",I7,I7*J7)","v":0},{"$f":"IF(O7=\"\", \"\",YEAR(O7) - IF(MONTH(O7)<4, 1, 0) & \"年度\")","v":""},1,null,null,null,null,{"$f":"IF(Q7=\"\",P7,P7*Q7)","v":0}]
["確認数量（kg）",null,null,null,"",2,null,null,null,null,{"$f":"IF(J8=\"\",I8,I8*J8)","v":0},"",2,null,null,null,null,{"$f":"IF(Q8=\"\",P8,P8*Q8)","v":0}]
["申出番号（受付コード下4桁）",null,null,null,"",3,null,null,null,null,{"$f":"IF(J9=\"\",I9,I9*J9)","v":0},"",3,null,null,null,null,{"$f":"IF(Q9=\"\",P9,P9*Q9)","v":0}]
["受付コード",{"$f":"IF(B$9=\"\",\"\",表１_対象物質一覧!$C$4&(MID($B$6,3,2)&B$9))","v":""},{"$f":"IF(C$9=\"\",\"\",表１_対象物質一覧!$C$4&(MID($C$6, 3, 2))&C$9)","v":""},{"$f":"IF(D$9=\"\",\"\",表１_対象物質一覧!$C$4&(MID($D$6, 3, 2))&D$9)","v":""},"",4,null,null,null,null,0,"",4,null,null,null,null,{"$f":"IF(Q10=\"\",P10,P10*Q10)","v":0}]
["用途番号",null,null,null,"",5,null,null,null,null,0,"",5,null,null,null,null,0]
[null,null,null,null,"",6,null,null,null,null,0,"",6,null,null,null,null,0]
[null,null,null,null,"",7,null,null,null,null,0,"",7,null,null,null,null,0]
[null,null,null,null,"",8,null,null,null,null,0,"",8,null,null,null,null,0]
[null,null,null,null,"",9,null,null,null,null,0,"",9,null,null,null,null,0]
[null,null,null,null,"",10,null,null,null,null,0,"",10,null,null,null,null,0]
["申出書に記載の「前年度の実績数量」",null,null,null,"",11,null,null,null,null,0,"",11,null,null,null,null,0]
["実績数量",{"$f":"$K$4","v":0},{"$f":"$K$5","v":0},{"$f":"$K$6","v":0},"",12,null,null,null,null,0,"",12,null,null,null,null,0]
["確認を受けている中間物等の分類",null,null,null,"",13,null,null,null,null,0,"",13,null,null,null,null,0]
["用途追加手続を省略して追加した用途の用途番号",null,null,null,"",14,null,null,null,null,0,"",14,null,null,null,null,0]
["備考（３年連続して実積数量がゼロの場合はその理由）",null,null,null,"",15,null,null,null,null,0,"",15,null,null,null,null,0]
["用途証明書なしであって確認年月日が複数ある場合の",null,null,null,"",16,null,null,null,null,0,"",16,null,null,null,null,0]
["確認年月日（上段）及び確認数量(kg)（下段）",null,null,null,"",17,null,null,null,null,0,"",17,null,null,null,null,0]
[null,null,null,null,"",18,null,null,null,null,0,"",18,null,null,null,null,0]
[null,null,null,null,"",19,null,null,null,null,0,"",19,null,null,null,null,0]
[null,null,null,null,"",20,null,null,null,null,0,"",20,null,null,null,null,0]
[null,null,null,null,"",21,null,null,null,null,0,"",21,null,null,null,null,0]
[null,null,null,null,"",22,null,null,null,null,0,"",22,null,null,null,null,0]
[null,null,null,null,"",23,null,null,null,null,0,"",23,null,null,null,null,0]
[null,null,null,null,"",24,null,null,null,null,0,"",24,null,null,null,null,0]
[null,null,null,null,"",25,null,null,null,null,0,"",25,null,null,null,null,0]
[null,null,null,null,"",26,null,null,null,null,0,"",26,null,null,null,null,0]
[null,null,null,null,"",27,null,null,null,null,0,"",27,null,null,null,null,0]
[null,null,null,null,"",28,null,null,null,null,0,"",28,null,null,null,null,0]
[null,null,null,null,"",29,null,null,null,null,0,"",29,null,null,null,null,0]
[null,null,null,null,"",30,null,null,null,null,0,"",30,null,null,null,null,0]
[null,null,null,null,"",31,null,null,null,null,0,"",31,null,null,null,null,0]
[null,null,null,null,"",32,null,null,null,null,0,"",32,null,null,null,null,0]
[null,null,null,null,{"$f":"IF(H39=\"\", \"\",YEAR(H39) - IF(MONTH(H39)<4, 1, 0) & \"年度\")","v":""},33,null,null,null,null,0,{"$f":"IF(O39=\"\", \"\",YEAR(O39) - IF(MONTH(O39)<4, 1, 0) & \"年度\")","v":""},33,null,null,null,null,0]
[null,null,null,null,"",34,null,null,null,null,0,"",34,null,null,null,null,0]
[null,null,null,null,"",35,null,null,null,null,0,"",35,null,null,null,null,0]
["同一年度で同じ化学物質を複数申請している場合は、その確認を受けた事項",null,null,null,"",36,null,null,null,null,0,"",36,null,null,null,null,0]
[null,{"$f":"$B$6","v":"2024年度"},{"$f":"$C$6","v":"2025年度"},{"$f":"$D$6","v":"2026年度"},"",37,null,null,null,null,0,"",37,null,null,null,null,0]
["複数手続きの種類",null,null,null,"",38,null,null,null,null,0,"",38,null,null,null,null,0]
["確認年月日",null,null,null,"",39,null,null,null,null,0,"",39,null,null,null,null,0]
["確認数量（kg）",null,null,null,"",40,null,null,null,null,0,"",40,null,null,null,null,0]
["申出番号（受付コード下4桁）",null,null,null,"",41,null,null,null,null,0,"",41,null,null,null,null,0]
["受付コード",{"$f":"IF(B$47=\"\",\"\",表１_対象物質一覧!$C$4&(MID($B$6,3,2)&B$47))","v":""},{"$f":"IF(C$47=\"\",\"\",表１_対象物質一覧!$C$4&(MID($C$6, 3, 2))&C$47)","v":""},{"$f":"IF(D$47=\"\",\"\",表１_対象物質一覧!$C$4&(MID($D$6, 3, 2))&D$47)","v":""},"",42,null,null,null,null,0,"",42,null,null,null,null,0]
["用途番号",null,null,null,"",43,null,null,null,null,0,"",43,null,null,null,null,0]
[null,null,null,null,"",44,null,null,null,null,0,"",44,null,null,null,null,0]
[null,null,null,null,"",45,null,null,null,null,0,"",45,null,null,null,null,0]
[null,null,null,null,"",46,null,null,null,null,0,"",46,null,null,null,null,0]
[null,null,null,null,"",47,null,null,null,null,0,"",47,null,null,null,null,0]
[null,null,null,null,"",48,null,null,null,null,0,"",48,null,null,null,null,0]
[null,null,null,null,"",49,null,null,null,null,0,"",49,null,null,null,null,0]
[null,{"$f":"$B$6","v":"2024年度"},{"$f":"$C$6","v":"2025年度"},{"$f":"$D$6","v":"2026年度"},"",50,null,null,null,null,0,"",50,null,null,null,null,0]
["複数手続きの種類",null,null,null,"",51,null,null,null,null,0,"",51,null,null,null,null,0]
["確認年月日",null,null,null,"",52,null,null,null,null,0,"",52,null,null,null,null,0]
["確認数量（kg）",null,null,null,"",53,null,null,null,null,0,"",53,null,null,null,null,0]
["申出番号（受付コード下4桁）",null,null,null,"",54,null,null,null,null,0,"",54,null,null,null,null,0]
["受付コード",{"$f":"IF(B$60=\"\",\"\",表１_対象物質一覧!$C$4&(MID($B$6,3,2)&B$60))","v":""},{"$f":"IF(C$60=\"\",\"\",表１_対象物質一覧!$C$4&(MID($C$6, 3, 2))&C$60)","v":""},{"$f":"IF(D$60=\"\",\"\",表１_対象物質一覧!$C$4&(MID($D$6, 3, 2))&D$60)","v":""},"",55,null,null,null,null,0,"",55,null,null,null,null,0]
["用途番号",null,null,null,"",56,null,null,null,null,0,"",56,null,null,null,null,0]
[null,null,null,null,"",57,null,null,null,null,0,"",57,null,null,null,null,0]
[null,null,null,null,"",58,null,null,null,null,0,"",58,null,null,null,null,0]
[null,null,null,null,"",59,null,null,null,null,0,"",59,null,null,null,null,0]
[null,null,null,null,"",60,null,null,null,null,0,"",60,null,null,null,null,0]
[null,null,null,null,"",61,null,null,null,null,0,"",61,null,null,null,null,0]
[null,null,null,null,"",62,null,null,null,null,0,"",62,null,null,null,null,0]
[null,{"$f":"$B$6","v":"2024年度"},{"$f":"$C$6","v":"2025年度"},{"$f":"$D$6","v":"2026年度"},"",63,null,null,null,null,0,"",63,null,null,null,null,0]
["複数手続きの種類",null,null,null,"",64,null,null,null,null,0,"",64,null,null,null,null,0]
["確認年月日",null,null,null,{"$f":"IF(H71=\"\", \"\",YEAR(H71) - IF(MONTH(H71)<4, 1, 0) & \"年度\")","v":""},65,null,null,null,null,0,{"$f":"IF(O71=\"\", \"\",YEAR(O71) - IF(MONTH(O71)<4, 1, 0) & \"年度\")","v":""},65,null,null,null,null,0]
["確認数量（kg）",null,null,null,"",66,null,null,null,null,0,"",66,null,null,null,null,0]
["申出番号（受付コード下4桁）",null,null,null,"",67,null,null,null,null,{"$f":"IF(J73=\"\",I73,I73*J73)","v":0},"",67,null,null,null,null,{"$f":"IF(Q73=\"\",P73,P73*Q73)","v":0}]
["受付コード",{"$f":"IF(B$73=\"\",\"\",表１_対象物質一覧!$C$4&(MID($B$6,3,2)&B$73))","v":""},{"$f":"IF(C$73=\"\",\"\",表１_対象物質一覧!$C$4&(MID($C$6, 3, 2))&C$73)","v":""},{"$f":"IF(D$73=\"\",\"\",表１_対象物質一覧!$C$4&(MID($D$6, 3, 2))&D$73)","v":""},"",68,null,null,null,null,0,"",68,null,null,null,null,0]
["用途番号",null,null,null,"",69,null,null,null,null,0,"",69,null,null,null,null,0]
[null,null,null,null,"",70,null,null,null,null,0,"",70,null,null,null,null,0]
[null,null,null,null,"",71,null,null,null,null,0,"",71,null,null,null,null,0]
[null,null,null,null,"",72,null,null,null,null,0,"",72,null,null,null,null,0]
[null,null,null,null,"",73,null,null,null,null,0,"",73,null,null,null,null,0]
[null,null,null,null,"",74,null,null,null,null,0,"",74,null,null,null,null,0]
[null,null,null,null,"",75,null,null,null,null,0,"",75,null,null,null,null,0]
["備考",null,null,null,"",76,null,null,null,null,0,"",76,null,null,null,null,0]
[null,null,null,null,"",77,null,null,null,null,0,"",77,null,null,null,null,0]
[null,null,null,null,"",78,null,null,null,null,0,"",78,null,null,null,null,0]
[null,null,null,null,"",79,null,null,null,null,0,"",79,null,null,null,null,0]
[null,null,null,null,"",80,null,null,null,null,0,"",80,null,null,null,null,0]
[null,null,null,null,"",81,null,null,null,null,0,"",81,null,null,null,null,0]
[null,null,null,null,"",82,null,null,null,null,0,"",82,null,null,null,null,0]
[null,null,null,null,"",83,null,null,null,null,0,"",83,null,null,null,null,0]
[null,null,null,null,"",84,null,null,null,null,0,"",84,null,null,null,null,0]
[null,null,null,null,"",85,null,null,null,null,0,"",85,null,null,null,null,0]
[null,null,null,null,"",86,null,null,null,null,0,"",86,null,null,null,null,0]
[null,null,null,null,"",87,null,null,null,null,0,"",87,null,null,null,null,0]
[null,null,null,null,"",88,null,null,null,null,0,"",88,null,null,null,null,0]
[null,null,null,null,"",89,null,null,null,null,0,"",89,null,null,null,null,0]
[null,null,null,null,"",90,null,null,null,null,0,"",90,null,null,null,null,0]
[null,null,null,null,"",91,null,null,null,null,0,"",91,null,null,null,null,0]
[null,null,null,null,"",92,null,null,null,null,0,"",92,null,null,null,null,0]
[null,null,null,null,"",93,null,null,null,null,0,"",93,null,null,null,null,0]
[null,null,null,null,"",94,null,null,null,null,0,"",94,null,null,null,null,0]
[null,null,null,null,"",95,null,null,null,null,0,"",95,null,null,null,null,0]
[null,null,null,null,"",96,null,null,null,null,0,"",96,null,null,null,null,0]
[null,null,null,null,"",97,null,null,null,null,0,"",97,null,null,null,null,0]
[null,null,null,null,"",98,null,null,null,null,0,"",98,null,null,null,null,0]
[null,null,null,null,"",99,null,null,null,null,{"$f":"IF(J105=\"\",I105,I105*J105)","v":0},"",99,null,null,null,null,{"$f":"IF(Q105=\"\",P105,P105*Q105)","v":0}]
[null,null,null,null,"",100,null,null,null,null,{"$f":"IF(J106=\"\",I106,I106*J106)","v":0},"",100,null,null,null,null,{"$f":"IF(Q106=\"\",P106,P106*Q106)","v":0}]

{"sheet":"17","index":17,"n_rows":106,"n_cols":20,"rows_kept":106,"cut":false,"hidden":false,"merged":[[1,5,1,6],[1,12,1,13],[3,5,5,6],[3,12,5,13]]}
["「表１_対象物質一覧」に戻る"]
["事業所名",null,null,null,null,"輸入量",null,null,null,null,null,null,"払出量"]
["新規化学物質の名称",null,null,null,null,"Ｎｏ",{"$f":"_xlfn.IFS(F2=\"製造量\",\"製造ロット\",F2=\"輸入量\",\"輸入ロット\",F2=\"製造・輸入量\",\"製造・輸入ロット\")","v":"輸入ロット"},{"$f":"_xlfn.IFS(F2=\"製造量\",\"製造日　（最終製品日）\",F2=\"輸入量\",\"輸入許可日\",F2=\"製造・輸入量\",\"製造日・輸入許可日\")","v":"輸入許可日"},{"$f":"_xlfn.IFS(F2=\"製造量\",\"製造数量（kg)\",F2=\"輸入量\",\"輸入数量（kg)\",F2=\"製造・輸入量\",\"製造・輸入数量（kg)\")","v":"輸入数量（kg)"},"含有率（％）","含有率換算数量(kg)",null,"Ｎｏ","ロット","払出日","払出数量（kg)","含有率（％）","含有率換算数量(kg)","用途番号","変更前ロット"]
["略称",null,null,null,null,"実績数量合計",null,{"$f":"B6","v":"2024年度"},{"$f":"SUMIF($E$7:$E106,$H$4,$I$7:$I106)","v":0},"-",{"$f":"SUMIF($E$7:$E106,$H$4,$K$7:$K106)","v":0},null,"払出数量合計",null,{"$f":"B6","v":"2024年度"},{"$f":"SUMIF($L$7:$L95,$O$4,$P$7:$P106)","v":0},"-",{"$f":"SUMIF($L$7:$L106,$H$4,$R$7:$R106)","v":0},"-","-"]
[null,null,null,null,null,null,null,{"$f":"C6","v":"2025年度"},{"$f":"SUMIF($E$7:$E106,$H$5,$I$7:$I106)","v":0},"-",{"$f":"SUMIF($E$7:$E106,$H$5,$K$7:$K106)","v":0},null,null,null,{"$f":"C6","v":"2025年度"},{"$f":"SUMIF($L$7:$L95,$O$5,$P$7:$P106)","v":0},"-",{"$f":"SUMIF($E$7:$E106,$H$5,$K$7:$K106)","v":0},"-","-"]
[null,{"$f":"'1'!B6","v":"2024年度"},{"$f":"'1'!C6","v":"2025年度"},{"$f":"'1'!D6","v":"2026年度"},null,null,null,{"$f":"D6","v":"2026年度"},{"$f":"SUMIF($E$7:$E106,$H$6,$I$7:$I106)","v":0},"-",{"$f":"SUMIF($E$7:$E106,$H$6,$K$7:$K106)","v":0},null,null,null,{"$f":"D6","v":"2026年度"},{"$f":"SUMIF($L$7:$L95,$O$6,$P$7:$P106)","v":0},"-",{"$f":"SUMIF($E$7:$E106,$H$6,$K$7:$K106)","v":0},"-","-"]
["確認年月日",null,null,null,{"$f":"IF(H7=\"\", \"\",YEAR(H7) - IF(MONTH(H7)<4, 1, 0) & \"年度\")","v":""},1,null,null,null,null,{"$f":"IF(J7=\"\",I7,I7*J7)","v":0},{"$f":"IF(O7=\"\", \"\",YEAR(O7) - IF(MONTH(O7)<4, 1, 0) & \"年度\")","v":""},1,null,null,null,null,{"$f":"IF(Q7=\"\",P7,P7*Q7)","v":0}]
["確認数量（kg）",null,null,null,"",2,null,null,null,null,{"$f":"IF(J8=\"\",I8,I8*J8)","v":0},"",2,null,null,null,null,{"$f":"IF(Q8=\"\",P8,P8*Q8)","v":0}]
["申出番号（受付コード下4桁）",null,null,null,"",3,null,null,null,null,{"$f":"IF(J9=\"\",I9,I9*J9)","v":0},"",3,null,null,null,null,{"$f":"IF(Q9=\"\",P9,P9*Q9)","v":0}]
["受付コード",{"$f":"IF(B$9=\"\",\"\",表１_対象物質一覧!$C$4&(MID($B$6,3,2)&B$9))","v":""},{"$f":"IF(C$9=\"\",\"\",表１_対象物質一覧!$C$4&(MID($C$6, 3, 2))&C$9)","v":""},{"$f":"IF(D$9=\"\",\"\",表１_対象物質一覧!$C$4&(MID($D$6, 3, 2))&D$9)","v":""},"",4,null,null,null,null,0,"",4,null,null,null,null,{"$f":"IF(Q10=\"\",P10,P10*Q10)","v":0}]
["用途番号",null,null,null,"",5,null,null,null,null,0,"",5,null,null,null,null,0]
[null,null,null,null,"",6,null,null,null,null,0,"",6,null,null,null,null,0]
[null,null,null,null,"",7,null,null,null,null,0,"",7,null,null,null,null,0]
[null,null,null,null,"",8,null,null,null,null,0,"",8,null,null,null,null,0]
[null,null,null,null,"",9,null,null,null,null,0,"",9,null,null,null,null,0]
[null,null,null,null,"",10,null,null,null,null,0,"",10,null,null,null,null,0]
["申出書に記載の「前年度の実績数量」",null,null,null,"",11,null,null,null,null,0,"",11,null,null,null,null,0]
["実績数量",{"$f":"$K$4","v":0},{"$f":"$K$5","v":0},{"$f":"$K$6","v":0},"",12,null,null,null,null,0,"",12,null,null,null,null,0]
["確認を受けている中間物等の分類",null,null,null,"",13,null,null,null,null,0,"",13,null,null,null,null,0]
["用途追加手続を省略して追加した用途の用途番号",null,null,null,"",14,null,null,null,null,0,"",14,null,null,null,null,0]
["備考（３年連続して実積数量がゼロの場合はその理由）",null,null,null,"",15,null,null,null,null,0,"",15,null,null,null,null,0]
["用途証明書なしであって確認年月日が複数ある場合の",null,null,null,"",16,null,null,null,null,0,"",16,null,null,null,null,0]
["確認年月日（上段）及び確認数量(kg)（下段）",null,null,null,"",17,null,null,null,null,0,"",17,null,null,null,null,0]
[null,null,null,null,"",18,null,null,null,null,0,"",18,null,null,null,null,0]
[null,null,null,null,"",19,null,null,null,null,0,"",19,null,null,null,null,0]
[null,null,null,null,"",20,null,null,null,null,0,"",20,null,null,null,null,0]
[null,null,null,null,"",21,null,null,null,null,0,"",21,null,null,null,null,0]
[null,null,null,null,"",22,null,null,null,null,0,"",22,null,null,null,null,0]
[null,null,null,null,"",23,null,null,null,null,0,"",23,null,null,null,null,0]
[null,null,null,null,"",24,null,null,null,null,0,"",24,null,null,null,null,0]
[null,null,null,null,"",25,null,null,null,null,0,"",25,null,null,null,null,0]
[null,null,null,null,"",26,null,null,null,null,0,"",26,null,null,null,null,0]
[null,null,null,null,"",27,null,null,null,null,0,"",27,null,null,null,null,0]
[null,null,null,null,"",28,null,null,null,null,0,"",28,null,null,null,null,0]
[null,null,null,null,"",29,null,null,null,null,0,"",29,null,null,null,null,0]
[null,null,null,null,"",30,null,null,null,null,0,"",30,null,null,null,null,0]
[null,null,null,null,"",31,null,null,null,null,0,"",31,null,null,null,null,0]
[null,null,null,null,"",32,null,null,null,null,0,"",32,null,null,null,null,0]
[null,null,null,null,{"$f":"IF(H39=\"\", \"\",YEAR(H39) - IF(MONTH(H39)<4, 1, 0) & \"年度\")","v":""},33,null,null,null,null,0,{"$f":"IF(O39=\"\", \"\",YEAR(O39) - IF(MONTH(O39)<4, 1, 0) & \"年度\")","v":""},33,null,null,null,null,0]
[null,null,null,null,"",34,null,null,null,null,0,"",34,null,null,null,null,0]
[null,null,null,null,"",35,null,null,null,null,0,"",35,null,null,null,null,0]
["同一年度で同じ化学物質を複数申請している場合は、その確認を受けた事項",null,null,null,"",36,null,null,null,null,0,"",36,null,null,null,null,0]
[null,{"$f":"$B$6","v":"2024年度"},{"$f":"$C$6","v":"2025年度"},{"$f":"$D$6","v":"2026年度"},"",37,null,null,null,null,0,"",37,null,null,null,null,0]
["複数手続きの種類",null,null,null,"",38,null,null,null,null,0,"",38,null,null,null,null,0]
["確認年月日",null,null,null,"",39,null,null,null,null,0,"",39,null,null,null,null,0]
["確認数量（kg）",null,null,null,"",40,null,null,null,null,0,"",40,null,null,null,null,0]
["申出番号（受付コード下4桁）",null,null,null,"",41,null,null,null,null,0,"",41,null,null,null,null,0]
["受付コード",{"$f":"IF(B$47=\"\",\"\",表１_対象物質一覧!$C$4&(MID($B$6,3,2)&B$47))","v":""},{"$f":"IF(C$47=\"\",\"\",表１_対象物質一覧!$C$4&(MID($C$6, 3, 2))&C$47)","v":""},{"$f":"IF(D$47=\"\",\"\",表１_対象物質一覧!$C$4&(MID($D$6, 3, 2))&D$47)","v":""},"",42,null,null,null,null,0,"",42,null,null,null,null,0]
["用途番号",null,null,null,"",43,null,null,null,null,0,"",43,null,null,null,null,0]
[null,null,null,null,"",44,null,null,null,null,0,"",44,null,null,null,null,0]
[null,null,null,null,"",45,null,null,null,null,0,"",45,null,null,null,null,0]
[null,null,null,null,"",46,null,null,null,null,0,"",46,null,null,null,null,0]
[null,null,null,null,"",47,null,null,null,null,0,"",47,null,null,null,null,0]
[null,null,null,null,"",48,null,null,null,null,0,"",48,null,null,null,null,0]
[null,null,null,null,"",49,null,null,null,null,0,"",49,null,null,null,null,0]
[null,{"$f":"$B$6","v":"2024年度"},{"$f":"$C$6","v":"2025年度"},{"$f":"$D$6","v":"2026年度"},"",50,null,null,null,null,0,"",50,null,null,null,null,0]
["複数手続きの種類",null,null,null,"",51,null,null,null,null,0,"",51,null,null,null,null,0]
["確認年月日",null,null,null,"",52,null,null,null,null,0,"",52,null,null,null,null,0]
["確認数量（kg）",null,null,null,"",53,null,null,null,null,0,"",53,null,null,null,null,0]
["申出番号（受付コード下4桁）",null,null,null,"",54,null,null,null,null,0,"",54,null,null,null,null,0]
["受付コード",{"$f":"IF(B$60=\"\",\"\",表１_対象物質一覧!$C$4&(MID($B$6,3,2)&B$60))","v":""},{"$f":"IF(C$60=\"\",\"\",表１_対象物質一覧!$C$4&(MID($C$6, 3, 2))&C$60)","v":""},{"$f":"IF(D$60=\"\",\"\",表１_対象物質一覧!$C$4&(MID($D$6, 3, 2))&D$60)","v":""},"",55,null,null,null,null,0,"",55,null,null,null,null,0]
["用途番号",null,null,null,"",56,null,null,null,null,0,"",56,null,null,null,null,0]
[null,null,null,null,"",57,null,null,null,null,0,"",57,null,null,null,null,0]
[null,null,null,null,"",58,null,null,null,null,0,"",58,null,null,null,null,0]
[null,null,null,null,"",59,null,null,null,null,0,"",59,null,null,null,null,0]
[null,null,null,null,"",60,null,null,null,null,0,"",60,null,null,null,null,0]
[null,null,null,null,"",61,null,null,null,null,0,"",61,null,null,null,null,0]
[null,null,null,null,"",62,null,null,null,null,0,"",62,null,null,null,null,0]
[null,{"$f":"$B$6","v":"2024年度"},{"$f":"$C$6","v":"2025年度"},{"$f":"$D$6","v":"2026年度"},"",63,null,null,null,null,0,"",63,null,null,null,null,0]
["複数手続きの種類",null,null,null,"",64,null,null,null,null,0,"",64,null,null,null,null,0]
["確認年月日",null,null,null,{"$f":"IF(H71=\"\", \"\",YEAR(H71) - IF(MONTH(H71)<4, 1, 0) & \"年度\")","v":""},65,null,null,null,null,0,{"$f":"IF(O71=\"\", \"\",YEAR(O71) - IF(MONTH(O71)<4, 1, 0) & \"年度\")","v":""},65,null,null,null,null,0]
["確認数量（kg）",null,null,null,"",66,null,null,null,null,0,"",66,null,null,null,null,0]
["申出番号（受付コード下4桁）",null,null,null,"",67,null,null,null,null,{"$f":"IF(J73=\"\",I73,I73*J73)","v":0},"",67,null,null,null,null,{"$f":"IF(Q73=\"\",P73,P73*Q73)","v":0}]
["受付コード",{"$f":"IF(B$73=\"\",\"\",表１_対象物質一覧!$C$4&(MID($B$6,3,2)&B$73))","v":""},{"$f":"IF(C$73=\"\",\"\",表１_対象物質一覧!$C$4&(MID($C$6, 3, 2))&C$73)","v":""},{"$f":"IF(D$73=\"\",\"\",表１_対象物質一覧!$C$4&(MID($D$6, 3, 2))&D$73)","v":""},"",68,null,null,null,null,0,"",68,null,null,null,null,0]
["用途番号",null,null,null,"",69,null,null,null,null,0,"",69,null,null,null,null,0]
[null,null,null,null,"",70,null,null,null,null,0,"",70,null,null,null,null,0]
[null,null,null,null,"",71,null,null,null,null,0,"",71,null,null,null,null,0]
[null,null,null,null,"",72,null,null,null,null,0,"",72,null,null,null,null,0]
[null,null,null,null,"",73,null,null,null,null,0,"",73,null,null,null,null,0]
[null,null,null,null,"",74,null,null,null,null,0,"",74,null,null,null,null,0]
[null,null,null,null,"",75,null,null,null,null,0,"",75,null,null,null,null,0]
["備考",null,null,null,"",76,null,null,null,null,0,"",76,null,null,null,null,0]
[null,null,null,null,"",77,null,null,null,null,0,"",77,null,null,null,null,0]
[null,null,null,null,"",78,null,null,null,null,0,"",78,null,null,null,null,0]
[null,null,null,null,"",79,null,null,null,null,0,"",79,null,null,null,null,0]
[null,null,null,null,"",80,null,null,null,null,0,"",80,null,null,null,null,0]
[null,null,null,null,"",81,null,null,null,null,0,"",81,null,null,null,null,0]
[null,null,null,null,"",82,null,null,null,null,0,"",82,null,null,null,null,0]
[null,null,null,null,"",83,null,null,null,null,0,"",83,null,null,null,null,0]
[null,null,null,null,"",84,null,null,null,null,0,"",84,null,null,null,null,0]
[null,null,null,null,"",85,null,null,null,null,0,"",85,null,null,null,null,0]
[null,null,null,null,"",86,null,null,null,null,0,"",86,null,null,null,null,0]
[null,null,null,null,"",87,null,null,null,null,0,"",87,null,null,null,null,0]
[null,null,null,null,"",88,null,null,null,null,0,"",88,null,null,null,null,0]
[null,null,null,null,"",89,null,null,null,null,0,"",89,null,null,null,null,0]
[null,null,null,null,"",90,null,null,null,null,0,"",90,null,null,null,null,0]
[null,null,null,null,"",91,null,null,null,null,0,"",91,null,null,null,null,0]
[null,null,null,null,"",92,null,null,null,null,0,"",92,null,null,null,null,0]
[null,null,null,null,"",93,null,null,null,null,0,"",93,null,null,null,null,0]
[null,null,null,null,"",94,null,null,null,null,0,"",94,null,null,null,null,0]
[null,null,null,null,"",95,null,null,null,null,0,"",95,null,null,null,null,0]
[null,null,null,null,"",96,null,null,null,null,0,"",96,null,null,null,null,0]
[null,null,null,null,"",97,null,null,null,null,0,"",97,null,null,null,null,0]
[null,null,null,null,"",98,null,null,null,null,0,"",98,null,null,null,null,0]
[null,null,null,null,"",99,null,null,null,null,{"$f":"IF(J105=\"\",I105,I105*J105)","v":0},"",99,null,null,null,null,{"$f":"IF(Q105=\"\",P105,P105*Q105)","v":0}]
[null,null,null,null,"",100,null,null,null,null,0,"",100,null,null,null,null,0]

{"sheet":"18","index":18,"n_rows":106,"n_cols":20,"rows_kept":106,"cut":false,"hidden":false,"merged":[[1,5,1,6],[1,12,1,13],[3,5,5,6],[3,12,5,13]]}
["「表１_対象物質一覧」に戻る"]
["事業所名",null,null,null,null,"輸入量",null,null,null,null,null,null,"払出量"]
["新規化学物質の名称",null,null,null,null,"Ｎｏ",{"$f":"_xlfn.IFS(F2=\"製造量\",\"製造ロット\",F2=\"輸入量\",\"輸入ロット\",F2=\"製造・輸入量\",\"製造・輸入ロット\")","v":"輸入ロット"},{"$f":"_xlfn.IFS(F2=\"製造量\",\"製造日　（最終製品日）\",F2=\"輸入量\",\"輸入許可日\",F2=\"製造・輸入量\",\"製造日・輸入許可日\")","v":"輸入許可日"},{"$f":"_xlfn.IFS(F2=\"製造量\",\"製造数量（kg)\",F2=\"輸入量\",\"輸入数量（kg)\",F2=\"製造・輸入量\",\"製造・輸入数量（kg)\")","v":"輸入数量（kg)"},"含有率（％）","含有率換算数量(kg)",null,"Ｎｏ","ロット","払出日","払出数量（kg)","含有率（％）","含有率換算数量(kg)","用途番号","変更前ロット"]
["略称",null,null,null,null,"実績数量合計",null,{"$f":"B6","v":"2024年度"},{"$f":"SUMIF($E$7:$E106,$H$4,$I$7:$I106)","v":0},"-",{"$f":"SUMIF($E$7:$E106,$H$4,$K$7:$K106)","v":0},null,"払出数量合計",null,{"$f":"B6","v":"2024年度"},{"$f":"SUMIF($L$7:$L95,$O$4,$P$7:$P106)","v":0},"-",{"$f":"SUMIF($L$7:$L106,$H$4,$R$7:$R106)","v":0},"-","-"]
[null,null,null,null,null,null,null,{"$f":"C6","v":"2025年度"},{"$f":"SUMIF($E$7:$E106,$H$5,$I$7:$I106)","v":0},"-",{"$f":"SUMIF($E$7:$E106,$H$5,$K$7:$K106)","v":0},null,null,null,{"$f":"C6","v":"2025年度"},{"$f":"SUMIF($L$7:$L95,$O$5,$P$7:$P106)","v":0},"-",{"$f":"SUMIF($E$7:$E106,$H$5,$K$7:$K106)","v":0},"-","-"]
[null,{"$f":"'1'!B6","v":"2024年度"},{"$f":"'1'!C6","v":"2025年度"},{"$f":"'1'!D6","v":"2026年度"},null,null,null,{"$f":"D6","v":"2026年度"},{"$f":"SUMIF($E$7:$E106,$H$6,$I$7:$I106)","v":0},"-",{"$f":"SUMIF($E$7:$E106,$H$6,$K$7:$K106)","v":0},null,null,null,{"$f":"D6","v":"2026年度"},{"$f":"SUMIF($L$7:$L95,$O$6,$P$7:$P106)","v":0},"-",{"$f":"SUMIF($E$7:$E106,$H$6,$K$7:$K106)","v":0},"-","-"]
["確認年月日",null,null,null,{"$f":"IF(H7=\"\", \"\",YEAR(H7) - IF(MONTH(H7)<4, 1, 0) & \"年度\")","v":""},1,null,null,null,null,{"$f":"IF(J7=\"\",I7,I7*J7)","v":0},{"$f":"IF(O7=\"\", \"\",YEAR(O7) - IF(MONTH(O7)<4, 1, 0) & \"年度\")","v":""},1,null,null,null,null,{"$f":"IF(Q7=\"\",P7,P7*Q7)","v":0}]
["確認数量（kg）",null,null,null,"",2,null,null,null,null,{"$f":"IF(J8=\"\",I8,I8*J8)","v":0},"",2,null,null,null,null,{"$f":"IF(Q8=\"\",P8,P8*Q8)","v":0}]
["申出番号（受付コード下4桁）",null,null,null,"",3,null,null,null,null,{"$f":"IF(J9=\"\",I9,I9*J9)","v":0},"",3,null,null,null,null,{"$f":"IF(Q9=\"\",P9,P9*Q9)","v":0}]
["受付コード",{"$f":"IF(B$9=\"\",\"\",表１_対象物質一覧!$C$4&(MID($B$6,3,2)&B$9))","v":""},{"$f":"IF(C$9=\"\",\"\",表１_対象物質一覧!$C$4&(MID($C$6, 3, 2))&C$9)","v":""},{"$f":"IF(D$9=\"\",\"\",表１_対象物質一覧!$C$4&(MID($D$6, 3, 2))&D$9)","v":""},"",4,null,null,null,null,0,"",4,null,null,null,null,{"$f":"IF(Q10=\"\",P10,P10*Q10)","v":0}]
["用途番号",null,null,null,"",5,null,null,null,null,0,"",5,null,null,null,null,0]
[null,null,null,null,"",6,null,null,null,null,0,"",6,null,null,null,null,0]
[null,null,null,null,"",7,null,null,null,null,0,"",7,null,null,null,null,0]
[null,null,null,null,"",8,null,null,null,null,0,"",8,null,null,null,null,0]
[null,null,null,null,"",9,null,null,null,null,0,"",9,null,null,null,null,0]
[null,null,null,null,"",10,null,null,null,null,0,"",10,null,null,null,null,0]
["申出書に記載の「前年度の実績数量」",null,null,null,"",11,null,null,null,null,0,"",11,null,null,null,null,0]
["実績数量",{"$f":"$K$4","v":0},{"$f":"$K$5","v":0},{"$f":"$K$6","v":0},"",12,null,null,null,null,0,"",12,null,null,null,null,0]
["確認を受けている中間物等の分類",null,null,null,"",13,null,null,null,null,0,"",13,null,null,null,null,0]
["用途追加手続を省略して追加した用途の用途番号",null,null,null,"",14,null,null,null,null,0,"",14,null,null,null,null,0]
["備考（３年連続して実積数量がゼロの場合はその理由）",null,null,null,"",15,null,null,null,null,0,"",15,null,null,null,null,0]
["用途証明書なしであって確認年月日が複数ある場合の",null,null,null,"",16,null,null,null,null,0,"",16,null,null,null,null,0]
["確認年月日（上段）及び確認数量(kg)（下段）",null,null,null,"",17,null,null,null,null,0,"",17,null,null,null,null,0]
[null,null,null,null,"",18,null,null,null,null,0,"",18,null,null,null,null,0]
[null,null,null,null,"",19,null,null,null,null,0,"",19,null,null,null,null,0]
[null,null,null,null,"",20,null,null,null,null,0,"",20,null,null,null,null,0]
[null,null,null,null,"",21,null,null,null,null,0,"",21,null,null,null,null,0]
[null,null,null,null,"",22,null,null,null,null,0,"",22,null,null,null,null,0]
[null,null,null,null,"",23,null,null,null,null,0,"",23,null,null,null,null,0]
[null,null,null,null,"",24,null,null,null,null,0,"",24,null,null,null,null,0]
[null,null,null,null,"",25,null,null,null,null,0,"",25,null,null,null,null,0]
[null,null,null,null,"",26,null,null,null,null,0,"",26,null,null,null,null,0]
[null,null,null,null,"",27,null,null,null,null,0,"",27,null,null,null,null,0]
[null,null,null,null,"",28,null,null,null,null,0,"",28,null,null,null,null,0]
[null,null,null,null,"",29,null,null,null,null,0,"",29,null,null,null,null,0]
[null,null,null,null,"",30,null,null,null,null,0,"",30,null,null,null,null,0]
[null,null,null,null,"",31,null,null,null,null,0,"",31,null,null,null,null,0]
[null,null,null,null,"",32,null,null,null,null,0,"",32,null,null,null,null,0]
[null,null,null,null,{"$f":"IF(H39=\"\", \"\",YEAR(H39) - IF(MONTH(H39)<4, 1, 0) & \"年度\")","v":""},33,null,null,null,null,0,{"$f":"IF(O39=\"\", \"\",YEAR(O39) - IF(MONTH(O39)<4, 1, 0) & \"年度\")","v":""},33,null,null,null,null,0]
[null,null,null,null,"",34,null,null,null,null,0,"",34,null,null,null,null,0]
[null,null,null,null,"",35,null,null,null,null,0,"",35,null,null,null,null,0]
["同一年度で同じ化学物質を複数申請している場合は、その確認を受けた事項",null,null,null,"",36,null,null,null,null,0,"",36,null,null,null,null,0]
[null,{"$f":"$B$6","v":"2024年度"},{"$f":"$C$6","v":"2025年度"},{"$f":"$D$6","v":"2026年度"},"",37,null,null,null,null,0,"",37,null,null,null,null,0]
["複数手続きの種類",null,null,null,"",38,null,null,null,null,0,"",38,null,null,null,null,0]
["確認年月日",null,null,null,"",39,null,null,null,null,0,"",39,null,null,null,null,0]
["確認数量（kg）",null,null,null,"",40,null,null,null,null,0,"",40,null,null,null,null,0]
["申出番号（受付コード下4桁）",null,null,null,"",41,null,null,null,null,0,"",41,null,null,null,null,0]
["受付コード",{"$f":"IF(B$47=\"\",\"\",表１_対象物質一覧!$C$4&(MID($B$6,3,2)&B$47))","v":""},{"$f":"IF(C$47=\"\",\"\",表１_対象物質一覧!$C$4&(MID($C$6, 3, 2))&C$47)","v":""},{"$f":"IF(D$47=\"\",\"\",表１_対象物質一覧!$C$4&(MID($D$6, 3, 2))&D$47)","v":""},"",42,null,null,null,null,0,"",42,null,null,null,null,0]
["用途番号",null,null,null,"",43,null,null,null,null,0,"",43,null,null,null,null,0]
[null,null,null,null,"",44,null,null,null,null,0,"",44,null,null,null,null,0]
[null,null,null,null,"",45,null,null,null,null,0,"",45,null,null,null,null,0]
[null,null,null,null,"",46,null,null,null,null,0,"",46,null,null,null,null,0]
[null,null,null,null,"",47,null,null,null,null,0,"",47,null,null,null,null,0]
[null,null,null,null,"",48,null,null,null,null,0,"",48,null,null,null,null,0]
[null,null,null,null,"",49,null,null,null,null,0,"",49,null,null,null,null,0]
[null,{"$f":"$B$6","v":"2024年度"},{"$f":"$C$6","v":"2025年度"},{"$f":"$D$6","v":"2026年度"},"",50,null,null,null,null,0,"",50,null,null,null,null,0]
["複数手続きの種類",null,null,null,"",51,null,null,null,null,0,"",51,null,null,null,null,0]
["確認年月日",null,null,null,"",52,null,null,null,null,0,"",52,null,null,null,null,0]
["確認数量（kg）",null,null,null,"",53,null,null,null,null,0,"",53,null,null,null,null,0]
["申出番号（受付コード下4桁）",null,null,null,"",54,null,null,null,null,0,"",54,null,null,null,null,0]
["受付コード",{"$f":"IF(B$60=\"\",\"\",表１_対象物質一覧!$C$4&(MID($B$6,3,2)&B$60))","v":""},{"$f":"IF(C$60=\"\",\"\",表１_対象物質一覧!$C$4&(MID($C$6, 3, 2))&C$60)","v":""},{"$f":"IF(D$60=\"\",\"\",表１_対象物質一覧!$C$4&(MID($D$6, 3, 2))&D$60)","v":""},"",55,null,null,null,null,0,"",55,null,null,null,null,0]
["用途番号",null,null,null,"",56,null,null,null,null,0,"",56,null,null,null,null,0]
[null,null,null,null,"",57,null,null,null,null,0,"",57,null,null,null,null,0]
[null,null,null,null,"",58,null,null,null,null,0,"",58,null,null,null,null,0]
[null,null,null,null,"",59,null,null,null,null,0,"",59,null,null,null,null,0]
[null,null,null,null,"",60,null,null,null,null,0,"",60,null,null,null,null,0]
[null,null,null,null,"",61,null,null,null,null,0,"",61,null,null,null,null,0]
[null,null,null,null,"",62,null,null,null,null,0,"",62,null,null,null,null,0]
[null,{"$f":"$B$6","v":"2024年度"},{"$f":"$C$6","v":"2025年度"},{"$f":"$D$6","v":"2026年度"},"",63,null,null,null,null,0,"",63,null,null,null,null,0]
["複数手続きの種類",null,null,null,"",64,null,null,null,null,0,"",64,null,null,null,null,0]
["確認年月日",null,null,null,{"$f":"IF(H71=\"\", \"\",YEAR(H71) - IF(MONTH(H71)<4, 1, 0) & \"年度\")","v":""},65,null,null,null,null,0,{"$f":"IF(O71=\"\", \"\",YEAR(O71) - IF(MONTH(O71)<4, 1, 0) & \"年度\")","v":""},65,null,null,null,null,0]
["確認数量（kg）",null,null,null,"",66,null,null,null,null,0,"",66,null,null,null,null,0]
["申出番号（受付コード下4桁）",null,null,null,"",67,null,null,null,null,{"$f":"IF(J73=\"\",I73,I73*J73)","v":0},"",67,null,null,null,null,{"$f":"IF(Q73=\"\",P73,P73*Q73)","v":0}]
["受付コード",{"$f":"IF(B$73=\"\",\"\",表１_対象物質一覧!$C$4&(MID($B$6,3,2)&B$73))","v":""},{"$f":"IF(C$73=\"\",\"\",表１_対象物質一覧!$C$4&(MID($C$6, 3, 2))&C$73)","v":""},{"$f":"IF(D$73=\"\",\"\",表１_対象物質一覧!$C$4&(MID($D$6, 3, 2))&D$73)","v":""},"",68,null,null,null,null,0,"",68,null,null,null,null,0]
["用途番号",null,null,null,"",69,null,null,null,null,0,"",69,null,null,null,null,0]
[null,null,null,null,"",70,null,null,null,null,0,"",70,null,null,null,null,0]
[null,null,null,null,"",71,null,null,null,null,0,"",71,null,null,null,null,0]
[null,null,null,null,"",72,null,null,null,null,0,"",72,null,null,null,null,0]
[null,null,null,null,"",73,null,null,null,null,0,"",73,null,null,null,null,0]
[null,null,null,null,"",74,null,null,null,null,0,"",74,null,null,null,null,0]
[null,null,null,null,"",75,null,null,null,null,0,"",75,null,null,null,null,0]
["備考",null,null,null,"",76,null,null,null,null,0,"",76,null,null,null,null,0]
[null,null,null,null,"",77,null,null,null,null,0,"",77,null,null,null,null,0]
[null,null,null,null,"",78,null,null,null,null,0,"",78,null,null,null,null,0]
[null,null,null,null,"",79,null,null,null,null,0,"",79,null,null,null,null,0]
[null,null,null,null,"",80,null,null,null,null,0,"",80,null,null,null,null,0]
[null,null,null,null,"",81,null,null,null,null,0,"",81,null,null,null,null,0]
[null,null,null,null,"",82,null,null,null,null,0,"",82,null,null,null,null,0]
[null,null,null,null,"",83,null,null,null,null,0,"",83,null,null,null,null,0]
[null,null,null,null,"",84,null,null,null,null,0,"",84,null,null,null,null,0]
[null,null,null,null,"",85,null,null,null,null,0,"",85,null,null,null,null,0]
[null,null,null,null,"",86,null,null,null,null,0,"",86,null,null,null,null,0]
[null,null,null,null,"",87,null,null,null,null,0,"",87,null,null,null,null,0]
[null,null,null,null,"",88,null,null,null,null,0,"",88,null,null,null,null,0]
[null,null,null,null,"",89,null,null,null,null,0,"",89,null,null,null,null,0]
[null,null,null,null,"",90,null,null,null,null,0,"",90,null,null,null,null,0]
[null,null,null,null,"",91,null,null,null,null,0,"",91,null,null,null,null,0]
[null,null,null,null,"",92,null,null,null,null,0,"",92,null,null,null,null,0]
[null,null,null,null,"",93,null,null,null,null,0,"",93,null,null,null,null,0]
[null,null,null,null,"",94,null,null,null,null,0,"",94,null,null,null,null,0]
[null,null,null,null,"",95,null,null,null,null,0,"",95,null,null,null,null,0]
[null,null,null,null,"",96,null,null,null,null,0,"",96,null,null,null,null,0]
[null,null,null,null,"",97,null,null,null,null,0,"",97,null,null,null,null,0]
[null,null,null,null,"",98,null,null,null,null,0,"",98,null,null,null,null,0]
[null,null,null,null,"",99,null,null,null,null,{"$f":"IF(J105=\"\",I105,I105*J105)","v":0},"",99,null,null,null,null,{"$f":"IF(Q105=\"\",P105,P105*Q105)","v":0}]
[null,null,null,null,"",100,null,null,null,null,{"$f":"IF(J106=\"\",I106,I106*J106)","v":0},"",100,null,null,null,null,{"$f":"IF(Q106=\"\",P106,P106*Q106)","v":0}]

{"sheet":"19","index":19,"n_rows":106,"n_cols":20,"rows_kept":106,"cut":false,"hidden":false,"merged":[[1,5,1,6],[1,12,1,13],[3,5,5,6],[3,12,5,13]]}
["「表１_対象物質一覧」に戻る"]
["事業所名",null,null,null,null,"輸入量",null,null,null,null,null,null,"払出量"]
["新規化学物質の名称",null,null,null,null,"Ｎｏ",{"$f":"_xlfn.IFS(F2=\"製造量\",\"製造ロット\",F2=\"輸入量\",\"輸入ロット\",F2=\"製造・輸入量\",\"製造・輸入ロット\")","v":"輸入ロット"},{"$f":"_xlfn.IFS(F2=\"製造量\",\"製造日　（最終製品日）\",F2=\"輸入量\",\"輸入許可日\",F2=\"製造・輸入量\",\"製造日・輸入許可日\")","v":"輸入許可日"},{"$f":"_xlfn.IFS(F2=\"製造量\",\"製造数量（kg)\",F2=\"輸入量\",\"輸入数量（kg)\",F2=\"製造・輸入量\",\"製造・輸入数量（kg)\")","v":"輸入数量（kg)"},"含有率（％）","含有率換算数量(kg)",null,"Ｎｏ","ロット","払出日","払出数量（kg)","含有率（％）","含有率換算数量(kg)","用途番号","変更前ロット"]
["略称",null,null,null,null,"実績数量合計",null,{"$f":"B6","v":"2024年度"},{"$f":"SUMIF($E$7:$E106,$H$4,$I$7:$I106)","v":0},"-",{"$f":"SUMIF($E$7:$E106,$H$4,$K$7:$K106)","v":0},null,"払出数量合計",null,{"$f":"B6","v":"2024年度"},{"$f":"SUMIF($L$7:$L95,$O$4,$P$7:$P106)","v":0},"-",{"$f":"SUMIF($L$7:$L106,$H$4,$R$7:$R106)","v":0},"-","-"]
[null,null,null,null,null,null,null,{"$f":"C6","v":"2025年度"},{"$f":"SUMIF($E$7:$E106,$H$5,$I$7:$I106)","v":0},"-",{"$f":"SUMIF($E$7:$E106,$H$5,$K$7:$K106)","v":0},null,null,null,{"$f":"C6","v":"2025年度"},{"$f":"SUMIF($L$7:$L95,$O$5,$P$7:$P106)","v":0},"-",{"$f":"SUMIF($E$7:$E106,$H$5,$K$7:$K106)","v":0},"-","-"]
[null,{"$f":"'1'!B6","v":"2024年度"},{"$f":"'1'!C6","v":"2025年度"},{"$f":"'1'!D6","v":"2026年度"},null,null,null,{"$f":"D6","v":"2026年度"},{"$f":"SUMIF($E$7:$E106,$H$6,$I$7:$I106)","v":0},"-",{"$f":"SUMIF($E$7:$E106,$H$6,$K$7:$K106)","v":0},null,null,null,{"$f":"D6","v":"2026年度"},{"$f":"SUMIF($L$7:$L95,$O$6,$P$7:$P106)","v":0},"-",{"$f":"SUMIF($E$7:$E106,$H$6,$K$7:$K106)","v":0},"-","-"]
["確認年月日",null,null,null,{"$f":"IF(H7=\"\", \"\",YEAR(H7) - IF(MONTH(H7)<4, 1, 0) & \"年度\")","v":""},1,null,null,null,null,{"$f":"IF(J7=\"\",I7,I7*J7)","v":0},{"$f":"IF(O7=\"\", \"\",YEAR(O7) - IF(MONTH(O7)<4, 1, 0) & \"年度\")","v":""},1,null,null,null,null,{"$f":"IF(Q7=\"\",P7,P7*Q7)","v":0}]
["確認数量（kg）",null,null,null,"",2,null,null,null,null,{"$f":"IF(J8=\"\",I8,I8*J8)","v":0},"",2,null,null,null,null,{"$f":"IF(Q8=\"\",P8,P8*Q8)","v":0}]
["申出番号（受付コード下4桁）",null,null,null,"",3,null,null,null,null,{"$f":"IF(J9=\"\",I9,I9*J9)","v":0},"",3,null,null,null,null,{"$f":"IF(Q9=\"\",P9,P9*Q9)","v":0}]
["受付コード",{"$f":"IF(B$9=\"\",\"\",表１_対象物質一覧!$C$4&(MID($B$6,3,2)&B$9))","v":""},{"$f":"IF(C$9=\"\",\"\",表１_対象物質一覧!$C$4&(MID($C$6, 3, 2))&C$9)","v":""},{"$f":"IF(D$9=\"\",\"\",表１_対象物質一覧!$C$4&(MID($D$6, 3, 2))&D$9)","v":""},"",4,null,null,null,null,0,"",4,null,null,null,null,{"$f":"IF(Q10=\"\",P10,P10*Q10)","v":0}]
["用途番号",null,null,null,"",5,null,null,null,null,0,"",5,null,null,null,null,0]
[null,null,null,null,"",6,null,null,null,null,0,"",6,null,null,null,null,0]
[null,null,null,null,"",7,null,null,null,null,0,"",7,null,null,null,null,0]
[null,null,null,null,"",8,null,null,null,null,0,"",8,null,null,null,null,0]
[null,null,null,null,"",9,null,null,null,null,0,"",9,null,null,null,null,0]
[null,null,null,null,"",10,null,null,null,null,0,"",10,null,null,null,null,0]
["申出書に記載の「前年度の実績数量」",null,null,null,"",11,null,null,null,null,0,"",11,null,null,null,null,0]
["実績数量",{"$f":"$K$4","v":0},{"$f":"$K$5","v":0},{"$f":"$K$6","v":0},"",12,null,null,null,null,0,"",12,null,null,null,null,0]
["確認を受けている中間物等の分類",null,null,null,"",13,null,null,null,null,0,"",13,null,null,null,null,0]
["用途追加手続を省略して追加した用途の用途番号",null,null,null,"",14,null,null,null,null,0,"",14,null,null,null,null,0]
["備考（３年連続して実積数量がゼロの場合はその理由）",null,null,null,"",15,null,null,null,null,0,"",15,null,null,null,null,0]
["用途証明書なしであって確認年月日が複数ある場合の",null,null,null,"",16,null,null,null,null,0,"",16,null,null,null,null,0]
["確認年月日（上段）及び確認数量(kg)（下段）",null,null,null,"",17,null,null,null,null,0,"",17,null,null,null,null,0]
[null,null,null,null,"",18,null,null,null,null,0,"",18,null,null,null,null,0]
[null,null,null,null,"",19,null,null,null,null,0,"",19,null,null,null,null,0]
[null,null,null,null,"",20,null,null,null,null,0,"",20,null,null,null,null,0]
[null,null,null,null,"",21,null,null,null,null,0,"",21,null,null,null,null,0]
[null,null,null,null,"",22,null,null,null,null,0,"",22,null,null,null,null,0]
[null,null,null,null,"",23,null,null,null,null,0,"",23,null,null,null,null,0]
[null,null,null,null,"",24,null,null,null,null,0,"",24,null,null,null,null,0]
[null,null,null,null,"",25,null,null,null,null,0,"",25,null,null,null,null,0]
[null,null,null,null,"",26,null,null,null,null,0,"",26,null,null,null,null,0]
[null,null,null,null,"",27,null,null,null,null,0,"",27,null,null,null,null,0]
[null,null,null,null,"",28,null,null,null,null,0,"",28,null,null,null,null,0]
[null,null,null,null,"",29,null,null,null,null,0,"",29,null,null,null,null,0]
[null,null,null,null,"",30,null,null,null,null,0,"",30,null,null,null,null,0]
[null,null,null,null,"",31,null,null,null,null,0,"",31,null,null,null,null,0]
[null,null,null,null,"",32,null,null,null,null,0,"",32,null,null,null,null,0]
[null,null,null,null,{"$f":"IF(H39=\"\", \"\",YEAR(H39) - IF(MONTH(H39)<4, 1, 0) & \"年度\")","v":""},33,null,null,null,null,0,{"$f":"IF(O39=\"\", \"\",YEAR(O39) - IF(MONTH(O39)<4, 1, 0) & \"年度\")","v":""},33,null,null,null,null,0]
[null,null,null,null,"",34,null,null,null,null,0,"",34,null,null,null,null,0]
[null,null,null,null,"",35,null,null,null,null,0,"",35,null,null,null,null,0]
["同一年度で同じ化学物質を複数申請している場合は、その確認を受けた事項",null,null,null,"",36,null,null,null,null,0,"",36,null,null,null,null,0]
[null,{"$f":"$B$6","v":"2024年度"},{"$f":"$C$6","v":"2025年度"},{"$f":"$D$6","v":"2026年度"},"",37,null,null,null,null,0,"",37,null,null,null,null,0]
["複数手続きの種類",null,null,null,"",38,null,null,null,null,0,"",38,null,null,null,null,0]
["確認年月日",null,null,null,"",39,null,null,null,null,0,"",39,null,null,null,null,0]
["確認数量（kg）",null,null,null,"",40,null,null,null,null,0,"",40,null,null,null,null,0]
["申出番号（受付コード下4桁）",null,null,null,"",41,null,null,null,null,0,"",41,null,null,null,null,0]
["受付コード",{"$f":"IF(B$47=\"\",\"\",表１_対象物質一覧!$C$4&(MID($B$6,3,2)&B$47))","v":""},{"$f":"IF(C$47=\"\",\"\",表１_対象物質一覧!$C$4&(MID($C$6, 3, 2))&C$47)","v":""},{"$f":"IF(D$47=\"\",\"\",表１_対象物質一覧!$C$4&(MID($D$6, 3, 2))&D$47)","v":""},"",42,null,null,null,null,0,"",42,null,null,null,null,0]
["用途番号",null,null,null,"",43,null,null,null,null,0,"",43,null,null,null,null,0]
[null,null,null,null,"",44,null,null,null,null,0,"",44,null,null,null,null,0]
[null,null,null,null,"",45,null,null,null,null,0,"",45,null,null,null,null,0]
[null,null,null,null,"",46,null,null,null,null,0,"",46,null,null,null,null,0]
[null,null,null,null,"",47,null,null,null,null,0,"",47,null,null,null,null,0]
[null,null,null,null,"",48,null,null,null,null,0,"",48,null,null,null,null,0]
[null,null,null,null,"",49,null,null,null,null,0,"",49,null,null,null,null,0]
[null,{"$f":"$B$6","v":"2024年度"},{"$f":"$C$6","v":"2025年度"},{"$f":"$D$6","v":"2026年度"},"",50,null,null,null,null,0,"",50,null,null,null,null,0]
["複数手続きの種類",null,null,null,"",51,null,null,null,null,0,"",51,null,null,null,null,0]
["確認年月日",null,null,null,"",52,null,null,null,null,0,"",52,null,null,null,null,0]
["確認数量（kg）",null,null,null,"",53,null,null,null,null,0,"",53,null,null,null,null,0]
["申出番号（受付コード下4桁）",null,null,null,"",54,null,null,null,null,0,"",54,null,null,null,null,0]
["受付コード",{"$f":"IF(B$60=\"\",\"\",表１_対象物質一覧!$C$4&(MID($B$6,3,2)&B$60))","v":""},{"$f":"IF(C$60=\"\",\"\",表１_対象物質一覧!$C$4&(MID($C$6, 3, 2))&C$60)","v":""},{"$f":"IF(D$60=\"\",\"\",表１_対象物質一覧!$C$4&(MID($D$6, 3, 2))&D$60)","v":""},"",55,null,null,null,null,0,"",55,null,null,null,null,0]
["用途番号",null,null,null,"",56,null,null,null,null,0,"",56,null,null,null,null,0]
[null,null,null,null,"",57,null,null,null,null,0,"",57,null,null,null,null,0]
[null,null,null,null,"",58,null,null,null,null,0,"",58,null,null,null,null,0]
[null,null,null,null,"",59,null,null,null,null,0,"",59,null,null,null,null,0]
[null,null,null,null,"",60,null,null,null,null,0,"",60,null,null,null,null,0]
[null,null,null,null,"",61,null,null,null,null,0,"",61,null,null,null,null,0]
[null,null,null,null,"",62,null,null,null,null,0,"",62,null,null,null,null,0]
[null,{"$f":"$B$6","v":"2024年度"},{"$f":"$C$6","v":"2025年度"},{"$f":"$D$6","v":"2026年度"},"",63,null,null,null,null,0,"",63,null,null,null,null,0]
["複数手続きの種類",null,null,null,"",64,null,null,null,null,0,"",64,null,null,null,null,0]
["確認年月日",null,null,null,{"$f":"IF(H71=\"\", \"\",YEAR(H71) - IF(MONTH(H71)<4, 1, 0) & \"年度\")","v":""},65,null,null,null,null,0,{"$f":"IF(O71=\"\", \"\",YEAR(O71) - IF(MONTH(O71)<4, 1, 0) & \"年度\")","v":""},65,null,null,null,null,0]
["確認数量（kg）",null,null,null,"",66,null,null,null,null,0,"",66,null,null,null,null,0]
["申出番号（受付コード下4桁）",null,null,null,"",67,null,null,null,null,{"$f":"IF(J73=\"\",I73,I73*J73)","v":0},"",67,null,null,null,null,{"$f":"IF(Q73=\"\",P73,P73*Q73)","v":0}]
["受付コード",{"$f":"IF(B$73=\"\",\"\",表１_対象物質一覧!$C$4&(MID($B$6,3,2)&B$73))","v":""},{"$f":"IF(C$73=\"\",\"\",表１_対象物質一覧!$C$4&(MID($C$6, 3, 2))&C$73)","v":""},{"$f":"IF(D$73=\"\",\"\",表１_対象物質一覧!$C$4&(MID($D$6, 3, 2))&D$73)","v":""},"",68,null,null,null,null,0,"",68,null,null,null,null,0]
["用途番号",null,null,null,"",69,null,null,null,null,0,"",69,null,null,null,null,0]
[null,null,null,null,"",70,null,null,null,null,0,"",70,null,null,null,null,0]
[null,null,null,null,"",71,null,null,null,null,0,"",71,null,null,null,null,0]
[null,null,null,null,"",72,null,null,null,null,0,"",72,null,null,null,null,0]
[null,null,null,null,"",73,null,null,null,null,0,"",73,null,null,null,null,0]
[null,null,null,null,"",74,null,null,null,null,0,"",74,null,null,null,null,0]
[null,null,null,null,"",75,null,null,null,null,0,"",75,null,null,null,null,0]
["備考",null,null,null,"",76,null,null,null,null,0,"",76,null,null,null,null,0]
[null,null,null,null,"",77,null,null,null,null,0,"",77,null,null,null,null,0]
[null,null,null,null,"",78,null,null,null,null,0,"",78,null,null,null,null,0]
[null,null,null,null,"",79,null,null,null,null,0,"",79,null,null,null,null,0]
[null,null,null,null,"",80,null,null,null,null,0,"",80,null,null,null,null,0]
[null,null,null,null,"",81,null,null,null,null,0,"",81,null,null,null,null,0]
[null,null,null,null,"",82,null,null,null,null,0,"",82,null,null,null,null,0]
[null,null,null,null,"",83,null,null,null,null,0,"",83,null,null,null,null,0]
[null,null,null,null,"",84,null,null,null,null,0,"",84,null,null,null,null,0]
[null,null,null,null,"",85,null,null,null,null,0,"",85,null,null,null,null,0]
[null,null,null,null,"",86,null,null,null,null,0,"",86,null,null,null,null,0]
[null,null,null,null,"",87,null,null,null,null,0,"",87,null,null,null,null,0]
[null,null,null,null,"",88,null,null,null,null,0,"",88,null,null,null,null,0]
[null,null,null,null,"",89,null,null,null,null,0,"",89,null,null,null,null,0]
[null,null,null,null,"",90,null,null,null,null,0,"",90,null,null,null,null,0]
[null,null,null,null,"",91,null,null,null,null,0,"",91,null,null,null,null,0]
[null,null,null,null,"",92,null,null,null,null,0,"",92,null,null,null,null,0]
[null,null,null,null,"",93,null,null,null,null,0,"",93,null,null,null,null,0]
[null,null,null,null,"",94,null,null,null,null,0,"",94,null,null,null,null,0]
[null,null,null,null,"",95,null,null,null,null,0,"",95,null,null,null,null,0]
[null,null,null,null,"",96,null,null,null,null,0,"",96,null,null,null,null,0]
[null,null,null,null,"",97,null,null,null,null,0,"",97,null,null,null,null,0]
[null,null,null,null,"",98,null,null,null,null,0,"",98,null,null,null,null,0]
[null,null,null,null,"",99,null,null,null,null,{"$f":"IF(J105=\"\",I105,I105*J105)","v":0},"",99,null,null,null,null,{"$f":"IF(Q105=\"\",P105,P105*Q105)","v":0}]
[null,null,null,null,"",100,null,null,null,null,{"$f":"IF(J106=\"\",I106,I106*J106)","v":0},"",100,null,null,null,null,{"$f":"IF(Q106=\"\",P106,P106*Q106)","v":0}]

{"sheet":"20","index":20,"n_rows":106,"n_cols":20,"rows_kept":106,"cut":false,"hidden":false,"merged":[[1,5,1,6],[1,12,1,13],[3,5,5,6],[3,12,5,13]]}
["「表１_対象物質一覧」に戻る"]
["事業所名",null,null,null,null,"輸入量",null,null,null,null,null,null,"払出量"]
["新規化学物質の名称",null,null,null,null,"Ｎｏ",{"$f":"_xlfn.IFS(F2=\"製造量\",\"製造ロット\",F2=\"輸入量\",\"輸入ロット\",F2=\"製造・輸入量\",\"製造・輸入ロット\")","v":"輸入ロット"},{"$f":"_xlfn.IFS(F2=\"製造量\",\"製造日　（最終製品日）\",F2=\"輸入量\",\"輸入許可日\",F2=\"製造・輸入量\",\"製造日・輸入許可日\")","v":"輸入許可日"},{"$f":"_xlfn.IFS(F2=\"製造量\",\"製造数量（kg)\",F2=\"輸入量\",\"輸入数量（kg)\",F2=\"製造・輸入量\",\"製造・輸入数量（kg)\")","v":"輸入数量（kg)"},"含有率（％）","含有率換算数量(kg)",null,"Ｎｏ","ロット","払出日","払出数量（kg)","含有率（％）","含有率換算数量(kg)","用途番号","変更前ロット"]
["略称",null,null,null,null,"実績数量合計",null,{"$f":"B6","v":"2024年度"},{"$f":"SUMIF($E$7:$E106,$H$4,$I$7:$I106)","v":0},"-",{"$f":"SUMIF($E$7:$E106,$H$4,$K$7:$K106)","v":0},null,"払出数量合計",null,{"$f":"B6","v":"2024年度"},{"$f":"SUMIF($L$7:$L95,$O$4,$P$7:$P106)","v":0},"-",{"$f":"SUMIF($L$7:$L106,$H$4,$R$7:$R106)","v":0},"-","-"]
[null,null,null,null,null,null,null,{"$f":"C6","v":"2025年度"},{"$f":"SUMIF($E$7:$E106,$H$5,$I$7:$I106)","v":0},"-",{"$f":"SUMIF($E$7:$E106,$H$5,$K$7:$K106)","v":0},null,null,null,{"$f":"C6","v":"2025年度"},{"$f":"SUMIF($L$7:$L95,$O$5,$P$7:$P106)","v":0},"-",{"$f":"SUMIF($E$7:$E106,$H$5,$K$7:$K106)","v":0},"-","-"]
[null,{"$f":"'1'!B6","v":"2024年度"},{"$f":"'1'!C6","v":"2025年度"},{"$f":"'1'!D6","v":"2026年度"},null,null,null,{"$f":"D6","v":"2026年度"},{"$f":"SUMIF($E$7:$E106,$H$6,$I$7:$I106)","v":0},"-",{"$f":"SUMIF($E$7:$E106,$H$6,$K$7:$K106)","v":0},null,null,null,{"$f":"D6","v":"2026年度"},{"$f":"SUMIF($L$7:$L95,$O$6,$P$7:$P106)","v":0},"-",{"$f":"SUMIF($E$7:$E106,$H$6,$K$7:$K106)","v":0},"-","-"]
["確認年月日",null,null,null,{"$f":"IF(H7=\"\", \"\",YEAR(H7) - IF(MONTH(H7)<4, 1, 0) & \"年度\")","v":""},1,null,null,null,null,{"$f":"IF(J7=\"\",I7,I7*J7)","v":0},{"$f":"IF(O7=\"\", \"\",YEAR(O7) - IF(MONTH(O7)<4, 1, 0) & \"年度\")","v":""},1,null,null,null,null,{"$f":"IF(Q7=\"\",P7,P7*Q7)","v":0}]
["確認数量（kg）",null,null,null,"",2,null,null,null,null,{"$f":"IF(J8=\"\",I8,I8*J8)","v":0},"",2,null,null,null,null,{"$f":"IF(Q8=\"\",P8,P8*Q8)","v":0}]
["申出番号（受付コード下4桁）",null,null,null,"",3,null,null,null,null,{"$f":"IF(J9=\"\",I9,I9*J9)","v":0},"",3,null,null,null,null,{"$f":"IF(Q9=\"\",P9,P9*Q9)","v":0}]
["受付コード",{"$f":"IF(B$9=\"\",\"\",表１_対象物質一覧!$C$4&(MID($B$6,3,2)&B$9))","v":""},{"$f":"IF(C$9=\"\",\"\",表１_対象物質一覧!$C$4&(MID($C$6, 3, 2))&C$9)","v":""},{"$f":"IF(D$9=\"\",\"\",表１_対象物質一覧!$C$4&(MID($D$6, 3, 2))&D$9)","v":""},"",4,null,null,null,null,0,"",4,null,null,null,null,{"$f":"IF(Q10=\"\",P10,P10*Q10)","v":0}]
["用途番号",null,null,null,"",5,null,null,null,null,0,"",5,null,null,null,null,0]
[null,null,null,null,"",6,null,null,null,null,0,"",6,null,null,null,null,0]
[null,null,null,null,"",7,null,null,null,null,0,"",7,null,null,null,null,0]
[null,null,null,null,"",8,null,null,null,null,0,"",8,null,null,null,null,0]
[null,null,null,null,"",9,null,null,null,null,0,"",9,null,null,null,null,0]
[null,null,null,null,"",10,null,null,null,null,0,"",10,null,null,null,null,0]
["申出書に記載の「前年度の実績数量」",null,null,null,"",11,null,null,null,null,0,"",11,null,null,null,null,0]
["実績数量",{"$f":"$K$4","v":0},{"$f":"$K$5","v":0},{"$f":"$K$6","v":0},"",12,null,null,null,null,0,"",12,null,null,null,null,0]
["確認を受けている中間物等の分類",null,null,null,"",13,null,null,null,null,0,"",13,null,null,null,null,0]
["用途追加手続を省略して追加した用途の用途番号",null,null,null,"",14,null,null,null,null,0,"",14,null,null,null,null,0]
["備考（３年連続して実積数量がゼロの場合はその理由）",null,null,null,"",15,null,null,null,null,0,"",15,null,null,null,null,0]
["用途証明書なしであって確認年月日が複数ある場合の",null,null,null,"",16,null,null,null,null,0,"",16,null,null,null,null,0]
["確認年月日（上段）及び確認数量(kg)（下段）",null,null,null,"",17,null,null,null,null,0,"",17,null,null,null,null,0]
[null,null,null,null,"",18,null,null,null,null,0,"",18,null,null,null,null,0]
[null,null,null,null,"",19,null,null,null,null,0,"",19,null,null,null,null,0]
[null,null,null,null,"",20,null,null,null,null,0,"",20,null,null,null,null,0]
[null,null,null,null,"",21,null,null,null,null,0,"",21,null,null,null,null,0]
[null,null,null,null,"",22,null,null,null,null,0,"",22,null,null,null,null,0]
[null,null,null,null,"",23,null,null,null,null,0,"",23,null,null,null,null,0]
[null,null,null,null,"",24,null,null,null,null,0,"",24,null,null,null,null,0]
[null,null,null,null,"",25,null,null,null,null,0,"",25,null,null,null,null,0]
[null,null,null,null,"",26,null,null,null,null,0,"",26,null,null,null,null,0]
[null,null,null,null,"",27,null,null,null,null,0,"",27,null,null,null,null,0]
[null,null,null,null,"",28,null,null,null,null,0,"",28,null,null,null,null,0]
[null,null,null,null,"",29,null,null,null,null,0,"",29,null,null,null,null,0]
[null,null,null,null,"",30,null,null,null,null,0,"",30,null,null,null,null,0]
[null,null,null,null,"",31,null,null,null,null,0,"",31,null,null,null,null,0]
[null,null,null,null,"",32,null,null,null,null,0,"",32,null,null,null,null,0]
[null,null,null,null,{"$f":"IF(H39=\"\", \"\",YEAR(H39) - IF(MONTH(H39)<4, 1, 0) & \"年度\")","v":""},33,null,null,null,null,0,{"$f":"IF(O39=\"\", \"\",YEAR(O39) - IF(MONTH(O39)<4, 1, 0) & \"年度\")","v":""},33,null,null,null,null,0]
[null,null,null,null,"",34,null,null,null,null,0,"",34,null,null,null,null,0]
[null,null,null,null,"",35,null,null,null,null,0,"",35,null,null,null,null,0]
["同一年度で同じ化学物質を複数申請している場合は、その確認を受けた事項",null,null,null,"",36,null,null,null,null,0,"",36,null,null,null,null,0]
[null,{"$f":"$B$6","v":"2024年度"},{"$f":"$C$6","v":"2025年度"},{"$f":"$D$6","v":"2026年度"},"",37,null,null,null,null,0,"",37,null,null,null,null,0]
["複数手続きの種類",null,null,null,"",38,null,null,null,null,0,"",38,null,null,null,null,0]
["確認年月日",null,null,null,"",39,null,null,null,null,0,"",39,null,null,null,null,0]
["確認数量（kg）",null,null,null,"",40,null,null,null,null,0,"",40,null,null,null,null,0]
["申出番号（受付コード下4桁）",null,null,null,"",41,null,null,null,null,0,"",41,null,null,null,null,0]
["受付コード",{"$f":"IF(B$47=\"\",\"\",表１_対象物質一覧!$C$4&(MID($B$6,3,2)&B$47))","v":""},{"$f":"IF(C$47=\"\",\"\",表１_対象物質一覧!$C$4&(MID($C$6, 3, 2))&C$47)","v":""},{"$f":"IF(D$47=\"\",\"\",表１_対象物質一覧!$C$4&(MID($D$6, 3, 2))&D$47)","v":""},"",42,null,null,null,null,0,"",42,null,null,null,null,0]
["用途番号",null,null,null,"",43,null,null,null,null,0,"",43,null,null,null,null,0]
[null,null,null,null,"",44,null,null,null,null,0,"",44,null,null,null,null,0]
[null,null,null,null,"",45,null,null,null,null,0,"",45,null,null,null,null,0]
[null,null,null,null,"",46,null,null,null,null,0,"",46,null,null,null,null,0]
[null,null,null,null,"",47,null,null,null,null,0,"",47,null,null,null,null,0]
[null,null,null,null,"",48,null,null,null,null,0,"",48,null,null,null,null,0]
[null,null,null,null,"",49,null,null,null,null,0,"",49,null,null,null,null,0]
[null,{"$f":"$B$6","v":"2024年度"},{"$f":"$C$6","v":"2025年度"},{"$f":"$D$6","v":"2026年度"},"",50,null,null,null,null,0,"",50,null,null,null,null,0]
["複数手続きの種類",null,null,null,"",51,null,null,null,null,0,"",51,null,null,null,null,0]
["確認年月日",null,null,null,"",52,null,null,null,null,0,"",52,null,null,null,null,0]
["確認数量（kg）",null,null,null,"",53,null,null,null,null,0,"",53,null,null,null,null,0]
["申出番号（受付コード下4桁）",null,null,null,"",54,null,null,null,null,0,"",54,null,null,null,null,0]
["受付コード",{"$f":"IF(B$60=\"\",\"\",表１_対象物質一覧!$C$4&(MID($B$6,3,2)&B$60))","v":""},{"$f":"IF(C$60=\"\",\"\",表１_対象物質一覧!$C$4&(MID($C$6, 3, 2))&C$60)","v":""},{"$f":"IF(D$60=\"\",\"\",表１_対象物質一覧!$C$4&(MID($D$6, 3, 2))&D$60)","v":""},"",55,null,null,null,null,0,"",55,null,null,null,null,0]
["用途番号",null,null,null,"",56,null,null,null,null,0,"",56,null,null,null,null,0]
[null,null,null,null,"",57,null,null,null,null,0,"",57,null,null,null,null,0]
[null,null,null,null,"",58,null,null,null,null,0,"",58,null,null,null,null,0]
[null,null,null,null,"",59,null,null,null,null,0,"",59,null,null,null,null,0]
[null,null,null,null,"",60,null,null,null,null,0,"",60,null,null,null,null,0]
[null,null,null,null,"",61,null,null,null,null,0,"",61,null,null,null,null,0]
[null,null,null,null,"",62,null,null,null,null,0,"",62,null,null,null,null,0]
[null,{"$f":"$B$6","v":"2024年度"},{"$f":"$C$6","v":"2025年度"},{"$f":"$D$6","v":"2026年度"},"",63,null,null,null,null,0,"",63,null,null,null,null,0]
["複数手続きの種類",null,null,null,"",64,null,null,null,null,0,"",64,null,null,null,null,0]
["確認年月日",null,null,null,{"$f":"IF(H71=\"\", \"\",YEAR(H71) - IF(MONTH(H71)<4, 1, 0) & \"年度\")","v":""},65,null,null,null,null,0,{"$f":"IF(O71=\"\", \"\",YEAR(O71) - IF(MONTH(O71)<4, 1, 0) & \"年度\")","v":""},65,null,null,null,null,0]
["確認数量（kg）",null,null,null,"",66,null,null,null,null,0,"",66,null,null,null,null,0]
["申出番号（受付コード下4桁）",null,null,null,"",67,null,null,null,null,{"$f":"IF(J73=\"\",I73,I73*J73)","v":0},"",67,null,null,null,null,{"$f":"IF(Q73=\"\",P73,P73*Q73)","v":0}]
["受付コード",{"$f":"IF(B$73=\"\",\"\",表１_対象物質一覧!$C$4&(MID($B$6,3,2)&B$73))","v":""},{"$f":"IF(C$73=\"\",\"\",表１_対象物質一覧!$C$4&(MID($C$6, 3, 2))&C$73)","v":""},{"$f":"IF(D$73=\"\",\"\",表１_対象物質一覧!$C$4&(MID($D$6, 3, 2))&D$73)","v":""},"",68,null,null,null,null,0,"",68,null,null,null,null,0]
["用途番号",null,null,null,"",69,null,null,null,null,0,"",69,null,null,null,null,0]
[null,null,null,null,"",70,null,null,null,null,0,"",70,null,null,null,null,0]
[null,null,null,null,"",71,null,null,null,null,0,"",71,null,null,null,null,0]
[null,null,null,null,"",72,null,null,null,null,0,"",72,null,null,null,null,0]
[null,null,null,null,"",73,null,null,null,null,0,"",73,null,null,null,null,0]
[null,null,null,null,"",74,null,null,null,null,0,"",74,null,null,null,null,0]
[null,null,null,null,"",75,null,null,null,null,0,"",75,null,null,null,null,0]
["備考",null,null,null,"",76,null,null,null,null,0,"",76,null,null,null,null,0]
[null,null,null,null,"",77,null,null,null,null,0,"",77,null,null,null,null,0]
[null,null,null,null,"",78,null,null,null,null,0,"",78,null,null,null,null,0]
[null,null,null,null,"",79,null,null,null,null,0,"",79,null,null,null,null,0]
[null,null,null,null,"",80,null,null,null,null,0,"",80,null,null,null,null,0]
[null,null,null,null,"",81,null,null,null,null,0,"",81,null,null,null,null,0]
[null,null,null,null,"",82,null,null,null,null,0,"",82,null,null,null,null,0]
[null,null,null,null,"",83,null,null,null,null,0,"",83,null,null,null,null,0]
[null,null,null,null,"",84,null,null,null,null,0,"",84,null,null,null,null,0]
[null,null,null,null,"",85,null,null,null,null,0,"",85,null,null,null,null,0]
[null,null,null,null,"",86,null,null,null,null,0,"",86,null,null,null,null,0]
[null,null,null,null,"",87,null,null,null,null,0,"",87,null,null,null,null,0]
[null,null,null,null,"",88,null,null,null,null,0,"",88,null,null,null,null,0]
[null,null,null,null,"",89,null,null,null,null,0,"",89,null,null,null,null,0]
[null,null,null,null,"",90,null,null,null,null,0,"",90,null,null,null,null,0]
[null,null,null,null,"",91,null,null,null,null,0,"",91,null,null,null,null,0]
[null,null,null,null,"",92,null,null,null,null,0,"",92,null,null,null,null,0]
[null,null,null,null,"",93,null,null,null,null,0,"",93,null,null,null,null,0]
[null,null,null,null,"",94,null,null,null,null,0,"",94,null,null,null,null,0]
[null,null,null,null,"",95,null,null,null,null,0,"",95,null,null,null,null,0]
[null,null,null,null,"",96,null,null,null,null,0,"",96,null,null,null,null,0]
[null,null,null,null,"",97,null,null,null,null,0,"",97,null,null,null,null,0]
[null,null,null,null,"",98,null,null,null,null,0,"",98,null,null,null,null,0]
[null,null,null,null,"",99,null,null,null,null,{"$f":"IF(J105=\"\",I105,I105*J105)","v":0},"",99,null,null,null,null,{"$f":"IF(Q105=\"\",P105,P105*Q105)","v":0}]
[null,null,null,null,"",100,null,null,null,null,{"$f":"IF(J106=\"\",I106,I106*J106)","v":0},"",100,null,null,null,null,{"$f":"IF(Q106=\"\",P106,P106*Q106)","v":0}]

{"sheet":"21","index":21,"n_rows":106,"n_cols":20,"rows_kept":106,"cut":false,"hidden":false,"merged":[[1,5,1,6],[1,12,1,13],[3,5,5,6],[3,12,5,13]]}
["「表１_対象物質一覧」に戻る"]
["事業所名",null,null,null,null,"輸入量",null,null,null,null,null,null,"払出量"]
["新規化学物質の名称",null,null,null,null,"Ｎｏ",{"$f":"_xlfn.IFS(F2=\"製造量\",\"製造ロット\",F2=\"輸入量\",\"輸入ロット\",F2=\"製造・輸入量\",\"製造・輸入ロット\")","v":"輸入ロット"},{"$f":"_xlfn.IFS(F2=\"製造量\",\"製造日　（最終製品日）\",F2=\"輸入量\",\"輸入許可日\",F2=\"製造・輸入量\",\"製造日・輸入許可日\")","v":"輸入許可日"},{"$f":"_xlfn.IFS(F2=\"製造量\",\"製造数量（kg)\",F2=\"輸入量\",\"輸入数量（kg)\",F2=\"製造・輸入量\",\"製造・輸入数量（kg)\")","v":"輸入数量（kg)"},"含有率（％）","含有率換算数量(kg)",null,"Ｎｏ","ロット","払出日","払出数量（kg)","含有率（％）","含有率換算数量(kg)","用途番号","変更前ロット"]
["略称",null,null,null,null,"実績数量合計",null,{"$f":"B6","v":"2024年度"},{"$f":"SUMIF($E$7:$E106,$H$4,$I$7:$I106)","v":0},"-",{"$f":"SUMIF($E$7:$E106,$H$4,$K$7:$K106)","v":0},null,"払出数量合計",null,{"$f":"B6","v":"2024年度"},{"$f":"SUMIF($L$7:$L95,$O$4,$P$7:$P106)","v":0},"-",{"$f":"SUMIF($L$7:$L106,$H$4,$R$7:$R106)","v":0},"-","-"]
[null,null,null,null,null,null,null,{"$f":"C6","v":"2025年度"},{"$f":"SUMIF($E$7:$E106,$H$5,$I$7:$I106)","v":0},"-",{"$f":"SUMIF($E$7:$E106,$H$5,$K$7:$K106)","v":0},null,null,null,{"$f":"C6","v":"2025年度"},{"$f":"SUMIF($L$7:$L95,$O$5,$P$7:$P106)","v":0},"-",{"$f":"SUMIF($E$7:$E106,$H$5,$K$7:$K106)","v":0},"-","-"]
[null,{"$f":"'1'!B6","v":"2024年度"},{"$f":"'1'!C6","v":"2025年度"},{"$f":"'1'!D6","v":"2026年度"},null,null,null,{"$f":"D6","v":"2026年度"},{"$f":"SUMIF($E$7:$E106,$H$6,$I$7:$I106)","v":0},"-",{"$f":"SUMIF($E$7:$E106,$H$6,$K$7:$K106)","v":0},null,null,null,{"$f":"D6","v":"2026年度"},{"$f":"SUMIF($L$7:$L95,$O$6,$P$7:$P106)","v":0},"-",{"$f":"SUMIF($E$7:$E106,$H$6,$K$7:$K106)","v":0},"-","-"]
["確認年月日",null,null,null,{"$f":"IF(H7=\"\", \"\",YEAR(H7) - IF(MONTH(H7)<4, 1, 0) & \"年度\")","v":""},1,null,null,null,null,{"$f":"IF(J7=\"\",I7,I7*J7)","v":0},{"$f":"IF(O7=\"\", \"\",YEAR(O7) - IF(MONTH(O7)<4, 1, 0) & \"年度\")","v":""},1,null,null,null,null,{"$f":"IF(Q7=\"\",P7,P7*Q7)","v":0}]
["確認数量（kg）",null,null,null,"",2,null,null,null,null,{"$f":"IF(J8=\"\",I8,I8*J8)","v":0},"",2,null,null,null,null,{"$f":"IF(Q8=\"\",P8,P8*Q8)","v":0}]
["申出番号（受付コード下4桁）",null,null,null,"",3,null,null,null,null,{"$f":"IF(J9=\"\",I9,I9*J9)","v":0},"",3,null,null,null,null,{"$f":"IF(Q9=\"\",P9,P9*Q9)","v":0}]
["受付コード",{"$f":"IF(B$9=\"\",\"\",表１_対象物質一覧!$C$4&(MID($B$6,3,2)&B$9))","v":""},{"$f":"IF(C$9=\"\",\"\",表１_対象物質一覧!$C$4&(MID($C$6, 3, 2))&C$9)","v":""},{"$f":"IF(D$9=\"\",\"\",表１_対象物質一覧!$C$4&(MID($D$6, 3, 2))&D$9)","v":""},"",4,null,null,null,null,0,"",4,null,null,null,null,{"$f":"IF(Q10=\"\",P10,P10*Q10)","v":0}]
["用途番号",null,null,null,"",5,null,null,null,null,0,"",5,null,null,null,null,0]
[null,null,null,null,"",6,null,null,null,null,0,"",6,null,null,null,null,0]
[null,null,null,null,"",7,null,null,null,null,0,"",7,null,null,null,null,0]
[null,null,null,null,"",8,null,null,null,null,0,"",8,null,null,null,null,0]
[null,null,null,null,"",9,null,null,null,null,0,"",9,null,null,null,null,0]
[null,null,null,null,"",10,null,null,null,null,0,"",10,null,null,null,null,0]
["申出書に記載の「前年度の実績数量」",null,null,null,"",11,null,null,null,null,0,"",11,null,null,null,null,0]
["実績数量",{"$f":"$K$4","v":0},{"$f":"$K$5","v":0},{"$f":"$K$6","v":0},"",12,null,null,null,null,0,"",12,null,null,null,null,0]
["確認を受けている中間物等の分類",null,null,null,"",13,null,null,null,null,0,"",13,null,null,null,null,0]
["用途追加手続を省略して追加した用途の用途番号",null,null,null,"",14,null,null,null,null,0,"",14,null,null,null,null,0]
["備考（３年連続して実積数量がゼロの場合はその理由）",null,null,null,"",15,null,null,null,null,0,"",15,null,null,null,null,0]
["用途証明書なしであって確認年月日が複数ある場合の",null,null,null,"",16,null,null,null,null,0,"",16,null,null,null,null,0]
["確認年月日（上段）及び確認数量(kg)（下段）",null,null,null,"",17,null,null,null,null,0,"",17,null,null,null,null,0]
[null,null,null,null,"",18,null,null,null,null,0,"",18,null,null,null,null,0]
[null,null,null,null,"",19,null,null,null,null,0,"",19,null,null,null,null,0]
[null,null,null,null,"",20,null,null,null,null,0,"",20,null,null,null,null,0]
[null,null,null,null,"",21,null,null,null,null,0,"",21,null,null,null,null,0]
[null,null,null,null,"",22,null,null,null,null,0,"",22,null,null,null,null,0]
[null,null,null,null,"",23,null,null,null,null,0,"",23,null,null,null,null,0]
[null,null,null,null,"",24,null,null,null,null,0,"",24,null,null,null,null,0]
[null,null,null,null,"",25,null,null,null,null,0,"",25,null,null,null,null,0]
[null,null,null,null,"",26,null,null,null,null,0,"",26,null,null,null,null,0]
[null,null,null,null,"",27,null,null,null,null,0,"",27,null,null,null,null,0]
[null,null,null,null,"",28,null,null,null,null,0,"",28,null,null,null,null,0]
[null,null,null,null,"",29,null,null,null,null,0,"",29,null,null,null,null,0]
[null,null,null,null,"",30,null,null,null,null,0,"",30,null,null,null,null,0]
[null,null,null,null,"",31,null,null,null,null,0,"",31,null,null,null,null,0]
[null,null,null,null,"",32,null,null,null,null,0,"",32,null,null,null,null,0]
[null,null,null,null,{"$f":"IF(H39=\"\", \"\",YEAR(H39) - IF(MONTH(H39)<4, 1, 0) & \"年度\")","v":""},33,null,null,null,null,0,{"$f":"IF(O39=\"\", \"\",YEAR(O39) - IF(MONTH(O39)<4, 1, 0) & \"年度\")","v":""},33,null,null,null,null,0]
[null,null,null,null,"",34,null,null,null,null,0,"",34,null,null,null,null,0]
[null,null,null,null,"",35,null,null,null,null,0,"",35,null,null,null,null,0]
["同一年度で同じ化学物質を複数申請している場合は、その確認を受けた事項",null,null,null,"",36,null,null,null,null,0,"",36,null,null,null,null,0]
[null,{"$f":"$B$6","v":"2024年度"},{"$f":"$C$6","v":"2025年度"},{"$f":"$D$6","v":"2026年度"},"",37,null,null,null,null,0,"",37,null,null,null,null,0]
["複数手続きの種類",null,null,null,"",38,null,null,null,null,0,"",38,null,null,null,null,0]
["確認年月日",null,null,null,"",39,null,null,null,null,0,"",39,null,null,null,null,0]
["確認数量（kg）",null,null,null,"",40,null,null,null,null,0,"",40,null,null,null,null,0]
["申出番号（受付コード下4桁）",null,null,null,"",41,null,null,null,null,0,"",41,null,null,null,null,0]
["受付コード",{"$f":"IF(B$47=\"\",\"\",表１_対象物質一覧!$C$4&(MID($B$6,3,2)&B$47))","v":""},{"$f":"IF(C$47=\"\",\"\",表１_対象物質一覧!$C$4&(MID($C$6, 3, 2))&C$47)","v":""},{"$f":"IF(D$47=\"\",\"\",表１_対象物質一覧!$C$4&(MID($D$6, 3, 2))&D$47)","v":""},"",42,null,null,null,null,0,"",42,null,null,null,null,0]
["用途番号",null,null,null,"",43,null,null,null,null,0,"",43,null,null,null,null,0]
[null,null,null,null,"",44,null,null,null,null,0,"",44,null,null,null,null,0]
[null,null,null,null,"",45,null,null,null,null,0,"",45,null,null,null,null,0]
[null,null,null,null,"",46,null,null,null,null,0,"",46,null,null,null,null,0]
[null,null,null,null,"",47,null,null,null,null,0,"",47,null,null,null,null,0]
[null,null,null,null,"",48,null,null,null,null,0,"",48,null,null,null,null,0]
[null,null,null,null,"",49,null,null,null,null,0,"",49,null,null,null,null,0]
[null,{"$f":"$B$6","v":"2024年度"},{"$f":"$C$6","v":"2025年度"},{"$f":"$D$6","v":"2026年度"},"",50,null,null,null,null,0,"",50,null,null,null,null,0]
["複数手続きの種類",null,null,null,"",51,null,null,null,null,0,"",51,null,null,null,null,0]
["確認年月日",null,null,null,"",52,null,null,null,null,0,"",52,null,null,null,null,0]
["確認数量（kg）",null,null,null,"",53,null,null,null,null,0,"",53,null,null,null,null,0]
["申出番号（受付コード下4桁）",null,null,null,"",54,null,null,null,null,0,"",54,null,null,null,null,0]
["受付コード",{"$f":"IF(B$60=\"\",\"\",表１_対象物質一覧!$C$4&(MID($B$6,3,2)&B$60))","v":""},{"$f":"IF(C$60=\"\",\"\",表１_対象物質一覧!$C$4&(MID($C$6, 3, 2))&C$60)","v":""},{"$f":"IF(D$60=\"\",\"\",表１_対象物質一覧!$C$4&(MID($D$6, 3, 2))&D$60)","v":""},"",55,null,null,null,null,0,"",55,null,null,null,null,0]
["用途番号",null,null,null,"",56,null,null,null,null,0,"",56,null,null,null,null,0]
[null,null,null,null,"",57,null,null,null,null,0,"",57,null,null,null,null,0]
[null,null,null,null,"",58,null,null,null,null,0,"",58,null,null,null,null,0]
[null,null,null,null,"",59,null,null,null,null,0,"",59,null,null,null,null,0]
[null,null,null,null,"",60,null,null,null,null,0,"",60,null,null,null,null,0]
[null,null,null,null,"",61,null,null,null,null,0,"",61,null,null,null,null,0]
[null,null,null,null,"",62,null,null,null,null,0,"",62,null,null,null,null,0]
[null,{"$f":"$B$6","v":"2024年度"},{"$f":"$C$6","v":"2025年度"},{"$f":"$D$6","v":"2026年度"},"",63,null,null,null,null,0,"",63,null,null,null,null,0]
["複数手続きの種類",null,null,null,"",64,null,null,null,null,0,"",64,null,null,null,null,0]
["確認年月日",null,null,null,{"$f":"IF(H71=\"\", \"\",YEAR(H71) - IF(MONTH(H71)<4, 1, 0) & \"年度\")","v":""},65,null,null,null,null,0,{"$f":"IF(O71=\"\", \"\",YEAR(O71) - IF(MONTH(O71)<4, 1, 0) & \"年度\")","v":""},65,null,null,null,null,0]
["確認数量（kg）",null,null,null,"",66,null,null,null,null,0,"",66,null,null,null,null,0]
["申出番号（受付コード下4桁）",null,null,null,"",67,null,null,null,null,{"$f":"IF(J73=\"\",I73,I73*J73)","v":0},"",67,null,null,null,null,{"$f":"IF(Q73=\"\",P73,P73*Q73)","v":0}]
["受付コード",{"$f":"IF(B$73=\"\",\"\",表１_対象物質一覧!$C$4&(MID($B$6,3,2)&B$73))","v":""},{"$f":"IF(C$73=\"\",\"\",表１_対象物質一覧!$C$4&(MID($C$6, 3, 2))&C$73)","v":""},{"$f":"IF(D$73=\"\",\"\",表１_対象物質一覧!$C$4&(MID($D$6, 3, 2))&D$73)","v":""},"",68,null,null,null,null,0,"",68,null,null,null,null,0]
["用途番号",null,null,null,"",69,null,null,null,null,0,"",69,null,null,null,null,0]
[null,null,null,null,"",70,null,null,null,null,0,"",70,null,null,null,null,0]
[null,null,null,null,"",71,null,null,null,null,0,"",71,null,null,null,null,0]
[null,null,null,null,"",72,null,null,null,null,0,"",72,null,null,null,null,0]
[null,null,null,null,"",73,null,null,null,null,0,"",73,null,null,null,null,0]
[null,null,null,null,"",74,null,null,null,null,0,"",74,null,null,null,null,0]
[null,null,null,null,"",75,null,null,null,null,0,"",75,null,null,null,null,0]
["備考",null,null,null,"",76,null,null,null,null,0,"",76,null,null,null,null,0]
[null,null,null,null,"",77,null,null,null,null,0,"",77,null,null,null,null,0]
[null,null,null,null,"",78,null,null,null,null,0,"",78,null,null,null,null,0]
[null,null,null,null,"",79,null,null,null,null,0,"",79,null,null,null,null,0]
[null,null,null,null,"",80,null,null,null,null,0,"",80,null,null,null,null,0]
[null,null,null,null,"",81,null,null,null,null,0,"",81,null,null,null,null,0]
[null,null,null,null,"",82,null,null,null,null,0,"",82,null,null,null,null,0]
[null,null,null,null,"",83,null,null,null,null,0,"",83,null,null,null,null,0]
[null,null,null,null,"",84,null,null,null,null,0,"",84,null,null,null,null,0]
[null,null,null,null,"",85,null,null,null,null,0,"",85,null,null,null,null,0]
[null,null,null,null,"",86,null,null,null,null,0,"",86,null,null,null,null,0]
[null,null,null,null,"",87,null,null,null,null,0,"",87,null,null,null,null,0]
[null,null,null,null,"",88,null,null,null,null,0,"",88,null,null,null,null,0]
[null,null,null,null,"",89,null,null,null,null,0,"",89,null,null,null,null,0]
[null,null,null,null,"",90,null,null,null,null,0,"",90,null,null,null,null,0]
[null,null,null,null,"",91,null,null,null,null,0,"",91,null,null,null,null,0]
[null,null,null,null,"",92,null,null,null,null,0,"",92,null,null,null,null,0]
[null,null,null,null,"",93,null,null,null,null,0,"",93,null,null,null,null,0]
[null,null,null,null,"",94,null,null,null,null,0,"",94,null,null,null,null,0]
[null,null,null,null,"",95,null,null,null,null,0,"",95,null,null,null,null,0]
[null,null,null,null,"",96,null,null,null,null,0,"",96,null,null,null,null,0]
[null,null,null,null,"",97,null,null,null,null,0,"",97,null,null,null,null,0]
[null,null,null,null,"",98,null,null,null,null,0,"",98,null,null,null,null,0]
[null,null,null,null,"",99,null,null,null,null,{"$f":"IF(J105=\"\",I105,I105*J105)","v":0},"",99,null,null,null,null,{"$f":"IF(Q105=\"\",P105,P105*Q105)","v":0}]
[null,null,null,null,"",100,null,null,null,null,{"$f":"IF(J106=\"\",I106,I106*J106)","v":0},"",100,null,null,null,null,{"$f":"IF(Q106=\"\",P106,P106*Q106)","v":0}]

{"sheet":"22","index":22,"n_rows":106,"n_cols":20,"rows_kept":106,"cut":false,"hidden":false,"merged":[[1,5,1,6],[1,12,1,13],[3,5,5,6],[3,12,5,13]]}
["「表１_対象物質一覧」に戻る"]
["事業所名",null,null,null,null,"輸入量",null,null,null,null,null,null,"払出量"]
["新規化学物質の名称",null,null,null,null,"Ｎｏ",{"$f":"_xlfn.IFS(F2=\"製造量\",\"製造ロット\",F2=\"輸入量\",\"輸入ロット\",F2=\"製造・輸入量\",\"製造・輸入ロット\")","v":"輸入ロット"},{"$f":"_xlfn.IFS(F2=\"製造量\",\"製造日　（最終製品日）\",F2=\"輸入量\",\"輸入許可日\",F2=\"製造・輸入量\",\"製造日・輸入許可日\")","v":"輸入許可日"},{"$f":"_xlfn.IFS(F2=\"製造量\",\"製造数量（kg)\",F2=\"輸入量\",\"輸入数量（kg)\",F2=\"製造・輸入量\",\"製造・輸入数量（kg)\")","v":"輸入数量（kg)"},"含有率（％）","含有率換算数量(kg)",null,"Ｎｏ","ロット","払出日","払出数量（kg)","含有率（％）","含有率換算数量(kg)","用途番号","変更前ロット"]
["略称",null,null,null,null,"実績数量合計",null,{"$f":"B6","v":"2024年度"},{"$f":"SUMIF($E$7:$E106,$H$4,$I$7:$I106)","v":0},"-",{"$f":"SUMIF($E$7:$E106,$H$4,$K$7:$K106)","v":0},null,"払出数量合計",null,{"$f":"B6","v":"2024年度"},{"$f":"SUMIF($L$7:$L95,$O$4,$P$7:$P106)","v":0},"-",{"$f":"SUMIF($L$7:$L106,$H$4,$R$7:$R106)","v":0},"-","-"]
[null,null,null,null,null,null,null,{"$f":"C6","v":"2025年度"},{"$f":"SUMIF($E$7:$E106,$H$5,$I$7:$I106)","v":0},"-",{"$f":"SUMIF($E$7:$E106,$H$5,$K$7:$K106)","v":0},null,null,null,{"$f":"C6","v":"2025年度"},{"$f":"SUMIF($L$7:$L95,$O$5,$P$7:$P106)","v":0},"-",{"$f":"SUMIF($E$7:$E106,$H$5,$K$7:$K106)","v":0},"-","-"]
[null,{"$f":"'1'!B6","v":"2024年度"},{"$f":"'1'!C6","v":"2025年度"},{"$f":"'1'!D6","v":"2026年度"},null,null,null,{"$f":"D6","v":"2026年度"},{"$f":"SUMIF($E$7:$E106,$H$6,$I$7:$I106)","v":0},"-",{"$f":"SUMIF($E$7:$E106,$H$6,$K$7:$K106)","v":0},null,null,null,{"$f":"D6","v":"2026年度"},{"$f":"SUMIF($L$7:$L95,$O$6,$P$7:$P106)","v":0},"-",{"$f":"SUMIF($E$7:$E106,$H$6,$K$7:$K106)","v":0},"-","-"]
["確認年月日",null,null,null,{"$f":"IF(H7=\"\", \"\",YEAR(H7) - IF(MONTH(H7)<4, 1, 0) & \"年度\")","v":""},1,null,null,null,null,{"$f":"IF(J7=\"\",I7,I7*J7)","v":0},{"$f":"IF(O7=\"\", \"\",YEAR(O7) - IF(MONTH(O7)<4, 1, 0) & \"年度\")","v":""},1,null,null,null,null,{"$f":"IF(Q7=\"\",P7,P7*Q7)","v":0}]
["確認数量（kg）",null,null,null,"",2,null,null,null,null,{"$f":"IF(J8=\"\",I8,I8*J8)","v":0},"",2,null,null,null,null,{"$f":"IF(Q8=\"\",P8,P8*Q8)","v":0}]
["申出番号（受付コード下4桁）",null,null,null,"",3,null,null,null,null,{"$f":"IF(J9=\"\",I9,I9*J9)","v":0},"",3,null,null,null,null,{"$f":"IF(Q9=\"\",P9,P9*Q9)","v":0}]
["受付コード",{"$f":"IF(B$9=\"\",\"\",表１_対象物質一覧!$C$4&(MID($B$6,3,2)&B$9))","v":""},{"$f":"IF(C$9=\"\",\"\",表１_対象物質一覧!$C$4&(MID($C$6, 3, 2))&C$9)","v":""},{"$f":"IF(D$9=\"\",\"\",表１_対象物質一覧!$C$4&(MID($D$6, 3, 2))&D$9)","v":""},"",4,null,null,null,null,0,"",4,null,null,null,null,{"$f":"IF(Q10=\"\",P10,P10*Q10)","v":0}]
["用途番号",null,null,null,"",5,null,null,null,null,0,"",5,null,null,null,null,0]
[null,null,null,null,"",6,null,null,null,null,0,"",6,null,null,null,null,0]
[null,null,null,null,"",7,null,null,null,null,0,"",7,null,null,null,null,0]
[null,null,null,null,"",8,null,null,null,null,0,"",8,null,null,null,null,0]
[null,null,null,null,"",9,null,null,null,null,0,"",9,null,null,null,null,0]
[null,null,null,null,"",10,null,null,null,null,0,"",10,null,null,null,null,0]
["申出書に記載の「前年度の実績数量」",null,null,null,"",11,null,null,null,null,0,"",11,null,null,null,null,0]
["実績数量",{"$f":"$K$4","v":0},{"$f":"$K$5","v":0},{"$f":"$K$6","v":0},"",12,null,null,null,null,0,"",12,null,null,null,null,0]
["確認を受けている中間物等の分類",null,null,null,"",13,null,null,null,null,0,"",13,null,null,null,null,0]
["用途追加手続を省略して追加した用途の用途番号",null,null,null,"",14,null,null,null,null,0,"",14,null,null,null,null,0]
["備考（３年連続して実積数量がゼロの場合はその理由）",null,null,null,"",15,null,null,null,null,0,"",15,null,null,null,null,0]
["用途証明書なしであって確認年月日が複数ある場合の",null,null,null,"",16,null,null,null,null,0,"",16,null,null,null,null,0]
["確認年月日（上段）及び確認数量(kg)（下段）",null,null,null,"",17,null,null,null,null,0,"",17,null,null,null,null,0]
[null,null,null,null,"",18,null,null,null,null,0,"",18,null,null,null,null,0]
[null,null,null,null,"",19,null,null,null,null,0,"",19,null,null,null,null,0]
[null,null,null,null,"",20,null,null,null,null,0,"",20,null,null,null,null,0]
[null,null,null,null,"",21,null,null,null,null,0,"",21,null,null,null,null,0]
[null,null,null,null,"",22,null,null,null,null,0,"",22,null,null,null,null,0]
[null,null,null,null,"",23,null,null,null,null,0,"",23,null,null,null,null,0]
[null,null,null,null,"",24,null,null,null,null,0,"",24,null,null,null,null,0]
[null,null,null,null,"",25,null,null,null,null,0,"",25,null,null,null,null,0]
[null,null,null,null,"",26,null,null,null,null,0,"",26,null,null,null,null,0]
[null,null,null,null,"",27,null,null,null,null,0,"",27,null,null,null,null,0]
[null,null,null,null,"",28,null,null,null,null,0,"",28,null,null,null,null,0]
[null,null,null,null,"",29,null,null,null,null,0,"",29,null,null,null,null,0]
[null,null,null,null,"",30,null,null,null,null,0,"",30,null,null,null,null,0]
[null,null,null,null,"",31,null,null,null,null,0,"",31,null,null,null,null,0]
[null,null,null,null,"",32,null,null,null,null,0,"",32,null,null,null,null,0]
[null,null,null,null,{"$f":"IF(H39=\"\", \"\",YEAR(H39) - IF(MONTH(H39)<4, 1, 0) & \"年度\")","v":""},33,null,null,null,null,0,{"$f":"IF(O39=\"\", \"\",YEAR(O39) - IF(MONTH(O39)<4, 1, 0) & \"年度\")","v":""},33,null,null,null,null,0]
[null,null,null,null,"",34,null,null,null,null,0,"",34,null,null,null,null,0]
[null,null,null,null,"",35,null,null,null,null,0,"",35,null,null,null,null,0]
["同一年度で同じ化学物質を複数申請している場合は、その確認を受けた事項",null,null,null,"",36,null,null,null,null,0,"",36,null,null,null,null,0]
[null,{"$f":"$B$6","v":"2024年度"},{"$f":"$C$6","v":"2025年度"},{"$f":"$D$6","v":"2026年度"},"",37,null,null,null,null,0,"",37,null,null,null,null,0]
["複数手続きの種類",null,null,null,"",38,null,null,null,null,0,"",38,null,null,null,null,0]
["確認年月日",null,null,null,"",39,null,null,null,null,0,"",39,null,null,null,null,0]
["確認数量（kg）",null,null,null,"",40,null,null,null,null,0,"",40,null,null,null,null,0]
["申出番号（受付コード下4桁）",null,null,null,"",41,null,null,null,null,0,"",41,null,null,null,null,0]
["受付コード",{"$f":"IF(B$47=\"\",\"\",表１_対象物質一覧!$C$4&(MID($B$6,3,2)&B$47))","v":""},{"$f":"IF(C$47=\"\",\"\",表１_対象物質一覧!$C$4&(MID($C$6, 3, 2))&C$47)","v":""},{"$f":"IF(D$47=\"\",\"\",表１_対象物質一覧!$C$4&(MID($D$6, 3, 2))&D$47)","v":""},"",42,null,null,null,null,0,"",42,null,null,null,null,0]
["用途番号",null,null,null,"",43,null,null,null,null,0,"",43,null,null,null,null,0]
[null,null,null,null,"",44,null,null,null,null,0,"",44,null,null,null,null,0]
[null,null,null,null,"",45,null,null,null,null,0,"",45,null,null,null,null,0]
[null,null,null,null,"",46,null,null,null,null,0,"",46,null,null,null,null,0]
[null,null,null,null,"",47,null,null,null,null,0,"",47,null,null,null,null,0]
[null,null,null,null,"",48,null,null,null,null,0,"",48,null,null,null,null,0]
[null,null,null,null,"",49,null,null,null,null,0,"",49,null,null,null,null,0]
[null,{"$f":"$B$6","v":"2024年度"},{"$f":"$C$6","v":"2025年度"},{"$f":"$D$6","v":"2026年度"},"",50,null,null,null,null,0,"",50,null,null,null,null,0]
["複数手続きの種類",null,null,null,"",51,null,null,null,null,0,"",51,null,null,null,null,0]
["確認年月日",null,null,null,"",52,null,null,null,null,0,"",52,null,null,null,null,0]
["確認数量（kg）",null,null,null,"",53,null,null,null,null,0,"",53,null,null,null,null,0]
["申出番号（受付コード下4桁）",null,null,null,"",54,null,null,null,null,0,"",54,null,null,null,null,0]
["受付コード",{"$f":"IF(B$60=\"\",\"\",表１_対象物質一覧!$C$4&(MID($B$6,3,2)&B$60))","v":""},{"$f":"IF(C$60=\"\",\"\",表１_対象物質一覧!$C$4&(MID($C$6, 3, 2))&C$60)","v":""},{"$f":"IF(D$60=\"\",\"\",表１_対象物質一覧!$C$4&(MID($D$6, 3, 2))&D$60)","v":""},"",55,null,null,null,null,0,"",55,null,null,null,null,0]
["用途番号",null,null,null,"",56,null,null,null,null,0,"",56,null,null,null,null,0]
[null,null,null,null,"",57,null,null,null,null,0,"",57,null,null,null,null,0]
[null,null,null,null,"",58,null,null,null,null,0,"",58,null,null,null,null,0]
[null,null,null,null,"",59,null,null,null,null,0,"",59,null,null,null,null,0]
[null,null,null,null,"",60,null,null,null,null,0,"",60,null,null,null,null,0]
[null,null,null,null,"",61,null,null,null,null,0,"",61,null,null,null,null,0]
[null,null,null,null,"",62,null,null,null,null,0,"",62,null,null,null,null,0]
[null,{"$f":"$B$6","v":"2024年度"},{"$f":"$C$6","v":"2025年度"},{"$f":"$D$6","v":"2026年度"},"",63,null,null,null,null,0,"",63,null,null,null,null,0]
["複数手続きの種類",null,null,null,"",64,null,null,null,null,0,"",64,null,null,null,null,0]
["確認年月日",null,null,null,{"$f":"IF(H71=\"\", \"\",YEAR(H71) - IF(MONTH(H71)<4, 1, 0) & \"年度\")","v":""},65,null,null,null,null,0,{"$f":"IF(O71=\"\", \"\",YEAR(O71) - IF(MONTH(O71)<4, 1, 0) & \"年度\")","v":""},65,null,null,null,null,0]
["確認数量（kg）",null,null,null,"",66,null,null,null,null,0,"",66,null,null,null,null,0]
["申出番号（受付コード下4桁）",null,null,null,"",67,null,null,null,null,{"$f":"IF(J73=\"\",I73,I73*J73)","v":0},"",67,null,null,null,null,{"$f":"IF(Q73=\"\",P73,P73*Q73)","v":0}]
["受付コード",{"$f":"IF(B$73=\"\",\"\",表１_対象物質一覧!$C$4&(MID($B$6,3,2)&B$73))","v":""},{"$f":"IF(C$73=\"\",\"\",表１_対象物質一覧!$C$4&(MID($C$6, 3, 2))&C$73)","v":""},{"$f":"IF(D$73=\"\",\"\",表１_対象物質一覧!$C$4&(MID($D$6, 3, 2))&D$73)","v":""},"",68,null,null,null,null,0,"",68,null,null,null,null,0]
["用途番号",null,null,null,"",69,null,null,null,null,0,"",69,null,null,null,null,0]
[null,null,null,null,"",70,null,null,null,null,0,"",70,null,null,null,null,0]
[null,null,null,null,"",71,null,null,null,null,0,"",71,null,null,null,null,0]
[null,null,null,null,"",72,null,null,null,null,0,"",72,null,null,null,null,0]
[null,null,null,null,"",73,null,null,null,null,0,"",73,null,null,null,null,0]
[null,null,null,null,"",74,null,null,null,null,0,"",74,null,null,null,null,0]
[null,null,null,null,"",75,null,null,null,null,0,"",75,null,null,null,null,0]
["備考",null,null,null,"",76,null,null,null,null,0,"",76,null,null,null,null,0]
[null,null,null,null,"",77,null,null,null,null,0,"",77,null,null,null,null,0]
[null,null,null,null,"",78,null,null,null,null,0,"",78,null,null,null,null,0]
[null,null,null,null,"",79,null,null,null,null,0,"",79,null,null,null,null,0]
[null,null,null,null,"",80,null,null,null,null,0,"",80,null,null,null,null,0]
[null,null,null,null,"",81,null,null,null,null,0,"",81,null,null,null,null,0]
[null,null,null,null,"",82,null,null,null,null,0,"",82,null,null,null,null,0]
[null,null,null,null,"",83,null,null,null,null,0,"",83,null,null,null,null,0]
[null,null,null,null,"",84,null,null,null,null,0,"",84,null,null,null,null,0]
[null,null,null,null,"",85,null,null,null,null,0,"",85,null,null,null,null,0]
[null,null,null,null,"",86,null,null,null,null,0,"",86,null,null,null,null,0]
[null,null,null,null,"",87,null,null,null,null,0,"",87,null,null,null,null,0]
[null,null,null,null,"",88,null,null,null,null,0,"",88,null,null,null,null,0]
[null,null,null,null,"",89,null,null,null,null,0,"",89,null,null,null,null,0]
[null,null,null,null,"",90,null,null,null,null,0,"",90,null,null,null,null,0]
[null,null,null,null,"",91,null,null,null,null,0,"",91,null,null,null,null,0]
[null,null,null,null,"",92,null,null,null,null,0,"",92,null,null,null,null,0]
[null,null,null,null,"",93,null,null,null,null,0,"",93,null,null,null,null,0]
[null,null,null,null,"",94,null,null,null,null,0,"",94,null,null,null,null,0]
[null,null,null,null,"",95,null,null,null,null,0,"",95,null,null,null,null,0]
[null,null,null,null,"",96,null,null,null,null,0,"",96,null,null,null,null,0]
[null,null,null,null,"",97,null,null,null,null,0,"",97,null,null,null,null,0]
[null,null,null,null,"",98,null,null,null,null,0,"",98,null,null,null,null,0]
[null,null,null,null,"",99,null,null,null,null,{"$f":"IF(J105=\"\",I105,I105*J105)","v":0},"",99,null,null,null,null,{"$f":"IF(Q105=\"\",P105,P105*Q105)","v":0}]
[null,null,null,null,"",100,null,null,null,null,{"$f":"IF(J106=\"\",I106,I106*J106)","v":0},"",100,null,null,null,null,{"$f":"IF(Q106=\"\",P106,P106*Q106)","v":0}]

{"sheet":"23","index":23,"n_rows":106,"n_cols":20,"rows_kept":106,"cut":false,"hidden":false,"merged":[[1,5,1,6],[1,12,1,13],[3,5,5,6],[3,12,5,13]]}
["「表１_対象物質一覧」に戻る"]
["事業所名",null,null,null,null,"輸入量",null,null,null,null,null,null,"払出量"]
["新規化学物質の名称",null,null,null,null,"Ｎｏ",{"$f":"_xlfn.IFS(F2=\"製造量\",\"製造ロット\",F2=\"輸入量\",\"輸入ロット\",F2=\"製造・輸入量\",\"製造・輸入ロット\")","v":"輸入ロット"},{"$f":"_xlfn.IFS(F2=\"製造量\",\"製造日　（最終製品日）\",F2=\"輸入量\",\"輸入許可日\",F2=\"製造・輸入量\",\"製造日・輸入許可日\")","v":"輸入許可日"},{"$f":"_xlfn.IFS(F2=\"製造量\",\"製造数量（kg)\",F2=\"輸入量\",\"輸入数量（kg)\",F2=\"製造・輸入量\",\"製造・輸入数量（kg)\")","v":"輸入数量（kg)"},"含有率（％）","含有率換算数量(kg)",null,"Ｎｏ","ロット","払出日","払出数量（kg)","含有率（％）","含有率換算数量(kg)","用途番号","変更前ロット"]
["略称",null,null,null,null,"実績数量合計",null,{"$f":"B6","v":"2024年度"},{"$f":"SUMIF($E$7:$E106,$H$4,$I$7:$I106)","v":0},"-",{"$f":"SUMIF($E$7:$E106,$H$4,$K$7:$K106)","v":0},null,"払出数量合計",null,{"$f":"B6","v":"2024年度"},{"$f":"SUMIF($L$7:$L95,$O$4,$P$7:$P106)","v":0},"-",{"$f":"SUMIF($L$7:$L106,$H$4,$R$7:$R106)","v":0},"-","-"]
[null,null,null,null,null,null,null,{"$f":"C6","v":"2025年度"},{"$f":"SUMIF($E$7:$E106,$H$5,$I$7:$I106)","v":0},"-",{"$f":"SUMIF($E$7:$E106,$H$5,$K$7:$K106)","v":0},null,null,null,{"$f":"C6","v":"2025年度"},{"$f":"SUMIF($L$7:$L95,$O$5,$P$7:$P106)","v":0},"-",{"$f":"SUMIF($E$7:$E106,$H$5,$K$7:$K106)","v":0},"-","-"]
[null,{"$f":"'1'!B6","v":"2024年度"},{"$f":"'1'!C6","v":"2025年度"},{"$f":"'1'!D6","v":"2026年度"},null,null,null,{"$f":"D6","v":"2026年度"},{"$f":"SUMIF($E$7:$E106,$H$6,$I$7:$I106)","v":0},"-",{"$f":"SUMIF($E$7:$E106,$H$6,$K$7:$K106)","v":0},null,null,null,{"$f":"D6","v":"2026年度"},{"$f":"SUMIF($L$7:$L95,$O$6,$P$7:$P106)","v":0},"-",{"$f":"SUMIF($E$7:$E106,$H$6,$K$7:$K106)","v":0},"-","-"]
["確認年月日",null,null,null,{"$f":"IF(H7=\"\", \"\",YEAR(H7) - IF(MONTH(H7)<4, 1, 0) & \"年度\")","v":""},1,null,null,null,null,{"$f":"IF(J7=\"\",I7,I7*J7)","v":0},{"$f":"IF(O7=\"\", \"\",YEAR(O7) - IF(MONTH(O7)<4, 1, 0) & \"年度\")","v":""},1,null,null,null,null,{"$f":"IF(Q7=\"\",P7,P7*Q7)","v":0}]
["確認数量（kg）",null,null,null,"",2,null,null,null,null,{"$f":"IF(J8=\"\",I8,I8*J8)","v":0},"",2,null,null,null,null,{"$f":"IF(Q8=\"\",P8,P8*Q8)","v":0}]
["申出番号（受付コード下4桁）",null,null,null,"",3,null,null,null,null,{"$f":"IF(J9=\"\",I9,I9*J9)","v":0},"",3,null,null,null,null,{"$f":"IF(Q9=\"\",P9,P9*Q9)","v":0}]
["受付コード",{"$f":"IF(B$9=\"\",\"\",表１_対象物質一覧!$C$4&(MID($B$6,3,2)&B$9))","v":""},{"$f":"IF(C$9=\"\",\"\",表１_対象物質一覧!$C$4&(MID($C$6, 3, 2))&C$9)","v":""},{"$f":"IF(D$9=\"\",\"\",表１_対象物質一覧!$C$4&(MID($D$6, 3, 2))&D$9)","v":""},"",4,null,null,null,null,0,"",4,null,null,null,null,{"$f":"IF(Q10=\"\",P10,P10*Q10)","v":0}]
["用途番号",null,null,null,"",5,null,null,null,null,0,"",5,null,null,null,null,0]
[null,null,null,null,"",6,null,null,null,null,0,"",6,null,null,null,null,0]
[null,null,null,null,"",7,null,null,null,null,0,"",7,null,null,null,null,0]
[null,null,null,null,"",8,null,null,null,null,0,"",8,null,null,null,null,0]
[null,null,null,null,"",9,null,null,null,null,0,"",9,null,null,null,null,0]
[null,null,null,null,"",10,null,null,null,null,0,"",10,null,null,null,null,0]
["申出書に記載の「前年度の実績数量」",null,null,null,"",11,null,null,null,null,0,"",11,null,null,null,null,0]
["実績数量",{"$f":"$K$4","v":0},{"$f":"$K$5","v":0},{"$f":"$K$6","v":0},"",12,null,null,null,null,0,"",12,null,null,null,null,0]
["確認を受けている中間物等の分類",null,null,null,"",13,null,null,null,null,0,"",13,null,null,null,null,0]
["用途追加手続を省略して追加した用途の用途番号",null,null,null,"",14,null,null,null,null,0,"",14,null,null,null,null,0]
["備考（３年連続して実積数量がゼロの場合はその理由）",null,null,null,"",15,null,null,null,null,0,"",15,null,null,null,null,0]
["用途証明書なしであって確認年月日が複数ある場合の",null,null,null,"",16,null,null,null,null,0,"",16,null,null,null,null,0]
["確認年月日（上段）及び確認数量(kg)（下段）",null,null,null,"",17,null,null,null,null,0,"",17,null,null,null,null,0]
[null,null,null,null,"",18,null,null,null,null,0,"",18,null,null,null,null,0]
[null,null,null,null,"",19,null,null,null,null,0,"",19,null,null,null,null,0]
[null,null,null,null,"",20,null,null,null,null,0,"",20,null,null,null,null,0]
[null,null,null,null,"",21,null,null,null,null,0,"",21,null,null,null,null,0]
[null,null,null,null,"",22,null,null,null,null,0,"",22,null,null,null,null,0]
[null,null,null,null,"",23,null,null,null,null,0,"",23,null,null,null,null,0]
[null,null,null,null,"",24,null,null,null,null,0,"",24,null,null,null,null,0]
[null,null,null,null,"",25,null,null,null,null,0,"",25,null,null,null,null,0]
[null,null,null,null,"",26,null,null,null,null,0,"",26,null,null,null,null,0]
[null,null,null,null,"",27,null,null,null,null,0,"",27,null,null,null,null,0]
[null,null,null,null,"",28,null,null,null,null,0,"",28,null,null,null,null,0]
[null,null,null,null,"",29,null,null,null,null,0,"",29,null,null,null,null,0]
[null,null,null,null,"",30,null,null,null,null,0,"",30,null,null,null,null,0]
[null,null,null,null,"",31,null,null,null,null,0,"",31,null,null,null,null,0]
[null,null,null,null,"",32,null,null,null,null,0,"",32,null,null,null,null,0]
[null,null,null,null,{"$f":"IF(H39=\"\", \"\",YEAR(H39) - IF(MONTH(H39)<4, 1, 0) & \"年度\")","v":""},33,null,null,null,null,0,{"$f":"IF(O39=\"\", \"\",YEAR(O39) - IF(MONTH(O39)<4, 1, 0) & \"年度\")","v":""},33,null,null,null,null,0]
[null,null,null,null,"",34,null,null,null,null,0,"",34,null,null,null,null,0]
[null,null,null,null,"",35,null,null,null,null,0,"",35,null,null,null,null,0]
["同一年度で同じ化学物質を複数申請している場合は、その確認を受けた事項",null,null,null,"",36,null,null,null,null,0,"",36,null,null,null,null,0]
[null,{"$f":"$B$6","v":"2024年度"},{"$f":"$C$6","v":"2025年度"},{"$f":"$D$6","v":"2026年度"},"",37,null,null,null,null,0,"",37,null,null,null,null,0]
["複数手続きの種類",null,null,null,"",38,null,null,null,null,0,"",38,null,null,null,null,0]
["確認年月日",null,null,null,"",39,null,null,null,null,0,"",39,null,null,null,null,0]
["確認数量（kg）",null,null,null,"",40,null,null,null,null,0,"",40,null,null,null,null,0]
["申出番号（受付コード下4桁）",null,null,null,"",41,null,null,null,null,0,"",41,null,null,null,null,0]
["受付コード",{"$f":"IF(B$47=\"\",\"\",表１_対象物質一覧!$C$4&(MID($B$6,3,2)&B$47))","v":""},{"$f":"IF(C$47=\"\",\"\",表１_対象物質一覧!$C$4&(MID($C$6, 3, 2))&C$47)","v":""},{"$f":"IF(D$47=\"\",\"\",表１_対象物質一覧!$C$4&(MID($D$6, 3, 2))&D$47)","v":""},"",42,null,null,null,null,0,"",42,null,null,null,null,0]
["用途番号",null,null,null,"",43,null,null,null,null,0,"",43,null,null,null,null,0]
[null,null,null,null,"",44,null,null,null,null,0,"",44,null,null,null,null,0]
[null,null,null,null,"",45,null,null,null,null,0,"",45,null,null,null,null,0]
[null,null,null,null,"",46,null,null,null,null,0,"",46,null,null,null,null,0]
[null,null,null,null,"",47,null,null,null,null,0,"",47,null,null,null,null,0]
[null,null,null,null,"",48,null,null,null,null,0,"",48,null,null,null,null,0]
[null,null,null,null,"",49,null,null,null,null,0,"",49,null,null,null,null,0]
[null,{"$f":"$B$6","v":"2024年度"},{"$f":"$C$6","v":"2025年度"},{"$f":"$D$6","v":"2026年度"},"",50,null,null,null,null,0,"",50,null,null,null,null,0]
["複数手続きの種類",null,null,null,"",51,null,null,null,null,0,"",51,null,null,null,null,0]
["確認年月日",null,null,null,"",52,null,null,null,null,0,"",52,null,null,null,null,0]
["確認数量（kg）",null,null,null,"",53,null,null,null,null,0,"",53,null,null,null,null,0]
["申出番号（受付コード下4桁）",null,null,null,"",54,null,null,null,null,0,"",54,null,null,null,null,0]
["受付コード",{"$f":"IF(B$60=\"\",\"\",表１_対象物質一覧!$C$4&(MID($B$6,3,2)&B$60))","v":""},{"$f":"IF(C$60=\"\",\"\",表１_対象物質一覧!$C$4&(MID($C$6, 3, 2))&C$60)","v":""},{"$f":"IF(D$60=\"\",\"\",表１_対象物質一覧!$C$4&(MID($D$6, 3, 2))&D$60)","v":""},"",55,null,null,null,null,0,"",55,null,null,null,null,0]
["用途番号",null,null,null,"",56,null,null,null,null,0,"",56,null,null,null,null,0]
[null,null,null,null,"",57,null,null,null,null,0,"",57,null,null,null,null,0]
[null,null,null,null,"",58,null,null,null,null,0,"",58,null,null,null,null,0]
[null,null,null,null,"",59,null,null,null,null,0,"",59,null,null,null,null,0]
[null,null,null,null,"",60,null,null,null,null,0,"",60,null,null,null,null,0]
[null,null,null,null,"",61,null,null,null,null,0,"",61,null,null,null,null,0]
[null,null,null,null,"",62,null,null,null,null,0,"",62,null,null,null,null,0]
[null,{"$f":"$B$6","v":"2024年度"},{"$f":"$C$6","v":"2025年度"},{"$f":"$D$6","v":"2026年度"},"",63,null,null,null,null,0,"",63,null,null,null,null,0]
["複数手続きの種類",null,null,null,"",64,null,null,null,null,0,"",64,null,null,null,null,0]
["確認年月日",null,null,null,{"$f":"IF(H71=\"\", \"\",YEAR(H71) - IF(MONTH(H71)<4, 1, 0) & \"年度\")","v":""},65,null,null,null,null,0,{"$f":"IF(O71=\"\", \"\",YEAR(O71) - IF(MONTH(O71)<4, 1, 0) & \"年度\")","v":""},65,null,null,null,null,0]
["確認数量（kg）",null,null,null,"",66,null,null,null,null,0,"",66,null,null,null,null,0]
["申出番号（受付コード下4桁）",null,null,null,"",67,null,null,null,null,{"$f":"IF(J73=\"\",I73,I73*J73)","v":0},"",67,null,null,null,null,{"$f":"IF(Q73=\"\",P73,P73*Q73)","v":0}]
["受付コード",{"$f":"IF(B$73=\"\",\"\",表１_対象物質一覧!$C$4&(MID($B$6,3,2)&B$73))","v":""},{"$f":"IF(C$73=\"\",\"\",表１_対象物質一覧!$C$4&(MID($C$6, 3, 2))&C$73)","v":""},{"$f":"IF(D$73=\"\",\"\",表１_対象物質一覧!$C$4&(MID($D$6, 3, 2))&D$73)","v":""},"",68,null,null,null,null,0,"",68,null,null,null,null,0]
["用途番号",null,null,null,"",69,null,null,null,null,0,"",69,null,null,null,null,0]
[null,null,null,null,"",70,null,null,null,null,0,"",70,null,null,null,null,0]
[null,null,null,null,"",71,null,null,null,null,0,"",71,null,null,null,null,0]
[null,null,null,null,"",72,null,null,null,null,0,"",72,null,null,null,null,0]
[null,null,null,null,"",73,null,null,null,null,0,"",73,null,null,null,null,0]
[null,null,null,null,"",74,null,null,null,null,0,"",74,null,null,null,null,0]
[null,null,null,null,"",75,null,null,null,null,0,"",75,null,null,null,null,0]
["備考",null,null,null,"",76,null,null,null,null,0,"",76,null,null,null,null,0]
[null,null,null,null,"",77,null,null,null,null,0,"",77,null,null,null,null,0]
[null,null,null,null,"",78,null,null,null,null,0,"",78,null,null,null,null,0]
[null,null,null,null,"",79,null,null,null,null,0,"",79,null,null,null,null,0]
[null,null,null,null,"",80,null,null,null,null,0,"",80,null,null,null,null,0]
[null,null,null,null,"",81,null,null,null,null,0,"",81,null,null,null,null,0]
[null,null,null,null,"",82,null,null,null,null,0,"",82,null,null,null,null,0]
[null,null,null,null,"",83,null,null,null,null,0,"",83,null,null,null,null,0]
[null,null,null,null,"",84,null,null,null,null,0,"",84,null,null,null,null,0]
[null,null,null,null,"",85,null,null,null,null,0,"",85,null,null,null,null,0]
[null,null,null,null,"",86,null,null,null,null,0,"",86,null,null,null,null,0]
[null,null,null,null,"",87,null,null,null,null,0,"",87,null,null,null,null,0]
[null,null,null,null,"",88,null,null,null,null,0,"",88,null,null,null,null,0]
[null,null,null,null,"",89,null,null,null,null,0,"",89,null,null,null,null,0]
[null,null,null,null,"",90,null,null,null,null,0,"",90,null,null,null,null,0]
[null,null,null,null,"",91,null,null,null,null,0,"",91,null,null,null,null,0]
[null,null,null,null,"",92,null,null,null,null,0,"",92,null,null,null,null,0]
[null,null,null,null,"",93,null,null,null,null,0,"",93,null,null,null,null,0]
[null,null,null,null,"",94,null,null,null,null,0,"",94,null,null,null,null,0]
[null,null,null,null,"",95,null,null,null,null,0,"",95,null,null,null,null,0]
[null,null,null,null,"",96,null,null,null,null,0,"",96,null,null,null,null,0]
[null,null,null,null,"",97,null,null,null,null,0,"",97,null,null,null,null,0]
[null,null,null,null,"",98,null,null,null,null,0,"",98,null,null,null,null,0]
[null,null,null,null,"",99,null,null,null,null,{"$f":"IF(J105=\"\",I105,I105*J105)","v":0},"",99,null,null,null,null,{"$f":"IF(Q105=\"\",P105,P105*Q105)","v":0}]
[null,null,null,null,"",100,null,null,null,null,{"$f":"IF(J106=\"\",I106,I106*J106)","v":0},"",100,null,null,null,null,{"$f":"IF(Q106=\"\",P106,P106*Q106)","v":0}]

{"sheet":"24","index":24,"n_rows":106,"n_cols":20,"rows_kept":106,"cut":false,"hidden":false,"merged":[[1,5,1,6],[1,12,1,13],[3,5,5,6],[3,12,5,13]]}
["「表１_対象物質一覧」に戻る"]
["事業所名",null,null,null,null,"輸入量",null,null,null,null,null,null,"払出量"]
["新規化学物質の名称",null,null,null,null,"Ｎｏ",{"$f":"_xlfn.IFS(F2=\"製造量\",\"製造ロット\",F2=\"輸入量\",\"輸入ロット\",F2=\"製造・輸入量\",\"製造・輸入ロット\")","v":"輸入ロット"},{"$f":"_xlfn.IFS(F2=\"製造量\",\"製造日　（最終製品日）\",F2=\"輸入量\",\"輸入許可日\",F2=\"製造・輸入量\",\"製造日・輸入許可日\")","v":"輸入許可日"},{"$f":"_xlfn.IFS(F2=\"製造量\",\"製造数量（kg)\",F2=\"輸入量\",\"輸入数量（kg)\",F2=\"製造・輸入量\",\"製造・輸入数量（kg)\")","v":"輸入数量（kg)"},"含有率（％）","含有率換算数量(kg)",null,"Ｎｏ","ロット","払出日","払出数量（kg)","含有率（％）","含有率換算数量(kg)","用途番号","変更前ロット"]
["略称",null,null,null,null,"実績数量合計",null,{"$f":"B6","v":"2024年度"},{"$f":"SUMIF($E$7:$E106,$H$4,$I$7:$I106)","v":0},"-",{"$f":"SUMIF($E$7:$E106,$H$4,$K$7:$K106)","v":0},null,"払出数量合計",null,{"$f":"B6","v":"2024年度"},{"$f":"SUMIF($L$7:$L95,$O$4,$P$7:$P106)","v":0},"-",{"$f":"SUMIF($L$7:$L106,$H$4,$R$7:$R106)","v":0},"-","-"]
[null,null,null,null,null,null,null,{"$f":"C6","v":"2025年度"},{"$f":"SUMIF($E$7:$E106,$H$5,$I$7:$I106)","v":0},"-",{"$f":"SUMIF($E$7:$E106,$H$5,$K$7:$K106)","v":0},null,null,null,{"$f":"C6","v":"2025年度"},{"$f":"SUMIF($L$7:$L95,$O$5,$P$7:$P106)","v":0},"-",{"$f":"SUMIF($E$7:$E106,$H$5,$K$7:$K106)","v":0},"-","-"]
[null,{"$f":"'1'!B6","v":"2024年度"},{"$f":"'1'!C6","v":"2025年度"},{"$f":"'1'!D6","v":"2026年度"},null,null,null,{"$f":"D6","v":"2026年度"},{"$f":"SUMIF($E$7:$E106,$H$6,$I$7:$I106)","v":0},"-",{"$f":"SUMIF($E$7:$E106,$H$6,$K$7:$K106)","v":0},null,null,null,{"$f":"D6","v":"2026年度"},{"$f":"SUMIF($L$7:$L95,$O$6,$P$7:$P106)","v":0},"-",{"$f":"SUMIF($E$7:$E106,$H$6,$K$7:$K106)","v":0},"-","-"]
["確認年月日",null,null,null,{"$f":"IF(H7=\"\", \"\",YEAR(H7) - IF(MONTH(H7)<4, 1, 0) & \"年度\")","v":""},1,null,null,null,null,{"$f":"IF(J7=\"\",I7,I7*J7)","v":0},{"$f":"IF(O7=\"\", \"\",YEAR(O7) - IF(MONTH(O7)<4, 1, 0) & \"年度\")","v":""},1,null,null,null,null,{"$f":"IF(Q7=\"\",P7,P7*Q7)","v":0}]
["確認数量（kg）",null,null,null,"",2,null,null,null,null,{"$f":"IF(J8=\"\",I8,I8*J8)","v":0},"",2,null,null,null,null,{"$f":"IF(Q8=\"\",P8,P8*Q8)","v":0}]
["申出番号（受付コード下4桁）",null,null,null,"",3,null,null,null,null,{"$f":"IF(J9=\"\",I9,I9*J9)","v":0},"",3,null,null,null,null,{"$f":"IF(Q9=\"\",P9,P9*Q9)","v":0}]
["受付コード",{"$f":"IF(B$9=\"\",\"\",表１_対象物質一覧!$C$4&(MID($B$6,3,2)&B$9))","v":""},{"$f":"IF(C$9=\"\",\"\",表１_対象物質一覧!$C$4&(MID($C$6, 3, 2))&C$9)","v":""},{"$f":"IF(D$9=\"\",\"\",表１_対象物質一覧!$C$4&(MID($D$6, 3, 2))&D$9)","v":""},"",4,null,null,null,null,0,"",4,null,null,null,null,{"$f":"IF(Q10=\"\",P10,P10*Q10)","v":0}]
["用途番号",null,null,null,"",5,null,null,null,null,0,"",5,null,null,null,null,0]
[null,null,null,null,"",6,null,null,null,null,0,"",6,null,null,null,null,0]
[null,null,null,null,"",7,null,null,null,null,0,"",7,null,null,null,null,0]
[null,null,null,null,"",8,null,null,null,null,0,"",8,null,null,null,null,0]
[null,null,null,null,"",9,null,null,null,null,0,"",9,null,null,null,null,0]
[null,null,null,null,"",10,null,null,null,null,0,"",10,null,null,null,null,0]
["申出書に記載の「前年度の実績数量」",null,null,null,"",11,null,null,null,null,0,"",11,null,null,null,null,0]
["実績数量",{"$f":"$K$4","v":0},{"$f":"$K$5","v":0},{"$f":"$K$6","v":0},"",12,null,null,null,null,0,"",12,null,null,null,null,0]
["確認を受けている中間物等の分類",null,null,null,"",13,null,null,null,null,0,"",13,null,null,null,null,0]
["用途追加手続を省略して追加した用途の用途番号",null,null,null,"",14,null,null,null,null,0,"",14,null,null,null,null,0]
["備考（３年連続して実積数量がゼロの場合はその理由）",null,null,null,"",15,null,null,null,null,0,"",15,null,null,null,null,0]
["用途証明書なしであって確認年月日が複数ある場合の",null,null,null,"",16,null,null,null,null,0,"",16,null,null,null,null,0]
["確認年月日（上段）及び確認数量(kg)（下段）",null,null,null,"",17,null,null,null,null,0,"",17,null,null,null,null,0]
[null,null,null,null,"",18,null,null,null,null,0,"",18,null,null,null,null,0]
[null,null,null,null,"",19,null,null,null,null,0,"",19,null,null,null,null,0]
[null,null,null,null,"",20,null,null,null,null,0,"",20,null,null,null,null,0]
[null,null,null,null,"",21,null,null,null,null,0,"",21,null,null,null,null,0]
[null,null,null,null,"",22,null,null,null,null,0,"",22,null,null,null,null,0]
[null,null,null,null,"",23,null,null,null,null,0,"",23,null,null,null,null,0]
[null,null,null,null,"",24,null,null,null,null,0,"",24,null,null,null,null,0]
[null,null,null,null,"",25,null,null,null,null,0,"",25,null,null,null,null,0]
[null,null,null,null,"",26,null,null,null,null,0,"",26,null,null,null,null,0]
[null,null,null,null,"",27,null,null,null,null,0,"",27,null,null,null,null,0]
[null,null,null,null,"",28,null,null,null,null,0,"",28,null,null,null,null,0]
[null,null,null,null,"",29,null,null,null,null,0,"",29,null,null,null,null,0]
[null,null,null,null,"",30,null,null,null,null,0,"",30,null,null,null,null,0]
[null,null,null,null,"",31,null,null,null,null,0,"",31,null,null,null,null,0]
[null,null,null,null,"",32,null,null,null,null,0,"",32,null,null,null,null,0]
[null,null,null,null,{"$f":"IF(H39=\"\", \"\",YEAR(H39) - IF(MONTH(H39)<4, 1, 0) & \"年度\")","v":""},33,null,null,null,null,0,{"$f":"IF(O39=\"\", \"\",YEAR(O39) - IF(MONTH(O39)<4, 1, 0) & \"年度\")","v":""},33,null,null,null,null,0]
[null,null,null,null,"",34,null,null,null,null,0,"",34,null,null,null,null,0]
[null,null,null,null,"",35,null,null,null,null,0,"",35,null,null,null,null,0]
["同一年度で同じ化学物質を複数申請している場合は、その確認を受けた事項",null,null,null,"",36,null,null,null,null,0,"",36,null,null,null,null,0]
[null,{"$f":"$B$6","v":"2024年度"},{"$f":"$C$6","v":"2025年度"},{"$f":"$D$6","v":"2026年度"},"",37,null,null,null,null,0,"",37,null,null,null,null,0]
["複数手続きの種類",null,null,null,"",38,null,null,null,null,0,"",38,null,null,null,null,0]
["確認年月日",null,null,null,"",39,null,null,null,null,0,"",39,null,null,null,null,0]
["確認数量（kg）",null,null,null,"",40,null,null,null,null,0,"",40,null,null,null,null,0]
["申出番号（受付コード下4桁）",null,null,null,"",41,null,null,null,null,0,"",41,null,null,null,null,0]
["受付コード",{"$f":"IF(B$47=\"\",\"\",表１_対象物質一覧!$C$4&(MID($B$6,3,2)&B$47))","v":""},{"$f":"IF(C$47=\"\",\"\",表１_対象物質一覧!$C$4&(MID($C$6, 3, 2))&C$47)","v":""},{"$f":"IF(D$47=\"\",\"\",表１_対象物質一覧!$C$4&(MID($D$6, 3, 2))&D$47)","v":""},"",42,null,null,null,null,0,"",42,null,null,null,null,0]
["用途番号",null,null,null,"",43,null,null,null,null,0,"",43,null,null,null,null,0]
[null,null,null,null,"",44,null,null,null,null,0,"",44,null,null,null,null,0]
[null,null,null,null,"",45,null,null,null,null,0,"",45,null,null,null,null,0]
[null,null,null,null,"",46,null,null,null,null,0,"",46,null,null,null,null,0]
[null,null,null,null,"",47,null,null,null,null,0,"",47,null,null,null,null,0]
[null,null,null,null,"",48,null,null,null,null,0,"",48,null,null,null,null,0]
[null,null,null,null,"",49,null,null,null,null,0,"",49,null,null,null,null,0]
[null,{"$f":"$B$6","v":"2024年度"},{"$f":"$C$6","v":"2025年度"},{"$f":"$D$6","v":"2026年度"},"",50,null,null,null,null,0,"",50,null,null,null,null,0]
["複数手続きの種類",null,null,null,"",51,null,null,null,null,0,"",51,null,null,null,null,0]
["確認年月日",null,null,null,"",52,null,null,null,null,0,"",52,null,null,null,null,0]
["確認数量（kg）",null,null,null,"",53,null,null,null,null,0,"",53,null,null,null,null,0]
["申出番号（受付コード下4桁）",null,null,null,"",54,null,null,null,null,0,"",54,null,null,null,null,0]
["受付コード",{"$f":"IF(B$60=\"\",\"\",表１_対象物質一覧!$C$4&(MID($B$6,3,2)&B$60))","v":""},{"$f":"IF(C$60=\"\",\"\",表１_対象物質一覧!$C$4&(MID($C$6, 3, 2))&C$60)","v":""},{"$f":"IF(D$60=\"\",\"\",表１_対象物質一覧!$C$4&(MID($D$6, 3, 2))&D$60)","v":""},"",55,null,null,null,null,0,"",55,null,null,null,null,0]
["用途番号",null,null,null,"",56,null,null,null,null,0,"",56,null,null,null,null,0]
[null,null,null,null,"",57,null,null,null,null,0,"",57,null,null,null,null,0]
[null,null,null,null,"",58,null,null,null,null,0,"",58,null,null,null,null,0]
[null,null,null,null,"",59,null,null,null,null,0,"",59,null,null,null,null,0]
[null,null,null,null,"",60,null,null,null,null,0,"",60,null,null,null,null,0]
[null,null,null,null,"",61,null,null,null,null,0,"",61,null,null,null,null,0]
[null,null,null,null,"",62,null,null,null,null,0,"",62,null,null,null,null,0]
[null,{"$f":"$B$6","v":"2024年度"},{"$f":"$C$6","v":"2025年度"},{"$f":"$D$6","v":"2026年度"},"",63,null,null,null,null,0,"",63,null,null,null,null,0]
["複数手続きの種類",null,null,null,"",64,null,null,null,null,0,"",64,null,null,null,null,0]
["確認年月日",null,null,null,{"$f":"IF(H71=\"\", \"\",YEAR(H71) - IF(MONTH(H71)<4, 1, 0) & \"年度\")","v":""},65,null,null,null,null,0,{"$f":"IF(O71=\"\", \"\",YEAR(O71) - IF(MONTH(O71)<4, 1, 0) & \"年度\")","v":""},65,null,null,null,null,0]
["確認数量（kg）",null,null,null,"",66,null,null,null,null,0,"",66,null,null,null,null,0]
["申出番号（受付コード下4桁）",null,null,null,"",67,null,null,null,null,{"$f":"IF(J73=\"\",I73,I73*J73)","v":0},"",67,null,null,null,null,{"$f":"IF(Q73=\"\",P73,P73*Q73)","v":0}]
["受付コード",{"$f":"IF(B$73=\"\",\"\",表１_対象物質一覧!$C$4&(MID($B$6,3,2)&B$73))","v":""},{"$f":"IF(C$73=\"\",\"\",表１_対象物質一覧!$C$4&(MID($C$6, 3, 2))&C$73)","v":""},{"$f":"IF(D$73=\"\",\"\",表１_対象物質一覧!$C$4&(MID($D$6, 3, 2))&D$73)","v":""},"",68,null,null,null,null,0,"",68,null,null,null,null,0]
["用途番号",null,null,null,"",69,null,null,null,null,0,"",69,null,null,null,null,0]
[null,null,null,null,"",70,null,null,null,null,0,"",70,null,null,null,null,0]
[null,null,null,null,"",71,null,null,null,null,0,"",71,null,null,null,null,0]
[null,null,null,null,"",72,null,null,null,null,0,"",72,null,null,null,null,0]
[null,null,null,null,"",73,null,null,null,null,0,"",73,null,null,null,null,0]
[null,null,null,null,"",74,null,null,null,null,0,"",74,null,null,null,null,0]
[null,null,null,null,"",75,null,null,null,null,0,"",75,null,null,null,null,0]
["備考",null,null,null,"",76,null,null,null,null,0,"",76,null,null,null,null,0]
[null,null,null,null,"",77,null,null,null,null,0,"",77,null,null,null,null,0]
[null,null,null,null,"",78,null,null,null,null,0,"",78,null,null,null,null,0]
[null,null,null,null,"",79,null,null,null,null,0,"",79,null,null,null,null,0]
[null,null,null,null,"",80,null,null,null,null,0,"",80,null,null,null,null,0]
[null,null,null,null,"",81,null,null,null,null,0,"",81,null,null,null,null,0]
[null,null,null,null,"",82,null,null,null,null,0,"",82,null,null,null,null,0]
[null,null,null,null,"",83,null,null,null,null,0,"",83,null,null,null,null,0]
[null,null,null,null,"",84,null,null,null,null,0,"",84,null,null,null,null,0]
[null,null,null,null,"",85,null,null,null,null,0,"",85,null,null,null,null,0]
[null,null,null,null,"",86,null,null,null,null,0,"",86,null,null,null,null,0]
[null,null,null,null,"",87,null,null,null,null,0,"",87,null,null,null,null,0]
[null,null,null,null,"",88,null,null,null,null,0,"",88,null,null,null,null,0]
[null,null,null,null,"",89,null,null,null,null,0,"",89,null,null,null,null,0]
[null,null,null,null,"",90,null,null,null,null,0,"",90,null,null,null,null,0]
[null,null,null,null,"",91,null,null,null,null,0,"",91,null,null,null,null,0]
[null,null,null,null,"",92,null,null,null,null,0,"",92,null,null,null,null,0]
[null,null,null,null,"",93,null,null,null,null,0,"",93,null,null,null,null,0]
[null,null,null,null,"",94,null,null,null,null,0,"",94,null,null,null,null,0]
[null,null,null,null,"",95,null,null,null,null,0,"",95,null,null,null,null,0]
[null,null,null,null,"",96,null,null,null,null,0,"",96,null,null,null,null,0]
[null,null,null,null,"",97,null,null,null,null,0,"",97,null,null,null,null,0]
[null,null,null,null,"",98,null,null,null,null,0,"",98,null,null,null,null,0]
[null,null,null,null,"",99,null,null,null,null,{"$f":"IF(J105=\"\",I105,I105*J105)","v":0},"",99,null,null,null,null,{"$f":"IF(Q105=\"\",P105,P105*Q105)","v":0}]
[null,null,null,null,"",100,null,null,null,null,{"$f":"IF(J106=\"\",I106,I106*J106)","v":0},"",100,null,null,null,null,{"$f":"IF(Q106=\"\",P106,P106*Q106)","v":0}]

{"sheet":"25","index":25,"n_rows":106,"n_cols":20,"rows_kept":106,"cut":false,"hidden":false,"merged":[[1,5,1,6],[1,12,1,13],[3,5,5,6],[3,12,5,13]]}
["「表１_対象物質一覧」に戻る"]
["事業所名",null,null,null,null,"輸入量",null,null,null,null,null,null,"払出量"]
["新規化学物質の名称",null,null,null,null,"Ｎｏ",{"$f":"_xlfn.IFS(F2=\"製造量\",\"製造ロット\",F2=\"輸入量\",\"輸入ロット\",F2=\"製造・輸入量\",\"製造・輸入ロット\")","v":"輸入ロット"},{"$f":"_xlfn.IFS(F2=\"製造量\",\"製造日　（最終製品日）\",F2=\"輸入量\",\"輸入許可日\",F2=\"製造・輸入量\",\"製造日・輸入許可日\")","v":"輸入許可日"},{"$f":"_xlfn.IFS(F2=\"製造量\",\"製造数量（kg)\",F2=\"輸入量\",\"輸入数量（kg)\",F2=\"製造・輸入量\",\"製造・輸入数量（kg)\")","v":"輸入数量（kg)"},"含有率（％）","含有率換算数量(kg)",null,"Ｎｏ","ロット","払出日","払出数量（kg)","含有率（％）","含有率換算数量(kg)","用途番号","変更前ロット"]
["略称",null,null,null,null,"実績数量合計",null,{"$f":"B6","v":"2024年度"},{"$f":"SUMIF($E$7:$E106,$H$4,$I$7:$I106)","v":0},"-",{"$f":"SUMIF($E$7:$E106,$H$4,$K$7:$K106)","v":0},null,"払出数量合計",null,{"$f":"B6","v":"2024年度"},{"$f":"SUMIF($L$7:$L95,$O$4,$P$7:$P106)","v":0},"-",{"$f":"SUMIF($L$7:$L106,$H$4,$R$7:$R106)","v":0},"-","-"]
[null,null,null,null,null,null,null,{"$f":"C6","v":"2025年度"},{"$f":"SUMIF($E$7:$E106,$H$5,$I$7:$I106)","v":0},"-",{"$f":"SUMIF($E$7:$E106,$H$5,$K$7:$K106)","v":0},null,null,null,{"$f":"C6","v":"2025年度"},{"$f":"SUMIF($L$7:$L95,$O$5,$P$7:$P106)","v":0},"-",{"$f":"SUMIF($E$7:$E106,$H$5,$K$7:$K106)","v":0},"-","-"]
[null,{"$f":"'1'!B6","v":"2024年度"},{"$f":"'1'!C6","v":"2025年度"},{"$f":"'1'!D6","v":"2026年度"},null,null,null,{"$f":"D6","v":"2026年度"},{"$f":"SUMIF($E$7:$E106,$H$6,$I$7:$I106)","v":0},"-",{"$f":"SUMIF($E$7:$E106,$H$6,$K$7:$K106)","v":0},null,null,null,{"$f":"D6","v":"2026年度"},{"$f":"SUMIF($L$7:$L95,$O$6,$P$7:$P106)","v":0},"-",{"$f":"SUMIF($E$7:$E106,$H$6,$K$7:$K106)","v":0},"-","-"]
["確認年月日",null,null,null,{"$f":"IF(H7=\"\", \"\",YEAR(H7) - IF(MONTH(H7)<4, 1, 0) & \"年度\")","v":""},1,null,null,null,null,{"$f":"IF(J7=\"\",I7,I7*J7)","v":0},{"$f":"IF(O7=\"\", \"\",YEAR(O7) - IF(MONTH(O7)<4, 1, 0) & \"年度\")","v":""},1,null,null,null,null,{"$f":"IF(Q7=\"\",P7,P7*Q7)","v":0}]
["確認数量（kg）",null,null,null,"",2,null,null,null,null,{"$f":"IF(J8=\"\",I8,I8*J8)","v":0},"",2,null,null,null,null,{"$f":"IF(Q8=\"\",P8,P8*Q8)","v":0}]
["申出番号（受付コード下4桁）",null,null,null,"",3,null,null,null,null,{"$f":"IF(J9=\"\",I9,I9*J9)","v":0},"",3,null,null,null,null,{"$f":"IF(Q9=\"\",P9,P9*Q9)","v":0}]
["受付コード",{"$f":"IF(B$9=\"\",\"\",表１_対象物質一覧!$C$4&(MID($B$6,3,2)&B$9))","v":""},{"$f":"IF(C$9=\"\",\"\",表１_対象物質一覧!$C$4&(MID($C$6, 3, 2))&C$9)","v":""},{"$f":"IF(D$9=\"\",\"\",表１_対象物質一覧!$C$4&(MID($D$6, 3, 2))&D$9)","v":""},"",4,null,null,null,null,0,"",4,null,null,null,null,{"$f":"IF(Q10=\"\",P10,P10*Q10)","v":0}]
["用途番号",null,null,null,"",5,null,null,null,null,0,"",5,null,null,null,null,0]
[null,null,null,null,"",6,null,null,null,null,0,"",6,null,null,null,null,0]
[null,null,null,null,"",7,null,null,null,null,0,"",7,null,null,null,null,0]
[null,null,null,null,"",8,null,null,null,null,0,"",8,null,null,null,null,0]
[null,null,null,null,"",9,null,null,null,null,0,"",9,null,null,null,null,0]
[null,null,null,null,"",10,null,null,null,null,0,"",10,null,null,null,null,0]
["申出書に記載の「前年度の実績数量」",null,null,null,"",11,null,null,null,null,0,"",11,null,null,null,null,0]
["実績数量",{"$f":"$K$4","v":0},{"$f":"$K$5","v":0},{"$f":"$K$6","v":0},"",12,null,null,null,null,0,"",12,null,null,null,null,0]
["確認を受けている中間物等の分類",null,null,null,"",13,null,null,null,null,0,"",13,null,null,null,null,0]
["用途追加手続を省略して追加した用途の用途番号",null,null,null,"",14,null,null,null,null,0,"",14,null,null,null,null,0]
["備考（３年連続して実積数量がゼロの場合はその理由）",null,null,null,"",15,null,null,null,null,0,"",15,null,null,null,null,0]
["用途証明書なしであって確認年月日が複数ある場合の",null,null,null,"",16,null,null,null,null,0,"",16,null,null,null,null,0]
["確認年月日（上段）及び確認数量(kg)（下段）",null,null,null,"",17,null,null,null,null,0,"",17,null,null,null,null,0]
[null,null,null,null,"",18,null,null,null,null,0,"",18,null,null,null,null,0]
[null,null,null,null,"",19,null,null,null,null,0,"",19,null,null,null,null,0]
[null,null,null,null,"",20,null,null,null,null,0,"",20,null,null,null,null,0]
[null,null,null,null,"",21,null,null,null,null,0,"",21,null,null,null,null,0]
[null,null,null,null,"",22,null,null,null,null,0,"",22,null,null,null,null,0]
[null,null,null,null,"",23,null,null,null,null,0,"",23,null,null,null,null,0]
[null,null,null,null,"",24,null,null,null,null,0,"",24,null,null,null,null,0]
[null,null,null,null,"",25,null,null,null,null,0,"",25,null,null,null,null,0]
[null,null,null,null,"",26,null,null,null,null,0,"",26,null,null,null,null,0]
[null,null,null,null,"",27,null,null,null,null,0,"",27,null,null,null,null,0]
[null,null,null,null,"",28,null,null,null,null,0,"",28,null,null,null,null,0]
[null,null,null,null,"",29,null,null,null,null,0,"",29,null,null,null,null,0]
[null,null,null,null,"",30,null,null,null,null,0,"",30,null,null,null,null,0]
[null,null,null,null,"",31,null,null,null,null,0,"",31,null,null,null,null,0]
[null,null,null,null,"",32,null,null,null,null,0,"",32,null,null,null,null,0]
[null,null,null,null,{"$f":"IF(H39=\"\", \"\",YEAR(H39) - IF(MONTH(H39)<4, 1, 0) & \"年度\")","v":""},33,null,null,null,null,0,{"$f":"IF(O39=\"\", \"\",YEAR(O39) - IF(MONTH(O39)<4, 1, 0) & \"年度\")","v":""},33,null,null,null,null,0]
[null,null,null,null,"",34,null,null,null,null,0,"",34,null,null,null,null,0]
[null,null,null,null,"",35,null,null,null,null,0,"",35,null,null,null,null,0]
["同一年度で同じ化学物質を複数申請している場合は、その確認を受けた事項",null,null,null,"",36,null,null,null,null,0,"",36,null,null,null,null,0]
[null,{"$f":"$B$6","v":"2024年度"},{"$f":"$C$6","v":"2025年度"},{"$f":"$D$6","v":"2026年度"},"",37,null,null,null,null,0,"",37,null,null,null,null,0]
["複数手続きの種類",null,null,null,"",38,null,null,null,null,0,"",38,null,null,null,null,0]
["確認年月日",null,null,null,"",39,null,null,null,null,0,"",39,null,null,null,null,0]
["確認数量（kg）",null,null,null,"",40,null,null,null,null,0,"",40,null,null,null,null,0]
["申出番号（受付コード下4桁）",null,null,null,"",41,null,null,null,null,0,"",41,null,null,null,null,0]
["受付コード",{"$f":"IF(B$47=\"\",\"\",表１_対象物質一覧!$C$4&(MID($B$6,3,2)&B$47))","v":""},{"$f":"IF(C$47=\"\",\"\",表１_対象物質一覧!$C$4&(MID($C$6, 3, 2))&C$47)","v":""},{"$f":"IF(D$47=\"\",\"\",表１_対象物質一覧!$C$4&(MID($D$6, 3, 2))&D$47)","v":""},"",42,null,null,null,null,0,"",42,null,null,null,null,0]
["用途番号",null,null,null,"",43,null,null,null,null,0,"",43,null,null,null,null,0]
[null,null,null,null,"",44,null,null,null,null,0,"",44,null,null,null,null,0]
[null,null,null,null,"",45,null,null,null,null,0,"",45,null,null,null,null,0]
[null,null,null,null,"",46,null,null,null,null,0,"",46,null,null,null,null,0]
[null,null,null,null,"",47,null,null,null,null,0,"",47,null,null,null,null,0]
[null,null,null,null,"",48,null,null,null,null,0,"",48,null,null,null,null,0]
[null,null,null,null,"",49,null,null,null,null,0,"",49,null,null,null,null,0]
[null,{"$f":"$B$6","v":"2024年度"},{"$f":"$C$6","v":"2025年度"},{"$f":"$D$6","v":"2026年度"},"",50,null,null,null,null,0,"",50,null,null,null,null,0]
["複数手続きの種類",null,null,null,"",51,null,null,null,null,0,"",51,null,null,null,null,0]
["確認年月日",null,null,null,"",52,null,null,null,null,0,"",52,null,null,null,null,0]
["確認数量（kg）",null,null,null,"",53,null,null,null,null,0,"",53,null,null,null,null,0]
["申出番号（受付コード下4桁）",null,null,null,"",54,null,null,null,null,0,"",54,null,null,null,null,0]
["受付コード",{"$f":"IF(B$60=\"\",\"\",表１_対象物質一覧!$C$4&(MID($B$6,3,2)&B$60))","v":""},{"$f":"IF(C$60=\"\",\"\",表１_対象物質一覧!$C$4&(MID($C$6, 3, 2))&C$60)","v":""},{"$f":"IF(D$60=\"\",\"\",表１_対象物質一覧!$C$4&(MID($D$6, 3, 2))&D$60)","v":""},"",55,null,null,null,null,0,"",55,null,null,null,null,0]
["用途番号",null,null,null,"",56,null,null,null,null,0,"",56,null,null,null,null,0]
[null,null,null,null,"",57,null,null,null,null,0,"",57,null,null,null,null,0]
[null,null,null,null,"",58,null,null,null,null,0,"",58,null,null,null,null,0]
[null,null,null,null,"",59,null,null,null,null,0,"",59,null,null,null,null,0]
[null,null,null,null,"",60,null,null,null,null,0,"",60,null,null,null,null,0]
[null,null,null,null,"",61,null,null,null,null,0,"",61,null,null,null,null,0]
[null,null,null,null,"",62,null,null,null,null,0,"",62,null,null,null,null,0]
[null,{"$f":"$B$6","v":"2024年度"},{"$f":"$C$6","v":"2025年度"},{"$f":"$D$6","v":"2026年度"},"",63,null,null,null,null,0,"",63,null,null,null,null,0]
["複数手続きの種類",null,null,null,"",64,null,null,null,null,0,"",64,null,null,null,null,0]
["確認年月日",null,null,null,{"$f":"IF(H71=\"\", \"\",YEAR(H71) - IF(MONTH(H71)<4, 1, 0) & \"年度\")","v":""},65,null,null,null,null,0,{"$f":"IF(O71=\"\", \"\",YEAR(O71) - IF(MONTH(O71)<4, 1, 0) & \"年度\")","v":""},65,null,null,null,null,0]
["確認数量（kg）",null,null,null,"",66,null,null,null,null,0,"",66,null,null,null,null,0]
["申出番号（受付コード下4桁）",null,null,null,"",67,null,null,null,null,{"$f":"IF(J73=\"\",I73,I73*J73)","v":0},"",67,null,null,null,null,{"$f":"IF(Q73=\"\",P73,P73*Q73)","v":0}]
["受付コード",{"$f":"IF(B$73=\"\",\"\",表１_対象物質一覧!$C$4&(MID($B$6,3,2)&B$73))","v":""},{"$f":"IF(C$73=\"\",\"\",表１_対象物質一覧!$C$4&(MID($C$6, 3, 2))&C$73)","v":""},{"$f":"IF(D$73=\"\",\"\",表１_対象物質一覧!$C$4&(MID($D$6, 3, 2))&D$73)","v":""},"",68,null,null,null,null,0,"",68,null,null,null,null,0]
["用途番号",null,null,null,"",69,null,null,null,null,0,"",69,null,null,null,null,0]
[null,null,null,null,"",70,null,null,null,null,0,"",70,null,null,null,null,0]
[null,null,null,null,"",71,null,null,null,null,0,"",71,null,null,null,null,0]
[null,null,null,null,"",72,null,null,null,null,0,"",72,null,null,null,null,0]
[null,null,null,null,"",73,null,null,null,null,0,"",73,null,null,null,null,0]
[null,null,null,null,"",74,null,null,null,null,0,"",74,null,null,null,null,0]
[null,null,null,null,"",75,null,null,null,null,0,"",75,null,null,null,null,0]
["備考",null,null,null,"",76,null,null,null,null,0,"",76,null,null,null,null,0]
[null,null,null,null,"",77,null,null,null,null,0,"",77,null,null,null,null,0]
[null,null,null,null,"",78,null,null,null,null,0,"",78,null,null,null,null,0]
[null,null,null,null,"",79,null,null,null,null,0,"",79,null,null,null,null,0]
[null,null,null,null,"",80,null,null,null,null,0,"",80,null,null,null,null,0]
[null,null,null,null,"",81,null,null,null,null,0,"",81,null,null,null,null,0]
[null,null,null,null,"",82,null,null,null,null,0,"",82,null,null,null,null,0]
[null,null,null,null,"",83,null,null,null,null,0,"",83,null,null,null,null,0]
[null,null,null,null,"",84,null,null,null,null,0,"",84,null,null,null,null,0]
[null,null,null,null,"",85,null,null,null,null,0,"",85,null,null,null,null,0]
[null,null,null,null,"",86,null,null,null,null,0,"",86,null,null,null,null,0]
[null,null,null,null,"",87,null,null,null,null,0,"",87,null,null,null,null,0]
[null,null,null,null,"",88,null,null,null,null,0,"",88,null,null,null,null,0]
[null,null,null,null,"",89,null,null,null,null,0,"",89,null,null,null,null,0]
[null,null,null,null,"",90,null,null,null,null,0,"",90,null,null,null,null,0]
[null,null,null,null,"",91,null,null,null,null,0,"",91,null,null,null,null,0]
[null,null,null,null,"",92,null,null,null,null,0,"",92,null,null,null,null,0]
[null,null,null,null,"",93,null,null,null,null,0,"",93,null,null,null,null,0]
[null,null,null,null,"",94,null,null,null,null,0,"",94,null,null,null,null,0]
[null,null,null,null,"",95,null,null,null,null,0,"",95,null,null,null,null,0]
[null,null,null,null,"",96,null,null,null,null,0,"",96,null,null,null,null,0]
[null,null,null,null,"",97,null,null,null,null,0,"",97,null,null,null,null,0]
[null,null,null,null,"",98,null,null,null,null,0,"",98,null,null,null,null,0]
[null,null,null,null,"",99,null,null,null,null,{"$f":"IF(J105=\"\",I105,I105*J105)","v":0},"",99,null,null,null,null,{"$f":"IF(Q105=\"\",P105,P105*Q105)","v":0}]
[null,null,null,null,"",100,null,null,null,null,{"$f":"IF(J106=\"\",I106,I106*J106)","v":0},"",100,null,null,null,null,{"$f":"IF(Q106=\"\",P106,P106*Q106)","v":0}]

{"sheet":"26","index":26,"n_rows":106,"n_cols":20,"rows_kept":106,"cut":false,"hidden":false,"merged":[[1,5,1,6],[1,12,1,13],[3,5,5,6],[3,12,5,13]]}
["「表１_対象物質一覧」に戻る"]
["事業所名",null,null,null,null,"輸入量",null,null,null,null,null,null,"払出量"]
["新規化学物質の名称",null,null,null,null,"Ｎｏ",{"$f":"_xlfn.IFS(F2=\"製造量\",\"製造ロット\",F2=\"輸入量\",\"輸入ロット\",F2=\"製造・輸入量\",\"製造・輸入ロット\")","v":"輸入ロット"},{"$f":"_xlfn.IFS(F2=\"製造量\",\"製造日　（最終製品日）\",F2=\"輸入量\",\"輸入許可日\",F2=\"製造・輸入量\",\"製造日・輸入許可日\")","v":"輸入許可日"},{"$f":"_xlfn.IFS(F2=\"製造量\",\"製造数量（kg)\",F2=\"輸入量\",\"輸入数量（kg)\",F2=\"製造・輸入量\",\"製造・輸入数量（kg)\")","v":"輸入数量（kg)"},"含有率（％）","含有率換算数量(kg)",null,"Ｎｏ","ロット","払出日","払出数量（kg)","含有率（％）","含有率換算数量(kg)","用途番号","変更前ロット"]
["略称",null,null,null,null,"実績数量合計",null,{"$f":"B6","v":"2024年度"},{"$f":"SUMIF($E$7:$E106,$H$4,$I$7:$I106)","v":0},"-",{"$f":"SUMIF($E$7:$E106,$H$4,$K$7:$K106)","v":0},null,"払出数量合計",null,{"$f":"B6","v":"2024年度"},{"$f":"SUMIF($L$7:$L95,$O$4,$P$7:$P106)","v":0},"-",{"$f":"SUMIF($L$7:$L106,$H$4,$R$7:$R106)","v":0},"-","-"]
[null,null,null,null,null,null,null,{"$f":"C6","v":"2025年度"},{"$f":"SUMIF($E$7:$E106,$H$5,$I$7:$I106)","v":0},"-",{"$f":"SUMIF($E$7:$E106,$H$5,$K$7:$K106)","v":0},null,null,null,{"$f":"C6","v":"2025年度"},{"$f":"SUMIF($L$7:$L95,$O$5,$P$7:$P106)","v":0},"-",{"$f":"SUMIF($E$7:$E106,$H$5,$K$7:$K106)","v":0},"-","-"]
[null,{"$f":"'1'!B6","v":"2024年度"},{"$f":"'1'!C6","v":"2025年度"},{"$f":"'1'!D6","v":"2026年度"},null,null,null,{"$f":"D6","v":"2026年度"},{"$f":"SUMIF($E$7:$E106,$H$6,$I$7:$I106)","v":0},"-",{"$f":"SUMIF($E$7:$E106,$H$6,$K$7:$K106)","v":0},null,null,null,{"$f":"D6","v":"2026年度"},{"$f":"SUMIF($L$7:$L95,$O$6,$P$7:$P106)","v":0},"-",{"$f":"SUMIF($E$7:$E106,$H$6,$K$7:$K106)","v":0},"-","-"]
["確認年月日",null,null,null,{"$f":"IF(H7=\"\", \"\",YEAR(H7) - IF(MONTH(H7)<4, 1, 0) & \"年度\")","v":""},1,null,null,null,null,{"$f":"IF(J7=\"\",I7,I7*J7)","v":0},{"$f":"IF(O7=\"\", \"\",YEAR(O7) - IF(MONTH(O7)<4, 1, 0) & \"年度\")","v":""},1,null,null,null,null,{"$f":"IF(Q7=\"\",P7,P7*Q7)","v":0}]
["確認数量（kg）",null,null,null,"",2,null,null,null,null,{"$f":"IF(J8=\"\",I8,I8*J8)","v":0},"",2,null,null,null,null,{"$f":"IF(Q8=\"\",P8,P8*Q8)","v":0}]
["申出番号（受付コード下4桁）",null,null,null,"",3,null,null,null,null,{"$f":"IF(J9=\"\",I9,I9*J9)","v":0},"",3,null,null,null,null,{"$f":"IF(Q9=\"\",P9,P9*Q9)","v":0}]
["受付コード",{"$f":"IF(B$9=\"\",\"\",表１_対象物質一覧!$C$4&(MID($B$6,3,2)&B$9))","v":""},{"$f":"IF(C$9=\"\",\"\",表１_対象物質一覧!$C$4&(MID($C$6, 3, 2))&C$9)","v":""},{"$f":"IF(D$9=\"\",\"\",表１_対象物質一覧!$C$4&(MID($D$6, 3, 2))&D$9)","v":""},"",4,null,null,null,null,0,"",4,null,null,null,null,{"$f":"IF(Q10=\"\",P10,P10*Q10)","v":0}]
["用途番号",null,null,null,"",5,null,null,null,null,0,"",5,null,null,null,null,0]
[null,null,null,null,"",6,null,null,null,null,0,"",6,null,null,null,null,0]
[null,null,null,null,"",7,null,null,null,null,0,"",7,null,null,null,null,0]
[null,null,null,null,"",8,null,null,null,null,0,"",8,null,null,null,null,0]
[null,null,null,null,"",9,null,null,null,null,0,"",9,null,null,null,null,0]
[null,null,null,null,"",10,null,null,null,null,0,"",10,null,null,null,null,0]
["申出書に記載の「前年度の実績数量」",null,null,null,"",11,null,null,null,null,0,"",11,null,null,null,null,0]
["実績数量",{"$f":"$K$4","v":0},{"$f":"$K$5","v":0},{"$f":"$K$6","v":0},"",12,null,null,null,null,0,"",12,null,null,null,null,0]
["確認を受けている中間物等の分類",null,null,null,"",13,null,null,null,null,0,"",13,null,null,null,null,0]
["用途追加手続を省略して追加した用途の用途番号",null,null,null,"",14,null,null,null,null,0,"",14,null,null,null,null,0]
["備考（３年連続して実積数量がゼロの場合はその理由）",null,null,null,"",15,null,null,null,null,0,"",15,null,null,null,null,0]
["用途証明書なしであって確認年月日が複数ある場合の",null,null,null,"",16,null,null,null,null,0,"",16,null,null,null,null,0]
["確認年月日（上段）及び確認数量(kg)（下段）",null,null,null,"",17,null,null,null,null,0,"",17,null,null,null,null,0]
[null,null,null,null,"",18,null,null,null,null,0,"",18,null,null,null,null,0]
[null,null,null,null,"",19,null,null,null,null,0,"",19,null,null,null,null,0]
[null,null,null,null,"",20,null,null,null,null,0,"",20,null,null,null,null,0]
[null,null,null,null,"",21,null,null,null,null,0,"",21,null,null,null,null,0]
[null,null,null,null,"",22,null,null,null,null,0,"",22,null,null,null,null,0]
[null,null,null,null,"",23,null,null,null,null,0,"",23,null,null,null,null,0]
[null,null,null,null,"",24,null,null,null,null,0,"",24,null,null,null,null,0]
[null,null,null,null,"",25,null,null,null,null,0,"",25,null,null,null,null,0]
[null,null,null,null,"",26,null,null,null,null,0,"",26,null,null,null,null,0]
[null,null,null,null,"",27,null,null,null,null,0,"",27,null,null,null,null,0]
[null,null,null,null,"",28,null,null,null,null,0,"",28,null,null,null,null,0]
[null,null,null,null,"",29,null,null,null,null,0,"",29,null,null,null,null,0]
[null,null,null,null,"",30,null,null,null,null,0,"",30,null,null,null,null,0]
[null,null,null,null,"",31,null,null,null,null,0,"",31,null,null,null,null,0]
[null,null,null,null,"",32,null,null,null,null,0,"",32,null,null,null,null,0]
[null,null,null,null,{"$f":"IF(H39=\"\", \"\",YEAR(H39) - IF(MONTH(H39)<4, 1, 0) & \"年度\")","v":""},33,null,null,null,null,0,{"$f":"IF(O39=\"\", \"\",YEAR(O39) - IF(MONTH(O39)<4, 1, 0) & \"年度\")","v":""},33,null,null,null,null,0]
[null,null,null,null,"",34,null,null,null,null,0,"",34,null,null,null,null,0]
[null,null,null,null,"",35,null,null,null,null,0,"",35,null,null,null,null,0]
["同一年度で同じ化学物質を複数申請している場合は、その確認を受けた事項",null,null,null,"",36,null,null,null,null,0,"",36,null,null,null,null,0]
[null,{"$f":"$B$6","v":"2024年度"},{"$f":"$C$6","v":"2025年度"},{"$f":"$D$6","v":"2026年度"},"",37,null,null,null,null,0,"",37,null,null,null,null,0]
["複数手続きの種類",null,null,null,"",38,null,null,null,null,0,"",38,null,null,null,null,0]
["確認年月日",null,null,null,"",39,null,null,null,null,0,"",39,null,null,null,null,0]
["確認数量（kg）",null,null,null,"",40,null,null,null,null,0,"",40,null,null,null,null,0]
["申出番号（受付コード下4桁）",null,null,null,"",41,null,null,null,null,0,"",41,null,null,null,null,0]
["受付コード",{"$f":"IF(B$47=\"\",\"\",表１_対象物質一覧!$C$4&(MID($B$6,3,2)&B$47))","v":""},{"$f":"IF(C$47=\"\",\"\",表１_対象物質一覧!$C$4&(MID($C$6, 3, 2))&C$47)","v":""},{"$f":"IF(D$47=\"\",\"\",表１_対象物質一覧!$C$4&(MID($D$6, 3, 2))&D$47)","v":""},"",42,null,null,null,null,0,"",42,null,null,null,null,0]
["用途番号",null,null,null,"",43,null,null,null,null,0,"",43,null,null,null,null,0]
[null,null,null,null,"",44,null,null,null,null,0,"",44,null,null,null,null,0]
[null,null,null,null,"",45,null,null,null,null,0,"",45,null,null,null,null,0]
[null,null,null,null,"",46,null,null,null,null,0,"",46,null,null,null,null,0]
[null,null,null,null,"",47,null,null,null,null,0,"",47,null,null,null,null,0]
[null,null,null,null,"",48,null,null,null,null,0,"",48,null,null,null,null,0]
[null,null,null,null,"",49,null,null,null,null,0,"",49,null,null,null,null,0]
[null,{"$f":"$B$6","v":"2024年度"},{"$f":"$C$6","v":"2025年度"},{"$f":"$D$6","v":"2026年度"},"",50,null,null,null,null,0,"",50,null,null,null,null,0]
["複数手続きの種類",null,null,null,"",51,null,null,null,null,0,"",51,null,null,null,null,0]
["確認年月日",null,null,null,"",52,null,null,null,null,0,"",52,null,null,null,null,0]
["確認数量（kg）",null,null,null,"",53,null,null,null,null,0,"",53,null,null,null,null,0]
["申出番号（受付コード下4桁）",null,null,null,"",54,null,null,null,null,0,"",54,null,null,null,null,0]
["受付コード",{"$f":"IF(B$60=\"\",\"\",表１_対象物質一覧!$C$4&(MID($B$6,3,2)&B$60))","v":""},{"$f":"IF(C$60=\"\",\"\",表１_対象物質一覧!$C$4&(MID($C$6, 3, 2))&C$60)","v":""},{"$f":"IF(D$60=\"\",\"\",表１_対象物質一覧!$C$4&(MID($D$6, 3, 2))&D$60)","v":""},"",55,null,null,null,null,0,"",55,null,null,null,null,0]
["用途番号",null,null,null,"",56,null,null,null,null,0,"",56,null,null,null,null,0]
[null,null,null,null,"",57,null,null,null,null,0,"",57,null,null,null,null,0]
[null,null,null,null,"",58,null,null,null,null,0,"",58,null,null,null,null,0]
[null,null,null,null,"",59,null,null,null,null,0,"",59,null,null,null,null,0]
[null,null,null,null,"",60,null,null,null,null,0,"",60,null,null,null,null,0]
[null,null,null,null,"",61,null,null,null,null,0,"",61,null,null,null,null,0]
[null,null,null,null,"",62,null,null,null,null,0,"",62,null,null,null,null,0]
[null,{"$f":"$B$6","v":"2024年度"},{"$f":"$C$6","v":"2025年度"},{"$f":"$D$6","v":"2026年度"},"",63,null,null,null,null,0,"",63,null,null,null,null,0]
["複数手続きの種類",null,null,null,"",64,null,null,null,null,0,"",64,null,null,null,null,0]
["確認年月日",null,null,null,{"$f":"IF(H71=\"\", \"\",YEAR(H71) - IF(MONTH(H71)<4, 1, 0) & \"年度\")","v":""},65,null,null,null,null,0,{"$f":"IF(O71=\"\", \"\",YEAR(O71) - IF(MONTH(O71)<4, 1, 0) & \"年度\")","v":""},65,null,null,null,null,0]
["確認数量（kg）",null,null,null,"",66,null,null,null,null,0,"",66,null,null,null,null,0]
["申出番号（受付コード下4桁）",null,null,null,"",67,null,null,null,null,{"$f":"IF(J73=\"\",I73,I73*J73)","v":0},"",67,null,null,null,null,{"$f":"IF(Q73=\"\",P73,P73*Q73)","v":0}]
["受付コード",{"$f":"IF(B$73=\"\",\"\",表１_対象物質一覧!$C$4&(MID($B$6,3,2)&B$73))","v":""},{"$f":"IF(C$73=\"\",\"\",表１_対象物質一覧!$C$4&(MID($C$6, 3, 2))&C$73)","v":""},{"$f":"IF(D$73=\"\",\"\",表１_対象物質一覧!$C$4&(MID($D$6, 3, 2))&D$73)","v":""},"",68,null,null,null,null,0,"",68,null,null,null,null,0]
["用途番号",null,null,null,"",69,null,null,null,null,0,"",69,null,null,null,null,0]
[null,null,null,null,"",70,null,null,null,null,0,"",70,null,null,null,null,0]
[null,null,null,null,"",71,null,null,null,null,0,"",71,null,null,null,null,0]
[null,null,null,null,"",72,null,null,null,null,0,"",72,null,null,null,null,0]
[null,null,null,null,"",73,null,null,null,null,0,"",73,null,null,null,null,0]
[null,null,null,null,"",74,null,null,null,null,0,"",74,null,null,null,null,0]
[null,null,null,null,"",75,null,null,null,null,0,"",75,null,null,null,null,0]
["備考",null,null,null,"",76,null,null,null,null,0,"",76,null,null,null,null,0]
[null,null,null,null,"",77,null,null,null,null,0,"",77,null,null,null,null,0]
[null,null,null,null,"",78,null,null,null,null,0,"",78,null,null,null,null,0]
[null,null,null,null,"",79,null,null,null,null,0,"",79,null,null,null,null,0]
[null,null,null,null,"",80,null,null,null,null,0,"",80,null,null,null,null,0]
[null,null,null,null,"",81,null,null,null,null,0,"",81,null,null,null,null,0]
[null,null,null,null,"",82,null,null,null,null,0,"",82,null,null,null,null,0]
[null,null,null,null,"",83,null,null,null,null,0,"",83,null,null,null,null,0]
[null,null,null,null,"",84,null,null,null,null,0,"",84,null,null,null,null,0]
[null,null,null,null,"",85,null,null,null,null,0,"",85,null,null,null,null,0]
[null,null,null,null,"",86,null,null,null,null,0,"",86,null,null,null,null,0]
[null,null,null,null,"",87,null,null,null,null,0,"",87,null,null,null,null,0]
[null,null,null,null,"",88,null,null,null,null,0,"",88,null,null,null,null,0]
[null,null,null,null,"",89,null,null,null,null,0,"",89,null,null,null,null,0]
[null,null,null,null,"",90,null,null,null,null,0,"",90,null,null,null,null,0]
[null,null,null,null,"",91,null,null,null,null,0,"",91,null,null,null,null,0]
[null,null,null,null,"",92,null,null,null,null,0,"",92,null,null,null,null,0]
[null,null,null,null,"",93,null,null,null,null,0,"",93,null,null,null,null,0]
[null,null,null,null,"",94,null,null,null,null,0,"",94,null,null,null,null,0]
[null,null,null,null,"",95,null,null,null,null,0,"",95,null,null,null,null,0]
[null,null,null,null,"",96,null,null,null,null,0,"",96,null,null,null,null,0]
[null,null,null,null,"",97,null,null,null,null,0,"",97,null,null,null,null,0]
[null,null,null,null,"",98,null,null,null,null,0,"",98,null,null,null,null,0]
[null,null,null,null,"",99,null,null,null,null,{"$f":"IF(J105=\"\",I105,I105*J105)","v":0},"",99,null,null,null,null,{"$f":"IF(Q105=\"\",P105,P105*Q105)","v":0}]
[null,null,null,null,"",100,null,null,null,null,{"$f":"IF(J106=\"\",I106,I106*J106)","v":0},"",100,null,null,null,null,{"$f":"IF(Q106=\"\",P106,P106*Q106)","v":0}]

{"sheet":"27","index":27,"n_rows":106,"n_cols":20,"rows_kept":106,"cut":false,"hidden":false,"merged":[[1,5,1,6],[1,12,1,13],[3,5,5,6],[3,12,5,13]]}
["「表１_対象物質一覧」に戻る"]
["事業所名",null,null,null,null,"輸入量",null,null,null,null,null,null,"払出量"]
["新規化学物質の名称",null,null,null,null,"Ｎｏ",{"$f":"_xlfn.IFS(F2=\"製造量\",\"製造ロット\",F2=\"輸入量\",\"輸入ロット\",F2=\"製造・輸入量\",\"製造・輸入ロット\")","v":"輸入ロット"},{"$f":"_xlfn.IFS(F2=\"製造量\",\"製造日　（最終製品日）\",F2=\"輸入量\",\"輸入許可日\",F2=\"製造・輸入量\",\"製造日・輸入許可日\")","v":"輸入許可日"},{"$f":"_xlfn.IFS(F2=\"製造量\",\"製造数量（kg)\",F2=\"輸入量\",\"輸入数量（kg)\",F2=\"製造・輸入量\",\"製造・輸入数量（kg)\")","v":"輸入数量（kg)"},"含有率（％）","含有率換算数量(kg)",null,"Ｎｏ","ロット","払出日","払出数量（kg)","含有率（％）","含有率換算数量(kg)","用途番号","変更前ロット"]
["略称",null,null,null,null,"実績数量合計",null,{"$f":"B6","v":"2024年度"},{"$f":"SUMIF($E$7:$E106,$H$4,$I$7:$I106)","v":0},"-",{"$f":"SUMIF($E$7:$E106,$H$4,$K$7:$K106)","v":0},null,"払出数量合計",null,{"$f":"B6","v":"2024年度"},{"$f":"SUMIF($L$7:$L95,$O$4,$P$7:$P106)","v":0},"-",{"$f":"SUMIF($L$7:$L106,$H$4,$R$7:$R106)","v":0},"-","-"]
[null,null,null,null,null,null,null,{"$f":"C6","v":"2025年度"},{"$f":"SUMIF($E$7:$E106,$H$5,$I$7:$I106)","v":0},"-",{"$f":"SUMIF($E$7:$E106,$H$5,$K$7:$K106)","v":0},null,null,null,{"$f":"C6","v":"2025年度"},{"$f":"SUMIF($L$7:$L95,$O$5,$P$7:$P106)","v":0},"-",{"$f":"SUMIF($E$7:$E106,$H$5,$K$7:$K106)","v":0},"-","-"]
[null,{"$f":"'1'!B6","v":"2024年度"},{"$f":"'1'!C6","v":"2025年度"},{"$f":"'1'!D6","v":"2026年度"},null,null,null,{"$f":"D6","v":"2026年度"},{"$f":"SUMIF($E$7:$E106,$H$6,$I$7:$I106)","v":0},"-",{"$f":"SUMIF($E$7:$E106,$H$6,$K$7:$K106)","v":0},null,null,null,{"$f":"D6","v":"2026年度"},{"$f":"SUMIF($L$7:$L95,$O$6,$P$7:$P106)","v":0},"-",{"$f":"SUMIF($E$7:$E106,$H$6,$K$7:$K106)","v":0},"-","-"]
["確認年月日",null,null,null,{"$f":"IF(H7=\"\", \"\",YEAR(H7) - IF(MONTH(H7)<4, 1, 0) & \"年度\")","v":""},1,null,null,null,null,{"$f":"IF(J7=\"\",I7,I7*J7)","v":0},{"$f":"IF(O7=\"\", \"\",YEAR(O7) - IF(MONTH(O7)<4, 1, 0) & \"年度\")","v":""},1,null,null,null,null,{"$f":"IF(Q7=\"\",P7,P7*Q7)","v":0}]
["確認数量（kg）",null,null,null,"",2,null,null,null,null,{"$f":"IF(J8=\"\",I8,I8*J8)","v":0},"",2,null,null,null,null,{"$f":"IF(Q8=\"\",P8,P8*Q8)","v":0}]
["申出番号（受付コード下4桁）",null,null,null,"",3,null,null,null,null,{"$f":"IF(J9=\"\",I9,I9*J9)","v":0},"",3,null,null,null,null,{"$f":"IF(Q9=\"\",P9,P9*Q9)","v":0}]
["受付コード",{"$f":"IF(B$9=\"\",\"\",表１_対象物質一覧!$C$4&(MID($B$6,3,2)&B$9))","v":""},{"$f":"IF(C$9=\"\",\"\",表１_対象物質一覧!$C$4&(MID($C$6, 3, 2))&C$9)","v":""},{"$f":"IF(D$9=\"\",\"\",表１_対象物質一覧!$C$4&(MID($D$6, 3, 2))&D$9)","v":""},"",4,null,null,null,null,0,"",4,null,null,null,null,{"$f":"IF(Q10=\"\",P10,P10*Q10)","v":0}]
["用途番号",null,null,null,"",5,null,null,null,null,0,"",5,null,null,null,null,0]
[null,null,null,null,"",6,null,null,null,null,0,"",6,null,null,null,null,0]
[null,null,null,null,"",7,null,null,null,null,0,"",7,null,null,null,null,0]
[null,null,null,null,"",8,null,null,null,null,0,"",8,null,null,null,null,0]
[null,null,null,null,"",9,null,null,null,null,0,"",9,null,null,null,null,0]
[null,null,null,null,"",10,null,null,null,null,0,"",10,null,null,null,null,0]
["申出書に記載の「前年度の実績数量」",null,null,null,"",11,null,null,null,null,0,"",11,null,null,null,null,0]
["実績数量",{"$f":"$K$4","v":0},{"$f":"$K$5","v":0},{"$f":"$K$6","v":0},"",12,null,null,null,null,0,"",12,null,null,null,null,0]
["確認を受けている中間物等の分類",null,null,null,"",13,null,null,null,null,0,"",13,null,null,null,null,0]
["用途追加手続を省略して追加した用途の用途番号",null,null,null,"",14,null,null,null,null,0,"",14,null,null,null,null,0]
["備考（３年連続して実積数量がゼロの場合はその理由）",null,null,null,"",15,null,null,null,null,0,"",15,null,null,null,null,0]
["用途証明書なしであって確認年月日が複数ある場合の",null,null,null,"",16,null,null,null,null,0,"",16,null,null,null,null,0]
["確認年月日（上段）及び確認数量(kg)（下段）",null,null,null,"",17,null,null,null,null,0,"",17,null,null,null,null,0]
[null,null,null,null,"",18,null,null,null,null,0,"",18,null,null,null,null,0]
[null,null,null,null,"",19,null,null,null,null,0,"",19,null,null,null,null,0]
[null,null,null,null,"",20,null,null,null,null,0,"",20,null,null,null,null,0]
[null,null,null,null,"",21,null,null,null,null,0,"",21,null,null,null,null,0]
[null,null,null,null,"",22,null,null,null,null,0,"",22,null,null,null,null,0]
[null,null,null,null,"",23,null,null,null,null,0,"",23,null,null,null,null,0]
[null,null,null,null,"",24,null,null,null,null,0,"",24,null,null,null,null,0]
[null,null,null,null,"",25,null,null,null,null,0,"",25,null,null,null,null,0]
[null,null,null,null,"",26,null,null,null,null,0,"",26,null,null,null,null,0]
[null,null,null,null,"",27,null,null,null,null,0,"",27,null,null,null,null,0]
[null,null,null,null,"",28,null,null,null,null,0,"",28,null,null,null,null,0]
[null,null,null,null,"",29,null,null,null,null,0,"",29,null,null,null,null,0]
[null,null,null,null,"",30,null,null,null,null,0,"",30,null,null,null,null,0]
[null,null,null,null,"",31,null,null,null,null,0,"",31,null,null,null,null,0]
[null,null,null,null,"",32,null,null,null,null,0,"",32,null,null,null,null,0]
[null,null,null,null,{"$f":"IF(H39=\"\", \"\",YEAR(H39) - IF(MONTH(H39)<4, 1, 0) & \"年度\")","v":""},33,null,null,null,null,0,{"$f":"IF(O39=\"\", \"\",YEAR(O39) - IF(MONTH(O39)<4, 1, 0) & \"年度\")","v":""},33,null,null,null,null,0]
[null,null,null,null,"",34,null,null,null,null,0,"",34,null,null,null,null,0]
[null,null,null,null,"",35,null,null,null,null,0,"",35,null,null,null,null,0]
["同一年度で同じ化学物質を複数申請している場合は、その確認を受けた事項",null,null,null,"",36,null,null,null,null,0,"",36,null,null,null,null,0]
[null,{"$f":"$B$6","v":"2024年度"},{"$f":"$C$6","v":"2025年度"},{"$f":"$D$6","v":"2026年度"},"",37,null,null,null,null,0,"",37,null,null,null,null,0]
["複数手続きの種類",null,null,null,"",38,null,null,null,null,0,"",38,null,null,null,null,0]
["確認年月日",null,null,null,"",39,null,null,null,null,0,"",39,null,null,null,null,0]
["確認数量（kg）",null,null,null,"",40,null,null,null,null,0,"",40,null,null,null,null,0]
["申出番号（受付コード下4桁）",null,null,null,"",41,null,null,null,null,0,"",41,null,null,null,null,0]
["受付コード",{"$f":"IF(B$47=\"\",\"\",表１_対象物質一覧!$C$4&(MID($B$6,3,2)&B$47))","v":""},{"$f":"IF(C$47=\"\",\"\",表１_対象物質一覧!$C$4&(MID($C$6, 3, 2))&C$47)","v":""},{"$f":"IF(D$47=\"\",\"\",表１_対象物質一覧!$C$4&(MID($D$6, 3, 2))&D$47)","v":""},"",42,null,null,null,null,0,"",42,null,null,null,null,0]
["用途番号",null,null,null,"",43,null,null,null,null,0,"",43,null,null,null,null,0]
[null,null,null,null,"",44,null,null,null,null,0,"",44,null,null,null,null,0]
[null,null,null,null,"",45,null,null,null,null,0,"",45,null,null,null,null,0]
[null,null,null,null,"",46,null,null,null,null,0,"",46,null,null,null,null,0]
[null,null,null,null,"",47,null,null,null,null,0,"",47,null,null,null,null,0]
[null,null,null,null,"",48,null,null,null,null,0,"",48,null,null,null,null,0]
[null,null,null,null,"",49,null,null,null,null,0,"",49,null,null,null,null,0]
[null,{"$f":"$B$6","v":"2024年度"},{"$f":"$C$6","v":"2025年度"},{"$f":"$D$6","v":"2026年度"},"",50,null,null,null,null,0,"",50,null,null,null,null,0]
["複数手続きの種類",null,null,null,"",51,null,null,null,null,0,"",51,null,null,null,null,0]
["確認年月日",null,null,null,"",52,null,null,null,null,0,"",52,null,null,null,null,0]
["確認数量（kg）",null,null,null,"",53,null,null,null,null,0,"",53,null,null,null,null,0]
["申出番号（受付コード下4桁）",null,null,null,"",54,null,null,null,null,0,"",54,null,null,null,null,0]
["受付コード",{"$f":"IF(B$60=\"\",\"\",表１_対象物質一覧!$C$4&(MID($B$6,3,2)&B$60))","v":""},{"$f":"IF(C$60=\"\",\"\",表１_対象物質一覧!$C$4&(MID($C$6, 3, 2))&C$60)","v":""},{"$f":"IF(D$60=\"\",\"\",表１_対象物質一覧!$C$4&(MID($D$6, 3, 2))&D$60)","v":""},"",55,null,null,null,null,0,"",55,null,null,null,null,0]
["用途番号",null,null,null,"",56,null,null,null,null,0,"",56,null,null,null,null,0]
[null,null,null,null,"",57,null,null,null,null,0,"",57,null,null,null,null,0]
[null,null,null,null,"",58,null,null,null,null,0,"",58,null,null,null,null,0]
[null,null,null,null,"",59,null,null,null,null,0,"",59,null,null,null,null,0]
[null,null,null,null,"",60,null,null,null,null,0,"",60,null,null,null,null,0]
[null,null,null,null,"",61,null,null,null,null,0,"",61,null,null,null,null,0]
[null,null,null,null,"",62,null,null,null,null,0,"",62,null,null,null,null,0]
[null,{"$f":"$B$6","v":"2024年度"},{"$f":"$C$6","v":"2025年度"},{"$f":"$D$6","v":"2026年度"},"",63,null,null,null,null,0,"",63,null,null,null,null,0]
["複数手続きの種類",null,null,null,"",64,null,null,null,null,0,"",64,null,null,null,null,0]
["確認年月日",null,null,null,{"$f":"IF(H71=\"\", \"\",YEAR(H71) - IF(MONTH(H71)<4, 1, 0) & \"年度\")","v":""},65,null,null,null,null,0,{"$f":"IF(O71=\"\", \"\",YEAR(O71) - IF(MONTH(O71)<4, 1, 0) & \"年度\")","v":""},65,null,null,null,null,0]
["確認数量（kg）",null,null,null,"",66,null,null,null,null,0,"",66,null,null,null,null,0]
["申出番号（受付コード下4桁）",null,null,null,"",67,null,null,null,null,{"$f":"IF(J73=\"\",I73,I73*J73)","v":0},"",67,null,null,null,null,{"$f":"IF(Q73=\"\",P73,P73*Q73)","v":0}]
["受付コード",{"$f":"IF(B$73=\"\",\"\",表１_対象物質一覧!$C$4&(MID($B$6,3,2)&B$73))","v":""},{"$f":"IF(C$73=\"\",\"\",表１_対象物質一覧!$C$4&(MID($C$6, 3, 2))&C$73)","v":""},{"$f":"IF(D$73=\"\",\"\",表１_対象物質一覧!$C$4&(MID($D$6, 3, 2))&D$73)","v":""},"",68,null,null,null,null,0,"",68,null,null,null,null,0]
["用途番号",null,null,null,"",69,null,null,null,null,0,"",69,null,null,null,null,0]
[null,null,null,null,"",70,null,null,null,null,0,"",70,null,null,null,null,0]
[null,null,null,null,"",71,null,null,null,null,0,"",71,null,null,null,null,0]
[null,null,null,null,"",72,null,null,null,null,0,"",72,null,null,null,null,0]
[null,null,null,null,"",73,null,null,null,null,0,"",73,null,null,null,null,0]
[null,null,null,null,"",74,null,null,null,null,0,"",74,null,null,null,null,0]
[null,null,null,null,"",75,null,null,null,null,0,"",75,null,null,null,null,0]
["備考",null,null,null,"",76,null,null,null,null,0,"",76,null,null,null,null,0]
[null,null,null,null,"",77,null,null,null,null,0,"",77,null,null,null,null,0]
[null,null,null,null,"",78,null,null,null,null,0,"",78,null,null,null,null,0]
[null,null,null,null,"",79,null,null,null,null,0,"",79,null,null,null,null,0]
[null,null,null,null,"",80,null,null,null,null,0,"",80,null,null,null,null,0]
[null,null,null,null,"",81,null,null,null,null,0,"",81,null,null,null,null,0]
[null,null,null,null,"",82,null,null,null,null,0,"",82,null,null,null,null,0]
[null,null,null,null,"",83,null,null,null,null,0,"",83,null,null,null,null,0]
[null,null,null,null,"",84,null,null,null,null,0,"",84,null,null,null,null,0]
[null,null,null,null,"",85,null,null,null,null,0,"",85,null,null,null,null,0]
[null,null,null,null,"",86,null,null,null,null,0,"",86,null,null,null,null,0]
[null,null,null,null,"",87,null,null,null,null,0,"",87,null,null,null,null,0]
[null,null,null,null,"",88,null,null,null,null,0,"",88,null,null,null,null,0]
[null,null,null,null,"",89,null,null,null,null,0,"",89,null,null,null,null,0]
[null,null,null,null,"",90,null,null,null,null,0,"",90,null,null,null,null,0]
[null,null,null,null,"",91,null,null,null,null,0,"",91,null,null,null,null,0]
[null,null,null,null,"",92,null,null,null,null,0,"",92,null,null,null,null,0]
[null,null,null,null,"",93,null,null,null,null,0,"",93,null,null,null,null,0]
[null,null,null,null,"",94,null,null,null,null,0,"",94,null,null,null,null,0]
[null,null,null,null,"",95,null,null,null,null,0,"",95,null,null,null,null,0]
[null,null,null,null,"",96,null,null,null,null,0,"",96,null,null,null,null,0]
[null,null,null,null,"",97,null,null,null,null,0,"",97,null,null,null,null,0]
[null,null,null,null,"",98,null,null,null,null,0,"",98,null,null,null,null,0]
[null,null,null,null,"",99,null,null,null,null,{"$f":"IF(J105=\"\",I105,I105*J105)","v":0},"",99,null,null,null,null,{"$f":"IF(Q105=\"\",P105,P105*Q105)","v":0}]
[null,null,null,null,"",100,null,null,null,null,{"$f":"IF(J106=\"\",I106,I106*J106)","v":0},"",100,null,null,null,null,{"$f":"IF(Q106=\"\",P106,P106*Q106)","v":0}]

{"sheet":"28","index":28,"n_rows":106,"n_cols":20,"rows_kept":106,"cut":false,"hidden":false,"merged":[[1,5,1,6],[1,12,1,13],[3,5,5,6],[3,12,5,13]]}
["「表１_対象物質一覧」に戻る"]
["事業所名",null,null,null,null,"輸入量",null,null,null,null,null,null,"払出量"]
["新規化学物質の名称",null,null,null,null,"Ｎｏ",{"$f":"_xlfn.IFS(F2=\"製造量\",\"製造ロット\",F2=\"輸入量\",\"輸入ロット\",F2=\"製造・輸入量\",\"製造・輸入ロット\")","v":"輸入ロット"},{"$f":"_xlfn.IFS(F2=\"製造量\",\"製造日　（最終製品日）\",F2=\"輸入量\",\"輸入許可日\",F2=\"製造・輸入量\",\"製造日・輸入許可日\")","v":"輸入許可日"},{"$f":"_xlfn.IFS(F2=\"製造量\",\"製造数量（kg)\",F2=\"輸入量\",\"輸入数量（kg)\",F2=\"製造・輸入量\",\"製造・輸入数量（kg)\")","v":"輸入数量（kg)"},"含有率（％）","含有率換算数量(kg)",null,"Ｎｏ","ロット","払出日","払出数量（kg)","含有率（％）","含有率換算数量(kg)","用途番号","変更前ロット"]
["略称",null,null,null,null,"実績数量合計",null,{"$f":"B6","v":"2024年度"},{"$f":"SUMIF($E$7:$E106,$H$4,$I$7:$I106)","v":0},"-",{"$f":"SUMIF($E$7:$E106,$H$4,$K$7:$K106)","v":0},null,"払出数量合計",null,{"$f":"B6","v":"2024年度"},{"$f":"SUMIF($L$7:$L95,$O$4,$P$7:$P106)","v":0},"-",{"$f":"SUMIF($L$7:$L106,$H$4,$R$7:$R106)","v":0},"-","-"]
[null,null,null,null,null,null,null,{"$f":"C6","v":"2025年度"},{"$f":"SUMIF($E$7:$E106,$H$5,$I$7:$I106)","v":0},"-",{"$f":"SUMIF($E$7:$E106,$H$5,$K$7:$K106)","v":0},null,null,null,{"$f":"C6","v":"2025年度"},{"$f":"SUMIF($L$7:$L95,$O$5,$P$7:$P106)","v":0},"-",{"$f":"SUMIF($E$7:$E106,$H$5,$K$7:$K106)","v":0},"-","-"]
[null,{"$f":"'1'!B6","v":"2024年度"},{"$f":"'1'!C6","v":"2025年度"},{"$f":"'1'!D6","v":"2026年度"},null,null,null,{"$f":"D6","v":"2026年度"},{"$f":"SUMIF($E$7:$E106,$H$6,$I$7:$I106)","v":0},"-",{"$f":"SUMIF($E$7:$E106,$H$6,$K$7:$K106)","v":0},null,null,null,{"$f":"D6","v":"2026年度"},{"$f":"SUMIF($L$7:$L95,$O$6,$P$7:$P106)","v":0},"-",{"$f":"SUMIF($E$7:$E106,$H$6,$K$7:$K106)","v":0},"-","-"]
["確認年月日",null,null,null,{"$f":"IF(H7=\"\", \"\",YEAR(H7) - IF(MONTH(H7)<4, 1, 0) & \"年度\")","v":""},1,null,null,null,null,{"$f":"IF(J7=\"\",I7,I7*J7)","v":0},{"$f":"IF(O7=\"\", \"\",YEAR(O7) - IF(MONTH(O7)<4, 1, 0) & \"年度\")","v":""},1,null,null,null,null,{"$f":"IF(Q7=\"\",P7,P7*Q7)","v":0}]
["確認数量（kg）",null,null,null,"",2,null,null,null,null,{"$f":"IF(J8=\"\",I8,I8*J8)","v":0},"",2,null,null,null,null,{"$f":"IF(Q8=\"\",P8,P8*Q8)","v":0}]
["申出番号（受付コード下4桁）",null,null,null,"",3,null,null,null,null,{"$f":"IF(J9=\"\",I9,I9*J9)","v":0},"",3,null,null,null,null,{"$f":"IF(Q9=\"\",P9,P9*Q9)","v":0}]
["受付コード",{"$f":"IF(B$9=\"\",\"\",表１_対象物質一覧!$C$4&(MID($B$6,3,2)&B$9))","v":""},{"$f":"IF(C$9=\"\",\"\",表１_対象物質一覧!$C$4&(MID($C$6, 3, 2))&C$9)","v":""},{"$f":"IF(D$9=\"\",\"\",表１_対象物質一覧!$C$4&(MID($D$6, 3, 2))&D$9)","v":""},"",4,null,null,null,null,0,"",4,null,null,null,null,{"$f":"IF(Q10=\"\",P10,P10*Q10)","v":0}]
["用途番号",null,null,null,"",5,null,null,null,null,0,"",5,null,null,null,null,0]
[null,null,null,null,"",6,null,null,null,null,0,"",6,null,null,null,null,0]
[null,null,null,null,"",7,null,null,null,null,0,"",7,null,null,null,null,0]
[null,null,null,null,"",8,null,null,null,null,0,"",8,null,null,null,null,0]
[null,null,null,null,"",9,null,null,null,null,0,"",9,null,null,null,null,0]
[null,null,null,null,"",10,null,null,null,null,0,"",10,null,null,null,null,0]
["申出書に記載の「前年度の実績数量」",null,null,null,"",11,null,null,null,null,0,"",11,null,null,null,null,0]
["実績数量",{"$f":"$K$4","v":0},{"$f":"$K$5","v":0},{"$f":"$K$6","v":0},"",12,null,null,null,null,0,"",12,null,null,null,null,0]
["確認を受けている中間物等の分類",null,null,null,"",13,null,null,null,null,0,"",13,null,null,null,null,0]
["用途追加手続を省略して追加した用途の用途番号",null,null,null,"",14,null,null,null,null,0,"",14,null,null,null,null,0]
["備考（３年連続して実積数量がゼロの場合はその理由）",null,null,null,"",15,null,null,null,null,0,"",15,null,null,null,null,0]
["用途証明書なしであって確認年月日が複数ある場合の",null,null,null,"",16,null,null,null,null,0,"",16,null,null,null,null,0]
["確認年月日（上段）及び確認数量(kg)（下段）",null,null,null,"",17,null,null,null,null,0,"",17,null,null,null,null,0]
[null,null,null,null,"",18,null,null,null,null,0,"",18,null,null,null,null,0]
[null,null,null,null,"",19,null,null,null,null,0,"",19,null,null,null,null,0]
[null,null,null,null,"",20,null,null,null,null,0,"",20,null,null,null,null,0]
[null,null,null,null,"",21,null,null,null,null,0,"",21,null,null,null,null,0]
[null,null,null,null,"",22,null,null,null,null,0,"",22,null,null,null,null,0]
[null,null,null,null,"",23,null,null,null,null,0,"",23,null,null,null,null,0]
[null,null,null,null,"",24,null,null,null,null,0,"",24,null,null,null,null,0]
[null,null,null,null,"",25,null,null,null,null,0,"",25,null,null,null,null,0]
[null,null,null,null,"",26,null,null,null,null,0,"",26,null,null,null,null,0]
[null,null,null,null,"",27,null,null,null,null,0,"",27,null,null,null,null,0]
[null,null,null,null,"",28,null,null,null,null,0,"",28,null,null,null,null,0]
[null,null,null,null,"",29,null,null,null,null,0,"",29,null,null,null,null,0]
[null,null,null,null,"",30,null,null,null,null,0,"",30,null,null,null,null,0]
[null,null,null,null,"",31,null,null,null,null,0,"",31,null,null,null,null,0]
[null,null,null,null,"",32,null,null,null,null,0,"",32,null,null,null,null,0]
[null,null,null,null,{"$f":"IF(H39=\"\", \"\",YEAR(H39) - IF(MONTH(H39)<4, 1, 0) & \"年度\")","v":""},33,null,null,null,null,0,{"$f":"IF(O39=\"\", \"\",YEAR(O39) - IF(MONTH(O39)<4, 1, 0) & \"年度\")","v":""},33,null,null,null,null,0]
[null,null,null,null,"",34,null,null,null,null,0,"",34,null,null,null,null,0]
[null,null,null,null,"",35,null,null,null,null,0,"",35,null,null,null,null,0]
["同一年度で同じ化学物質を複数申請している場合は、その確認を受けた事項",null,null,null,"",36,null,null,null,null,0,"",36,null,null,null,null,0]
[null,{"$f":"$B$6","v":"2024年度"},{"$f":"$C$6","v":"2025年度"},{"$f":"$D$6","v":"2026年度"},"",37,null,null,null,null,0,"",37,null,null,null,null,0]
["複数手続きの種類",null,null,null,"",38,null,null,null,null,0,"",38,null,null,null,null,0]
["確認年月日",null,null,null,"",39,null,null,null,null,0,"",39,null,null,null,null,0]
["確認数量（kg）",null,null,null,"",40,null,null,null,null,0,"",40,null,null,null,null,0]
["申出番号（受付コード下4桁）",null,null,null,"",41,null,null,null,null,0,"",41,null,null,null,null,0]
["受付コード",{"$f":"IF(B$47=\"\",\"\",表１_対象物質一覧!$C$4&(MID($B$6,3,2)&B$47))","v":""},{"$f":"IF(C$47=\"\",\"\",表１_対象物質一覧!$C$4&(MID($C$6, 3, 2))&C$47)","v":""},{"$f":"IF(D$47=\"\",\"\",表１_対象物質一覧!$C$4&(MID($D$6, 3, 2))&D$47)","v":""},"",42,null,null,null,null,0,"",42,null,null,null,null,0]
["用途番号",null,null,null,"",43,null,null,null,null,0,"",43,null,null,null,null,0]
[null,null,null,null,"",44,null,null,null,null,0,"",44,null,null,null,null,0]
[null,null,null,null,"",45,null,null,null,null,0,"",45,null,null,null,null,0]
[null,null,null,null,"",46,null,null,null,null,0,"",46,null,null,null,null,0]
[null,null,null,null,"",47,null,null,null,null,0,"",47,null,null,null,null,0]
[null,null,null,null,"",48,null,null,null,null,0,"",48,null,null,null,null,0]
[null,null,null,null,"",49,null,null,null,null,0,"",49,null,null,null,null,0]
[null,{"$f":"$B$6","v":"2024年度"},{"$f":"$C$6","v":"2025年度"},{"$f":"$D$6","v":"2026年度"},"",50,null,null,null,null,0,"",50,null,null,null,null,0]
["複数手続きの種類",null,null,null,"",51,null,null,null,null,0,"",51,null,null,null,null,0]
["確認年月日",null,null,null,"",52,null,null,null,null,0,"",52,null,null,null,null,0]
["確認数量（kg）",null,null,null,"",53,null,null,null,null,0,"",53,null,null,null,null,0]
["申出番号（受付コード下4桁）",null,null,null,"",54,null,null,null,null,0,"",54,null,null,null,null,0]
["受付コード",{"$f":"IF(B$60=\"\",\"\",表１_対象物質一覧!$C$4&(MID($B$6,3,2)&B$60))","v":""},{"$f":"IF(C$60=\"\",\"\",表１_対象物質一覧!$C$4&(MID($C$6, 3, 2))&C$60)","v":""},{"$f":"IF(D$60=\"\",\"\",表１_対象物質一覧!$C$4&(MID($D$6, 3, 2))&D$60)","v":""},"",55,null,null,null,null,0,"",55,null,null,null,null,0]
["用途番号",null,null,null,"",56,null,null,null,null,0,"",56,null,null,null,null,0]
[null,null,null,null,"",57,null,null,null,null,0,"",57,null,null,null,null,0]
[null,null,null,null,"",58,null,null,null,null,0,"",58,null,null,null,null,0]
[null,null,null,null,"",59,null,null,null,null,0,"",59,null,null,null,null,0]
[null,null,null,null,"",60,null,null,null,null,0,"",60,null,null,null,null,0]
[null,null,null,null,"",61,null,null,null,null,0,"",61,null,null,null,null,0]
[null,null,null,null,"",62,null,null,null,null,0,"",62,null,null,null,null,0]
[null,{"$f":"$B$6","v":"2024年度"},{"$f":"$C$6","v":"2025年度"},{"$f":"$D$6","v":"2026年度"},"",63,null,null,null,null,0,"",63,null,null,null,null,0]
["複数手続きの種類",null,null,null,"",64,null,null,null,null,0,"",64,null,null,null,null,0]
["確認年月日",null,null,null,{"$f":"IF(H71=\"\", \"\",YEAR(H71) - IF(MONTH(H71)<4, 1, 0) & \"年度\")","v":""},65,null,null,null,null,0,{"$f":"IF(O71=\"\", \"\",YEAR(O71) - IF(MONTH(O71)<4, 1, 0) & \"年度\")","v":""},65,null,null,null,null,0]
["確認数量（kg）",null,null,null,"",66,null,null,null,null,0,"",66,null,null,null,null,0]
["申出番号（受付コード下4桁）",null,null,null,"",67,null,null,null,null,{"$f":"IF(J73=\"\",I73,I73*J73)","v":0},"",67,null,null,null,null,{"$f":"IF(Q73=\"\",P73,P73*Q73)","v":0}]
["受付コード",{"$f":"IF(B$73=\"\",\"\",表１_対象物質一覧!$C$4&(MID($B$6,3,2)&B$73))","v":""},{"$f":"IF(C$73=\"\",\"\",表１_対象物質一覧!$C$4&(MID($C$6, 3, 2))&C$73)","v":""},{"$f":"IF(D$73=\"\",\"\",表１_対象物質一覧!$C$4&(MID($D$6, 3, 2))&D$73)","v":""},"",68,null,null,null,null,0,"",68,null,null,null,null,0]
["用途番号",null,null,null,"",69,null,null,null,null,0,"",69,null,null,null,null,0]
[null,null,null,null,"",70,null,null,null,null,0,"",70,null,null,null,null,0]
[null,null,null,null,"",71,null,null,null,null,0,"",71,null,null,null,null,0]
[null,null,null,null,"",72,null,null,null,null,0,"",72,null,null,null,null,0]
[null,null,null,null,"",73,null,null,null,null,0,"",73,null,null,null,null,0]
[null,null,null,null,"",74,null,null,null,null,0,"",74,null,null,null,null,0]
[null,null,null,null,"",75,null,null,null,null,0,"",75,null,null,null,null,0]
["備考",null,null,null,"",76,null,null,null,null,0,"",76,null,null,null,null,0]
[null,null,null,null,"",77,null,null,null,null,0,"",77,null,null,null,null,0]
[null,null,null,null,"",78,null,null,null,null,0,"",78,null,null,null,null,0]
[null,null,null,null,"",79,null,null,null,null,0,"",79,null,null,null,null,0]
[null,null,null,null,"",80,null,null,null,null,0,"",80,null,null,null,null,0]
[null,null,null,null,"",81,null,null,null,null,0,"",81,null,null,null,null,0]
[null,null,null,null,"",82,null,null,null,null,0,"",82,null,null,null,null,0]
[null,null,null,null,"",83,null,null,null,null,0,"",83,null,null,null,null,0]
[null,null,null,null,"",84,null,null,null,null,0,"",84,null,null,null,null,0]
[null,null,null,null,"",85,null,null,null,null,0,"",85,null,null,null,null,0]
[null,null,null,null,"",86,null,null,null,null,0,"",86,null,null,null,null,0]
[null,null,null,null,"",87,null,null,null,null,0,"",87,null,null,null,null,0]
[null,null,null,null,"",88,null,null,null,null,0,"",88,null,null,null,null,0]
[null,null,null,null,"",89,null,null,null,null,0,"",89,null,null,null,null,0]
[null,null,null,null,"",90,null,null,null,null,0,"",90,null,null,null,null,0]
[null,null,null,null,"",91,null,null,null,null,0,"",91,null,null,null,null,0]
[null,null,null,null,"",92,null,null,null,null,0,"",92,null,null,null,null,0]
[null,null,null,null,"",93,null,null,null,null,0,"",93,null,null,null,null,0]
[null,null,null,null,"",94,null,null,null,null,0,"",94,null,null,null,null,0]
[null,null,null,null,"",95,null,null,null,null,0,"",95,null,null,null,null,0]
[null,null,null,null,"",96,null,null,null,null,0,"",96,null,null,null,null,0]
[null,null,null,null,"",97,null,null,null,null,0,"",97,null,null,null,null,0]
[null,null,null,null,"",98,null,null,null,null,0,"",98,null,null,null,null,0]
[null,null,null,null,"",99,null,null,null,null,{"$f":"IF(J105=\"\",I105,I105*J105)","v":0},"",99,null,null,null,null,{"$f":"IF(Q105=\"\",P105,P105*Q105)","v":0}]
[null,null,null,null,"",100,null,null,null,null,{"$f":"IF(J106=\"\",I106,I106*J106)","v":0},"",100,null,null,null,null,{"$f":"IF(Q106=\"\",P106,P106*Q106)","v":0}]

{"sheet":"29","index":29,"n_rows":106,"n_cols":20,"rows_kept":106,"cut":false,"hidden":false,"merged":[[1,5,1,6],[1,12,1,13],[3,5,5,6],[3,12,5,13]]}
["「表１_対象物質一覧」に戻る"]
["事業所名",null,null,null,null,"輸入量",null,null,null,null,null,null,"払出量"]
["新規化学物質の名称",null,null,null,null,"Ｎｏ",{"$f":"_xlfn.IFS(F2=\"製造量\",\"製造ロット\",F2=\"輸入量\",\"輸入ロット\",F2=\"製造・輸入量\",\"製造・輸入ロット\")","v":"輸入ロット"},{"$f":"_xlfn.IFS(F2=\"製造量\",\"製造日　（最終製品日）\",F2=\"輸入量\",\"輸入許可日\",F2=\"製造・輸入量\",\"製造日・輸入許可日\")","v":"輸入許可日"},{"$f":"_xlfn.IFS(F2=\"製造量\",\"製造数量（kg)\",F2=\"輸入量\",\"輸入数量（kg)\",F2=\"製造・輸入量\",\"製造・輸入数量（kg)\")","v":"輸入数量（kg)"},"含有率（％）","含有率換算数量(kg)",null,"Ｎｏ","ロット","払出日","払出数量（kg)","含有率（％）","含有率換算数量(kg)","用途番号","変更前ロット"]
["略称",null,null,null,null,"実績数量合計",null,{"$f":"B6","v":"2024年度"},{"$f":"SUMIF($E$7:$E106,$H$4,$I$7:$I106)","v":0},"-",{"$f":"SUMIF($E$7:$E106,$H$4,$K$7:$K106)","v":0},null,"払出数量合計",null,{"$f":"B6","v":"2024年度"},{"$f":"SUMIF($L$7:$L95,$O$4,$P$7:$P106)","v":0},"-",{"$f":"SUMIF($L$7:$L106,$H$4,$R$7:$R106)","v":0},"-","-"]
[null,null,null,null,null,null,null,{"$f":"C6","v":"2025年度"},{"$f":"SUMIF($E$7:$E106,$H$5,$I$7:$I106)","v":0},"-",{"$f":"SUMIF($E$7:$E106,$H$5,$K$7:$K106)","v":0},null,null,null,{"$f":"C6","v":"2025年度"},{"$f":"SUMIF($L$7:$L95,$O$5,$P$7:$P106)","v":0},"-",{"$f":"SUMIF($E$7:$E106,$H$5,$K$7:$K106)","v":0},"-","-"]
[null,{"$f":"'1'!B6","v":"2024年度"},{"$f":"'1'!C6","v":"2025年度"},{"$f":"'1'!D6","v":"2026年度"},null,null,null,{"$f":"D6","v":"2026年度"},{"$f":"SUMIF($E$7:$E106,$H$6,$I$7:$I106)","v":0},"-",{"$f":"SUMIF($E$7:$E106,$H$6,$K$7:$K106)","v":0},null,null,null,{"$f":"D6","v":"2026年度"},{"$f":"SUMIF($L$7:$L95,$O$6,$P$7:$P106)","v":0},"-",{"$f":"SUMIF($E$7:$E106,$H$6,$K$7:$K106)","v":0},"-","-"]
["確認年月日",null,null,null,{"$f":"IF(H7=\"\", \"\",YEAR(H7) - IF(MONTH(H7)<4, 1, 0) & \"年度\")","v":""},1,null,null,null,null,{"$f":"IF(J7=\"\",I7,I7*J7)","v":0},{"$f":"IF(O7=\"\", \"\",YEAR(O7) - IF(MONTH(O7)<4, 1, 0) & \"年度\")","v":""},1,null,null,null,null,{"$f":"IF(Q7=\"\",P7,P7*Q7)","v":0}]
["確認数量（kg）",null,null,null,"",2,null,null,null,null,{"$f":"IF(J8=\"\",I8,I8*J8)","v":0},"",2,null,null,null,null,{"$f":"IF(Q8=\"\",P8,P8*Q8)","v":0}]
["申出番号（受付コード下4桁）",null,null,null,"",3,null,null,null,null,{"$f":"IF(J9=\"\",I9,I9*J9)","v":0},"",3,null,null,null,null,{"$f":"IF(Q9=\"\",P9,P9*Q9)","v":0}]
["受付コード",{"$f":"IF(B$9=\"\",\"\",表１_対象物質一覧!$C$4&(MID($B$6,3,2)&B$9))","v":""},{"$f":"IF(C$9=\"\",\"\",表１_対象物質一覧!$C$4&(MID($C$6, 3, 2))&C$9)","v":""},{"$f":"IF(D$9=\"\",\"\",表１_対象物質一覧!$C$4&(MID($D$6, 3, 2))&D$9)","v":""},"",4,null,null,null,null,0,"",4,null,null,null,null,{"$f":"IF(Q10=\"\",P10,P10*Q10)","v":0}]
["用途番号",null,null,null,"",5,null,null,null,null,0,"",5,null,null,null,null,0]
[null,null,null,null,"",6,null,null,null,null,0,"",6,null,null,null,null,0]
[null,null,null,null,"",7,null,null,null,null,0,"",7,null,null,null,null,0]
[null,null,null,null,"",8,null,null,null,null,0,"",8,null,null,null,null,0]
[null,null,null,null,"",9,null,null,null,null,0,"",9,null,null,null,null,0]
[null,null,null,null,"",10,null,null,null,null,0,"",10,null,null,null,null,0]
["申出書に記載の「前年度の実績数量」",null,null,null,"",11,null,null,null,null,0,"",11,null,null,null,null,0]
["実績数量",{"$f":"$K$4","v":0},{"$f":"$K$5","v":0},{"$f":"$K$6","v":0},"",12,null,null,null,null,0,"",12,null,null,null,null,0]
["確認を受けている中間物等の分類",null,null,null,"",13,null,null,null,null,0,"",13,null,null,null,null,0]
["用途追加手続を省略して追加した用途の用途番号",null,null,null,"",14,null,null,null,null,0,"",14,null,null,null,null,0]
["備考（３年連続して実積数量がゼロの場合はその理由）",null,null,null,"",15,null,null,null,null,0,"",15,null,null,null,null,0]
["用途証明書なしであって確認年月日が複数ある場合の",null,null,null,"",16,null,null,null,null,0,"",16,null,null,null,null,0]
["確認年月日（上段）及び確認数量(kg)（下段）",null,null,null,"",17,null,null,null,null,0,"",17,null,null,null,null,0]
[null,null,null,null,"",18,null,null,null,null,0,"",18,null,null,null,null,0]
[null,null,null,null,"",19,null,null,null,null,0,"",19,null,null,null,null,0]
[null,null,null,null,"",20,null,null,null,null,0,"",20,null,null,null,null,0]
[null,null,null,null,"",21,null,null,null,null,0,"",21,null,null,null,null,0]
[null,null,null,null,"",22,null,null,null,null,0,"",22,null,null,null,null,0]
[null,null,null,null,"",23,null,null,null,null,0,"",23,null,null,null,null,0]
[null,null,null,null,"",24,null,null,null,null,0,"",24,null,null,null,null,0]
[null,null,null,null,"",25,null,null,null,null,0,"",25,null,null,null,null,0]
[null,null,null,null,"",26,null,null,null,null,0,"",26,null,null,null,null,0]
[null,null,null,null,"",27,null,null,null,null,0,"",27,null,null,null,null,0]
[null,null,null,null,"",28,null,null,null,null,0,"",28,null,null,null,null,0]
[null,null,null,null,"",29,null,null,null,null,0,"",29,null,null,null,null,0]
[null,null,null,null,"",30,null,null,null,null,0,"",30,null,null,null,null,0]
[null,null,null,null,"",31,null,null,null,null,0,"",31,null,null,null,null,0]
[null,null,null,null,"",32,null,null,null,null,0,"",32,null,null,null,null,0]
[null,null,null,null,{"$f":"IF(H39=\"\", \"\",YEAR(H39) - IF(MONTH(H39)<4, 1, 0) & \"年度\")","v":""},33,null,null,null,null,0,{"$f":"IF(O39=\"\", \"\",YEAR(O39) - IF(MONTH(O39)<4, 1, 0) & \"年度\")","v":""},33,null,null,null,null,0]
[null,null,null,null,"",34,null,null,null,null,0,"",34,null,null,null,null,0]
[null,null,null,null,"",35,null,null,null,null,0,"",35,null,null,null,null,0]
["同一年度で同じ化学物質を複数申請している場合は、その確認を受けた事項",null,null,null,"",36,null,null,null,null,0,"",36,null,null,null,null,0]
[null,{"$f":"$B$6","v":"2024年度"},{"$f":"$C$6","v":"2025年度"},{"$f":"$D$6","v":"2026年度"},"",37,null,null,null,null,0,"",37,null,null,null,null,0]
["複数手続きの種類",null,null,null,"",38,null,null,null,null,0,"",38,null,null,null,null,0]
["確認年月日",null,null,null,"",39,null,null,null,null,0,"",39,null,null,null,null,0]
["確認数量（kg）",null,null,null,"",40,null,null,null,null,0,"",40,null,null,null,null,0]
["申出番号（受付コード下4桁）",null,null,null,"",41,null,null,null,null,0,"",41,null,null,null,null,0]
["受付コード",{"$f":"IF(B$47=\"\",\"\",表１_対象物質一覧!$C$4&(MID($B$6,3,2)&B$47))","v":""},{"$f":"IF(C$47=\"\",\"\",表１_対象物質一覧!$C$4&(MID($C$6, 3, 2))&C$47)","v":""},{"$f":"IF(D$47=\"\",\"\",表１_対象物質一覧!$C$4&(MID($D$6, 3, 2))&D$47)","v":""},"",42,null,null,null,null,0,"",42,null,null,null,null,0]
["用途番号",null,null,null,"",43,null,null,null,null,0,"",43,null,null,null,null,0]
[null,null,null,null,"",44,null,null,null,null,0,"",44,null,null,null,null,0]
[null,null,null,null,"",45,null,null,null,null,0,"",45,null,null,null,null,0]
[null,null,null,null,"",46,null,null,null,null,0,"",46,null,null,null,null,0]
[null,null,null,null,"",47,null,null,null,null,0,"",47,null,null,null,null,0]
[null,null,null,null,"",48,null,null,null,null,0,"",48,null,null,null,null,0]
[null,null,null,null,"",49,null,null,null,null,0,"",49,null,null,null,null,0]
[null,{"$f":"$B$6","v":"2024年度"},{"$f":"$C$6","v":"2025年度"},{"$f":"$D$6","v":"2026年度"},"",50,null,null,null,null,0,"",50,null,null,null,null,0]
["複数手続きの種類",null,null,null,"",51,null,null,null,null,0,"",51,null,null,null,null,0]
["確認年月日",null,null,null,"",52,null,null,null,null,0,"",52,null,null,null,null,0]
["確認数量（kg）",null,null,null,"",53,null,null,null,null,0,"",53,null,null,null,null,0]
["申出番号（受付コード下4桁）",null,null,null,"",54,null,null,null,null,0,"",54,null,null,null,null,0]
["受付コード",{"$f":"IF(B$60=\"\",\"\",表１_対象物質一覧!$C$4&(MID($B$6,3,2)&B$60))","v":""},{"$f":"IF(C$60=\"\",\"\",表１_対象物質一覧!$C$4&(MID($C$6, 3, 2))&C$60)","v":""},{"$f":"IF(D$60=\"\",\"\",表１_対象物質一覧!$C$4&(MID($D$6, 3, 2))&D$60)","v":""},"",55,null,null,null,null,0,"",55,null,null,null,null,0]
["用途番号",null,null,null,"",56,null,null,null,null,0,"",56,null,null,null,null,0]
[null,null,null,null,"",57,null,null,null,null,0,"",57,null,null,null,null,0]
[null,null,null,null,"",58,null,null,null,null,0,"",58,null,null,null,null,0]
[null,null,null,null,"",59,null,null,null,null,0,"",59,null,null,null,null,0]
[null,null,null,null,"",60,null,null,null,null,0,"",60,null,null,null,null,0]
[null,null,null,null,"",61,null,null,null,null,0,"",61,null,null,null,null,0]
[null,null,null,null,"",62,null,null,null,null,0,"",62,null,null,null,null,0]
[null,{"$f":"$B$6","v":"2024年度"},{"$f":"$C$6","v":"2025年度"},{"$f":"$D$6","v":"2026年度"},"",63,null,null,null,null,0,"",63,null,null,null,null,0]
["複数手続きの種類",null,null,null,"",64,null,null,null,null,0,"",64,null,null,null,null,0]
["確認年月日",null,null,null,{"$f":"IF(H71=\"\", \"\",YEAR(H71) - IF(MONTH(H71)<4, 1, 0) & \"年度\")","v":""},65,null,null,null,null,0,{"$f":"IF(O71=\"\", \"\",YEAR(O71) - IF(MONTH(O71)<4, 1, 0) & \"年度\")","v":""},65,null,null,null,null,0]
["確認数量（kg）",null,null,null,"",66,null,null,null,null,0,"",66,null,null,null,null,0]
["申出番号（受付コード下4桁）",null,null,null,"",67,null,null,null,null,{"$f":"IF(J73=\"\",I73,I73*J73)","v":0},"",67,null,null,null,null,{"$f":"IF(Q73=\"\",P73,P73*Q73)","v":0}]
["受付コード",{"$f":"IF(B$73=\"\",\"\",表１_対象物質一覧!$C$4&(MID($B$6,3,2)&B$73))","v":""},{"$f":"IF(C$73=\"\",\"\",表１_対象物質一覧!$C$4&(MID($C$6, 3, 2))&C$73)","v":""},{"$f":"IF(D$73=\"\",\"\",表１_対象物質一覧!$C$4&(MID($D$6, 3, 2))&D$73)","v":""},"",68,null,null,null,null,0,"",68,null,null,null,null,0]
["用途番号",null,null,null,"",69,null,null,null,null,0,"",69,null,null,null,null,0]
[null,null,null,null,"",70,null,null,null,null,0,"",70,null,null,null,null,0]
[null,null,null,null,"",71,null,null,null,null,0,"",71,null,null,null,null,0]
[null,null,null,null,"",72,null,null,null,null,0,"",72,null,null,null,null,0]
[null,null,null,null,"",73,null,null,null,null,0,"",73,null,null,null,null,0]
[null,null,null,null,"",74,null,null,null,null,0,"",74,null,null,null,null,0]
[null,null,null,null,"",75,null,null,null,null,0,"",75,null,null,null,null,0]
["備考",null,null,null,"",76,null,null,null,null,0,"",76,null,null,null,null,0]
[null,null,null,null,"",77,null,null,null,null,0,"",77,null,null,null,null,0]
[null,null,null,null,"",78,null,null,null,null,0,"",78,null,null,null,null,0]
[null,null,null,null,"",79,null,null,null,null,0,"",79,null,null,null,null,0]
[null,null,null,null,"",80,null,null,null,null,0,"",80,null,null,null,null,0]
[null,null,null,null,"",81,null,null,null,null,0,"",81,null,null,null,null,0]
[null,null,null,null,"",82,null,null,null,null,0,"",82,null,null,null,null,0]
[null,null,null,null,"",83,null,null,null,null,0,"",83,null,null,null,null,0]
[null,null,null,null,"",84,null,null,null,null,0,"",84,null,null,null,null,0]
[null,null,null,null,"",85,null,null,null,null,0,"",85,null,null,null,null,0]
[null,null,null,null,"",86,null,null,null,null,0,"",86,null,null,null,null,0]
[null,null,null,null,"",87,null,null,null,null,0,"",87,null,null,null,null,0]
[null,null,null,null,"",88,null,null,null,null,0,"",88,null,null,null,null,0]
[null,null,null,null,"",89,null,null,null,null,0,"",89,null,null,null,null,0]
[null,null,null,null,"",90,null,null,null,null,0,"",90,null,null,null,null,0]
[null,null,null,null,"",91,null,null,null,null,0,"",91,null,null,null,null,0]
[null,null,null,null,"",92,null,null,null,null,0,"",92,null,null,null,null,0]
[null,null,null,null,"",93,null,null,null,null,0,"",93,null,null,null,null,0]
[null,null,null,null,"",94,null,null,null,null,0,"",94,null,null,null,null,0]
[null,null,null,null,"",95,null,null,null,null,0,"",95,null,null,null,null,0]
[null,null,null,null,"",96,null,null,null,null,0,"",96,null,null,null,null,0]
[null,null,null,null,"",97,null,null,null,null,0,"",97,null,null,null,null,0]
[null,null,null,null,"",98,null,null,null,null,0,"",98,null,null,null,null,0]
[null,null,null,null,"",99,null,null,null,null,{"$f":"IF(J105=\"\",I105,I105*J105)","v":0},"",99,null,null,null,null,{"$f":"IF(Q105=\"\",P105,P105*Q105)","v":0}]
[null,null,null,null,"",100,null,null,null,null,{"$f":"IF(J106=\"\",I106,I106*J106)","v":0},"",100,null,null,null,null,{"$f":"IF(Q106=\"\",P106,P106*Q106)","v":0}]

{"sheet":"30","index":30,"n_rows":106,"n_cols":20,"rows_kept":106,"cut":false,"hidden":false,"merged":[[1,5,1,6],[1,12,1,13],[3,5,5,6],[3,12,5,13]]}
["「表１_対象物質一覧」に戻る"]
["事業所名",null,null,null,null,"輸入量",null,null,null,null,null,null,"払出量"]
["新規化学物質の名称",null,null,null,null,"Ｎｏ",{"$f":"_xlfn.IFS(F2=\"製造量\",\"製造ロット\",F2=\"輸入量\",\"輸入ロット\",F2=\"製造・輸入量\",\"製造・輸入ロット\")","v":"輸入ロット"},{"$f":"_xlfn.IFS(F2=\"製造量\",\"製造日　（最終製品日）\",F2=\"輸入量\",\"輸入許可日\",F2=\"製造・輸入量\",\"製造日・輸入許可日\")","v":"輸入許可日"},{"$f":"_xlfn.IFS(F2=\"製造量\",\"製造数量（kg)\",F2=\"輸入量\",\"輸入数量（kg)\",F2=\"製造・輸入量\",\"製造・輸入数量（kg)\")","v":"輸入数量（kg)"},"含有率（％）","含有率換算数量(kg)",null,"Ｎｏ","ロット","払出日","払出数量（kg)","含有率（％）","含有率換算数量(kg)","用途番号","変更前ロット"]
["略称",null,null,null,null,"実績数量合計",null,{"$f":"B6","v":"2024年度"},{"$f":"SUMIF($E$7:$E106,$H$4,$I$7:$I106)","v":0},"-",{"$f":"SUMIF($E$7:$E106,$H$4,$K$7:$K106)","v":0},null,"払出数量合計",null,{"$f":"B6","v":"2024年度"},{"$f":"SUMIF($L$7:$L95,$O$4,$P$7:$P106)","v":0},"-",{"$f":"SUMIF($L$7:$L106,$H$4,$R$7:$R106)","v":0},"-","-"]
[null,null,null,null,null,null,null,{"$f":"C6","v":"2025年度"},{"$f":"SUMIF($E$7:$E106,$H$5,$I$7:$I106)","v":0},"-",{"$f":"SUMIF($E$7:$E106,$H$5,$K$7:$K106)","v":0},null,null,null,{"$f":"C6","v":"2025年度"},{"$f":"SUMIF($L$7:$L95,$O$5,$P$7:$P106)","v":0},"-",{"$f":"SUMIF($E$7:$E106,$H$5,$K$7:$K106)","v":0},"-","-"]
[null,{"$f":"'1'!B6","v":"2024年度"},{"$f":"'1'!C6","v":"2025年度"},{"$f":"'1'!D6","v":"2026年度"},null,null,null,{"$f":"D6","v":"2026年度"},{"$f":"SUMIF($E$7:$E106,$H$6,$I$7:$I106)","v":0},"-",{"$f":"SUMIF($E$7:$E106,$H$6,$K$7:$K106)","v":0},null,null,null,{"$f":"D6","v":"2026年度"},{"$f":"SUMIF($L$7:$L95,$O$6,$P$7:$P106)","v":0},"-",{"$f":"SUMIF($E$7:$E106,$H$6,$K$7:$K106)","v":0},"-","-"]
["確認年月日",null,null,null,{"$f":"IF(H7=\"\", \"\",YEAR(H7) - IF(MONTH(H7)<4, 1, 0) & \"年度\")","v":""},1,null,null,null,null,{"$f":"IF(J7=\"\",I7,I7*J7)","v":0},{"$f":"IF(O7=\"\", \"\",YEAR(O7) - IF(MONTH(O7)<4, 1, 0) & \"年度\")","v":""},1,null,null,null,null,{"$f":"IF(Q7=\"\",P7,P7*Q7)","v":0}]
["確認数量（kg）",null,null,null,"",2,null,null,null,null,{"$f":"IF(J8=\"\",I8,I8*J8)","v":0},"",2,null,null,null,null,{"$f":"IF(Q8=\"\",P8,P8*Q8)","v":0}]
["申出番号（受付コード下4桁）",null,null,null,"",3,null,null,null,null,{"$f":"IF(J9=\"\",I9,I9*J9)","v":0},"",3,null,null,null,null,{"$f":"IF(Q9=\"\",P9,P9*Q9)","v":0}]
["受付コード",{"$f":"IF(B$9=\"\",\"\",表１_対象物質一覧!$C$4&(MID($B$6,3,2)&B$9))","v":""},{"$f":"IF(C$9=\"\",\"\",表１_対象物質一覧!$C$4&(MID($C$6, 3, 2))&C$9)","v":""},{"$f":"IF(D$9=\"\",\"\",表１_対象物質一覧!$C$4&(MID($D$6, 3, 2))&D$9)","v":""},"",4,null,null,null,null,0,"",4,null,null,null,null,{"$f":"IF(Q10=\"\",P10,P10*Q10)","v":0}]
["用途番号",null,null,null,"",5,null,null,null,null,0,"",5,null,null,null,null,0]
[null,null,null,null,"",6,null,null,null,null,0,"",6,null,null,null,null,0]
[null,null,null,null,"",7,null,null,null,null,0,"",7,null,null,null,null,0]
[null,null,null,null,"",8,null,null,null,null,0,"",8,null,null,null,null,0]
[null,null,null,null,"",9,null,null,null,null,0,"",9,null,null,null,null,0]
[null,null,null,null,"",10,null,null,null,null,0,"",10,null,null,null,null,0]
["申出書に記載の「前年度の実績数量」",null,null,null,"",11,null,null,null,null,0,"",11,null,null,null,null,0]
["実績数量",{"$f":"$K$4","v":0},{"$f":"$K$5","v":0},{"$f":"$K$6","v":0},"",12,null,null,null,null,0,"",12,null,null,null,null,0]
["確認を受けている中間物等の分類",null,null,null,"",13,null,null,null,null,0,"",13,null,null,null,null,0]
["用途追加手続を省略して追加した用途の用途番号",null,null,null,"",14,null,null,null,null,0,"",14,null,null,null,null,0]
["備考（３年連続して実積数量がゼロの場合はその理由）",null,null,null,"",15,null,null,null,null,0,"",15,null,null,null,null,0]
["用途証明書なしであって確認年月日が複数ある場合の",null,null,null,"",16,null,null,null,null,0,"",16,null,null,null,null,0]
["確認年月日（上段）及び確認数量(kg)（下段）",null,null,null,"",17,null,null,null,null,0,"",17,null,null,null,null,0]
[null,null,null,null,"",18,null,null,null,null,0,"",18,null,null,null,null,0]
[null,null,null,null,"",19,null,null,null,null,0,"",19,null,null,null,null,0]
[null,null,null,null,"",20,null,null,null,null,0,"",20,null,null,null,null,0]
[null,null,null,null,"",21,null,null,null,null,0,"",21,null,null,null,null,0]
[null,null,null,null,"",22,null,null,null,null,0,"",22,null,null,null,null,0]
[null,null,null,null,"",23,null,null,null,null,0,"",23,null,null,null,null,0]
[null,null,null,null,"",24,null,null,null,null,0,"",24,null,null,null,null,0]
[null,null,null,null,"",25,null,null,null,null,0,"",25,null,null,null,null,0]
[null,null,null,null,"",26,null,null,null,null,0,"",26,null,null,null,null,0]
[null,null,null,null,"",27,null,null,null,null,0,"",27,null,null,null,null,0]
[null,null,null,null,"",28,null,null,null,null,0,"",28,null,null,null,null,0]
[null,null,null,null,"",29,null,null,null,null,0,"",29,null,null,null,null,0]
[null,null,null,null,"",30,null,null,null,null,0,"",30,null,null,null,null,0]
[null,null,null,null,"",31,null,null,null,null,0,"",31,null,null,null,null,0]
[null,null,null,null,"",32,null,null,null,null,0,"",32,null,null,null,null,0]
[null,null,null,null,{"$f":"IF(H39=\"\", \"\",YEAR(H39) - IF(MONTH(H39)<4, 1, 0) & \"年度\")","v":""},33,null,null,null,null,0,{"$f":"IF(O39=\"\", \"\",YEAR(O39) - IF(MONTH(O39)<4, 1, 0) & \"年度\")","v":""},33,null,null,null,null,0]
[null,null,null,null,"",34,null,null,null,null,0,"",34,null,null,null,null,0]
[null,null,null,null,"",35,null,null,null,null,0,"",35,null,null,null,null,0]
["同一年度で同じ化学物質を複数申請している場合は、その確認を受けた事項",null,null,null,"",36,null,null,null,null,0,"",36,null,null,null,null,0]
[null,{"$f":"$B$6","v":"2024年度"},{"$f":"$C$6","v":"2025年度"},{"$f":"$D$6","v":"2026年度"},"",37,null,null,null,null,0,"",37,null,null,null,null,0]
["複数手続きの種類",null,null,null,"",38,null,null,null,null,0,"",38,null,null,null,null,0]
["確認年月日",null,null,null,"",39,null,null,null,null,0,"",39,null,null,null,null,0]
["確認数量（kg）",null,null,null,"",40,null,null,null,null,0,"",40,null,null,null,null,0]
["申出番号（受付コード下4桁）",null,null,null,"",41,null,null,null,null,0,"",41,null,null,null,null,0]
["受付コード",{"$f":"IF(B$47=\"\",\"\",表１_対象物質一覧!$C$4&(MID($B$6,3,2)&B$47))","v":""},{"$f":"IF(C$47=\"\",\"\",表１_対象物質一覧!$C$4&(MID($C$6, 3, 2))&C$47)","v":""},{"$f":"IF(D$47=\"\",\"\",表１_対象物質一覧!$C$4&(MID($D$6, 3, 2))&D$47)","v":""},"",42,null,null,null,null,0,"",42,null,null,null,null,0]
["用途番号",null,null,null,"",43,null,null,null,null,0,"",43,null,null,null,null,0]
[null,null,null,null,"",44,null,null,null,null,0,"",44,null,null,null,null,0]
[null,null,null,null,"",45,null,null,null,null,0,"",45,null,null,null,null,0]
[null,null,null,null,"",46,null,null,null,null,0,"",46,null,null,null,null,0]
[null,null,null,null,"",47,null,null,null,null,0,"",47,null,null,null,null,0]
[null,null,null,null,"",48,null,null,null,null,0,"",48,null,null,null,null,0]
[null,null,null,null,"",49,null,null,null,null,0,"",49,null,null,null,null,0]
[null,{"$f":"$B$6","v":"2024年度"},{"$f":"$C$6","v":"2025年度"},{"$f":"$D$6","v":"2026年度"},"",50,null,null,null,null,0,"",50,null,null,null,null,0]
["複数手続きの種類",null,null,null,"",51,null,null,null,null,0,"",51,null,null,null,null,0]
["確認年月日",null,null,null,"",52,null,null,null,null,0,"",52,null,null,null,null,0]
["確認数量（kg）",null,null,null,"",53,null,null,null,null,0,"",53,null,null,null,null,0]
["申出番号（受付コード下4桁）",null,null,null,"",54,null,null,null,null,0,"",54,null,null,null,null,0]
["受付コード",{"$f":"IF(B$60=\"\",\"\",表１_対象物質一覧!$C$4&(MID($B$6,3,2)&B$60))","v":""},{"$f":"IF(C$60=\"\",\"\",表１_対象物質一覧!$C$4&(MID($C$6, 3, 2))&C$60)","v":""},{"$f":"IF(D$60=\"\",\"\",表１_対象物質一覧!$C$4&(MID($D$6, 3, 2))&D$60)","v":""},"",55,null,null,null,null,0,"",55,null,null,null,null,0]
["用途番号",null,null,null,"",56,null,null,null,null,0,"",56,null,null,null,null,0]
[null,null,null,null,"",57,null,null,null,null,0,"",57,null,null,null,null,0]
[null,null,null,null,"",58,null,null,null,null,0,"",58,null,null,null,null,0]
[null,null,null,null,"",59,null,null,null,null,0,"",59,null,null,null,null,0]
[null,null,null,null,"",60,null,null,null,null,0,"",60,null,null,null,null,0]
[null,null,null,null,"",61,null,null,null,null,0,"",61,null,null,null,null,0]
[null,null,null,null,"",62,null,null,null,null,0,"",62,null,null,null,null,0]
[null,{"$f":"$B$6","v":"2024年度"},{"$f":"$C$6","v":"2025年度"},{"$f":"$D$6","v":"2026年度"},"",63,null,null,null,null,0,"",63,null,null,null,null,0]
["複数手続きの種類",null,null,null,"",64,null,null,null,null,0,"",64,null,null,null,null,0]
["確認年月日",null,null,null,{"$f":"IF(H71=\"\", \"\",YEAR(H71) - IF(MONTH(H71)<4, 1, 0) & \"年度\")","v":""},65,null,null,null,null,0,{"$f":"IF(O71=\"\", \"\",YEAR(O71) - IF(MONTH(O71)<4, 1, 0) & \"年度\")","v":""},65,null,null,null,null,0]
["確認数量（kg）",null,null,null,"",66,null,null,null,null,0,"",66,null,null,null,null,0]
["申出番号（受付コード下4桁）",null,null,null,"",67,null,null,null,null,{"$f":"IF(J73=\"\",I73,I73*J73)","v":0},"",67,null,null,null,null,{"$f":"IF(Q73=\"\",P73,P73*Q73)","v":0}]
["受付コード",{"$f":"IF(B$73=\"\",\"\",表１_対象物質一覧!$C$4&(MID($B$6,3,2)&B$73))","v":""},{"$f":"IF(C$73=\"\",\"\",表１_対象物質一覧!$C$4&(MID($C$6, 3, 2))&C$73)","v":""},{"$f":"IF(D$73=\"\",\"\",表１_対象物質一覧!$C$4&(MID($D$6, 3, 2))&D$73)","v":""},"",68,null,null,null,null,0,"",68,null,null,null,null,0]
["用途番号",null,null,null,"",69,null,null,null,null,0,"",69,null,null,null,null,0]
[null,null,null,null,"",70,null,null,null,null,0,"",70,null,null,null,null,0]
[null,null,null,null,"",71,null,null,null,null,0,"",71,null,null,null,null,0]
[null,null,null,null,"",72,null,null,null,null,0,"",72,null,null,null,null,0]
[null,null,null,null,"",73,null,null,null,null,0,"",73,null,null,null,null,0]
[null,null,null,null,"",74,null,null,null,null,0,"",74,null,null,null,null,0]
[null,null,null,null,"",75,null,null,null,null,0,"",75,null,null,null,null,0]
["備考",null,null,null,"",76,null,null,null,null,0,"",76,null,null,null,null,0]
[null,null,null,null,"",77,null,null,null,null,0,"",77,null,null,null,null,0]
[null,null,null,null,"",78,null,null,null,null,0,"",78,null,null,null,null,0]
[null,null,null,null,"",79,null,null,null,null,0,"",79,null,null,null,null,0]
[null,null,null,null,"",80,null,null,null,null,0,"",80,null,null,null,null,0]
[null,null,null,null,"",81,null,null,null,null,0,"",81,null,null,null,null,0]
[null,null,null,null,"",82,null,null,null,null,0,"",82,null,null,null,null,0]
[null,null,null,null,"",83,null,null,null,null,0,"",83,null,null,null,null,0]
[null,null,null,null,"",84,null,null,null,null,0,"",84,null,null,null,null,0]
[null,null,null,null,"",85,null,null,null,null,0,"",85,null,null,null,null,0]
[null,null,null,null,"",86,null,null,null,null,0,"",86,null,null,null,null,0]
[null,null,null,null,"",87,null,null,null,null,0,"",87,null,null,null,null,0]
[null,null,null,null,"",88,null,null,null,null,0,"",88,null,null,null,null,0]
[null,null,null,null,"",89,null,null,null,null,0,"",89,null,null,null,null,0]
[null,null,null,null,"",90,null,null,null,null,0,"",90,null,null,null,null,0]
[null,null,null,null,"",91,null,null,null,null,0,"",91,null,null,null,null,0]
[null,null,null,null,"",92,null,null,null,null,0,"",92,null,null,null,null,0]
[null,null,null,null,"",93,null,null,null,null,0,"",93,null,null,null,null,0]
[null,null,null,null,"",94,null,null,null,null,0,"",94,null,null,null,null,0]
[null,null,null,null,"",95,null,null,null,null,0,"",95,null,null,null,null,0]
[null,null,null,null,"",96,null,null,null,null,0,"",96,null,null,null,null,0]
[null,null,null,null,"",97,null,null,null,null,0,"",97,null,null,null,null,0]
[null,null,null,null,"",98,null,null,null,null,0,"",98,null,null,null,null,0]
[null,null,null,null,"",99,null,null,null,null,{"$f":"IF(J105=\"\",I105,I105*J105)","v":0},"",99,null,null,null,null,{"$f":"IF(Q105=\"\",P105,P105*Q105)","v":0}]
[null,null,null,null,"",100,null,null,null,null,{"$f":"IF(J106=\"\",I106,I106*J106)","v":0},"",100,null,null,null,null,{"$f":"IF(Q106=\"\",P106,P106*Q106)","v":0}]

{"sheet":"31","index":31,"n_rows":106,"n_cols":20,"rows_kept":106,"cut":false,"hidden":false,"merged":[[1,5,1,6],[1,12,1,13],[3,5,5,6],[3,12,5,13]]}
["「表１_対象物質一覧」に戻る"]
["事業所名",null,null,null,null,"輸入量",null,null,null,null,null,null,"払出量"]
["新規化学物質の名称",null,null,null,null,"Ｎｏ",{"$f":"_xlfn.IFS(F2=\"製造量\",\"製造ロット\",F2=\"輸入量\",\"輸入ロット\",F2=\"製造・輸入量\",\"製造・輸入ロット\")","v":"輸入ロット"},{"$f":"_xlfn.IFS(F2=\"製造量\",\"製造日　（最終製品日）\",F2=\"輸入量\",\"輸入許可日\",F2=\"製造・輸入量\",\"製造日・輸入許可日\")","v":"輸入許可日"},{"$f":"_xlfn.IFS(F2=\"製造量\",\"製造数量（kg)\",F2=\"輸入量\",\"輸入数量（kg)\",F2=\"製造・輸入量\",\"製造・輸入数量（kg)\")","v":"輸入数量（kg)"},"含有率（％）","含有率換算数量(kg)",null,"Ｎｏ","ロット","払出日","払出数量（kg)","含有率（％）","含有率換算数量(kg)","用途番号","変更前ロット"]
["略称",null,null,null,null,"実績数量合計",null,{"$f":"B6","v":"2024年度"},{"$f":"SUMIF($E$7:$E106,$H$4,$I$7:$I106)","v":0},"-",{"$f":"SUMIF($E$7:$E106,$H$4,$K$7:$K106)","v":0},null,"払出数量合計",null,{"$f":"B6","v":"2024年度"},{"$f":"SUMIF($L$7:$L95,$O$4,$P$7:$P106)","v":0},"-",{"$f":"SUMIF($L$7:$L106,$H$4,$R$7:$R106)","v":0},"-","-"]
[null,null,null,null,null,null,null,{"$f":"C6","v":"2025年度"},{"$f":"SUMIF($E$7:$E106,$H$5,$I$7:$I106)","v":0},"-",{"$f":"SUMIF($E$7:$E106,$H$5,$K$7:$K106)","v":0},null,null,null,{"$f":"C6","v":"2025年度"},{"$f":"SUMIF($L$7:$L95,$O$5,$P$7:$P106)","v":0},"-",{"$f":"SUMIF($E$7:$E106,$H$5,$K$7:$K106)","v":0},"-","-"]
[null,{"$f":"'1'!B6","v":"2024年度"},{"$f":"'1'!C6","v":"2025年度"},{"$f":"'1'!D6","v":"2026年度"},null,null,null,{"$f":"D6","v":"2026年度"},{"$f":"SUMIF($E$7:$E106,$H$6,$I$7:$I106)","v":0},"-",{"$f":"SUMIF($E$7:$E106,$H$6,$K$7:$K106)","v":0},null,null,null,{"$f":"D6","v":"2026年度"},{"$f":"SUMIF($L$7:$L95,$O$6,$P$7:$P106)","v":0},"-",{"$f":"SUMIF($E$7:$E106,$H$6,$K$7:$K106)","v":0},"-","-"]
["確認年月日",null,null,null,{"$f":"IF(H7=\"\", \"\",YEAR(H7) - IF(MONTH(H7)<4, 1, 0) & \"年度\")","v":""},1,null,null,null,null,{"$f":"IF(J7=\"\",I7,I7*J7)","v":0},{"$f":"IF(O7=\"\", \"\",YEAR(O7) - IF(MONTH(O7)<4, 1, 0) & \"年度\")","v":""},1,null,null,null,null,{"$f":"IF(Q7=\"\",P7,P7*Q7)","v":0}]
["確認数量（kg）",null,null,null,"",2,null,null,null,null,{"$f":"IF(J8=\"\",I8,I8*J8)","v":0},"",2,null,null,null,null,{"$f":"IF(Q8=\"\",P8,P8*Q8)","v":0}]
["申出番号（受付コード下4桁）",null,null,null,"",3,null,null,null,null,{"$f":"IF(J9=\"\",I9,I9*J9)","v":0},"",3,null,null,null,null,{"$f":"IF(Q9=\"\",P9,P9*Q9)","v":0}]
["受付コード",{"$f":"IF(B$9=\"\",\"\",表１_対象物質一覧!$C$4&(MID($B$6,3,2)&B$9))","v":""},{"$f":"IF(C$9=\"\",\"\",表１_対象物質一覧!$C$4&(MID($C$6, 3, 2))&C$9)","v":""},{"$f":"IF(D$9=\"\",\"\",表１_対象物質一覧!$C$4&(MID($D$6, 3, 2))&D$9)","v":""},"",4,null,null,null,null,0,"",4,null,null,null,null,{"$f":"IF(Q10=\"\",P10,P10*Q10)","v":0}]
["用途番号",null,null,null,"",5,null,null,null,null,0,"",5,null,null,null,null,0]
[null,null,null,null,"",6,null,null,null,null,0,"",6,null,null,null,null,0]
[null,null,null,null,"",7,null,null,null,null,0,"",7,null,null,null,null,0]
[null,null,null,null,"",8,null,null,null,null,0,"",8,null,null,null,null,0]
[null,null,null,null,"",9,null,null,null,null,0,"",9,null,null,null,null,0]
[null,null,null,null,"",10,null,null,null,null,0,"",10,null,null,null,null,0]
["申出書に記載の「前年度の実績数量」",null,null,null,"",11,null,null,null,null,0,"",11,null,null,null,null,0]
["実績数量",{"$f":"$K$4","v":0},{"$f":"$K$5","v":0},{"$f":"$K$6","v":0},"",12,null,null,null,null,0,"",12,null,null,null,null,0]
["確認を受けている中間物等の分類",null,null,null,"",13,null,null,null,null,0,"",13,null,null,null,null,0]
["用途追加手続を省略して追加した用途の用途番号",null,null,null,"",14,null,null,null,null,0,"",14,null,null,null,null,0]
["備考（３年連続して実積数量がゼロの場合はその理由）",null,null,null,"",15,null,null,null,null,0,"",15,null,null,null,null,0]
["用途証明書なしであって確認年月日が複数ある場合の",null,null,null,"",16,null,null,null,null,0,"",16,null,null,null,null,0]
["確認年月日（上段）及び確認数量(kg)（下段）",null,null,null,"",17,null,null,null,null,0,"",17,null,null,null,null,0]
[null,null,null,null,"",18,null,null,null,null,0,"",18,null,null,null,null,0]
[null,null,null,null,"",19,null,null,null,null,0,"",19,null,null,null,null,0]
[null,null,null,null,"",20,null,null,null,null,0,"",20,null,null,null,null,0]
[null,null,null,null,"",21,null,null,null,null,0,"",21,null,null,null,null,0]
[null,null,null,null,"",22,null,null,null,null,0,"",22,null,null,null,null,0]
[null,null,null,null,"",23,null,null,null,null,0,"",23,null,null,null,null,0]
[null,null,null,null,"",24,null,null,null,null,0,"",24,null,null,null,null,0]
[null,null,null,null,"",25,null,null,null,null,0,"",25,null,null,null,null,0]
[null,null,null,null,"",26,null,null,null,null,0,"",26,null,null,null,null,0]
[null,null,null,null,"",27,null,null,null,null,0,"",27,null,null,null,null,0]
[null,null,null,null,"",28,null,null,null,null,0,"",28,null,null,null,null,0]
[null,null,null,null,"",29,null,null,null,null,0,"",29,null,null,null,null,0]
[null,null,null,null,"",30,null,null,null,null,0,"",30,null,null,null,null,0]
[null,null,null,null,"",31,null,null,null,null,0,"",31,null,null,null,null,0]
[null,null,null,null,"",32,null,null,null,null,0,"",32,null,null,null,null,0]
[null,null,null,null,{"$f":"IF(H39=\"\", \"\",YEAR(H39) - IF(MONTH(H39)<4, 1, 0) & \"年度\")","v":""},33,null,null,null,null,0,{"$f":"IF(O39=\"\", \"\",YEAR(O39) - IF(MONTH(O39)<4, 1, 0) & \"年度\")","v":""},33,null,null,null,null,0]
[null,null,null,null,"",34,null,null,null,null,0,"",34,null,null,null,null,0]
[null,null,null,null,"",35,null,null,null,null,0,"",35,null,null,null,null,0]
["同一年度で同じ化学物質を複数申請している場合は、その確認を受けた事項",null,null,null,"",36,null,null,null,null,0,"",36,null,null,null,null,0]
[null,{"$f":"$B$6","v":"2024年度"},{"$f":"$C$6","v":"2025年度"},{"$f":"$D$6","v":"2026年度"},"",37,null,null,null,null,0,"",37,null,null,null,null,0]
["複数手続きの種類",null,null,null,"",38,null,null,null,null,0,"",38,null,null,null,null,0]
["確認年月日",null,null,null,"",39,null,null,null,null,0,"",39,null,null,null,null,0]
["確認数量（kg）",null,null,null,"",40,null,null,null,null,0,"",40,null,null,null,null,0]
["申出番号（受付コード下4桁）",null,null,null,"",41,null,null,null,null,0,"",41,null,null,null,null,0]
["受付コード",{"$f":"IF(B$47=\"\",\"\",表１_対象物質一覧!$C$4&(MID($B$6,3,2)&B$47))","v":""},{"$f":"IF(C$47=\"\",\"\",表１_対象物質一覧!$C$4&(MID($C$6, 3, 2))&C$47)","v":""},{"$f":"IF(D$47=\"\",\"\",表１_対象物質一覧!$C$4&(MID($D$6, 3, 2))&D$47)","v":""},"",42,null,null,null,null,0,"",42,null,null,null,null,0]
["用途番号",null,null,null,"",43,null,null,null,null,0,"",43,null,null,null,null,0]
[null,null,null,null,"",44,null,null,null,null,0,"",44,null,null,null,null,0]
[null,null,null,null,"",45,null,null,null,null,0,"",45,null,null,null,null,0]
[null,null,null,null,"",46,null,null,null,null,0,"",46,null,null,null,null,0]
[null,null,null,null,"",47,null,null,null,null,0,"",47,null,null,null,null,0]
[null,null,null,null,"",48,null,null,null,null,0,"",48,null,null,null,null,0]
[null,null,null,null,"",49,null,null,null,null,0,"",49,null,null,null,null,0]
[null,{"$f":"$B$6","v":"2024年度"},{"$f":"$C$6","v":"2025年度"},{"$f":"$D$6","v":"2026年度"},"",50,null,null,null,null,0,"",50,null,null,null,null,0]
["複数手続きの種類",null,null,null,"",51,null,null,null,null,0,"",51,null,null,null,null,0]
["確認年月日",null,null,null,"",52,null,null,null,null,0,"",52,null,null,null,null,0]
["確認数量（kg）",null,null,null,"",53,null,null,null,null,0,"",53,null,null,null,null,0]
["申出番号（受付コード下4桁）",null,null,null,"",54,null,null,null,null,0,"",54,null,null,null,null,0]
["受付コード",{"$f":"IF(B$60=\"\",\"\",表１_対象物質一覧!$C$4&(MID($B$6,3,2)&B$60))","v":""},{"$f":"IF(C$60=\"\",\"\",表１_対象物質一覧!$C$4&(MID($C$6, 3, 2))&C$60)","v":""},{"$f":"IF(D$60=\"\",\"\",表１_対象物質一覧!$C$4&(MID($D$6, 3, 2))&D$60)","v":""},"",55,null,null,null,null,0,"",55,null,null,null,null,0]
["用途番号",null,null,null,"",56,null,null,null,null,0,"",56,null,null,null,null,0]
[null,null,null,null,"",57,null,null,null,null,0,"",57,null,null,null,null,0]
[null,null,null,null,"",58,null,null,null,null,0,"",58,null,null,null,null,0]
[null,null,null,null,"",59,null,null,null,null,0,"",59,null,null,null,null,0]
[null,null,null,null,"",60,null,null,null,null,0,"",60,null,null,null,null,0]
[null,null,null,null,"",61,null,null,null,null,0,"",61,null,null,null,null,0]
[null,null,null,null,"",62,null,null,null,null,0,"",62,null,null,null,null,0]
[null,{"$f":"$B$6","v":"2024年度"},{"$f":"$C$6","v":"2025年度"},{"$f":"$D$6","v":"2026年度"},"",63,null,null,null,null,0,"",63,null,null,null,null,0]
["複数手続きの種類",null,null,null,"",64,null,null,null,null,0,"",64,null,null,null,null,0]
["確認年月日",null,null,null,{"$f":"IF(H71=\"\", \"\",YEAR(H71) - IF(MONTH(H71)<4, 1, 0) & \"年度\")","v":""},65,null,null,null,null,0,{"$f":"IF(O71=\"\", \"\",YEAR(O71) - IF(MONTH(O71)<4, 1, 0) & \"年度\")","v":""},65,null,null,null,null,0]
["確認数量（kg）",null,null,null,"",66,null,null,null,null,0,"",66,null,null,null,null,0]
["申出番号（受付コード下4桁）",null,null,null,"",67,null,null,null,null,{"$f":"IF(J73=\"\",I73,I73*J73)","v":0},"",67,null,null,null,null,{"$f":"IF(Q73=\"\",P73,P73*Q73)","v":0}]
["受付コード",{"$f":"IF(B$73=\"\",\"\",表１_対象物質一覧!$C$4&(MID($B$6,3,2)&B$73))","v":""},{"$f":"IF(C$73=\"\",\"\",表１_対象物質一覧!$C$4&(MID($C$6, 3, 2))&C$73)","v":""},{"$f":"IF(D$73=\"\",\"\",表１_対象物質一覧!$C$4&(MID($D$6, 3, 2))&D$73)","v":""},"",68,null,null,null,null,0,"",68,null,null,null,null,0]
["用途番号",null,null,null,"",69,null,null,null,null,0,"",69,null,null,null,null,0]
[null,null,null,null,"",70,null,null,null,null,0,"",70,null,null,null,null,0]
[null,null,null,null,"",71,null,null,null,null,0,"",71,null,null,null,null,0]
[null,null,null,null,"",72,null,null,null,null,0,"",72,null,null,null,null,0]
[null,null,null,null,"",73,null,null,null,null,0,"",73,null,null,null,null,0]
[null,null,null,null,"",74,null,null,null,null,0,"",74,null,null,null,null,0]
[null,null,null,null,"",75,null,null,null,null,0,"",75,null,null,null,null,0]
["備考",null,null,null,"",76,null,null,null,null,0,"",76,null,null,null,null,0]
[null,null,null,null,"",77,null,null,null,null,0,"",77,null,null,null,null,0]
[null,null,null,null,"",78,null,null,null,null,0,"",78,null,null,null,null,0]
[null,null,null,null,"",79,null,null,null,null,0,"",79,null,null,null,null,0]
[null,null,null,null,"",80,null,null,null,null,0,"",80,null,null,null,null,0]
[null,null,null,null,"",81,null,null,null,null,0,"",81,null,null,null,null,0]
[null,null,null,null,"",82,null,null,null,null,0,"",82,null,null,null,null,0]
[null,null,null,null,"",83,null,null,null,null,0,"",83,null,null,null,null,0]
[null,null,null,null,"",84,null,null,null,null,0,"",84,null,null,null,null,0]
[null,null,null,null,"",85,null,null,null,null,0,"",85,null,null,null,null,0]
[null,null,null,null,"",86,null,null,null,null,0,"",86,null,null,null,null,0]
[null,null,null,null,"",87,null,null,null,null,0,"",87,null,null,null,null,0]
[null,null,null,null,"",88,null,null,null,null,0,"",88,null,null,null,null,0]
[null,null,null,null,"",89,null,null,null,null,0,"",89,null,null,null,null,0]
[null,null,null,null,"",90,null,null,null,null,0,"",90,null,null,null,null,0]
[null,null,null,null,"",91,null,null,null,null,0,"",91,null,null,null,null,0]
[null,null,null,null,"",92,null,null,null,null,0,"",92,null,null,null,null,0]
[null,null,null,null,"",93,null,null,null,null,0,"",93,null,null,null,null,0]
[null,null,null,null,"",94,null,null,null,null,0,"",94,null,null,null,null,0]
[null,null,null,null,"",95,null,null,null,null,0,"",95,null,null,null,null,0]
[null,null,null,null,"",96,null,null,null,null,0,"",96,null,null,null,null,0]
[null,null,null,null,"",97,null,null,null,null,0,"",97,null,null,null,null,0]
[null,null,null,null,"",98,null,null,null,null,0,"",98,null,null,null,null,0]
[null,null,null,null,"",99,null,null,null,null,{"$f":"IF(J105=\"\",I105,I105*J105)","v":0},"",99,null,null,null,null,{"$f":"IF(Q105=\"\",P105,P105*Q105)","v":0}]
[null,null,null,null,"",100,null,null,null,null,0,"",100,null,null,null,null,0]

{"sheet":"32","index":32,"n_rows":106,"n_cols":20,"rows_kept":106,"cut":false,"hidden":false,"merged":[[1,5,1,6],[1,12,1,13],[3,5,5,6],[3,12,5,13]]}
["「表１_対象物質一覧」に戻る"]
["事業所名",null,null,null,null,"輸入量",null,null,null,null,null,null,"払出量"]
["新規化学物質の名称",null,null,null,null,"Ｎｏ",{"$f":"_xlfn.IFS(F2=\"製造量\",\"製造ロット\",F2=\"輸入量\",\"輸入ロット\",F2=\"製造・輸入量\",\"製造・輸入ロット\")","v":"輸入ロット"},{"$f":"_xlfn.IFS(F2=\"製造量\",\"製造日　（最終製品日）\",F2=\"輸入量\",\"輸入許可日\",F2=\"製造・輸入量\",\"製造日・輸入許可日\")","v":"輸入許可日"},{"$f":"_xlfn.IFS(F2=\"製造量\",\"製造数量（kg)\",F2=\"輸入量\",\"輸入数量（kg)\",F2=\"製造・輸入量\",\"製造・輸入数量（kg)\")","v":"輸入数量（kg)"},"含有率（％）","含有率換算数量(kg)",null,"Ｎｏ","ロット","払出日","払出数量（kg)","含有率（％）","含有率換算数量(kg)","用途番号","変更前ロット"]
["略称",null,null,null,null,"実績数量合計",null,{"$f":"B6","v":"2024年度"},{"$f":"SUMIF($E$7:$E106,$H$4,$I$7:$I106)","v":0},"-",{"$f":"SUMIF($E$7:$E106,$H$4,$K$7:$K106)","v":0},null,"払出数量合計",null,{"$f":"B6","v":"2024年度"},{"$f":"SUMIF($L$7:$L95,$O$4,$P$7:$P106)","v":0},"-",{"$f":"SUMIF($L$7:$L106,$H$4,$R$7:$R106)","v":0},"-","-"]
[null,null,null,null,null,null,null,{"$f":"C6","v":"2025年度"},{"$f":"SUMIF($E$7:$E106,$H$5,$I$7:$I106)","v":0},"-",{"$f":"SUMIF($E$7:$E106,$H$5,$K$7:$K106)","v":0},null,null,null,{"$f":"C6","v":"2025年度"},{"$f":"SUMIF($L$7:$L95,$O$5,$P$7:$P106)","v":0},"-",{"$f":"SUMIF($E$7:$E106,$H$5,$K$7:$K106)","v":0},"-","-"]
[null,{"$f":"'1'!B6","v":"2024年度"},{"$f":"'1'!C6","v":"2025年度"},{"$f":"'1'!D6","v":"2026年度"},null,null,null,{"$f":"D6","v":"2026年度"},{"$f":"SUMIF($E$7:$E106,$H$6,$I$7:$I106)","v":0},"-",{"$f":"SUMIF($E$7:$E106,$H$6,$K$7:$K106)","v":0},null,null,null,{"$f":"D6","v":"2026年度"},{"$f":"SUMIF($L$7:$L95,$O$6,$P$7:$P106)","v":0},"-",{"$f":"SUMIF($E$7:$E106,$H$6,$K$7:$K106)","v":0},"-","-"]
["確認年月日",null,null,null,{"$f":"IF(H7=\"\", \"\",YEAR(H7) - IF(MONTH(H7)<4, 1, 0) & \"年度\")","v":""},1,null,null,null,null,{"$f":"IF(J7=\"\",I7,I7*J7)","v":0},{"$f":"IF(O7=\"\", \"\",YEAR(O7) - IF(MONTH(O7)<4, 1, 0) & \"年度\")","v":""},1,null,null,null,null,{"$f":"IF(Q7=\"\",P7,P7*Q7)","v":0}]
["確認数量（kg）",null,null,null,"",2,null,null,null,null,{"$f":"IF(J8=\"\",I8,I8*J8)","v":0},"",2,null,null,null,null,{"$f":"IF(Q8=\"\",P8,P8*Q8)","v":0}]
["申出番号（受付コード下4桁）",null,null,null,"",3,null,null,null,null,{"$f":"IF(J9=\"\",I9,I9*J9)","v":0},"",3,null,null,null,null,{"$f":"IF(Q9=\"\",P9,P9*Q9)","v":0}]
["受付コード",{"$f":"IF(B$9=\"\",\"\",表１_対象物質一覧!$C$4&(MID($B$6,3,2)&B$9))","v":""},{"$f":"IF(C$9=\"\",\"\",表１_対象物質一覧!$C$4&(MID($C$6, 3, 2))&C$9)","v":""},{"$f":"IF(D$9=\"\",\"\",表１_対象物質一覧!$C$4&(MID($D$6, 3, 2))&D$9)","v":""},"",4,null,null,null,null,0,"",4,null,null,null,null,{"$f":"IF(Q10=\"\",P10,P10*Q10)","v":0}]
["用途番号",null,null,null,"",5,null,null,null,null,0,"",5,null,null,null,null,0]
[null,null,null,null,"",6,null,null,null,null,0,"",6,null,null,null,null,0]
[null,null,null,null,"",7,null,null,null,null,0,"",7,null,null,null,null,0]
[null,null,null,null,"",8,null,null,null,null,0,"",8,null,null,null,null,0]
[null,null,null,null,"",9,null,null,null,null,0,"",9,null,null,null,null,0]
[null,null,null,null,"",10,null,null,null,null,0,"",10,null,null,null,null,0]
["申出書に記載の「前年度の実績数量」",null,null,null,"",11,null,null,null,null,0,"",11,null,null,null,null,0]
["実績数量",{"$f":"$K$4","v":0},{"$f":"$K$5","v":0},{"$f":"$K$6","v":0},"",12,null,null,null,null,0,"",12,null,null,null,null,0]
["確認を受けている中間物等の分類",null,null,null,"",13,null,null,null,null,0,"",13,null,null,null,null,0]
["用途追加手続を省略して追加した用途の用途番号",null,null,null,"",14,null,null,null,null,0,"",14,null,null,null,null,0]
["備考（３年連続して実積数量がゼロの場合はその理由）",null,null,null,"",15,null,null,null,null,0,"",15,null,null,null,null,0]
["用途証明書なしであって確認年月日が複数ある場合の",null,null,null,"",16,null,null,null,null,0,"",16,null,null,null,null,0]
["確認年月日（上段）及び確認数量(kg)（下段）",null,null,null,"",17,null,null,null,null,0,"",17,null,null,null,null,0]
[null,null,null,null,"",18,null,null,null,null,0,"",18,null,null,null,null,0]
[null,null,null,null,"",19,null,null,null,null,0,"",19,null,null,null,null,0]
[null,null,null,null,"",20,null,null,null,null,0,"",20,null,null,null,null,0]
[null,null,null,null,"",21,null,null,null,null,0,"",21,null,null,null,null,0]
[null,null,null,null,"",22,null,null,null,null,0,"",22,null,null,null,null,0]
[null,null,null,null,"",23,null,null,null,null,0,"",23,null,null,null,null,0]
[null,null,null,null,"",24,null,null,null,null,0,"",24,null,null,null,null,0]
[null,null,null,null,"",25,null,null,null,null,0,"",25,null,null,null,null,0]
[null,null,null,null,"",26,null,null,null,null,0,"",26,null,null,null,null,0]
[null,null,null,null,"",27,null,null,null,null,0,"",27,null,null,null,null,0]
[null,null,null,null,"",28,null,null,null,null,0,"",28,null,null,null,null,0]
[null,null,null,null,"",29,null,null,null,null,0,"",29,null,null,null,null,0]
[null,null,null,null,"",30,null,null,null,null,0,"",30,null,null,null,null,0]
[null,null,null,null,"",31,null,null,null,null,0,"",31,null,null,null,null,0]
[null,null,null,null,"",32,null,null,null,null,0,"",32,null,null,null,null,0]
[null,null,null,null,{"$f":"IF(H39=\"\", \"\",YEAR(H39) - IF(MONTH(H39)<4, 1, 0) & \"年度\")","v":""},33,null,null,null,null,0,{"$f":"IF(O39=\"\", \"\",YEAR(O39) - IF(MONTH(O39)<4, 1, 0) & \"年度\")","v":""},33,null,null,null,null,0]
[null,null,null,null,"",34,null,null,null,null,0,"",34,null,null,null,null,0]
[null,null,null,null,"",35,null,null,null,null,0,"",35,null,null,null,null,0]
["同一年度で同じ化学物質を複数申請している場合は、その確認を受けた事項",null,null,null,"",36,null,null,null,null,0,"",36,null,null,null,null,0]
[null,{"$f":"$B$6","v":"2024年度"},{"$f":"$C$6","v":"2025年度"},{"$f":"$D$6","v":"2026年度"},"",37,null,null,null,null,0,"",37,null,null,null,null,0]
["複数手続きの種類",null,null,null,"",38,null,null,null,null,0,"",38,null,null,null,null,0]
["確認年月日",null,null,null,"",39,null,null,null,null,0,"",39,null,null,null,null,0]
["確認数量（kg）",null,null,null,"",40,null,null,null,null,0,"",40,null,null,null,null,0]
["申出番号（受付コード下4桁）",null,null,null,"",41,null,null,null,null,0,"",41,null,null,null,null,0]
["受付コード",{"$f":"IF(B$47=\"\",\"\",表１_対象物質一覧!$C$4&(MID($B$6,3,2)&B$47))","v":""},{"$f":"IF(C$47=\"\",\"\",表１_対象物質一覧!$C$4&(MID($C$6, 3, 2))&C$47)","v":""},{"$f":"IF(D$47=\"\",\"\",表１_対象物質一覧!$C$4&(MID($D$6, 3, 2))&D$47)","v":""},"",42,null,null,null,null,0,"",42,null,null,null,null,0]
["用途番号",null,null,null,"",43,null,null,null,null,0,"",43,null,null,null,null,0]
[null,null,null,null,"",44,null,null,null,null,0,"",44,null,null,null,null,0]
[null,null,null,null,"",45,null,null,null,null,0,"",45,null,null,null,null,0]
[null,null,null,null,"",46,null,null,null,null,0,"",46,null,null,null,null,0]
[null,null,null,null,"",47,null,null,null,null,0,"",47,null,null,null,null,0]
[null,null,null,null,"",48,null,null,null,null,0,"",48,null,null,null,null,0]
[null,null,null,null,"",49,null,null,null,null,0,"",49,null,null,null,null,0]
[null,{"$f":"$B$6","v":"2024年度"},{"$f":"$C$6","v":"2025年度"},{"$f":"$D$6","v":"2026年度"},"",50,null,null,null,null,0,"",50,null,null,null,null,0]
["複数手続きの種類",null,null,null,"",51,null,null,null,null,0,"",51,null,null,null,null,0]
["確認年月日",null,null,null,"",52,null,null,null,null,0,"",52,null,null,null,null,0]
["確認数量（kg）",null,null,null,"",53,null,null,null,null,0,"",53,null,null,null,null,0]
["申出番号（受付コード下4桁）",null,null,null,"",54,null,null,null,null,0,"",54,null,null,null,null,0]
["受付コード",{"$f":"IF(B$60=\"\",\"\",表１_対象物質一覧!$C$4&(MID($B$6,3,2)&B$60))","v":""},{"$f":"IF(C$60=\"\",\"\",表１_対象物質一覧!$C$4&(MID($C$6, 3, 2))&C$60)","v":""},{"$f":"IF(D$60=\"\",\"\",表１_対象物質一覧!$C$4&(MID($D$6, 3, 2))&D$60)","v":""},"",55,null,null,null,null,0,"",55,null,null,null,null,0]
["用途番号",null,null,null,"",56,null,null,null,null,0,"",56,null,null,null,null,0]
[null,null,null,null,"",57,null,null,null,null,0,"",57,null,null,null,null,0]
[null,null,null,null,"",58,null,null,null,null,0,"",58,null,null,null,null,0]
[null,null,null,null,"",59,null,null,null,null,0,"",59,null,null,null,null,0]
[null,null,null,null,"",60,null,null,null,null,0,"",60,null,null,null,null,0]
[null,null,null,null,"",61,null,null,null,null,0,"",61,null,null,null,null,0]
[null,null,null,null,"",62,null,null,null,null,0,"",62,null,null,null,null,0]
[null,{"$f":"$B$6","v":"2024年度"},{"$f":"$C$6","v":"2025年度"},{"$f":"$D$6","v":"2026年度"},"",63,null,null,null,null,0,"",63,null,null,null,null,0]
["複数手続きの種類",null,null,null,"",64,null,null,null,null,0,"",64,null,null,null,null,0]
["確認年月日",null,null,null,{"$f":"IF(H71=\"\", \"\",YEAR(H71) - IF(MONTH(H71)<4, 1, 0) & \"年度\")","v":""},65,null,null,null,null,0,{"$f":"IF(O71=\"\", \"\",YEAR(O71) - IF(MONTH(O71)<4, 1, 0) & \"年度\")","v":""},65,null,null,null,null,0]
["確認数量（kg）",null,null,null,"",66,null,null,null,null,0,"",66,null,null,null,null,0]
["申出番号（受付コード下4桁）",null,null,null,"",67,null,null,null,null,{"$f":"IF(J73=\"\",I73,I73*J73)","v":0},"",67,null,null,null,null,{"$f":"IF(Q73=\"\",P73,P73*Q73)","v":0}]
["受付コード",{"$f":"IF(B$73=\"\",\"\",表１_対象物質一覧!$C$4&(MID($B$6,3,2)&B$73))","v":""},{"$f":"IF(C$73=\"\",\"\",表１_対象物質一覧!$C$4&(MID($C$6, 3, 2))&C$73)","v":""},{"$f":"IF(D$73=\"\",\"\",表１_対象物質一覧!$C$4&(MID($D$6, 3, 2))&D$73)","v":""},"",68,null,null,null,null,0,"",68,null,null,null,null,0]
["用途番号",null,null,null,"",69,null,null,null,null,0,"",69,null,null,null,null,0]
[null,null,null,null,"",70,null,null,null,null,0,"",70,null,null,null,null,0]
[null,null,null,null,"",71,null,null,null,null,0,"",71,null,null,null,null,0]
[null,null,null,null,"",72,null,null,null,null,0,"",72,null,null,null,null,0]
[null,null,null,null,"",73,null,null,null,null,0,"",73,null,null,null,null,0]
[null,null,null,null,"",74,null,null,null,null,0,"",74,null,null,null,null,0]
[null,null,null,null,"",75,null,null,null,null,0,"",75,null,null,null,null,0]
["備考",null,null,null,"",76,null,null,null,null,0,"",76,null,null,null,null,0]
[null,null,null,null,"",77,null,null,null,null,0,"",77,null,null,null,null,0]
[null,null,null,null,"",78,null,null,null,null,0,"",78,null,null,null,null,0]
[null,null,null,null,"",79,null,null,null,null,0,"",79,null,null,null,null,0]
[null,null,null,null,"",80,null,null,null,null,0,"",80,null,null,null,null,0]
[null,null,null,null,"",81,null,null,null,null,0,"",81,null,null,null,null,0]
[null,null,null,null,"",82,null,null,null,null,0,"",82,null,null,null,null,0]
[null,null,null,null,"",83,null,null,null,null,0,"",83,null,null,null,null,0]
[null,null,null,null,"",84,null,null,null,null,0,"",84,null,null,null,null,0]
[null,null,null,null,"",85,null,null,null,null,0,"",85,null,null,null,null,0]
[null,null,null,null,"",86,null,null,null,null,0,"",86,null,null,null,null,0]
[null,null,null,null,"",87,null,null,null,null,0,"",87,null,null,null,null,0]
[null,null,null,null,"",88,null,null,null,null,0,"",88,null,null,null,null,0]
[null,null,null,null,"",89,null,null,null,null,0,"",89,null,null,null,null,0]
[null,null,null,null,"",90,null,null,null,null,0,"",90,null,null,null,null,0]
[null,null,null,null,"",91,null,null,null,null,0,"",91,null,null,null,null,0]
[null,null,null,null,"",92,null,null,null,null,0,"",92,null,null,null,null,0]
[null,null,null,null,"",93,null,null,null,null,0,"",93,null,null,null,null,0]
[null,null,null,null,"",94,null,null,null,null,0,"",94,null,null,null,null,0]
[null,null,null,null,"",95,null,null,null,null,0,"",95,null,null,null,null,0]
[null,null,null,null,"",96,null,null,null,null,0,"",96,null,null,null,null,0]
[null,null,null,null,"",97,null,null,null,null,0,"",97,null,null,null,null,0]
[null,null,null,null,"",98,null,null,null,null,0,"",98,null,null,null,null,0]
[null,null,null,null,"",99,null,null,null,null,{"$f":"IF(J105=\"\",I105,I105*J105)","v":0},"",99,null,null,null,null,{"$f":"IF(Q105=\"\",P105,P105*Q105)","v":0}]
[null,null,null,null,"",100,null,null,null,null,{"$f":"IF(J106=\"\",I106,I106*J106)","v":0},"",100,null,null,null,null,{"$f":"IF(Q106=\"\",P106,P106*Q106)","v":0}]

{"sheet":"33","index":33,"n_rows":106,"n_cols":20,"rows_kept":106,"cut":false,"hidden":false,"merged":[[1,5,1,6],[1,12,1,13],[3,5,5,6],[3,12,5,13]]}
["「表１_対象物質一覧」に戻る"]
["事業所名",null,null,null,null,"輸入量",null,null,null,null,null,null,"払出量"]
["新規化学物質の名称",null,null,null,null,"Ｎｏ",{"$f":"_xlfn.IFS(F2=\"製造量\",\"製造ロット\",F2=\"輸入量\",\"輸入ロット\",F2=\"製造・輸入量\",\"製造・輸入ロット\")","v":"輸入ロット"},{"$f":"_xlfn.IFS(F2=\"製造量\",\"製造日　（最終製品日）\",F2=\"輸入量\",\"輸入許可日\",F2=\"製造・輸入量\",\"製造日・輸入許可日\")","v":"輸入許可日"},{"$f":"_xlfn.IFS(F2=\"製造量\",\"製造数量（kg)\",F2=\"輸入量\",\"輸入数量（kg)\",F2=\"製造・輸入量\",\"製造・輸入数量（kg)\")","v":"輸入数量（kg)"},"含有率（％）","含有率換算数量(kg)",null,"Ｎｏ","ロット","払出日","払出数量（kg)","含有率（％）","含有率換算数量(kg)","用途番号","変更前ロット"]
["略称",null,null,null,null,"実績数量合計",null,{"$f":"B6","v":"2024年度"},{"$f":"SUMIF($E$7:$E106,$H$4,$I$7:$I106)","v":0},"-",{"$f":"SUMIF($E$7:$E106,$H$4,$K$7:$K106)","v":0},null,"払出数量合計",null,{"$f":"B6","v":"2024年度"},{"$f":"SUMIF($L$7:$L95,$O$4,$P$7:$P106)","v":0},"-",{"$f":"SUMIF($L$7:$L106,$H$4,$R$7:$R106)","v":0},"-","-"]
[null,null,null,null,null,null,null,{"$f":"C6","v":"2025年度"},{"$f":"SUMIF($E$7:$E106,$H$5,$I$7:$I106)","v":0},"-",{"$f":"SUMIF($E$7:$E106,$H$5,$K$7:$K106)","v":0},null,null,null,{"$f":"C6","v":"2025年度"},{"$f":"SUMIF($L$7:$L95,$O$5,$P$7:$P106)","v":0},"-",{"$f":"SUMIF($E$7:$E106,$H$5,$K$7:$K106)","v":0},"-","-"]
[null,{"$f":"'1'!B6","v":"2024年度"},{"$f":"'1'!C6","v":"2025年度"},{"$f":"'1'!D6","v":"2026年度"},null,null,null,{"$f":"D6","v":"2026年度"},{"$f":"SUMIF($E$7:$E106,$H$6,$I$7:$I106)","v":0},"-",{"$f":"SUMIF($E$7:$E106,$H$6,$K$7:$K106)","v":0},null,null,null,{"$f":"D6","v":"2026年度"},{"$f":"SUMIF($L$7:$L95,$O$6,$P$7:$P106)","v":0},"-",{"$f":"SUMIF($E$7:$E106,$H$6,$K$7:$K106)","v":0},"-","-"]
["確認年月日",null,null,null,{"$f":"IF(H7=\"\", \"\",YEAR(H7) - IF(MONTH(H7)<4, 1, 0) & \"年度\")","v":""},1,null,null,null,null,{"$f":"IF(J7=\"\",I7,I7*J7)","v":0},{"$f":"IF(O7=\"\", \"\",YEAR(O7) - IF(MONTH(O7)<4, 1, 0) & \"年度\")","v":""},1,null,null,null,null,{"$f":"IF(Q7=\"\",P7,P7*Q7)","v":0}]
["確認数量（kg）",null,null,null,"",2,null,null,null,null,{"$f":"IF(J8=\"\",I8,I8*J8)","v":0},"",2,null,null,null,null,{"$f":"IF(Q8=\"\",P8,P8*Q8)","v":0}]
["申出番号（受付コード下4桁）",null,null,null,"",3,null,null,null,null,{"$f":"IF(J9=\"\",I9,I9*J9)","v":0},"",3,null,null,null,null,{"$f":"IF(Q9=\"\",P9,P9*Q9)","v":0}]
["受付コード",{"$f":"IF(B$9=\"\",\"\",表１_対象物質一覧!$C$4&(MID($B$6,3,2)&B$9))","v":""},{"$f":"IF(C$9=\"\",\"\",表１_対象物質一覧!$C$4&(MID($C$6, 3, 2))&C$9)","v":""},{"$f":"IF(D$9=\"\",\"\",表１_対象物質一覧!$C$4&(MID($D$6, 3, 2))&D$9)","v":""},"",4,null,null,null,null,0,"",4,null,null,null,null,{"$f":"IF(Q10=\"\",P10,P10*Q10)","v":0}]
["用途番号",null,null,null,"",5,null,null,null,null,0,"",5,null,null,null,null,0]
[null,null,null,null,"",6,null,null,null,null,0,"",6,null,null,null,null,0]
[null,null,null,null,"",7,null,null,null,null,0,"",7,null,null,null,null,0]
[null,null,null,null,"",8,null,null,null,null,0,"",8,null,null,null,null,0]
[null,null,null,null,"",9,null,null,null,null,0,"",9,null,null,null,null,0]
[null,null,null,null,"",10,null,null,null,null,0,"",10,null,null,null,null,0]
["申出書に記載の「前年度の実績数量」",null,null,null,"",11,null,null,null,null,0,"",11,null,null,null,null,0]
["実績数量",{"$f":"$K$4","v":0},{"$f":"$K$5","v":0},{"$f":"$K$6","v":0},"",12,null,null,null,null,0,"",12,null,null,null,null,0]
["確認を受けている中間物等の分類",null,null,null,"",13,null,null,null,null,0,"",13,null,null,null,null,0]
["用途追加手続を省略して追加した用途の用途番号",null,null,null,"",14,null,null,null,null,0,"",14,null,null,null,null,0]
["備考（３年連続して実積数量がゼロの場合はその理由）",null,null,null,"",15,null,null,null,null,0,"",15,null,null,null,null,0]
["用途証明書なしであって確認年月日が複数ある場合の",null,null,null,"",16,null,null,null,null,0,"",16,null,null,null,null,0]
["確認年月日（上段）及び確認数量(kg)（下段）",null,null,null,"",17,null,null,null,null,0,"",17,null,null,null,null,0]
[null,null,null,null,"",18,null,null,null,null,0,"",18,null,null,null,null,0]
[null,null,null,null,"",19,null,null,null,null,0,"",19,null,null,null,null,0]
[null,null,null,null,"",20,null,null,null,null,0,"",20,null,null,null,null,0]
[null,null,null,null,"",21,null,null,null,null,0,"",21,null,null,null,null,0]
[null,null,null,null,"",22,null,null,null,null,0,"",22,null,null,null,null,0]
[null,null,null,null,"",23,null,null,null,null,0,"",23,null,null,null,null,0]
[null,null,null,null,"",24,null,null,null,null,0,"",24,null,null,null,null,0]
[null,null,null,null,"",25,null,null,null,null,0,"",25,null,null,null,null,0]
[null,null,null,null,"",26,null,null,null,null,0,"",26,null,null,null,null,0]
[null,null,null,null,"",27,null,null,null,null,0,"",27,null,null,null,null,0]
[null,null,null,null,"",28,null,null,null,null,0,"",28,null,null,null,null,0]
[null,null,null,null,"",29,null,null,null,null,0,"",29,null,null,null,null,0]
[null,null,null,null,"",30,null,null,null,null,0,"",30,null,null,null,null,0]
[null,null,null,null,"",31,null,null,null,null,0,"",31,null,null,null,null,0]
[null,null,null,null,"",32,null,null,null,null,0,"",32,null,null,null,null,0]
[null,null,null,null,{"$f":"IF(H39=\"\", \"\",YEAR(H39) - IF(MONTH(H39)<4, 1, 0) & \"年度\")","v":""},33,null,null,null,null,0,{"$f":"IF(O39=\"\", \"\",YEAR(O39) - IF(MONTH(O39)<4, 1, 0) & \"年度\")","v":""},33,null,null,null,null,0]
[null,null,null,null,"",34,null,null,null,null,0,"",34,null,null,null,null,0]
[null,null,null,null,"",35,null,null,null,null,0,"",35,null,null,null,null,0]
["同一年度で同じ化学物質を複数申請している場合は、その確認を受けた事項",null,null,null,"",36,null,null,null,null,0,"",36,null,null,null,null,0]
[null,{"$f":"$B$6","v":"2024年度"},{"$f":"$C$6","v":"2025年度"},{"$f":"$D$6","v":"2026年度"},"",37,null,null,null,null,0,"",37,null,null,null,null,0]
["複数手続きの種類",null,null,null,"",38,null,null,null,null,0,"",38,null,null,null,null,0]
["確認年月日",null,null,null,"",39,null,null,null,null,0,"",39,null,null,null,null,0]
["確認数量（kg）",null,null,null,"",40,null,null,null,null,0,"",40,null,null,null,null,0]
["申出番号（受付コード下4桁）",null,null,null,"",41,null,null,null,null,0,"",41,null,null,null,null,0]
["受付コード",{"$f":"IF(B$47=\"\",\"\",表１_対象物質一覧!$C$4&(MID($B$6,3,2)&B$47))","v":""},{"$f":"IF(C$47=\"\",\"\",表１_対象物質一覧!$C$4&(MID($C$6, 3, 2))&C$47)","v":""},{"$f":"IF(D$47=\"\",\"\",表１_対象物質一覧!$C$4&(MID($D$6, 3, 2))&D$47)","v":""},"",42,null,null,null,null,0,"",42,null,null,null,null,0]
["用途番号",null,null,null,"",43,null,null,null,null,0,"",43,null,null,null,null,0]
[null,null,null,null,"",44,null,null,null,null,0,"",44,null,null,null,null,0]
[null,null,null,null,"",45,null,null,null,null,0,"",45,null,null,null,null,0]
[null,null,null,null,"",46,null,null,null,null,0,"",46,null,null,null,null,0]
[null,null,null,null,"",47,null,null,null,null,0,"",47,null,null,null,null,0]
[null,null,null,null,"",48,null,null,null,null,0,"",48,null,null,null,null,0]
[null,null,null,null,"",49,null,null,null,null,0,"",49,null,null,null,null,0]
[null,{"$f":"$B$6","v":"2024年度"},{"$f":"$C$6","v":"2025年度"},{"$f":"$D$6","v":"2026年度"},"",50,null,null,null,null,0,"",50,null,null,null,null,0]
["複数手続きの種類",null,null,null,"",51,null,null,null,null,0,"",51,null,null,null,null,0]
["確認年月日",null,null,null,"",52,null,null,null,null,0,"",52,null,null,null,null,0]
["確認数量（kg）",null,null,null,"",53,null,null,null,null,0,"",53,null,null,null,null,0]
["申出番号（受付コード下4桁）",null,null,null,"",54,null,null,null,null,0,"",54,null,null,null,null,0]
["受付コード",{"$f":"IF(B$60=\"\",\"\",表１_対象物質一覧!$C$4&(MID($B$6,3,2)&B$60))","v":""},{"$f":"IF(C$60=\"\",\"\",表１_対象物質一覧!$C$4&(MID($C$6, 3, 2))&C$60)","v":""},{"$f":"IF(D$60=\"\",\"\",表１_対象物質一覧!$C$4&(MID($D$6, 3, 2))&D$60)","v":""},"",55,null,null,null,null,0,"",55,null,null,null,null,0]
["用途番号",null,null,null,"",56,null,null,null,null,0,"",56,null,null,null,null,0]
[null,null,null,null,"",57,null,null,null,null,0,"",57,null,null,null,null,0]
[null,null,null,null,"",58,null,null,null,null,0,"",58,null,null,null,null,0]
[null,null,null,null,"",59,null,null,null,null,0,"",59,null,null,null,null,0]
[null,null,null,null,"",60,null,null,null,null,0,"",60,null,null,null,null,0]
[null,null,null,null,"",61,null,null,null,null,0,"",61,null,null,null,null,0]
[null,null,null,null,"",62,null,null,null,null,0,"",62,null,null,null,null,0]
[null,{"$f":"$B$6","v":"2024年度"},{"$f":"$C$6","v":"2025年度"},{"$f":"$D$6","v":"2026年度"},"",63,null,null,null,null,0,"",63,null,null,null,null,0]
["複数手続きの種類",null,null,null,"",64,null,null,null,null,0,"",64,null,null,null,null,0]
["確認年月日",null,null,null,{"$f":"IF(H71=\"\", \"\",YEAR(H71) - IF(MONTH(H71)<4, 1, 0) & \"年度\")","v":""},65,null,null,null,null,0,{"$f":"IF(O71=\"\", \"\",YEAR(O71) - IF(MONTH(O71)<4, 1, 0) & \"年度\")","v":""},65,null,null,null,null,0]
["確認数量（kg）",null,null,null,"",66,null,null,null,null,0,"",66,null,null,null,null,0]
["申出番号（受付コード下4桁）",null,null,null,"",67,null,null,null,null,{"$f":"IF(J73=\"\",I73,I73*J73)","v":0},"",67,null,null,null,null,{"$f":"IF(Q73=\"\",P73,P73*Q73)","v":0}]
["受付コード",{"$f":"IF(B$73=\"\",\"\",表１_対象物質一覧!$C$4&(MID($B$6,3,2)&B$73))","v":""},{"$f":"IF(C$73=\"\",\"\",表１_対象物質一覧!$C$4&(MID($C$6, 3, 2))&C$73)","v":""},{"$f":"IF(D$73=\"\",\"\",表１_対象物質一覧!$C$4&(MID($D$6, 3, 2))&D$73)","v":""},"",68,null,null,null,null,0,"",68,null,null,null,null,0]
["用途番号",null,null,null,"",69,null,null,null,null,0,"",69,null,null,null,null,0]
[null,null,null,null,"",70,null,null,null,null,0,"",70,null,null,null,null,0]
[null,null,null,null,"",71,null,null,null,null,0,"",71,null,null,null,null,0]
[null,null,null,null,"",72,null,null,null,null,0,"",72,null,null,null,null,0]
[null,null,null,null,"",73,null,null,null,null,0,"",73,null,null,null,null,0]
[null,null,null,null,"",74,null,null,null,null,0,"",74,null,null,null,null,0]
[null,null,null,null,"",75,null,null,null,null,0,"",75,null,null,null,null,0]
["備考",null,null,null,"",76,null,null,null,null,0,"",76,null,null,null,null,0]
[null,null,null,null,"",77,null,null,null,null,0,"",77,null,null,null,null,0]
[null,null,null,null,"",78,null,null,null,null,0,"",78,null,null,null,null,0]
[null,null,null,null,"",79,null,null,null,null,0,"",79,null,null,null,null,0]
[null,null,null,null,"",80,null,null,null,null,0,"",80,null,null,null,null,0]
[null,null,null,null,"",81,null,null,null,null,0,"",81,null,null,null,null,0]
[null,null,null,null,"",82,null,null,null,null,0,"",82,null,null,null,null,0]
[null,null,null,null,"",83,null,null,null,null,0,"",83,null,null,null,null,0]
[null,null,null,null,"",84,null,null,null,null,0,"",84,null,null,null,null,0]
[null,null,null,null,"",85,null,null,null,null,0,"",85,null,null,null,null,0]
[null,null,null,null,"",86,null,null,null,null,0,"",86,null,null,null,null,0]
[null,null,null,null,"",87,null,null,null,null,0,"",87,null,null,null,null,0]
[null,null,null,null,"",88,null,null,null,null,0,"",88,null,null,null,null,0]
[null,null,null,null,"",89,null,null,null,null,0,"",89,null,null,null,null,0]
[null,null,null,null,"",90,null,null,null,null,0,"",90,null,null,null,null,0]
[null,null,null,null,"",91,null,null,null,null,0,"",91,null,null,null,null,0]
[null,null,null,null,"",92,null,null,null,null,0,"",92,null,null,null,null,0]
[null,null,null,null,"",93,null,null,null,null,0,"",93,null,null,null,null,0]
[null,null,null,null,"",94,null,null,null,null,0,"",94,null,null,null,null,0]
[null,null,null,null,"",95,null,null,null,null,0,"",95,null,null,null,null,0]
[null,null,null,null,"",96,null,null,null,null,0,"",96,null,null,null,null,0]
[null,null,null,null,"",97,null,null,null,null,0,"",97,null,null,null,null,0]
[null,null,null,null,"",98,null,null,null,null,0,"",98,null,null,null,null,0]
[null,null,null,null,"",99,null,null,null,null,{"$f":"IF(J105=\"\",I105,I105*J105)","v":0},"",99,null,null,null,null,{"$f":"IF(Q105=\"\",P105,P105*Q105)","v":0}]
[null,null,null,null,"",100,null,null,null,null,{"$f":"IF(J106=\"\",I106,I106*J106)","v":0},"",100,null,null,null,null,{"$f":"IF(Q106=\"\",P106,P106*Q106)","v":0}]

{"sheet":"34","index":34,"n_rows":106,"n_cols":20,"rows_kept":106,"cut":false,"hidden":false,"merged":[[1,5,1,6],[1,12,1,13],[3,5,5,6],[3,12,5,13]]}
["「表１_対象物質一覧」に戻る"]
["事業所名",null,null,null,null,"輸入量",null,null,null,null,null,null,"払出量"]
["新規化学物質の名称",null,null,null,null,"Ｎｏ",{"$f":"_xlfn.IFS(F2=\"製造量\",\"製造ロット\",F2=\"輸入量\",\"輸入ロット\",F2=\"製造・輸入量\",\"製造・輸入ロット\")","v":"輸入ロット"},{"$f":"_xlfn.IFS(F2=\"製造量\",\"製造日　（最終製品日）\",F2=\"輸入量\",\"輸入許可日\",F2=\"製造・輸入量\",\"製造日・輸入許可日\")","v":"輸入許可日"},{"$f":"_xlfn.IFS(F2=\"製造量\",\"製造数量（kg)\",F2=\"輸入量\",\"輸入数量（kg)\",F2=\"製造・輸入量\",\"製造・輸入数量（kg)\")","v":"輸入数量（kg)"},"含有率（％）","含有率換算数量(kg)",null,"Ｎｏ","ロット","払出日","払出数量（kg)","含有率（％）","含有率換算数量(kg)","用途番号","変更前ロット"]
["略称",null,null,null,null,"実績数量合計",null,{"$f":"B6","v":"2024年度"},{"$f":"SUMIF($E$7:$E106,$H$4,$I$7:$I106)","v":0},"-",{"$f":"SUMIF($E$7:$E106,$H$4,$K$7:$K106)","v":0},null,"払出数量合計",null,{"$f":"B6","v":"2024年度"},{"$f":"SUMIF($L$7:$L95,$O$4,$P$7:$P106)","v":0},"-",{"$f":"SUMIF($L$7:$L106,$H$4,$R$7:$R106)","v":0},"-","-"]
[null,null,null,null,null,null,null,{"$f":"C6","v":"2025年度"},{"$f":"SUMIF($E$7:$E106,$H$5,$I$7:$I106)","v":0},"-",{"$f":"SUMIF($E$7:$E106,$H$5,$K$7:$K106)","v":0},null,null,null,{"$f":"C6","v":"2025年度"},{"$f":"SUMIF($L$7:$L95,$O$5,$P$7:$P106)","v":0},"-",{"$f":"SUMIF($E$7:$E106,$H$5,$K$7:$K106)","v":0},"-","-"]
[null,{"$f":"'1'!B6","v":"2024年度"},{"$f":"'1'!C6","v":"2025年度"},{"$f":"'1'!D6","v":"2026年度"},null,null,null,{"$f":"D6","v":"2026年度"},{"$f":"SUMIF($E$7:$E106,$H$6,$I$7:$I106)","v":0},"-",{"$f":"SUMIF($E$7:$E106,$H$6,$K$7:$K106)","v":0},null,null,null,{"$f":"D6","v":"2026年度"},{"$f":"SUMIF($L$7:$L95,$O$6,$P$7:$P106)","v":0},"-",{"$f":"SUMIF($E$7:$E106,$H$6,$K$7:$K106)","v":0},"-","-"]
["確認年月日",null,null,null,{"$f":"IF(H7=\"\", \"\",YEAR(H7) - IF(MONTH(H7)<4, 1, 0) & \"年度\")","v":""},1,null,null,null,null,{"$f":"IF(J7=\"\",I7,I7*J7)","v":0},{"$f":"IF(O7=\"\", \"\",YEAR(O7) - IF(MONTH(O7)<4, 1, 0) & \"年度\")","v":""},1,null,null,null,null,{"$f":"IF(Q7=\"\",P7,P7*Q7)","v":0}]
["確認数量（kg）",null,null,null,"",2,null,null,null,null,{"$f":"IF(J8=\"\",I8,I8*J8)","v":0},"",2,null,null,null,null,{"$f":"IF(Q8=\"\",P8,P8*Q8)","v":0}]
["申出番号（受付コード下4桁）",null,null,null,"",3,null,null,null,null,{"$f":"IF(J9=\"\",I9,I9*J9)","v":0},"",3,null,null,null,null,{"$f":"IF(Q9=\"\",P9,P9*Q9)","v":0}]
["受付コード",{"$f":"IF(B$9=\"\",\"\",表１_対象物質一覧!$C$4&(MID($B$6,3,2)&B$9))","v":""},{"$f":"IF(C$9=\"\",\"\",表１_対象物質一覧!$C$4&(MID($C$6, 3, 2))&C$9)","v":""},{"$f":"IF(D$9=\"\",\"\",表１_対象物質一覧!$C$4&(MID($D$6, 3, 2))&D$9)","v":""},"",4,null,null,null,null,0,"",4,null,null,null,null,{"$f":"IF(Q10=\"\",P10,P10*Q10)","v":0}]
["用途番号",null,null,null,"",5,null,null,null,null,0,"",5,null,null,null,null,0]
[null,null,null,null,"",6,null,null,null,null,0,"",6,null,null,null,null,0]
[null,null,null,null,"",7,null,null,null,null,0,"",7,null,null,null,null,0]
[null,null,null,null,"",8,null,null,null,null,0,"",8,null,null,null,null,0]
[null,null,null,null,"",9,null,null,null,null,0,"",9,null,null,null,null,0]
[null,null,null,null,"",10,null,null,null,null,0,"",10,null,null,null,null,0]
["申出書に記載の「前年度の実績数量」",null,null,null,"",11,null,null,null,null,0,"",11,null,null,null,null,0]
["実績数量",{"$f":"$K$4","v":0},{"$f":"$K$5","v":0},{"$f":"$K$6","v":0},"",12,null,null,null,null,0,"",12,null,null,null,null,0]
["確認を受けている中間物等の分類",null,null,null,"",13,null,null,null,null,0,"",13,null,null,null,null,0]
["用途追加手続を省略して追加した用途の用途番号",null,null,null,"",14,null,null,null,null,0,"",14,null,null,null,null,0]
["備考（３年連続して実積数量がゼロの場合はその理由）",null,null,null,"",15,null,null,null,null,0,"",15,null,null,null,null,0]
["用途証明書なしであって確認年月日が複数ある場合の",null,null,null,"",16,null,null,null,null,0,"",16,null,null,null,null,0]
["確認年月日（上段）及び確認数量(kg)（下段）",null,null,null,"",17,null,null,null,null,0,"",17,null,null,null,null,0]
[null,null,null,null,"",18,null,null,null,null,0,"",18,null,null,null,null,0]
[null,null,null,null,"",19,null,null,null,null,0,"",19,null,null,null,null,0]
[null,null,null,null,"",20,null,null,null,null,0,"",20,null,null,null,null,0]
[null,null,null,null,"",21,null,null,null,null,0,"",21,null,null,null,null,0]
[null,null,null,null,"",22,null,null,null,null,0,"",22,null,null,null,null,0]
[null,null,null,null,"",23,null,null,null,null,0,"",23,null,null,null,null,0]
[null,null,null,null,"",24,null,null,null,null,0,"",24,null,null,null,null,0]
[null,null,null,null,"",25,null,null,null,null,0,"",25,null,null,null,null,0]
[null,null,null,null,"",26,null,null,null,null,0,"",26,null,null,null,null,0]
[null,null,null,null,"",27,null,null,null,null,0,"",27,null,null,null,null,0]
[null,null,null,null,"",28,null,null,null,null,0,"",28,null,null,null,null,0]
[null,null,null,null,"",29,null,null,null,null,0,"",29,null,null,null,null,0]
[null,null,null,null,"",30,null,null,null,null,0,"",30,null,null,null,null,0]
[null,null,null,null,"",31,null,null,null,null,0,"",31,null,null,null,null,0]
[null,null,null,null,"",32,null,null,null,null,0,"",32,null,null,null,null,0]
[null,null,null,null,{"$f":"IF(H39=\"\", \"\",YEAR(H39) - IF(MONTH(H39)<4, 1, 0) & \"年度\")","v":""},33,null,null,null,null,0,{"$f":"IF(O39=\"\", \"\",YEAR(O39) - IF(MONTH(O39)<4, 1, 0) & \"年度\")","v":""},33,null,null,null,null,0]
[null,null,null,null,"",34,null,null,null,null,0,"",34,null,null,null,null,0]
[null,null,null,null,"",35,null,null,null,null,0,"",35,null,null,null,null,0]
["同一年度で同じ化学物質を複数申請している場合は、その確認を受けた事項",null,null,null,"",36,null,null,null,null,0,"",36,null,null,null,null,0]
[null,{"$f":"$B$6","v":"2024年度"},{"$f":"$C$6","v":"2025年度"},{"$f":"$D$6","v":"2026年度"},"",37,null,null,null,null,0,"",37,null,null,null,null,0]
["複数手続きの種類",null,null,null,"",38,null,null,null,null,0,"",38,null,null,null,null,0]
["確認年月日",null,null,null,"",39,null,null,null,null,0,"",39,null,null,null,null,0]
["確認数量（kg）",null,null,null,"",40,null,null,null,null,0,"",40,null,null,null,null,0]
["申出番号（受付コード下4桁）",null,null,null,"",41,null,null,null,null,0,"",41,null,null,null,null,0]
["受付コード",{"$f":"IF(B$47=\"\",\"\",表１_対象物質一覧!$C$4&(MID($B$6,3,2)&B$47))","v":""},{"$f":"IF(C$47=\"\",\"\",表１_対象物質一覧!$C$4&(MID($C$6, 3, 2))&C$47)","v":""},{"$f":"IF(D$47=\"\",\"\",表１_対象物質一覧!$C$4&(MID($D$6, 3, 2))&D$47)","v":""},"",42,null,null,null,null,0,"",42,null,null,null,null,0]
["用途番号",null,null,null,"",43,null,null,null,null,0,"",43,null,null,null,null,0]
[null,null,null,null,"",44,null,null,null,null,0,"",44,null,null,null,null,0]
[null,null,null,null,"",45,null,null,null,null,0,"",45,null,null,null,null,0]
[null,null,null,null,"",46,null,null,null,null,0,"",46,null,null,null,null,0]
[null,null,null,null,"",47,null,null,null,null,0,"",47,null,null,null,null,0]
[null,null,null,null,"",48,null,null,null,null,0,"",48,null,null,null,null,0]
[null,null,null,null,"",49,null,null,null,null,0,"",49,null,null,null,null,0]
[null,{"$f":"$B$6","v":"2024年度"},{"$f":"$C$6","v":"2025年度"},{"$f":"$D$6","v":"2026年度"},"",50,null,null,null,null,0,"",50,null,null,null,null,0]
["複数手続きの種類",null,null,null,"",51,null,null,null,null,0,"",51,null,null,null,null,0]
["確認年月日",null,null,null,"",52,null,null,null,null,0,"",52,null,null,null,null,0]
["確認数量（kg）",null,null,null,"",53,null,null,null,null,0,"",53,null,null,null,null,0]
["申出番号（受付コード下4桁）",null,null,null,"",54,null,null,null,null,0,"",54,null,null,null,null,0]
["受付コード",{"$f":"IF(B$60=\"\",\"\",表１_対象物質一覧!$C$4&(MID($B$6,3,2)&B$60))","v":""},{"$f":"IF(C$60=\"\",\"\",表１_対象物質一覧!$C$4&(MID($C$6, 3, 2))&C$60)","v":""},{"$f":"IF(D$60=\"\",\"\",表１_対象物質一覧!$C$4&(MID($D$6, 3, 2))&D$60)","v":""},"",55,null,null,null,null,0,"",55,null,null,null,null,0]
["用途番号",null,null,null,"",56,null,null,null,null,0,"",56,null,null,null,null,0]
[null,null,null,null,"",57,null,null,null,null,0,"",57,null,null,null,null,0]
[null,null,null,null,"",58,null,null,null,null,0,"",58,null,null,null,null,0]
[null,null,null,null,"",59,null,null,null,null,0,"",59,null,null,null,null,0]
[null,null,null,null,"",60,null,null,null,null,0,"",60,null,null,null,null,0]
[null,null,null,null,"",61,null,null,null,null,0,"",61,null,null,null,null,0]
[null,null,null,null,"",62,null,null,null,null,0,"",62,null,null,null,null,0]
[null,{"$f":"$B$6","v":"2024年度"},{"$f":"$C$6","v":"2025年度"},{"$f":"$D$6","v":"2026年度"},"",63,null,null,null,null,0,"",63,null,null,null,null,0]
["複数手続きの種類",null,null,null,"",64,null,null,null,null,0,"",64,null,null,null,null,0]
["確認年月日",null,null,null,{"$f":"IF(H71=\"\", \"\",YEAR(H71) - IF(MONTH(H71)<4, 1, 0) & \"年度\")","v":""},65,null,null,null,null,0,{"$f":"IF(O71=\"\", \"\",YEAR(O71) - IF(MONTH(O71)<4, 1, 0) & \"年度\")","v":""},65,null,null,null,null,0]
["確認数量（kg）",null,null,null,"",66,null,null,null,null,0,"",66,null,null,null,null,0]
["申出番号（受付コード下4桁）",null,null,null,"",67,null,null,null,null,{"$f":"IF(J73=\"\",I73,I73*J73)","v":0},"",67,null,null,null,null,{"$f":"IF(Q73=\"\",P73,P73*Q73)","v":0}]
["受付コード",{"$f":"IF(B$73=\"\",\"\",表１_対象物質一覧!$C$4&(MID($B$6,3,2)&B$73))","v":""},{"$f":"IF(C$73=\"\",\"\",表１_対象物質一覧!$C$4&(MID($C$6, 3, 2))&C$73)","v":""},{"$f":"IF(D$73=\"\",\"\",表１_対象物質一覧!$C$4&(MID($D$6, 3, 2))&D$73)","v":""},"",68,null,null,null,null,0,"",68,null,null,null,null,0]
["用途番号",null,null,null,"",69,null,null,null,null,0,"",69,null,null,null,null,0]
[null,null,null,null,"",70,null,null,null,null,0,"",70,null,null,null,null,0]
[null,null,null,null,"",71,null,null,null,null,0,"",71,null,null,null,null,0]
[null,null,null,null,"",72,null,null,null,null,0,"",72,null,null,null,null,0]
[null,null,null,null,"",73,null,null,null,null,0,"",73,null,null,null,null,0]
[null,null,null,null,"",74,null,null,null,null,0,"",74,null,null,null,null,0]
[null,null,null,null,"",75,null,null,null,null,0,"",75,null,null,null,null,0]
["備考",null,null,null,"",76,null,null,null,null,0,"",76,null,null,null,null,0]
[null,null,null,null,"",77,null,null,null,null,0,"",77,null,null,null,null,0]
[null,null,null,null,"",78,null,null,null,null,0,"",78,null,null,null,null,0]
[null,null,null,null,"",79,null,null,null,null,0,"",79,null,null,null,null,0]
[null,null,null,null,"",80,null,null,null,null,0,"",80,null,null,null,null,0]
[null,null,null,null,"",81,null,null,null,null,0,"",81,null,null,null,null,0]
[null,null,null,null,"",82,null,null,null,null,0,"",82,null,null,null,null,0]
[null,null,null,null,"",83,null,null,null,null,0,"",83,null,null,null,null,0]
[null,null,null,null,"",84,null,null,null,null,0,"",84,null,null,null,null,0]
[null,null,null,null,"",85,null,null,null,null,0,"",85,null,null,null,null,0]
[null,null,null,null,"",86,null,null,null,null,0,"",86,null,null,null,null,0]
[null,null,null,null,"",87,null,null,null,null,0,"",87,null,null,null,null,0]
[null,null,null,null,"",88,null,null,null,null,0,"",88,null,null,null,null,0]
[null,null,null,null,"",89,null,null,null,null,0,"",89,null,null,null,null,0]
[null,null,null,null,"",90,null,null,null,null,0,"",90,null,null,null,null,0]
[null,null,null,null,"",91,null,null,null,null,0,"",91,null,null,null,null,0]
[null,null,null,null,"",92,null,null,null,null,0,"",92,null,null,null,null,0]
[null,null,null,null,"",93,null,null,null,null,0,"",93,null,null,null,null,0]
[null,null,null,null,"",94,null,null,null,null,0,"",94,null,null,null,null,0]
[null,null,null,null,"",95,null,null,null,null,0,"",95,null,null,null,null,0]
[null,null,null,null,"",96,null,null,null,null,0,"",96,null,null,null,null,0]
[null,null,null,null,"",97,null,null,null,null,0,"",97,null,null,null,null,0]
[null,null,null,null,"",98,null,null,null,null,0,"",98,null,null,null,null,0]
[null,null,null,null,"",99,null,null,null,null,{"$f":"IF(J105=\"\",I105,I105*J105)","v":0},"",99,null,null,null,null,{"$f":"IF(Q105=\"\",P105,P105*Q105)","v":0}]
[null,null,null,null,"",100,null,null,null,null,{"$f":"IF(J106=\"\",I106,I106*J106)","v":0},"",100,null,null,null,null,{"$f":"IF(Q106=\"\",P106,P106*Q106)","v":0}]

{"sheet":"35","index":35,"n_rows":106,"n_cols":20,"rows_kept":106,"cut":false,"hidden":false,"merged":[[1,5,1,6],[1,12,1,13],[3,5,5,6],[3,12,5,13]]}
["「表１_対象物質一覧」に戻る"]
["事業所名",null,null,null,null,"輸入量",null,null,null,null,null,null,"払出量"]
["新規化学物質の名称",null,null,null,null,"Ｎｏ",{"$f":"_xlfn.IFS(F2=\"製造量\",\"製造ロット\",F2=\"輸入量\",\"輸入ロット\",F2=\"製造・輸入量\",\"製造・輸入ロット\")","v":"輸入ロット"},{"$f":"_xlfn.IFS(F2=\"製造量\",\"製造日　（最終製品日）\",F2=\"輸入量\",\"輸入許可日\",F2=\"製造・輸入量\",\"製造日・輸入許可日\")","v":"輸入許可日"},{"$f":"_xlfn.IFS(F2=\"製造量\",\"製造数量（kg)\",F2=\"輸入量\",\"輸入数量（kg)\",F2=\"製造・輸入量\",\"製造・輸入数量（kg)\")","v":"輸入数量（kg)"},"含有率（％）","含有率換算数量(kg)",null,"Ｎｏ","ロット","払出日","払出数量（kg)","含有率（％）","含有率換算数量(kg)","用途番号","変更前ロット"]
["略称",null,null,null,null,"実績数量合計",null,{"$f":"B6","v":"2024年度"},{"$f":"SUMIF($E$7:$E106,$H$4,$I$7:$I106)","v":0},"-",{"$f":"SUMIF($E$7:$E106,$H$4,$K$7:$K106)","v":0},null,"払出数量合計",null,{"$f":"B6","v":"2024年度"},{"$f":"SUMIF($L$7:$L95,$O$4,$P$7:$P106)","v":0},"-",{"$f":"SUMIF($L$7:$L106,$H$4,$R$7:$R106)","v":0},"-","-"]
[null,null,null,null,null,null,null,{"$f":"C6","v":"2025年度"},{"$f":"SUMIF($E$7:$E106,$H$5,$I$7:$I106)","v":0},"-",{"$f":"SUMIF($E$7:$E106,$H$5,$K$7:$K106)","v":0},null,null,null,{"$f":"C6","v":"2025年度"},{"$f":"SUMIF($L$7:$L95,$O$5,$P$7:$P106)","v":0},"-",{"$f":"SUMIF($E$7:$E106,$H$5,$K$7:$K106)","v":0},"-","-"]
[null,{"$f":"'1'!B6","v":"2024年度"},{"$f":"'1'!C6","v":"2025年度"},{"$f":"'1'!D6","v":"2026年度"},null,null,null,{"$f":"D6","v":"2026年度"},{"$f":"SUMIF($E$7:$E106,$H$6,$I$7:$I106)","v":0},"-",{"$f":"SUMIF($E$7:$E106,$H$6,$K$7:$K106)","v":0},null,null,null,{"$f":"D6","v":"2026年度"},{"$f":"SUMIF($L$7:$L95,$O$6,$P$7:$P106)","v":0},"-",{"$f":"SUMIF($E$7:$E106,$H$6,$K$7:$K106)","v":0},"-","-"]
["確認年月日",null,null,null,{"$f":"IF(H7=\"\", \"\",YEAR(H7) - IF(MONTH(H7)<4, 1, 0) & \"年度\")","v":""},1,null,null,null,null,{"$f":"IF(J7=\"\",I7,I7*J7)","v":0},{"$f":"IF(O7=\"\", \"\",YEAR(O7) - IF(MONTH(O7)<4, 1, 0) & \"年度\")","v":""},1,null,null,null,null,{"$f":"IF(Q7=\"\",P7,P7*Q7)","v":0}]
["確認数量（kg）",null,null,null,"",2,null,null,null,null,{"$f":"IF(J8=\"\",I8,I8*J8)","v":0},"",2,null,null,null,null,{"$f":"IF(Q8=\"\",P8,P8*Q8)","v":0}]
["申出番号（受付コード下4桁）",null,null,null,"",3,null,null,null,null,{"$f":"IF(J9=\"\",I9,I9*J9)","v":0},"",3,null,null,null,null,{"$f":"IF(Q9=\"\",P9,P9*Q9)","v":0}]
["受付コード",{"$f":"IF(B$9=\"\",\"\",表１_対象物質一覧!$C$4&(MID($B$6,3,2)&B$9))","v":""},{"$f":"IF(C$9=\"\",\"\",表１_対象物質一覧!$C$4&(MID($C$6, 3, 2))&C$9)","v":""},{"$f":"IF(D$9=\"\",\"\",表１_対象物質一覧!$C$4&(MID($D$6, 3, 2))&D$9)","v":""},"",4,null,null,null,null,0,"",4,null,null,null,null,{"$f":"IF(Q10=\"\",P10,P10*Q10)","v":0}]
["用途番号",null,null,null,"",5,null,null,null,null,0,"",5,null,null,null,null,0]
[null,null,null,null,"",6,null,null,null,null,0,"",6,null,null,null,null,0]
[null,null,null,null,"",7,null,null,null,null,0,"",7,null,null,null,null,0]
[null,null,null,null,"",8,null,null,null,null,0,"",8,null,null,null,null,0]
[null,null,null,null,"",9,null,null,null,null,0,"",9,null,null,null,null,0]
[null,null,null,null,"",10,null,null,null,null,0,"",10,null,null,null,null,0]
["申出書に記載の「前年度の実績数量」",null,null,null,"",11,null,null,null,null,0,"",11,null,null,null,null,0]
["実績数量",{"$f":"$K$4","v":0},{"$f":"$K$5","v":0},{"$f":"$K$6","v":0},"",12,null,null,null,null,0,"",12,null,null,null,null,0]
["確認を受けている中間物等の分類",null,null,null,"",13,null,null,null,null,0,"",13,null,null,null,null,0]
["用途追加手続を省略して追加した用途の用途番号",null,null,null,"",14,null,null,null,null,0,"",14,null,null,null,null,0]
["備考（３年連続して実積数量がゼロの場合はその理由）",null,null,null,"",15,null,null,null,null,0,"",15,null,null,null,null,0]
["用途証明書なしであって確認年月日が複数ある場合の",null,null,null,"",16,null,null,null,null,0,"",16,null,null,null,null,0]
["確認年月日（上段）及び確認数量(kg)（下段）",null,null,null,"",17,null,null,null,null,0,"",17,null,null,null,null,0]
[null,null,null,null,"",18,null,null,null,null,0,"",18,null,null,null,null,0]
[null,null,null,null,"",19,null,null,null,null,0,"",19,null,null,null,null,0]
[null,null,null,null,"",20,null,null,null,null,0,"",20,null,null,null,null,0]
[null,null,null,null,"",21,null,null,null,null,0,"",21,null,null,null,null,0]
[null,null,null,null,"",22,null,null,null,null,0,"",22,null,null,null,null,0]
[null,null,null,null,"",23,null,null,null,null,0,"",23,null,null,null,null,0]
[null,null,null,null,"",24,null,null,null,null,0,"",24,null,null,null,null,0]
[null,null,null,null,"",25,null,null,null,null,0,"",25,null,null,null,null,0]
[null,null,null,null,"",26,null,null,null,null,0,"",26,null,null,null,null,0]
[null,null,null,null,"",27,null,null,null,null,0,"",27,null,null,null,null,0]
[null,null,null,null,"",28,null,null,null,null,0,"",28,null,null,null,null,0]
[null,null,null,null,"",29,null,null,null,null,0,"",29,null,null,null,null,0]
[null,null,null,null,"",30,null,null,null,null,0,"",30,null,null,null,null,0]
[null,null,null,null,"",31,null,null,null,null,0,"",31,null,null,null,null,0]
[null,null,null,null,"",32,null,null,null,null,0,"",32,null,null,null,null,0]
[null,null,null,null,{"$f":"IF(H39=\"\", \"\",YEAR(H39) - IF(MONTH(H39)<4, 1, 0) & \"年度\")","v":""},33,null,null,null,null,0,{"$f":"IF(O39=\"\", \"\",YEAR(O39) - IF(MONTH(O39)<4, 1, 0) & \"年度\")","v":""},33,null,null,null,null,0]
[null,null,null,null,"",34,null,null,null,null,0,"",34,null,null,null,null,0]
[null,null,null,null,"",35,null,null,null,null,0,"",35,null,null,null,null,0]
["同一年度で同じ化学物質を複数申請している場合は、その確認を受けた事項",null,null,null,"",36,null,null,null,null,0,"",36,null,null,null,null,0]
[null,{"$f":"$B$6","v":"2024年度"},{"$f":"$C$6","v":"2025年度"},{"$f":"$D$6","v":"2026年度"},"",37,null,null,null,null,0,"",37,null,null,null,null,0]
["複数手続きの種類",null,null,null,"",38,null,null,null,null,0,"",38,null,null,null,null,0]
["確認年月日",null,null,null,"",39,null,null,null,null,0,"",39,null,null,null,null,0]
["確認数量（kg）",null,null,null,"",40,null,null,null,null,0,"",40,null,null,null,null,0]
["申出番号（受付コード下4桁）",null,null,null,"",41,null,null,null,null,0,"",41,null,null,null,null,0]
["受付コード",{"$f":"IF(B$47=\"\",\"\",表１_対象物質一覧!$C$4&(MID($B$6,3,2)&B$47))","v":""},{"$f":"IF(C$47=\"\",\"\",表１_対象物質一覧!$C$4&(MID($C$6, 3, 2))&C$47)","v":""},{"$f":"IF(D$47=\"\",\"\",表１_対象物質一覧!$C$4&(MID($D$6, 3, 2))&D$47)","v":""},"",42,null,null,null,null,0,"",42,null,null,null,null,0]
["用途番号",null,null,null,"",43,null,null,null,null,0,"",43,null,null,null,null,0]
[null,null,null,null,"",44,null,null,null,null,0,"",44,null,null,null,null,0]
[null,null,null,null,"",45,null,null,null,null,0,"",45,null,null,null,null,0]
[null,null,null,null,"",46,null,null,null,null,0,"",46,null,null,null,null,0]
[null,null,null,null,"",47,null,null,null,null,0,"",47,null,null,null,null,0]
[null,null,null,null,"",48,null,null,null,null,0,"",48,null,null,null,null,0]
[null,null,null,null,"",49,null,null,null,null,0,"",49,null,null,null,null,0]
[null,{"$f":"$B$6","v":"2024年度"},{"$f":"$C$6","v":"2025年度"},{"$f":"$D$6","v":"2026年度"},"",50,null,null,null,null,0,"",50,null,null,null,null,0]
["複数手続きの種類",null,null,null,"",51,null,null,null,null,0,"",51,null,null,null,null,0]
["確認年月日",null,null,null,"",52,null,null,null,null,0,"",52,null,null,null,null,0]
["確認数量（kg）",null,null,null,"",53,null,null,null,null,0,"",53,null,null,null,null,0]
["申出番号（受付コード下4桁）",null,null,null,"",54,null,null,null,null,0,"",54,null,null,null,null,0]
["受付コード",{"$f":"IF(B$60=\"\",\"\",表１_対象物質一覧!$C$4&(MID($B$6,3,2)&B$60))","v":""},{"$f":"IF(C$60=\"\",\"\",表１_対象物質一覧!$C$4&(MID($C$6, 3, 2))&C$60)","v":""},{"$f":"IF(D$60=\"\",\"\",表１_対象物質一覧!$C$4&(MID($D$6, 3, 2))&D$60)","v":""},"",55,null,null,null,null,0,"",55,null,null,null,null,0]
["用途番号",null,null,null,"",56,null,null,null,null,0,"",56,null,null,null,null,0]
[null,null,null,null,"",57,null,null,null,null,0,"",57,null,null,null,null,0]
[null,null,null,null,"",58,null,null,null,null,0,"",58,null,null,null,null,0]
[null,null,null,null,"",59,null,null,null,null,0,"",59,null,null,null,null,0]
[null,null,null,null,"",60,null,null,null,null,0,"",60,null,null,null,null,0]
[null,null,null,null,"",61,null,null,null,null,0,"",61,null,null,null,null,0]
[null,null,null,null,"",62,null,null,null,null,0,"",62,null,null,null,null,0]
[null,{"$f":"$B$6","v":"2024年度"},{"$f":"$C$6","v":"2025年度"},{"$f":"$D$6","v":"2026年度"},"",63,null,null,null,null,0,"",63,null,null,null,null,0]
["複数手続きの種類",null,null,null,"",64,null,null,null,null,0,"",64,null,null,null,null,0]
["確認年月日",null,null,null,{"$f":"IF(H71=\"\", \"\",YEAR(H71) - IF(MONTH(H71)<4, 1, 0) & \"年度\")","v":""},65,null,null,null,null,0,{"$f":"IF(O71=\"\", \"\",YEAR(O71) - IF(MONTH(O71)<4, 1, 0) & \"年度\")","v":""},65,null,null,null,null,0]
["確認数量（kg）",null,null,null,"",66,null,null,null,null,0,"",66,null,null,null,null,0]
["申出番号（受付コード下4桁）",null,null,null,"",67,null,null,null,null,{"$f":"IF(J73=\"\",I73,I73*J73)","v":0},"",67,null,null,null,null,{"$f":"IF(Q73=\"\",P73,P73*Q73)","v":0}]
["受付コード",{"$f":"IF(B$73=\"\",\"\",表１_対象物質一覧!$C$4&(MID($B$6,3,2)&B$73))","v":""},{"$f":"IF(C$73=\"\",\"\",表１_対象物質一覧!$C$4&(MID($C$6, 3, 2))&C$73)","v":""},{"$f":"IF(D$73=\"\",\"\",表１_対象物質一覧!$C$4&(MID($D$6, 3, 2))&D$73)","v":""},"",68,null,null,null,null,0,"",68,null,null,null,null,0]
["用途番号",null,null,null,"",69,null,null,null,null,0,"",69,null,null,null,null,0]
[null,null,null,null,"",70,null,null,null,null,0,"",70,null,null,null,null,0]
[null,null,null,null,"",71,null,null,null,null,0,"",71,null,null,null,null,0]
[null,null,null,null,"",72,null,null,null,null,0,"",72,null,null,null,null,0]
[null,null,null,null,"",73,null,null,null,null,0,"",73,null,null,null,null,0]
[null,null,null,null,"",74,null,null,null,null,0,"",74,null,null,null,null,0]
[null,null,null,null,"",75,null,null,null,null,0,"",75,null,null,null,null,0]
["備考",null,null,null,"",76,null,null,null,null,0,"",76,null,null,null,null,0]
[null,null,null,null,"",77,null,null,null,null,0,"",77,null,null,null,null,0]
[null,null,null,null,"",78,null,null,null,null,0,"",78,null,null,null,null,0]
[null,null,null,null,"",79,null,null,null,null,0,"",79,null,null,null,null,0]
[null,null,null,null,"",80,null,null,null,null,0,"",80,null,null,null,null,0]
[null,null,null,null,"",81,null,null,null,null,0,"",81,null,null,null,null,0]
[null,null,null,null,"",82,null,null,null,null,0,"",82,null,null,null,null,0]
[null,null,null,null,"",83,null,null,null,null,0,"",83,null,null,null,null,0]
[null,null,null,null,"",84,null,null,null,null,0,"",84,null,null,null,null,0]
[null,null,null,null,"",85,null,null,null,null,0,"",85,null,null,null,null,0]
[null,null,null,null,"",86,null,null,null,null,0,"",86,null,null,null,null,0]
[null,null,null,null,"",87,null,null,null,null,0,"",87,null,null,null,null,0]
[null,null,null,null,"",88,null,null,null,null,0,"",88,null,null,null,null,0]
[null,null,null,null,"",89,null,null,null,null,0,"",89,null,null,null,null,0]
[null,null,null,null,"",90,null,null,null,null,0,"",90,null,null,null,null,0]
[null,null,null,null,"",91,null,null,null,null,0,"",91,null,null,null,null,0]
[null,null,null,null,"",92,null,null,null,null,0,"",92,null,null,null,null,0]
[null,null,null,null,"",93,null,null,null,null,0,"",93,null,null,null,null,0]
[null,null,null,null,"",94,null,null,null,null,0,"",94,null,null,null,null,0]
[null,null,null,null,"",95,null,null,null,null,0,"",95,null,null,null,null,0]
[null,null,null,null,"",96,null,null,null,null,0,"",96,null,null,null,null,0]
[null,null,null,null,"",97,null,null,null,null,0,"",97,null,null,null,null,0]
[null,null,null,null,"",98,null,null,null,null,0,"",98,null,null,null,null,0]
[null,null,null,null,"",99,null,null,null,null,{"$f":"IF(J105=\"\",I105,I105*J105)","v":0},"",99,null,null,null,null,{"$f":"IF(Q105=\"\",P105,P105*Q105)","v":0}]
[null,null,null,null,"",100,null,null,null,null,{"$f":"IF(J106=\"\",I106,I106*J106)","v":0},"",100,null,null,null,null,{"$f":"IF(Q106=\"\",P106,P106*Q106)","v":0}]

{"sheet":"36","index":36,"n_rows":106,"n_cols":20,"rows_kept":106,"cut":false,"hidden":false,"merged":[[1,5,1,6],[1,12,1,13],[3,5,5,6],[3,12,5,13]]}
["「表１_対象物質一覧」に戻る"]
["事業所名",null,null,null,null,"輸入量",null,null,null,null,null,null,"払出量"]
["新規化学物質の名称",null,null,null,null,"Ｎｏ",{"$f":"_xlfn.IFS(F2=\"製造量\",\"製造ロット\",F2=\"輸入量\",\"輸入ロット\",F2=\"製造・輸入量\",\"製造・輸入ロット\")","v":"輸入ロット"},{"$f":"_xlfn.IFS(F2=\"製造量\",\"製造日　（最終製品日）\",F2=\"輸入量\",\"輸入許可日\",F2=\"製造・輸入量\",\"製造日・輸入許可日\")","v":"輸入許可日"},{"$f":"_xlfn.IFS(F2=\"製造量\",\"製造数量（kg)\",F2=\"輸入量\",\"輸入数量（kg)\",F2=\"製造・輸入量\",\"製造・輸入数量（kg)\")","v":"輸入数量（kg)"},"含有率（％）","含有率換算数量(kg)",null,"Ｎｏ","ロット","払出日","払出数量（kg)","含有率（％）","含有率換算数量(kg)","用途番号","変更前ロット"]
["略称",null,null,null,null,"実績数量合計",null,{"$f":"B6","v":"2024年度"},{"$f":"SUMIF($E$7:$E106,$H$4,$I$7:$I106)","v":0},"-",{"$f":"SUMIF($E$7:$E106,$H$4,$K$7:$K106)","v":0},null,"払出数量合計",null,{"$f":"B6","v":"2024年度"},{"$f":"SUMIF($L$7:$L95,$O$4,$P$7:$P106)","v":0},"-",{"$f":"SUMIF($L$7:$L106,$H$4,$R$7:$R106)","v":0},"-","-"]
[null,null,null,null,null,null,null,{"$f":"C6","v":"2025年度"},{"$f":"SUMIF($E$7:$E106,$H$5,$I$7:$I106)","v":0},"-",{"$f":"SUMIF($E$7:$E106,$H$5,$K$7:$K106)","v":0},null,null,null,{"$f":"C6","v":"2025年度"},{"$f":"SUMIF($L$7:$L95,$O$5,$P$7:$P106)","v":0},"-",{"$f":"SUMIF($E$7:$E106,$H$5,$K$7:$K106)","v":0},"-","-"]
[null,{"$f":"'1'!B6","v":"2024年度"},{"$f":"'1'!C6","v":"2025年度"},{"$f":"'1'!D6","v":"2026年度"},null,null,null,{"$f":"D6","v":"2026年度"},{"$f":"SUMIF($E$7:$E106,$H$6,$I$7:$I106)","v":0},"-",{"$f":"SUMIF($E$7:$E106,$H$6,$K$7:$K106)","v":0},null,null,null,{"$f":"D6","v":"2026年度"},{"$f":"SUMIF($L$7:$L95,$O$6,$P$7:$P106)","v":0},"-",{"$f":"SUMIF($E$7:$E106,$H$6,$K$7:$K106)","v":0},"-","-"]
["確認年月日",null,null,null,{"$f":"IF(H7=\"\", \"\",YEAR(H7) - IF(MONTH(H7)<4, 1, 0) & \"年度\")","v":""},1,null,null,null,null,{"$f":"IF(J7=\"\",I7,I7*J7)","v":0},{"$f":"IF(O7=\"\", \"\",YEAR(O7) - IF(MONTH(O7)<4, 1, 0) & \"年度\")","v":""},1,null,null,null,null,{"$f":"IF(Q7=\"\",P7,P7*Q7)","v":0}]
["確認数量（kg）",null,null,null,"",2,null,null,null,null,{"$f":"IF(J8=\"\",I8,I8*J8)","v":0},"",2,null,null,null,null,{"$f":"IF(Q8=\"\",P8,P8*Q8)","v":0}]
["申出番号（受付コード下4桁）",null,null,null,"",3,null,null,null,null,{"$f":"IF(J9=\"\",I9,I9*J9)","v":0},"",3,null,null,null,null,{"$f":"IF(Q9=\"\",P9,P9*Q9)","v":0}]
["受付コード",{"$f":"IF(B$9=\"\",\"\",表１_対象物質一覧!$C$4&(MID($B$6,3,2)&B$9))","v":""},{"$f":"IF(C$9=\"\",\"\",表１_対象物質一覧!$C$4&(MID($C$6, 3, 2))&C$9)","v":""},{"$f":"IF(D$9=\"\",\"\",表１_対象物質一覧!$C$4&(MID($D$6, 3, 2))&D$9)","v":""},"",4,null,null,null,null,0,"",4,null,null,null,null,{"$f":"IF(Q10=\"\",P10,P10*Q10)","v":0}]
["用途番号",null,null,null,"",5,null,null,null,null,0,"",5,null,null,null,null,0]
[null,null,null,null,"",6,null,null,null,null,0,"",6,null,null,null,null,0]
[null,null,null,null,"",7,null,null,null,null,0,"",7,null,null,null,null,0]
[null,null,null,null,"",8,null,null,null,null,0,"",8,null,null,null,null,0]
[null,null,null,null,"",9,null,null,null,null,0,"",9,null,null,null,null,0]
[null,null,null,null,"",10,null,null,null,null,0,"",10,null,null,null,null,0]
["申出書に記載の「前年度の実績数量」",null,null,null,"",11,null,null,null,null,0,"",11,null,null,null,null,0]
["実績数量",{"$f":"$K$4","v":0},{"$f":"$K$5","v":0},{"$f":"$K$6","v":0},"",12,null,null,null,null,0,"",12,null,null,null,null,0]
["確認を受けている中間物等の分類",null,null,null,"",13,null,null,null,null,0,"",13,null,null,null,null,0]
["用途追加手続を省略して追加した用途の用途番号",null,null,null,"",14,null,null,null,null,0,"",14,null,null,null,null,0]
["備考（３年連続して実積数量がゼロの場合はその理由）",null,null,null,"",15,null,null,null,null,0,"",15,null,null,null,null,0]
["用途証明書なしであって確認年月日が複数ある場合の",null,null,null,"",16,null,null,null,null,0,"",16,null,null,null,null,0]
["確認年月日（上段）及び確認数量(kg)（下段）",null,null,null,"",17,null,null,null,null,0,"",17,null,null,null,null,0]
[null,null,null,null,"",18,null,null,null,null,0,"",18,null,null,null,null,0]
[null,null,null,null,"",19,null,null,null,null,0,"",19,null,null,null,null,0]
[null,null,null,null,"",20,null,null,null,null,0,"",20,null,null,null,null,0]
[null,null,null,null,"",21,null,null,null,null,0,"",21,null,null,null,null,0]
[null,null,null,null,"",22,null,null,null,null,0,"",22,null,null,null,null,0]
[null,null,null,null,"",23,null,null,null,null,0,"",23,null,null,null,null,0]
[null,null,null,null,"",24,null,null,null,null,0,"",24,null,null,null,null,0]
[null,null,null,null,"",25,null,null,null,null,0,"",25,null,null,null,null,0]
[null,null,null,null,"",26,null,null,null,null,0,"",26,null,null,null,null,0]
[null,null,null,null,"",27,null,null,null,null,0,"",27,null,null,null,null,0]
[null,null,null,null,"",28,null,null,null,null,0,"",28,null,null,null,null,0]
[null,null,null,null,"",29,null,null,null,null,0,"",29,null,null,null,null,0]
[null,null,null,null,"",30,null,null,null,null,0,"",30,null,null,null,null,0]
[null,null,null,null,"",31,null,null,null,null,0,"",31,null,null,null,null,0]
[null,null,null,null,"",32,null,null,null,null,0,"",32,null,null,null,null,0]
[null,null,null,null,{"$f":"IF(H39=\"\", \"\",YEAR(H39) - IF(MONTH(H39)<4, 1, 0) & \"年度\")","v":""},33,null,null,null,null,0,{"$f":"IF(O39=\"\", \"\",YEAR(O39) - IF(MONTH(O39)<4, 1, 0) & \"年度\")","v":""},33,null,null,null,null,0]
[null,null,null,null,"",34,null,null,null,null,0,"",34,null,null,null,null,0]
[null,null,null,null,"",35,null,null,null,null,0,"",35,null,null,null,null,0]
["同一年度で同じ化学物質を複数申請している場合は、その確認を受けた事項",null,null,null,"",36,null,null,null,null,0,"",36,null,null,null,null,0]
[null,{"$f":"$B$6","v":"2024年度"},{"$f":"$C$6","v":"2025年度"},{"$f":"$D$6","v":"2026年度"},"",37,null,null,null,null,0,"",37,null,null,null,null,0]
["複数手続きの種類",null,null,null,"",38,null,null,null,null,0,"",38,null,null,null,null,0]
["確認年月日",null,null,null,"",39,null,null,null,null,0,"",39,null,null,null,null,0]
["確認数量（kg）",null,null,null,"",40,null,null,null,null,0,"",40,null,null,null,null,0]
["申出番号（受付コード下4桁）",null,null,null,"",41,null,null,null,null,0,"",41,null,null,null,null,0]
["受付コード",{"$f":"IF(B$47=\"\",\"\",表１_対象物質一覧!$C$4&(MID($B$6,3,2)&B$47))","v":""},{"$f":"IF(C$47=\"\",\"\",表１_対象物質一覧!$C$4&(MID($C$6, 3, 2))&C$47)","v":""},{"$f":"IF(D$47=\"\",\"\",表１_対象物質一覧!$C$4&(MID($D$6, 3, 2))&D$47)","v":""},"",42,null,null,null,null,0,"",42,null,null,null,null,0]
["用途番号",null,null,null,"",43,null,null,null,null,0,"",43,null,null,null,null,0]
[null,null,null,null,"",44,null,null,null,null,0,"",44,null,null,null,null,0]
[null,null,null,null,"",45,null,null,null,null,0,"",45,null,null,null,null,0]
[null,null,null,null,"",46,null,null,null,null,0,"",46,null,null,null,null,0]
[null,null,null,null,"",47,null,null,null,null,0,"",47,null,null,null,null,0]
[null,null,null,null,"",48,null,null,null,null,0,"",48,null,null,null,null,0]
[null,null,null,null,"",49,null,null,null,null,0,"",49,null,null,null,null,0]
[null,{"$f":"$B$6","v":"2024年度"},{"$f":"$C$6","v":"2025年度"},{"$f":"$D$6","v":"2026年度"},"",50,null,null,null,null,0,"",50,null,null,null,null,0]
["複数手続きの種類",null,null,null,"",51,null,null,null,null,0,"",51,null,null,null,null,0]
["確認年月日",null,null,null,"",52,null,null,null,null,0,"",52,null,null,null,null,0]
["確認数量（kg）",null,null,null,"",53,null,null,null,null,0,"",53,null,null,null,null,0]
["申出番号（受付コード下4桁）",null,null,null,"",54,null,null,null,null,0,"",54,null,null,null,null,0]
["受付コード",{"$f":"IF(B$60=\"\",\"\",表１_対象物質一覧!$C$4&(MID($B$6,3,2)&B$60))","v":""},{"$f":"IF(C$60=\"\",\"\",表１_対象物質一覧!$C$4&(MID($C$6, 3, 2))&C$60)","v":""},{"$f":"IF(D$60=\"\",\"\",表１_対象物質一覧!$C$4&(MID($D$6, 3, 2))&D$60)","v":""},"",55,null,null,null,null,0,"",55,null,null,null,null,0]
["用途番号",null,null,null,"",56,null,null,null,null,0,"",56,null,null,null,null,0]
[null,null,null,null,"",57,null,null,null,null,0,"",57,null,null,null,null,0]
[null,null,null,null,"",58,null,null,null,null,0,"",58,null,null,null,null,0]
[null,null,null,null,"",59,null,null,null,null,0,"",59,null,null,null,null,0]
[null,null,null,null,"",60,null,null,null,null,0,"",60,null,null,null,null,0]
[null,null,null,null,"",61,null,null,null,null,0,"",61,null,null,null,null,0]
[null,null,null,null,"",62,null,null,null,null,0,"",62,null,null,null,null,0]
[null,{"$f":"$B$6","v":"2024年度"},{"$f":"$C$6","v":"2025年度"},{"$f":"$D$6","v":"2026年度"},"",63,null,null,null,null,0,"",63,null,null,null,null,0]
["複数手続きの種類",null,null,null,"",64,null,null,null,null,0,"",64,null,null,null,null,0]
["確認年月日",null,null,null,{"$f":"IF(H71=\"\", \"\",YEAR(H71) - IF(MONTH(H71)<4, 1, 0) & \"年度\")","v":""},65,null,null,null,null,0,{"$f":"IF(O71=\"\", \"\",YEAR(O71) - IF(MONTH(O71)<4, 1, 0) & \"年度\")","v":""},65,null,null,null,null,0]
["確認数量（kg）",null,null,null,"",66,null,null,null,null,0,"",66,null,null,null,null,0]
["申出番号（受付コード下4桁）",null,null,null,"",67,null,null,null,null,{"$f":"IF(J73=\"\",I73,I73*J73)","v":0},"",67,null,null,null,null,{"$f":"IF(Q73=\"\",P73,P73*Q73)","v":0}]
["受付コード",{"$f":"IF(B$73=\"\",\"\",表１_対象物質一覧!$C$4&(MID($B$6,3,2)&B$73))","v":""},{"$f":"IF(C$73=\"\",\"\",表１_対象物質一覧!$C$4&(MID($C$6, 3, 2))&C$73)","v":""},{"$f":"IF(D$73=\"\",\"\",表１_対象物質一覧!$C$4&(MID($D$6, 3, 2))&D$73)","v":""},"",68,null,null,null,null,0,"",68,null,null,null,null,0]
["用途番号",null,null,null,"",69,null,null,null,null,0,"",69,null,null,null,null,0]
[null,null,null,null,"",70,null,null,null,null,0,"",70,null,null,null,null,0]
[null,null,null,null,"",71,null,null,null,null,0,"",71,null,null,null,null,0]
[null,null,null,null,"",72,null,null,null,null,0,"",72,null,null,null,null,0]
[null,null,null,null,"",73,null,null,null,null,0,"",73,null,null,null,null,0]
[null,null,null,null,"",74,null,null,null,null,0,"",74,null,null,null,null,0]
[null,null,null,null,"",75,null,null,null,null,0,"",75,null,null,null,null,0]
["備考",null,null,null,"",76,null,null,null,null,0,"",76,null,null,null,null,0]
[null,null,null,null,"",77,null,null,null,null,0,"",77,null,null,null,null,0]
[null,null,null,null,"",78,null,null,null,null,0,"",78,null,null,null,null,0]
[null,null,null,null,"",79,null,null,null,null,0,"",79,null,null,null,null,0]
[null,null,null,null,"",80,null,null,null,null,0,"",80,null,null,null,null,0]
[null,null,null,null,"",81,null,null,null,null,0,"",81,null,null,null,null,0]
[null,null,null,null,"",82,null,null,null,null,0,"",82,null,null,null,null,0]
[null,null,null,null,"",83,null,null,null,null,0,"",83,null,null,null,null,0]
[null,null,null,null,"",84,null,null,null,null,0,"",84,null,null,null,null,0]
[null,null,null,null,"",85,null,null,null,null,0,"",85,null,null,null,null,0]
[null,null,null,null,"",86,null,null,null,null,0,"",86,null,null,null,null,0]
[null,null,null,null,"",87,null,null,null,null,0,"",87,null,null,null,null,0]
[null,null,null,null,"",88,null,null,null,null,0,"",88,null,null,null,null,0]
[null,null,null,null,"",89,null,null,null,null,0,"",89,null,null,null,null,0]
[null,null,null,null,"",90,null,null,null,null,0,"",90,null,null,null,null,0]
[null,null,null,null,"",91,null,null,null,null,0,"",91,null,null,null,null,0]
[null,null,null,null,"",92,null,null,null,null,0,"",92,null,null,null,null,0]
[null,null,null,null,"",93,null,null,null,null,0,"",93,null,null,null,null,0]
[null,null,null,null,"",94,null,null,null,null,0,"",94,null,null,null,null,0]
[null,null,null,null,"",95,null,null,null,null,0,"",95,null,null,null,null,0]
[null,null,null,null,"",96,null,null,null,null,0,"",96,null,null,null,null,0]
[null,null,null,null,"",97,null,null,null,null,0,"",97,null,null,null,null,0]
[null,null,null,null,"",98,null,null,null,null,0,"",98,null,null,null,null,0]
[null,null,null,null,"",99,null,null,null,null,{"$f":"IF(J105=\"\",I105,I105*J105)","v":0},"",99,null,null,null,null,{"$f":"IF(Q105=\"\",P105,P105*Q105)","v":0}]
[null,null,null,null,"",100,null,null,null,null,{"$f":"IF(J106=\"\",I106,I106*J106)","v":0},"",100,null,null,null,null,{"$f":"IF(Q106=\"\",P106,P106*Q106)","v":0}]

{"sheet":"37","index":37,"n_rows":106,"n_cols":20,"rows_kept":106,"cut":false,"hidden":false,"merged":[[1,5,1,6],[1,12,1,13],[3,5,5,6],[3,12,5,13]]}
["「表１_対象物質一覧」に戻る"]
["事業所名",null,null,null,null,"輸入量",null,null,null,null,null,null,"払出量"]
["新規化学物質の名称",null,null,null,null,"Ｎｏ",{"$f":"_xlfn.IFS(F2=\"製造量\",\"製造ロット\",F2=\"輸入量\",\"輸入ロット\",F2=\"製造・輸入量\",\"製造・輸入ロット\")","v":"輸入ロット"},{"$f":"_xlfn.IFS(F2=\"製造量\",\"製造日　（最終製品日）\",F2=\"輸入量\",\"輸入許可日\",F2=\"製造・輸入量\",\"製造日・輸入許可日\")","v":"輸入許可日"},{"$f":"_xlfn.IFS(F2=\"製造量\",\"製造数量（kg)\",F2=\"輸入量\",\"輸入数量（kg)\",F2=\"製造・輸入量\",\"製造・輸入数量（kg)\")","v":"輸入数量（kg)"},"含有率（％）","含有率換算数量(kg)",null,"Ｎｏ","ロット","払出日","払出数量（kg)","含有率（％）","含有率換算数量(kg)","用途番号","変更前ロット"]
["略称",null,null,null,null,"実績数量合計",null,{"$f":"B6","v":"2024年度"},{"$f":"SUMIF($E$7:$E106,$H$4,$I$7:$I106)","v":0},"-",{"$f":"SUMIF($E$7:$E106,$H$4,$K$7:$K106)","v":0},null,"払出数量合計",null,{"$f":"B6","v":"2024年度"},{"$f":"SUMIF($L$7:$L95,$O$4,$P$7:$P106)","v":0},"-",{"$f":"SUMIF($L$7:$L106,$H$4,$R$7:$R106)","v":0},"-","-"]
[null,null,null,null,null,null,null,{"$f":"C6","v":"2025年度"},{"$f":"SUMIF($E$7:$E106,$H$5,$I$7:$I106)","v":0},"-",{"$f":"SUMIF($E$7:$E106,$H$5,$K$7:$K106)","v":0},null,null,null,{"$f":"C6","v":"2025年度"},{"$f":"SUMIF($L$7:$L95,$O$5,$P$7:$P106)","v":0},"-",{"$f":"SUMIF($E$7:$E106,$H$5,$K$7:$K106)","v":0},"-","-"]
[null,{"$f":"'1'!B6","v":"2024年度"},{"$f":"'1'!C6","v":"2025年度"},{"$f":"'1'!D6","v":"2026年度"},null,null,null,{"$f":"D6","v":"2026年度"},{"$f":"SUMIF($E$7:$E106,$H$6,$I$7:$I106)","v":0},"-",{"$f":"SUMIF($E$7:$E106,$H$6,$K$7:$K106)","v":0},null,null,null,{"$f":"D6","v":"2026年度"},{"$f":"SUMIF($L$7:$L95,$O$6,$P$7:$P106)","v":0},"-",{"$f":"SUMIF($E$7:$E106,$H$6,$K$7:$K106)","v":0},"-","-"]
["確認年月日",null,null,null,{"$f":"IF(H7=\"\", \"\",YEAR(H7) - IF(MONTH(H7)<4, 1, 0) & \"年度\")","v":""},1,null,null,null,null,{"$f":"IF(J7=\"\",I7,I7*J7)","v":0},{"$f":"IF(O7=\"\", \"\",YEAR(O7) - IF(MONTH(O7)<4, 1, 0) & \"年度\")","v":""},1,null,null,null,null,{"$f":"IF(Q7=\"\",P7,P7*Q7)","v":0}]
["確認数量（kg）",null,null,null,"",2,null,null,null,null,{"$f":"IF(J8=\"\",I8,I8*J8)","v":0},"",2,null,null,null,null,{"$f":"IF(Q8=\"\",P8,P8*Q8)","v":0}]
["申出番号（受付コード下4桁）",null,null,null,"",3,null,null,null,null,{"$f":"IF(J9=\"\",I9,I9*J9)","v":0},"",3,null,null,null,null,{"$f":"IF(Q9=\"\",P9,P9*Q9)","v":0}]
["受付コード",{"$f":"IF(B$9=\"\",\"\",表１_対象物質一覧!$C$4&(MID($B$6,3,2)&B$9))","v":""},{"$f":"IF(C$9=\"\",\"\",表１_対象物質一覧!$C$4&(MID($C$6, 3, 2))&C$9)","v":""},{"$f":"IF(D$9=\"\",\"\",表１_対象物質一覧!$C$4&(MID($D$6, 3, 2))&D$9)","v":""},"",4,null,null,null,null,0,"",4,null,null,null,null,{"$f":"IF(Q10=\"\",P10,P10*Q10)","v":0}]
["用途番号",null,null,null,"",5,null,null,null,null,0,"",5,null,null,null,null,0]
[null,null,null,null,"",6,null,null,null,null,0,"",6,null,null,null,null,0]
[null,null,null,null,"",7,null,null,null,null,0,"",7,null,null,null,null,0]
[null,null,null,null,"",8,null,null,null,null,0,"",8,null,null,null,null,0]
[null,null,null,null,"",9,null,null,null,null,0,"",9,null,null,null,null,0]
[null,null,null,null,"",10,null,null,null,null,0,"",10,null,null,null,null,0]
["申出書に記載の「前年度の実績数量」",null,null,null,"",11,null,null,null,null,0,"",11,null,null,null,null,0]
["実績数量",{"$f":"$K$4","v":0},{"$f":"$K$5","v":0},{"$f":"$K$6","v":0},"",12,null,null,null,null,0,"",12,null,null,null,null,0]
["確認を受けている中間物等の分類",null,null,null,"",13,null,null,null,null,0,"",13,null,null,null,null,0]
["用途追加手続を省略して追加した用途の用途番号",null,null,null,"",14,null,null,null,null,0,"",14,null,null,null,null,0]
["備考（３年連続して実積数量がゼロの場合はその理由）",null,null,null,"",15,null,null,null,null,0,"",15,null,null,null,null,0]
["用途証明書なしであって確認年月日が複数ある場合の",null,null,null,"",16,null,null,null,null,0,"",16,null,null,null,null,0]
["確認年月日（上段）及び確認数量(kg)（下段）",null,null,null,"",17,null,null,null,null,0,"",17,null,null,null,null,0]
[null,null,null,null,"",18,null,null,null,null,0,"",18,null,null,null,null,0]
[null,null,null,null,"",19,null,null,null,null,0,"",19,null,null,null,null,0]
[null,null,null,null,"",20,null,null,null,null,0,"",20,null,null,null,null,0]
[null,null,null,null,"",21,null,null,null,null,0,"",21,null,null,null,null,0]
[null,null,null,null,"",22,null,null,null,null,0,"",22,null,null,null,null,0]
[null,null,null,null,"",23,null,null,null,null,0,"",23,null,null,null,null,0]
[null,null,null,null,"",24,null,null,null,null,0,"",24,null,null,null,null,0]
[null,null,null,null,"",25,null,null,null,null,0,"",25,null,null,null,null,0]
[null,null,null,null,"",26,null,null,null,null,0,"",26,null,null,null,null,0]
[null,null,null,null,"",27,null,null,null,null,0,"",27,null,null,null,null,0]
[null,null,null,null,"",28,null,null,null,null,0,"",28,null,null,null,null,0]
[null,null,null,null,"",29,null,null,null,null,0,"",29,null,null,null,null,0]
[null,null,null,null,"",30,null,null,null,null,0,"",30,null,null,null,null,0]
[null,null,null,null,"",31,null,null,null,null,0,"",31,null,null,null,null,0]
[null,null,null,null,"",32,null,null,null,null,0,"",32,null,null,null,null,0]
[null,null,null,null,{"$f":"IF(H39=\"\", \"\",YEAR(H39) - IF(MONTH(H39)<4, 1, 0) & \"年度\")","v":""},33,null,null,null,null,0,{"$f":"IF(O39=\"\", \"\",YEAR(O39) - IF(MONTH(O39)<4, 1, 0) & \"年度\")","v":""},33,null,null,null,null,0]
[null,null,null,null,"",34,null,null,null,null,0,"",34,null,null,null,null,0]
[null,null,null,null,"",35,null,null,null,null,0,"",35,null,null,null,null,0]
["同一年度で同じ化学物質を複数申請している場合は、その確認を受けた事項",null,null,null,"",36,null,null,null,null,0,"",36,null,null,null,null,0]
[null,{"$f":"$B$6","v":"2024年度"},{"$f":"$C$6","v":"2025年度"},{"$f":"$D$6","v":"2026年度"},"",37,null,null,null,null,0,"",37,null,null,null,null,0]
["複数手続きの種類",null,null,null,"",38,null,null,null,null,0,"",38,null,null,null,null,0]
["確認年月日",null,null,null,"",39,null,null,null,null,0,"",39,null,null,null,null,0]
["確認数量（kg）",null,null,null,"",40,null,null,null,null,0,"",40,null,null,null,null,0]
["申出番号（受付コード下4桁）",null,null,null,"",41,null,null,null,null,0,"",41,null,null,null,null,0]
["受付コード",{"$f":"IF(B$47=\"\",\"\",表１_対象物質一覧!$C$4&(MID($B$6,3,2)&B$47))","v":""},{"$f":"IF(C$47=\"\",\"\",表１_対象物質一覧!$C$4&(MID($C$6, 3, 2))&C$47)","v":""},{"$f":"IF(D$47=\"\",\"\",表１_対象物質一覧!$C$4&(MID($D$6, 3, 2))&D$47)","v":""},"",42,null,null,null,null,0,"",42,null,null,null,null,0]
["用途番号",null,null,null,"",43,null,null,null,null,0,"",43,null,null,null,null,0]
[null,null,null,null,"",44,null,null,null,null,0,"",44,null,null,null,null,0]
[null,null,null,null,"",45,null,null,null,null,0,"",45,null,null,null,null,0]
[null,null,null,null,"",46,null,null,null,null,0,"",46,null,null,null,null,0]
[null,null,null,null,"",47,null,null,null,null,0,"",47,null,null,null,null,0]
[null,null,null,null,"",48,null,null,null,null,0,"",48,null,null,null,null,0]
[null,null,null,null,"",49,null,null,null,null,0,"",49,null,null,null,null,0]
[null,{"$f":"$B$6","v":"2024年度"},{"$f":"$C$6","v":"2025年度"},{"$f":"$D$6","v":"2026年度"},"",50,null,null,null,null,0,"",50,null,null,null,null,0]
["複数手続きの種類",null,null,null,"",51,null,null,null,null,0,"",51,null,null,null,null,0]
["確認年月日",null,null,null,"",52,null,null,null,null,0,"",52,null,null,null,null,0]
["確認数量（kg）",null,null,null,"",53,null,null,null,null,0,"",53,null,null,null,null,0]
["申出番号（受付コード下4桁）",null,null,null,"",54,null,null,null,null,0,"",54,null,null,null,null,0]
["受付コード",{"$f":"IF(B$60=\"\",\"\",表１_対象物質一覧!$C$4&(MID($B$6,3,2)&B$60))","v":""},{"$f":"IF(C$60=\"\",\"\",表１_対象物質一覧!$C$4&(MID($C$6, 3, 2))&C$60)","v":""},{"$f":"IF(D$60=\"\",\"\",表１_対象物質一覧!$C$4&(MID($D$6, 3, 2))&D$60)","v":""},"",55,null,null,null,null,0,"",55,null,null,null,null,0]
["用途番号",null,null,null,"",56,null,null,null,null,0,"",56,null,null,null,null,0]
[null,null,null,null,"",57,null,null,null,null,0,"",57,null,null,null,null,0]
[null,null,null,null,"",58,null,null,null,null,0,"",58,null,null,null,null,0]
[null,null,null,null,"",59,null,null,null,null,0,"",59,null,null,null,null,0]
[null,null,null,null,"",60,null,null,null,null,0,"",60,null,null,null,null,0]
[null,null,null,null,"",61,null,null,null,null,0,"",61,null,null,null,null,0]
[null,null,null,null,"",62,null,null,null,null,0,"",62,null,null,null,null,0]
[null,{"$f":"$B$6","v":"2024年度"},{"$f":"$C$6","v":"2025年度"},{"$f":"$D$6","v":"2026年度"},"",63,null,null,null,null,0,"",63,null,null,null,null,0]
["複数手続きの種類",null,null,null,"",64,null,null,null,null,0,"",64,null,null,null,null,0]
["確認年月日",null,null,null,{"$f":"IF(H71=\"\", \"\",YEAR(H71) - IF(MONTH(H71)<4, 1, 0) & \"年度\")","v":""},65,null,null,null,null,0,{"$f":"IF(O71=\"\", \"\",YEAR(O71) - IF(MONTH(O71)<4, 1, 0) & \"年度\")","v":""},65,null,null,null,null,0]
["確認数量（kg）",null,null,null,"",66,null,null,null,null,0,"",66,null,null,null,null,0]
["申出番号（受付コード下4桁）",null,null,null,"",67,null,null,null,null,{"$f":"IF(J73=\"\",I73,I73*J73)","v":0},"",67,null,null,null,null,{"$f":"IF(Q73=\"\",P73,P73*Q73)","v":0}]
["受付コード",{"$f":"IF(B$73=\"\",\"\",表１_対象物質一覧!$C$4&(MID($B$6,3,2)&B$73))","v":""},{"$f":"IF(C$73=\"\",\"\",表１_対象物質一覧!$C$4&(MID($C$6, 3, 2))&C$73)","v":""},{"$f":"IF(D$73=\"\",\"\",表１_対象物質一覧!$C$4&(MID($D$6, 3, 2))&D$73)","v":""},"",68,null,null,null,null,0,"",68,null,null,null,null,0]
["用途番号",null,null,null,"",69,null,null,null,null,0,"",69,null,null,null,null,0]
[null,null,null,null,"",70,null,null,null,null,0,"",70,null,null,null,null,0]
[null,null,null,null,"",71,null,null,null,null,0,"",71,null,null,null,null,0]
[null,null,null,null,"",72,null,null,null,null,0,"",72,null,null,null,null,0]
[null,null,null,null,"",73,null,null,null,null,0,"",73,null,null,null,null,0]
[null,null,null,null,"",74,null,null,null,null,0,"",74,null,null,null,null,0]
[null,null,null,null,"",75,null,null,null,null,0,"",75,null,null,null,null,0]
["備考",null,null,null,"",76,null,null,null,null,0,"",76,null,null,null,null,0]
[null,null,null,null,"",77,null,null,null,null,0,"",77,null,null,null,null,0]
[null,null,null,null,"",78,null,null,null,null,0,"",78,null,null,null,null,0]
[null,null,null,null,"",79,null,null,null,null,0,"",79,null,null,null,null,0]
[null,null,null,null,"",80,null,null,null,null,0,"",80,null,null,null,null,0]
[null,null,null,null,"",81,null,null,null,null,0,"",81,null,null,null,null,0]
[null,null,null,null,"",82,null,null,null,null,0,"",82,null,null,null,null,0]
[null,null,null,null,"",83,null,null,null,null,0,"",83,null,null,null,null,0]
[null,null,null,null,"",84,null,null,null,null,0,"",84,null,null,null,null,0]
[null,null,null,null,"",85,null,null,null,null,0,"",85,null,null,null,null,0]
[null,null,null,null,"",86,null,null,null,null,0,"",86,null,null,null,null,0]
[null,null,null,null,"",87,null,null,null,null,0,"",87,null,null,null,null,0]
[null,null,null,null,"",88,null,null,null,null,0,"",88,null,null,null,null,0]
[null,null,null,null,"",89,null,null,null,null,0,"",89,null,null,null,null,0]
[null,null,null,null,"",90,null,null,null,null,0,"",90,null,null,null,null,0]
[null,null,null,null,"",91,null,null,null,null,0,"",91,null,null,null,null,0]
[null,null,null,null,"",92,null,null,null,null,0,"",92,null,null,null,null,0]
[null,null,null,null,"",93,null,null,null,null,0,"",93,null,null,null,null,0]
[null,null,null,null,"",94,null,null,null,null,0,"",94,null,null,null,null,0]
[null,null,null,null,"",95,null,null,null,null,0,"",95,null,null,null,null,0]
[null,null,null,null,"",96,null,null,null,null,0,"",96,null,null,null,null,0]
[null,null,null,null,"",97,null,null,null,null,0,"",97,null,null,null,null,0]
[null,null,null,null,"",98,null,null,null,null,0,"",98,null,null,null,null,0]
[null,null,null,null,"",99,null,null,null,null,{"$f":"IF(J105=\"\",I105,I105*J105)","v":0},"",99,null,null,null,null,{"$f":"IF(Q105=\"\",P105,P105*Q105)","v":0}]
[null,null,null,null,"",100,null,null,null,null,{"$f":"IF(J106=\"\",I106,I106*J106)","v":0},"",100,null,null,null,null,{"$f":"IF(Q106=\"\",P106,P106*Q106)","v":0}]

{"sheet":"38","index":38,"n_rows":106,"n_cols":20,"rows_kept":106,"cut":false,"hidden":false,"merged":[[1,5,1,6],[1,12,1,13],[3,5,5,6],[3,12,5,13]]}
["「表１_対象物質一覧」に戻る"]
["事業所名",null,null,null,null,"輸入量",null,null,null,null,null,null,"払出量"]
["新規化学物質の名称",null,null,null,null,"Ｎｏ",{"$f":"_xlfn.IFS(F2=\"製造量\",\"製造ロット\",F2=\"輸入量\",\"輸入ロット\",F2=\"製造・輸入量\",\"製造・輸入ロット\")","v":"輸入ロット"},{"$f":"_xlfn.IFS(F2=\"製造量\",\"製造日　（最終製品日）\",F2=\"輸入量\",\"輸入許可日\",F2=\"製造・輸入量\",\"製造日・輸入許可日\")","v":"輸入許可日"},{"$f":"_xlfn.IFS(F2=\"製造量\",\"製造数量（kg)\",F2=\"輸入量\",\"輸入数量（kg)\",F2=\"製造・輸入量\",\"製造・輸入数量（kg)\")","v":"輸入数量（kg)"},"含有率（％）","含有率換算数量(kg)",null,"Ｎｏ","ロット","払出日","払出数量（kg)","含有率（％）","含有率換算数量(kg)","用途番号","変更前ロット"]
["略称",null,null,null,null,"実績数量合計",null,{"$f":"B6","v":"2024年度"},{"$f":"SUMIF($E$7:$E106,$H$4,$I$7:$I106)","v":0},"-",{"$f":"SUMIF($E$7:$E106,$H$4,$K$7:$K106)","v":0},null,"払出数量合計",null,{"$f":"B6","v":"2024年度"},{"$f":"SUMIF($L$7:$L95,$O$4,$P$7:$P106)","v":0},"-",{"$f":"SUMIF($L$7:$L106,$H$4,$R$7:$R106)","v":0},"-","-"]
[null,null,null,null,null,null,null,{"$f":"C6","v":"2025年度"},{"$f":"SUMIF($E$7:$E106,$H$5,$I$7:$I106)","v":0},"-",{"$f":"SUMIF($E$7:$E106,$H$5,$K$7:$K106)","v":0},null,null,null,{"$f":"C6","v":"2025年度"},{"$f":"SUMIF($L$7:$L95,$O$5,$P$7:$P106)","v":0},"-",{"$f":"SUMIF($E$7:$E106,$H$5,$K$7:$K106)","v":0},"-","-"]
[null,{"$f":"'1'!B6","v":"2024年度"},{"$f":"'1'!C6","v":"2025年度"},{"$f":"'1'!D6","v":"2026年度"},null,null,null,{"$f":"D6","v":"2026年度"},{"$f":"SUMIF($E$7:$E106,$H$6,$I$7:$I106)","v":0},"-",{"$f":"SUMIF($E$7:$E106,$H$6,$K$7:$K106)","v":0},null,null,null,{"$f":"D6","v":"2026年度"},{"$f":"SUMIF($L$7:$L95,$O$6,$P$7:$P106)","v":0},"-",{"$f":"SUMIF($E$7:$E106,$H$6,$K$7:$K106)","v":0},"-","-"]
["確認年月日",null,null,null,{"$f":"IF(H7=\"\", \"\",YEAR(H7) - IF(MONTH(H7)<4, 1, 0) & \"年度\")","v":""},1,null,null,null,null,{"$f":"IF(J7=\"\",I7,I7*J7)","v":0},{"$f":"IF(O7=\"\", \"\",YEAR(O7) - IF(MONTH(O7)<4, 1, 0) & \"年度\")","v":""},1,null,null,null,null,{"$f":"IF(Q7=\"\",P7,P7*Q7)","v":0}]
["確認数量（kg）",null,null,null,"",2,null,null,null,null,{"$f":"IF(J8=\"\",I8,I8*J8)","v":0},"",2,null,null,null,null,{"$f":"IF(Q8=\"\",P8,P8*Q8)","v":0}]
["申出番号（受付コード下4桁）",null,null,null,"",3,null,null,null,null,{"$f":"IF(J9=\"\",I9,I9*J9)","v":0},"",3,null,null,null,null,{"$f":"IF(Q9=\"\",P9,P9*Q9)","v":0}]
["受付コード",{"$f":"IF(B$9=\"\",\"\",表１_対象物質一覧!$C$4&(MID($B$6,3,2)&B$9))","v":""},{"$f":"IF(C$9=\"\",\"\",表１_対象物質一覧!$C$4&(MID($C$6, 3, 2))&C$9)","v":""},{"$f":"IF(D$9=\"\",\"\",表１_対象物質一覧!$C$4&(MID($D$6, 3, 2))&D$9)","v":""},"",4,null,null,null,null,0,"",4,null,null,null,null,{"$f":"IF(Q10=\"\",P10,P10*Q10)","v":0}]
["用途番号",null,null,null,"",5,null,null,null,null,0,"",5,null,null,null,null,0]
[null,null,null,null,"",6,null,null,null,null,0,"",6,null,null,null,null,0]
[null,null,null,null,"",7,null,null,null,null,0,"",7,null,null,null,null,0]
[null,null,null,null,"",8,null,null,null,null,0,"",8,null,null,null,null,0]
[null,null,null,null,"",9,null,null,null,null,0,"",9,null,null,null,null,0]
[null,null,null,null,"",10,null,null,null,null,0,"",10,null,null,null,null,0]
["申出書に記載の「前年度の実績数量」",null,null,null,"",11,null,null,null,null,0,"",11,null,null,null,null,0]
["実績数量",{"$f":"$K$4","v":0},{"$f":"$K$5","v":0},{"$f":"$K$6","v":0},"",12,null,null,null,null,0,"",12,null,null,null,null,0]
["確認を受けている中間物等の分類",null,null,null,"",13,null,null,null,null,0,"",13,null,null,null,null,0]
["用途追加手続を省略して追加した用途の用途番号",null,null,null,"",14,null,null,null,null,0,"",14,null,null,null,null,0]
["備考（３年連続して実積数量がゼロの場合はその理由）",null,null,null,"",15,null,null,null,null,0,"",15,null,null,null,null,0]
["用途証明書なしであって確認年月日が複数ある場合の",null,null,null,"",16,null,null,null,null,0,"",16,null,null,null,null,0]
["確認年月日（上段）及び確認数量(kg)（下段）",null,null,null,"",17,null,null,null,null,0,"",17,null,null,null,null,0]
[null,null,null,null,"",18,null,null,null,null,0,"",18,null,null,null,null,0]
[null,null,null,null,"",19,null,null,null,null,0,"",19,null,null,null,null,0]
[null,null,null,null,"",20,null,null,null,null,0,"",20,null,null,null,null,0]
[null,null,null,null,"",21,null,null,null,null,0,"",21,null,null,null,null,0]
[null,null,null,null,"",22,null,null,null,null,0,"",22,null,null,null,null,0]
[null,null,null,null,"",23,null,null,null,null,0,"",23,null,null,null,null,0]
[null,null,null,null,"",24,null,null,null,null,0,"",24,null,null,null,null,0]
[null,null,null,null,"",25,null,null,null,null,0,"",25,null,null,null,null,0]
[null,null,null,null,"",26,null,null,null,null,0,"",26,null,null,null,null,0]
[null,null,null,null,"",27,null,null,null,null,0,"",27,null,null,null,null,0]
[null,null,null,null,"",28,null,null,null,null,0,"",28,null,null,null,null,0]
[null,null,null,null,"",29,null,null,null,null,0,"",29,null,null,null,null,0]
[null,null,null,null,"",30,null,null,null,null,0,"",30,null,null,null,null,0]
[null,null,null,null,"",31,null,null,null,null,0,"",31,null,null,null,null,0]
[null,null,null,null,"",32,null,null,null,null,0,"",32,null,null,null,null,0]
[null,null,null,null,{"$f":"IF(H39=\"\", \"\",YEAR(H39) - IF(MONTH(H39)<4, 1, 0) & \"年度\")","v":""},33,null,null,null,null,0,{"$f":"IF(O39=\"\", \"\",YEAR(O39) - IF(MONTH(O39)<4, 1, 0) & \"年度\")","v":""},33,null,null,null,null,0]
[null,null,null,null,"",34,null,null,null,null,0,"",34,null,null,null,null,0]
[null,null,null,null,"",35,null,null,null,null,0,"",35,null,null,null,null,0]
["同一年度で同じ化学物質を複数申請している場合は、その確認を受けた事項",null,null,null,"",36,null,null,null,null,0,"",36,null,null,null,null,0]
[null,{"$f":"$B$6","v":"2024年度"},{"$f":"$C$6","v":"2025年度"},{"$f":"$D$6","v":"2026年度"},"",37,null,null,null,null,0,"",37,null,null,null,null,0]
["複数手続きの種類",null,null,null,"",38,null,null,null,null,0,"",38,null,null,null,null,0]
["確認年月日",null,null,null,"",39,null,null,null,null,0,"",39,null,null,null,null,0]
["確認数量（kg）",null,null,null,"",40,null,null,null,null,0,"",40,null,null,null,null,0]
["申出番号（受付コード下4桁）",null,null,null,"",41,null,null,null,null,0,"",41,null,null,null,null,0]
["受付コード",{"$f":"IF(B$47=\"\",\"\",表１_対象物質一覧!$C$4&(MID($B$6,3,2)&B$47))","v":""},{"$f":"IF(C$47=\"\",\"\",表１_対象物質一覧!$C$4&(MID($C$6, 3, 2))&C$47)","v":""},{"$f":"IF(D$47=\"\",\"\",表１_対象物質一覧!$C$4&(MID($D$6, 3, 2))&D$47)","v":""},"",42,null,null,null,null,0,"",42,null,null,null,null,0]
["用途番号",null,null,null,"",43,null,null,null,null,0,"",43,null,null,null,null,0]
[null,null,null,null,"",44,null,null,null,null,0,"",44,null,null,null,null,0]
[null,null,null,null,"",45,null,null,null,null,0,"",45,null,null,null,null,0]
[null,null,null,null,"",46,null,null,null,null,0,"",46,null,null,null,null,0]
[null,null,null,null,"",47,null,null,null,null,0,"",47,null,null,null,null,0]
[null,null,null,null,"",48,null,null,null,null,0,"",48,null,null,null,null,0]
[null,null,null,null,"",49,null,null,null,null,0,"",49,null,null,null,null,0]
[null,{"$f":"$B$6","v":"2024年度"},{"$f":"$C$6","v":"2025年度"},{"$f":"$D$6","v":"2026年度"},"",50,null,null,null,null,0,"",50,null,null,null,null,0]
["複数手続きの種類",null,null,null,"",51,null,null,null,null,0,"",51,null,null,null,null,0]
["確認年月日",null,null,null,"",52,null,null,null,null,0,"",52,null,null,null,null,0]
["確認数量（kg）",null,null,null,"",53,null,null,null,null,0,"",53,null,null,null,null,0]
["申出番号（受付コード下4桁）",null,null,null,"",54,null,null,null,null,0,"",54,null,null,null,null,0]
["受付コード",{"$f":"IF(B$60=\"\",\"\",表１_対象物質一覧!$C$4&(MID($B$6,3,2)&B$60))","v":""},{"$f":"IF(C$60=\"\",\"\",表１_対象物質一覧!$C$4&(MID($C$6, 3, 2))&C$60)","v":""},{"$f":"IF(D$60=\"\",\"\",表１_対象物質一覧!$C$4&(MID($D$6, 3, 2))&D$60)","v":""},"",55,null,null,null,null,0,"",55,null,null,null,null,0]
["用途番号",null,null,null,"",56,null,null,null,null,0,"",56,null,null,null,null,0]
[null,null,null,null,"",57,null,null,null,null,0,"",57,null,null,null,null,0]
[null,null,null,null,"",58,null,null,null,null,0,"",58,null,null,null,null,0]
[null,null,null,null,"",59,null,null,null,null,0,"",59,null,null,null,null,0]
[null,null,null,null,"",60,null,null,null,null,0,"",60,null,null,null,null,0]
[null,null,null,null,"",61,null,null,null,null,0,"",61,null,null,null,null,0]
[null,null,null,null,"",62,null,null,null,null,0,"",62,null,null,null,null,0]
[null,{"$f":"$B$6","v":"2024年度"},{"$f":"$C$6","v":"2025年度"},{"$f":"$D$6","v":"2026年度"},"",63,null,null,null,null,0,"",63,null,null,null,null,0]
["複数手続きの種類",null,null,null,"",64,null,null,null,null,0,"",64,null,null,null,null,0]
["確認年月日",null,null,null,{"$f":"IF(H71=\"\", \"\",YEAR(H71) - IF(MONTH(H71)<4, 1, 0) & \"年度\")","v":""},65,null,null,null,null,0,{"$f":"IF(O71=\"\", \"\",YEAR(O71) - IF(MONTH(O71)<4, 1, 0) & \"年度\")","v":""},65,null,null,null,null,0]
["確認数量（kg）",null,null,null,"",66,null,null,null,null,0,"",66,null,null,null,null,0]
["申出番号（受付コード下4桁）",null,null,null,"",67,null,null,null,null,{"$f":"IF(J73=\"\",I73,I73*J73)","v":0},"",67,null,null,null,null,{"$f":"IF(Q73=\"\",P73,P73*Q73)","v":0}]
["受付コード",{"$f":"IF(B$73=\"\",\"\",表１_対象物質一覧!$C$4&(MID($B$6,3,2)&B$73))","v":""},{"$f":"IF(C$73=\"\",\"\",表１_対象物質一覧!$C$4&(MID($C$6, 3, 2))&C$73)","v":""},{"$f":"IF(D$73=\"\",\"\",表１_対象物質一覧!$C$4&(MID($D$6, 3, 2))&D$73)","v":""},"",68,null,null,null,null,0,"",68,null,null,null,null,0]
["用途番号",null,null,null,"",69,null,null,null,null,0,"",69,null,null,null,null,0]
[null,null,null,null,"",70,null,null,null,null,0,"",70,null,null,null,null,0]
[null,null,null,null,"",71,null,null,null,null,0,"",71,null,null,null,null,0]
[null,null,null,null,"",72,null,null,null,null,0,"",72,null,null,null,null,0]
[null,null,null,null,"",73,null,null,null,null,0,"",73,null,null,null,null,0]
[null,null,null,null,"",74,null,null,null,null,0,"",74,null,null,null,null,0]
[null,null,null,null,"",75,null,null,null,null,0,"",75,null,null,null,null,0]
["備考",null,null,null,"",76,null,null,null,null,0,"",76,null,null,null,null,0]
[null,null,null,null,"",77,null,null,null,null,0,"",77,null,null,null,null,0]
[null,null,null,null,"",78,null,null,null,null,0,"",78,null,null,null,null,0]
[null,null,null,null,"",79,null,null,null,null,0,"",79,null,null,null,null,0]
[null,null,null,null,"",80,null,null,null,null,0,"",80,null,null,null,null,0]
[null,null,null,null,"",81,null,null,null,null,0,"",81,null,null,null,null,0]
[null,null,null,null,"",82,null,null,null,null,0,"",82,null,null,null,null,0]
[null,null,null,null,"",83,null,null,null,null,0,"",83,null,null,null,null,0]
[null,null,null,null,"",84,null,null,null,null,0,"",84,null,null,null,null,0]
[null,null,null,null,"",85,null,null,null,null,0,"",85,null,null,null,null,0]
[null,null,null,null,"",86,null,null,null,null,0,"",86,null,null,null,null,0]
[null,null,null,null,"",87,null,null,null,null,0,"",87,null,null,null,null,0]
[null,null,null,null,"",88,null,null,null,null,0,"",88,null,null,null,null,0]
[null,null,null,null,"",89,null,null,null,null,0,"",89,null,null,null,null,0]
[null,null,null,null,"",90,null,null,null,null,0,"",90,null,null,null,null,0]
[null,null,null,null,"",91,null,null,null,null,0,"",91,null,null,null,null,0]
[null,null,null,null,"",92,null,null,null,null,0,"",92,null,null,null,null,0]
[null,null,null,null,"",93,null,null,null,null,0,"",93,null,null,null,null,0]
[null,null,null,null,"",94,null,null,null,null,0,"",94,null,null,null,null,0]
[null,null,null,null,"",95,null,null,null,null,0,"",95,null,null,null,null,0]
[null,null,null,null,"",96,null,null,null,null,0,"",96,null,null,null,null,0]
[null,null,null,null,"",97,null,null,null,null,0,"",97,null,null,null,null,0]
[null,null,null,null,"",98,null,null,null,null,0,"",98,null,null,null,null,0]
[null,null,null,null,"",99,null,null,null,null,{"$f":"IF(J105=\"\",I105,I105*J105)","v":0},"",99,null,null,null,null,{"$f":"IF(Q105=\"\",P105,P105*Q105)","v":0}]
[null,null,null,null,"",100,null,null,null,null,{"$f":"IF(J106=\"\",I106,I106*J106)","v":0},"",100,null,null,null,null,{"$f":"IF(Q106=\"\",P106,P106*Q106)","v":0}]

{"sheet":"39","index":39,"n_rows":106,"n_cols":20,"rows_kept":106,"cut":false,"hidden":false,"merged":[[1,5,1,6],[1,12,1,13],[3,5,5,6],[3,12,5,13]]}
["「表１_対象物質一覧」に戻る"]
["事業所名",null,null,null,null,"輸入量",null,null,null,null,null,null,"払出量"]
["新規化学物質の名称",null,null,null,null,"Ｎｏ",{"$f":"_xlfn.IFS(F2=\"製造量\",\"製造ロット\",F2=\"輸入量\",\"輸入ロット\",F2=\"製造・輸入量\",\"製造・輸入ロット\")","v":"輸入ロット"},{"$f":"_xlfn.IFS(F2=\"製造量\",\"製造日　（最終製品日）\",F2=\"輸入量\",\"輸入許可日\",F2=\"製造・輸入量\",\"製造日・輸入許可日\")","v":"輸入許可日"},{"$f":"_xlfn.IFS(F2=\"製造量\",\"製造数量（kg)\",F2=\"輸入量\",\"輸入数量（kg)\",F2=\"製造・輸入量\",\"製造・輸入数量（kg)\")","v":"輸入数量（kg)"},"含有率（％）","含有率換算数量(kg)",null,"Ｎｏ","ロット","払出日","払出数量（kg)","含有率（％）","含有率換算数量(kg)","用途番号","変更前ロット"]
["略称",null,null,null,null,"実績数量合計",null,{"$f":"B6","v":"2024年度"},{"$f":"SUMIF($E$7:$E106,$H$4,$I$7:$I106)","v":0},"-",{"$f":"SUMIF($E$7:$E106,$H$4,$K$7:$K106)","v":0},null,"払出数量合計",null,{"$f":"B6","v":"2024年度"},{"$f":"SUMIF($L$7:$L95,$O$4,$P$7:$P106)","v":0},"-",{"$f":"SUMIF($L$7:$L106,$H$4,$R$7:$R106)","v":0},"-","-"]
[null,null,null,null,null,null,null,{"$f":"C6","v":"2025年度"},{"$f":"SUMIF($E$7:$E106,$H$5,$I$7:$I106)","v":0},"-",{"$f":"SUMIF($E$7:$E106,$H$5,$K$7:$K106)","v":0},null,null,null,{"$f":"C6","v":"2025年度"},{"$f":"SUMIF($L$7:$L95,$O$5,$P$7:$P106)","v":0},"-",{"$f":"SUMIF($E$7:$E106,$H$5,$K$7:$K106)","v":0},"-","-"]
[null,{"$f":"'1'!B6","v":"2024年度"},{"$f":"'1'!C6","v":"2025年度"},{"$f":"'1'!D6","v":"2026年度"},null,null,null,{"$f":"D6","v":"2026年度"},{"$f":"SUMIF($E$7:$E106,$H$6,$I$7:$I106)","v":0},"-",{"$f":"SUMIF($E$7:$E106,$H$6,$K$7:$K106)","v":0},null,null,null,{"$f":"D6","v":"2026年度"},{"$f":"SUMIF($L$7:$L95,$O$6,$P$7:$P106)","v":0},"-",{"$f":"SUMIF($E$7:$E106,$H$6,$K$7:$K106)","v":0},"-","-"]
["確認年月日",null,null,null,{"$f":"IF(H7=\"\", \"\",YEAR(H7) - IF(MONTH(H7)<4, 1, 0) & \"年度\")","v":""},1,null,null,null,null,{"$f":"IF(J7=\"\",I7,I7*J7)","v":0},{"$f":"IF(O7=\"\", \"\",YEAR(O7) - IF(MONTH(O7)<4, 1, 0) & \"年度\")","v":""},1,null,null,null,null,{"$f":"IF(Q7=\"\",P7,P7*Q7)","v":0}]
["確認数量（kg）",null,null,null,"",2,null,null,null,null,{"$f":"IF(J8=\"\",I8,I8*J8)","v":0},"",2,null,null,null,null,{"$f":"IF(Q8=\"\",P8,P8*Q8)","v":0}]
["申出番号（受付コード下4桁）",null,null,null,"",3,null,null,null,null,{"$f":"IF(J9=\"\",I9,I9*J9)","v":0},"",3,null,null,null,null,{"$f":"IF(Q9=\"\",P9,P9*Q9)","v":0}]
["受付コード",{"$f":"IF(B$9=\"\",\"\",表１_対象物質一覧!$C$4&(MID($B$6,3,2)&B$9))","v":""},{"$f":"IF(C$9=\"\",\"\",表１_対象物質一覧!$C$4&(MID($C$6, 3, 2))&C$9)","v":""},{"$f":"IF(D$9=\"\",\"\",表１_対象物質一覧!$C$4&(MID($D$6, 3, 2))&D$9)","v":""},"",4,null,null,null,null,0,"",4,null,null,null,null,{"$f":"IF(Q10=\"\",P10,P10*Q10)","v":0}]
["用途番号",null,null,null,"",5,null,null,null,null,0,"",5,null,null,null,null,0]
[null,null,null,null,"",6,null,null,null,null,0,"",6,null,null,null,null,0]
[null,null,null,null,"",7,null,null,null,null,0,"",7,null,null,null,null,0]
[null,null,null,null,"",8,null,null,null,null,0,"",8,null,null,null,null,0]
[null,null,null,null,"",9,null,null,null,null,0,"",9,null,null,null,null,0]
[null,null,null,null,"",10,null,null,null,null,0,"",10,null,null,null,null,0]
["申出書に記載の「前年度の実績数量」",null,null,null,"",11,null,null,null,null,0,"",11,null,null,null,null,0]
["実績数量",{"$f":"$K$4","v":0},{"$f":"$K$5","v":0},{"$f":"$K$6","v":0},"",12,null,null,null,null,0,"",12,null,null,null,null,0]
["確認を受けている中間物等の分類",null,null,null,"",13,null,null,null,null,0,"",13,null,null,null,null,0]
["用途追加手続を省略して追加した用途の用途番号",null,null,null,"",14,null,null,null,null,0,"",14,null,null,null,null,0]
["備考（３年連続して実積数量がゼロの場合はその理由）",null,null,null,"",15,null,null,null,null,0,"",15,null,null,null,null,0]
["用途証明書なしであって確認年月日が複数ある場合の",null,null,null,"",16,null,null,null,null,0,"",16,null,null,null,null,0]
["確認年月日（上段）及び確認数量(kg)（下段）",null,null,null,"",17,null,null,null,null,0,"",17,null,null,null,null,0]
[null,null,null,null,"",18,null,null,null,null,0,"",18,null,null,null,null,0]
[null,null,null,null,"",19,null,null,null,null,0,"",19,null,null,null,null,0]
[null,null,null,null,"",20,null,null,null,null,0,"",20,null,null,null,null,0]
[null,null,null,null,"",21,null,null,null,null,0,"",21,null,null,null,null,0]
[null,null,null,null,"",22,null,null,null,null,0,"",22,null,null,null,null,0]
[null,null,null,null,"",23,null,null,null,null,0,"",23,null,null,null,null,0]
[null,null,null,null,"",24,null,null,null,null,0,"",24,null,null,null,null,0]
[null,null,null,null,"",25,null,null,null,null,0,"",25,null,null,null,null,0]
[null,null,null,null,"",26,null,null,null,null,0,"",26,null,null,null,null,0]
[null,null,null,null,"",27,null,null,null,null,0,"",27,null,null,null,null,0]
[null,null,null,null,"",28,null,null,null,null,0,"",28,null,null,null,null,0]
[null,null,null,null,"",29,null,null,null,null,0,"",29,null,null,null,null,0]
[null,null,null,null,"",30,null,null,null,null,0,"",30,null,null,null,null,0]
[null,null,null,null,"",31,null,null,null,null,0,"",31,null,null,null,null,0]
[null,null,null,null,"",32,null,null,null,null,0,"",32,null,null,null,null,0]
[null,null,null,null,{"$f":"IF(H39=\"\", \"\",YEAR(H39) - IF(MONTH(H39)<4, 1, 0) & \"年度\")","v":""},33,null,null,null,null,0,{"$f":"IF(O39=\"\", \"\",YEAR(O39) - IF(MONTH(O39)<4, 1, 0) & \"年度\")","v":""},33,null,null,null,null,0]
[null,null,null,null,"",34,null,null,null,null,0,"",34,null,null,null,null,0]
[null,null,null,null,"",35,null,null,null,null,0,"",35,null,null,null,null,0]
["同一年度で同じ化学物質を複数申請している場合は、その確認を受けた事項",null,null,null,"",36,null,null,null,null,0,"",36,null,null,null,null,0]
[null,{"$f":"$B$6","v":"2024年度"},{"$f":"$C$6","v":"2025年度"},{"$f":"$D$6","v":"2026年度"},"",37,null,null,null,null,0,"",37,null,null,null,null,0]
["複数手続きの種類",null,null,null,"",38,null,null,null,null,0,"",38,null,null,null,null,0]
["確認年月日",null,null,null,"",39,null,null,null,null,0,"",39,null,null,null,null,0]
["確認数量（kg）",null,null,null,"",40,null,null,null,null,0,"",40,null,null,null,null,0]
["申出番号（受付コード下4桁）",null,null,null,"",41,null,null,null,null,0,"",41,null,null,null,null,0]
["受付コード",{"$f":"IF(B$47=\"\",\"\",表１_対象物質一覧!$C$4&(MID($B$6,3,2)&B$47))","v":""},{"$f":"IF(C$47=\"\",\"\",表１_対象物質一覧!$C$4&(MID($C$6, 3, 2))&C$47)","v":""},{"$f":"IF(D$47=\"\",\"\",表１_対象物質一覧!$C$4&(MID($D$6, 3, 2))&D$47)","v":""},"",42,null,null,null,null,0,"",42,null,null,null,null,0]
["用途番号",null,null,null,"",43,null,null,null,null,0,"",43,null,null,null,null,0]
[null,null,null,null,"",44,null,null,null,null,0,"",44,null,null,null,null,0]
[null,null,null,null,"",45,null,null,null,null,0,"",45,null,null,null,null,0]
[null,null,null,null,"",46,null,null,null,null,0,"",46,null,null,null,null,0]
[null,null,null,null,"",47,null,null,null,null,0,"",47,null,null,null,null,0]
[null,null,null,null,"",48,null,null,null,null,0,"",48,null,null,null,null,0]
[null,null,null,null,"",49,null,null,null,null,0,"",49,null,null,null,null,0]
[null,{"$f":"$B$6","v":"2024年度"},{"$f":"$C$6","v":"2025年度"},{"$f":"$D$6","v":"2026年度"},"",50,null,null,null,null,0,"",50,null,null,null,null,0]
["複数手続きの種類",null,null,null,"",51,null,null,null,null,0,"",51,null,null,null,null,0]
["確認年月日",null,null,null,"",52,null,null,null,null,0,"",52,null,null,null,null,0]
["確認数量（kg）",null,null,null,"",53,null,null,null,null,0,"",53,null,null,null,null,0]
["申出番号（受付コード下4桁）",null,null,null,"",54,null,null,null,null,0,"",54,null,null,null,null,0]
["受付コード",{"$f":"IF(B$60=\"\",\"\",表１_対象物質一覧!$C$4&(MID($B$6,3,2)&B$60))","v":""},{"$f":"IF(C$60=\"\",\"\",表１_対象物質一覧!$C$4&(MID($C$6, 3, 2))&C$60)","v":""},{"$f":"IF(D$60=\"\",\"\",表１_対象物質一覧!$C$4&(MID($D$6, 3, 2))&D$60)","v":""},"",55,null,null,null,null,0,"",55,null,null,null,null,0]
["用途番号",null,null,null,"",56,null,null,null,null,0,"",56,null,null,null,null,0]
[null,null,null,null,"",57,null,null,null,null,0,"",57,null,null,null,null,0]
[null,null,null,null,"",58,null,null,null,null,0,"",58,null,null,null,null,0]
[null,null,null,null,"",59,null,null,null,null,0,"",59,null,null,null,null,0]
[null,null,null,null,"",60,null,null,null,null,0,"",60,null,null,null,null,0]
[null,null,null,null,"",61,null,null,null,null,0,"",61,null,null,null,null,0]
[null,null,null,null,"",62,null,null,null,null,0,"",62,null,null,null,null,0]
[null,{"$f":"$B$6","v":"2024年度"},{"$f":"$C$6","v":"2025年度"},{"$f":"$D$6","v":"2026年度"},"",63,null,null,null,null,0,"",63,null,null,null,null,0]
["複数手続きの種類",null,null,null,"",64,null,null,null,null,0,"",64,null,null,null,null,0]
["確認年月日",null,null,null,{"$f":"IF(H71=\"\", \"\",YEAR(H71) - IF(MONTH(H71)<4, 1, 0) & \"年度\")","v":""},65,null,null,null,null,0,{"$f":"IF(O71=\"\", \"\",YEAR(O71) - IF(MONTH(O71)<4, 1, 0) & \"年度\")","v":""},65,null,null,null,null,0]
["確認数量（kg）",null,null,null,"",66,null,null,null,null,0,"",66,null,null,null,null,0]
["申出番号（受付コード下4桁）",null,null,null,"",67,null,null,null,null,{"$f":"IF(J73=\"\",I73,I73*J73)","v":0},"",67,null,null,null,null,{"$f":"IF(Q73=\"\",P73,P73*Q73)","v":0}]
["受付コード",{"$f":"IF(B$73=\"\",\"\",表１_対象物質一覧!$C$4&(MID($B$6,3,2)&B$73))","v":""},{"$f":"IF(C$73=\"\",\"\",表１_対象物質一覧!$C$4&(MID($C$6, 3, 2))&C$73)","v":""},{"$f":"IF(D$73=\"\",\"\",表１_対象物質一覧!$C$4&(MID($D$6, 3, 2))&D$73)","v":""},"",68,null,null,null,null,0,"",68,null,null,null,null,0]
["用途番号",null,null,null,"",69,null,null,null,null,0,"",69,null,null,null,null,0]
[null,null,null,null,"",70,null,null,null,null,0,"",70,null,null,null,null,0]
[null,null,null,null,"",71,null,null,null,null,0,"",71,null,null,null,null,0]
[null,null,null,null,"",72,null,null,null,null,0,"",72,null,null,null,null,0]
[null,null,null,null,"",73,null,null,null,null,0,"",73,null,null,null,null,0]
[null,null,null,null,"",74,null,null,null,null,0,"",74,null,null,null,null,0]
[null,null,null,null,"",75,null,null,null,null,0,"",75,null,null,null,null,0]
["備考",null,null,null,"",76,null,null,null,null,0,"",76,null,null,null,null,0]
[null,null,null,null,"",77,null,null,null,null,0,"",77,null,null,null,null,0]
[null,null,null,null,"",78,null,null,null,null,0,"",78,null,null,null,null,0]
[null,null,null,null,"",79,null,null,null,null,0,"",79,null,null,null,null,0]
[null,null,null,null,"",80,null,null,null,null,0,"",80,null,null,null,null,0]
[null,null,null,null,"",81,null,null,null,null,0,"",81,null,null,null,null,0]
[null,null,null,null,"",82,null,null,null,null,0,"",82,null,null,null,null,0]
[null,null,null,null,"",83,null,null,null,null,0,"",83,null,null,null,null,0]
[null,null,null,null,"",84,null,null,null,null,0,"",84,null,null,null,null,0]
[null,null,null,null,"",85,null,null,null,null,0,"",85,null,null,null,null,0]
[null,null,null,null,"",86,null,null,null,null,0,"",86,null,null,null,null,0]
[null,null,null,null,"",87,null,null,null,null,0,"",87,null,null,null,null,0]
[null,null,null,null,"",88,null,null,null,null,0,"",88,null,null,null,null,0]
[null,null,null,null,"",89,null,null,null,null,0,"",89,null,null,null,null,0]
[null,null,null,null,"",90,null,null,null,null,0,"",90,null,null,null,null,0]
[null,null,null,null,"",91,null,null,null,null,0,"",91,null,null,null,null,0]
[null,null,null,null,"",92,null,null,null,null,0,"",92,null,null,null,null,0]
[null,null,null,null,"",93,null,null,null,null,0,"",93,null,null,null,null,0]
[null,null,null,null,"",94,null,null,null,null,0,"",94,null,null,null,null,0]
[null,null,null,null,"",95,null,null,null,null,0,"",95,null,null,null,null,0]
[null,null,null,null,"",96,null,null,null,null,0,"",96,null,null,null,null,0]
[null,null,null,null,"",97,null,null,null,null,0,"",97,null,null,null,null,0]
[null,null,null,null,"",98,null,null,null,null,0,"",98,null,null,null,null,0]
[null,null,null,null,"",99,null,null,null,null,{"$f":"IF(J105=\"\",I105,I105*J105)","v":0},"",99,null,null,null,null,{"$f":"IF(Q105=\"\",P105,P105*Q105)","v":0}]
[null,null,null,null,"",100,null,null,null,null,{"$f":"IF(J106=\"\",I106,I106*J106)","v":0},"",100,null,null,null,null,{"$f":"IF(Q106=\"\",P106,P106*Q106)","v":0}]

{"sheet":"40","index":40,"n_rows":106,"n_cols":20,"rows_kept":106,"cut":false,"hidden":false,"merged":[[1,5,1,6],[1,12,1,13],[3,5,5,6],[3,12,5,13]]}
["「表１_対象物質一覧」に戻る"]
["事業所名",null,null,null,null,"輸入量",null,null,null,null,null,null,"払出量"]
["新規化学物質の名称",null,null,null,null,"Ｎｏ",{"$f":"_xlfn.IFS(F2=\"製造量\",\"製造ロット\",F2=\"輸入量\",\"輸入ロット\",F2=\"製造・輸入量\",\"製造・輸入ロット\")","v":"輸入ロット"},{"$f":"_xlfn.IFS(F2=\"製造量\",\"製造日　（最終製品日）\",F2=\"輸入量\",\"輸入許可日\",F2=\"製造・輸入量\",\"製造日・輸入許可日\")","v":"輸入許可日"},{"$f":"_xlfn.IFS(F2=\"製造量\",\"製造数量（kg)\",F2=\"輸入量\",\"輸入数量（kg)\",F2=\"製造・輸入量\",\"製造・輸入数量（kg)\")","v":"輸入数量（kg)"},"含有率（％）","含有率換算数量(kg)",null,"Ｎｏ","ロット","払出日","払出数量（kg)","含有率（％）","含有率換算数量(kg)","用途番号","変更前ロット"]
["略称",null,null,null,null,"実績数量合計",null,{"$f":"B6","v":"2024年度"},{"$f":"SUMIF($E$7:$E106,$H$4,$I$7:$I106)","v":0},"-",{"$f":"SUMIF($E$7:$E106,$H$4,$K$7:$K106)","v":0},null,"払出数量合計",null,{"$f":"B6","v":"2024年度"},{"$f":"SUMIF($L$7:$L95,$O$4,$P$7:$P106)","v":0},"-",{"$f":"SUMIF($L$7:$L106,$H$4,$R$7:$R106)","v":0},"-","-"]
[null,null,null,null,null,null,null,{"$f":"C6","v":"2025年度"},{"$f":"SUMIF($E$7:$E106,$H$5,$I$7:$I106)","v":0},"-",{"$f":"SUMIF($E$7:$E106,$H$5,$K$7:$K106)","v":0},null,null,null,{"$f":"C6","v":"2025年度"},{"$f":"SUMIF($L$7:$L95,$O$5,$P$7:$P106)","v":0},"-",{"$f":"SUMIF($E$7:$E106,$H$5,$K$7:$K106)","v":0},"-","-"]
[null,{"$f":"'1'!B6","v":"2024年度"},{"$f":"'1'!C6","v":"2025年度"},{"$f":"'1'!D6","v":"2026年度"},null,null,null,{"$f":"D6","v":"2026年度"},{"$f":"SUMIF($E$7:$E106,$H$6,$I$7:$I106)","v":0},"-",{"$f":"SUMIF($E$7:$E106,$H$6,$K$7:$K106)","v":0},null,null,null,{"$f":"D6","v":"2026年度"},{"$f":"SUMIF($L$7:$L95,$O$6,$P$7:$P106)","v":0},"-",{"$f":"SUMIF($E$7:$E106,$H$6,$K$7:$K106)","v":0},"-","-"]
["確認年月日",null,null,null,{"$f":"IF(H7=\"\", \"\",YEAR(H7) - IF(MONTH(H7)<4, 1, 0) & \"年度\")","v":""},1,null,null,null,null,{"$f":"IF(J7=\"\",I7,I7*J7)","v":0},{"$f":"IF(O7=\"\", \"\",YEAR(O7) - IF(MONTH(O7)<4, 1, 0) & \"年度\")","v":""},1,null,null,null,null,{"$f":"IF(Q7=\"\",P7,P7*Q7)","v":0}]
["確認数量（kg）",null,null,null,"",2,null,null,null,null,{"$f":"IF(J8=\"\",I8,I8*J8)","v":0},"",2,null,null,null,null,{"$f":"IF(Q8=\"\",P8,P8*Q8)","v":0}]
["申出番号（受付コード下4桁）",null,null,null,"",3,null,null,null,null,{"$f":"IF(J9=\"\",I9,I9*J9)","v":0},"",3,null,null,null,null,{"$f":"IF(Q9=\"\",P9,P9*Q9)","v":0}]
["受付コード",{"$f":"IF(B$9=\"\",\"\",表１_対象物質一覧!$C$4&(MID($B$6,3,2)&B$9))","v":""},{"$f":"IF(C$9=\"\",\"\",表１_対象物質一覧!$C$4&(MID($C$6, 3, 2))&C$9)","v":""},{"$f":"IF(D$9=\"\",\"\",表１_対象物質一覧!$C$4&(MID($D$6, 3, 2))&D$9)","v":""},"",4,null,null,null,null,0,"",4,null,null,null,null,{"$f":"IF(Q10=\"\",P10,P10*Q10)","v":0}]
["用途番号",null,null,null,"",5,null,null,null,null,0,"",5,null,null,null,null,0]
[null,null,null,null,"",6,null,null,null,null,0,"",6,null,null,null,null,0]
[null,null,null,null,"",7,null,null,null,null,0,"",7,null,null,null,null,0]
[null,null,null,null,"",8,null,null,null,null,0,"",8,null,null,null,null,0]
[null,null,null,null,"",9,null,null,null,null,0,"",9,null,null,null,null,0]
[null,null,null,null,"",10,null,null,null,null,0,"",10,null,null,null,null,0]
["申出書に記載の「前年度の実績数量」",null,null,null,"",11,null,null,null,null,0,"",11,null,null,null,null,0]
["実績数量",{"$f":"$K$4","v":0},{"$f":"$K$5","v":0},{"$f":"$K$6","v":0},"",12,null,null,null,null,0,"",12,null,null,null,null,0]
["確認を受けている中間物等の分類",null,null,null,"",13,null,null,null,null,0,"",13,null,null,null,null,0]
["用途追加手続を省略して追加した用途の用途番号",null,null,null,"",14,null,null,null,null,0,"",14,null,null,null,null,0]
["備考（３年連続して実積数量がゼロの場合はその理由）",null,null,null,"",15,null,null,null,null,0,"",15,null,null,null,null,0]
["用途証明書なしであって確認年月日が複数ある場合の",null,null,null,"",16,null,null,null,null,0,"",16,null,null,null,null,0]
["確認年月日（上段）及び確認数量(kg)（下段）",null,null,null,"",17,null,null,null,null,0,"",17,null,null,null,null,0]
[null,null,null,null,"",18,null,null,null,null,0,"",18,null,null,null,null,0]
[null,null,null,null,"",19,null,null,null,null,0,"",19,null,null,null,null,0]
[null,null,null,null,"",20,null,null,null,null,0,"",20,null,null,null,null,0]
[null,null,null,null,"",21,null,null,null,null,0,"",21,null,null,null,null,0]
[null,null,null,null,"",22,null,null,null,null,0,"",22,null,null,null,null,0]
[null,null,null,null,"",23,null,null,null,null,0,"",23,null,null,null,null,0]
[null,null,null,null,"",24,null,null,null,null,0,"",24,null,null,null,null,0]
[null,null,null,null,"",25,null,null,null,null,0,"",25,null,null,null,null,0]
[null,null,null,null,"",26,null,null,null,null,0,"",26,null,null,null,null,0]
[null,null,null,null,"",27,null,null,null,null,0,"",27,null,null,null,null,0]
[null,null,null,null,"",28,null,null,null,null,0,"",28,null,null,null,null,0]
[null,null,null,null,"",29,null,null,null,null,0,"",29,null,null,null,null,0]
[null,null,null,null,"",30,null,null,null,null,0,"",30,null,null,null,null,0]
[null,null,null,null,"",31,null,null,null,null,0,"",31,null,null,null,null,0]
[null,null,null,null,"",32,null,null,null,null,0,"",32,null,null,null,null,0]
[null,null,null,null,{"$f":"IF(H39=\"\", \"\",YEAR(H39) - IF(MONTH(H39)<4, 1, 0) & \"年度\")","v":""},33,null,null,null,null,0,{"$f":"IF(O39=\"\", \"\",YEAR(O39) - IF(MONTH(O39)<4, 1, 0) & \"年度\")","v":""},33,null,null,null,null,0]
[null,null,null,null,"",34,null,null,null,null,0,"",34,null,null,null,null,0]
[null,null,null,null,"",35,null,null,null,null,0,"",35,null,null,null,null,0]
["同一年度で同じ化学物質を複数申請している場合は、その確認を受けた事項",null,null,null,"",36,null,null,null,null,0,"",36,null,null,null,null,0]
[null,{"$f":"$B$6","v":"2024年度"},{"$f":"$C$6","v":"2025年度"},{"$f":"$D$6","v":"2026年度"},"",37,null,null,null,null,0,"",37,null,null,null,null,0]
["複数手続きの種類",null,null,null,"",38,null,null,null,null,0,"",38,null,null,null,null,0]
["確認年月日",null,null,null,"",39,null,null,null,null,0,"",39,null,null,null,null,0]
["確認数量（kg）",null,null,null,"",40,null,null,null,null,0,"",40,null,null,null,null,0]
["申出番号（受付コード下4桁）",null,null,null,"",41,null,null,null,null,0,"",41,null,null,null,null,0]
["受付コード",{"$f":"IF(B$47=\"\",\"\",表１_対象物質一覧!$C$4&(MID($B$6,3,2)&B$47))","v":""},{"$f":"IF(C$47=\"\",\"\",表１_対象物質一覧!$C$4&(MID($C$6, 3, 2))&C$47)","v":""},{"$f":"IF(D$47=\"\",\"\",表１_対象物質一覧!$C$4&(MID($D$6, 3, 2))&D$47)","v":""},"",42,null,null,null,null,0,"",42,null,null,null,null,0]
["用途番号",null,null,null,"",43,null,null,null,null,0,"",43,null,null,null,null,0]
[null,null,null,null,"",44,null,null,null,null,0,"",44,null,null,null,null,0]
[null,null,null,null,"",45,null,null,null,null,0,"",45,null,null,null,null,0]
[null,null,null,null,"",46,null,null,null,null,0,"",46,null,null,null,null,0]
[null,null,null,null,"",47,null,null,null,null,0,"",47,null,null,null,null,0]
[null,null,null,null,"",48,null,null,null,null,0,"",48,null,null,null,null,0]
[null,null,null,null,"",49,null,null,null,null,0,"",49,null,null,null,null,0]
[null,{"$f":"$B$6","v":"2024年度"},{"$f":"$C$6","v":"2025年度"},{"$f":"$D$6","v":"2026年度"},"",50,null,null,null,null,0,"",50,null,null,null,null,0]
["複数手続きの種類",null,null,null,"",51,null,null,null,null,0,"",51,null,null,null,null,0]
["確認年月日",null,null,null,"",52,null,null,null,null,0,"",52,null,null,null,null,0]
["確認数量（kg）",null,null,null,"",53,null,null,null,null,0,"",53,null,null,null,null,0]
["申出番号（受付コード下4桁）",null,null,null,"",54,null,null,null,null,0,"",54,null,null,null,null,0]
["受付コード",{"$f":"IF(B$60=\"\",\"\",表１_対象物質一覧!$C$4&(MID($B$6,3,2)&B$60))","v":""},{"$f":"IF(C$60=\"\",\"\",表１_対象物質一覧!$C$4&(MID($C$6, 3, 2))&C$60)","v":""},{"$f":"IF(D$60=\"\",\"\",表１_対象物質一覧!$C$4&(MID($D$6, 3, 2))&D$60)","v":""},"",55,null,null,null,null,0,"",55,null,null,null,null,0]
["用途番号",null,null,null,"",56,null,null,null,null,0,"",56,null,null,null,null,0]
[null,null,null,null,"",57,null,null,null,null,0,"",57,null,null,null,null,0]
[null,null,null,null,"",58,null,null,null,null,0,"",58,null,null,null,null,0]
[null,null,null,null,"",59,null,null,null,null,0,"",59,null,null,null,null,0]
[null,null,null,null,"",60,null,null,null,null,0,"",60,null,null,null,null,0]
[null,null,null,null,"",61,null,null,null,null,0,"",61,null,null,null,null,0]
[null,null,null,null,"",62,null,null,null,null,0,"",62,null,null,null,null,0]
[null,{"$f":"$B$6","v":"2024年度"},{"$f":"$C$6","v":"2025年度"},{"$f":"$D$6","v":"2026年度"},"",63,null,null,null,null,0,"",63,null,null,null,null,0]
["複数手続きの種類",null,null,null,"",64,null,null,null,null,0,"",64,null,null,null,null,0]
["確認年月日",null,null,null,{"$f":"IF(H71=\"\", \"\",YEAR(H71) - IF(MONTH(H71)<4, 1, 0) & \"年度\")","v":""},65,null,null,null,null,0,{"$f":"IF(O71=\"\", \"\",YEAR(O71) - IF(MONTH(O71)<4, 1, 0) & \"年度\")","v":""},65,null,null,null,null,0]
["確認数量（kg）",null,null,null,"",66,null,null,null,null,0,"",66,null,null,null,null,0]
["申出番号（受付コード下4桁）",null,null,null,"",67,null,null,null,null,{"$f":"IF(J73=\"\",I73,I73*J73)","v":0},"",67,null,null,null,null,{"$f":"IF(Q73=\"\",P73,P73*Q73)","v":0}]
["受付コード",{"$f":"IF(B$73=\"\",\"\",表１_対象物質一覧!$C$4&(MID($B$6,3,2)&B$73))","v":""},{"$f":"IF(C$73=\"\",\"\",表１_対象物質一覧!$C$4&(MID($C$6, 3, 2))&C$73)","v":""},{"$f":"IF(D$73=\"\",\"\",表１_対象物質一覧!$C$4&(MID($D$6, 3, 2))&D$73)","v":""},"",68,null,null,null,null,0,"",68,null,null,null,null,0]
["用途番号",null,null,null,"",69,null,null,null,null,0,"",69,null,null,null,null,0]
[null,null,null,null,"",70,null,null,null,null,0,"",70,null,null,null,null,0]
[null,null,null,null,"",71,null,null,null,null,0,"",71,null,null,null,null,0]
[null,null,null,null,"",72,null,null,null,null,0,"",72,null,null,null,null,0]
[null,null,null,null,"",73,null,null,null,null,0,"",73,null,null,null,null,0]
[null,null,null,null,"",74,null,null,null,null,0,"",74,null,null,null,null,0]
[null,null,null,null,"",75,null,null,null,null,0,"",75,null,null,null,null,0]
["備考",null,null,null,"",76,null,null,null,null,0,"",76,null,null,null,null,0]
[null,null,null,null,"",77,null,null,null,null,0,"",77,null,null,null,null,0]
[null,null,null,null,"",78,null,null,null,null,0,"",78,null,null,null,null,0]
[null,null,null,null,"",79,null,null,null,null,0,"",79,null,null,null,null,0]
[null,null,null,null,"",80,null,null,null,null,0,"",80,null,null,null,null,0]
[null,null,null,null,"",81,null,null,null,null,0,"",81,null,null,null,null,0]
[null,null,null,null,"",82,null,null,null,null,0,"",82,null,null,null,null,0]
[null,null,null,null,"",83,null,null,null,null,0,"",83,null,null,null,null,0]
[null,null,null,null,"",84,null,null,null,null,0,"",84,null,null,null,null,0]
[null,null,null,null,"",85,null,null,null,null,0,"",85,null,null,null,null,0]
[null,null,null,null,"",86,null,null,null,null,0,"",86,null,null,null,null,0]
[null,null,null,null,"",87,null,null,null,null,0,"",87,null,null,null,null,0]
[null,null,null,null,"",88,null,null,null,null,0,"",88,null,null,null,null,0]
[null,null,null,null,"",89,null,null,null,null,0,"",89,null,null,null,null,0]
[null,null,null,null,"",90,null,null,null,null,0,"",90,null,null,null,null,0]
[null,null,null,null,"",91,null,null,null,null,0,"",91,null,null,null,null,0]
[null,null,null,null,"",92,null,null,null,null,0,"",92,null,null,null,null,0]
[null,null,null,null,"",93,null,null,null,null,0,"",93,null,null,null,null,0]
[null,null,null,null,"",94,null,null,null,null,0,"",94,null,null,null,null,0]
[null,null,null,null,"",95,null,null,null,null,0,"",95,null,null,null,null,0]
[null,null,null,null,"",96,null,null,null,null,0,"",96,null,null,null,null,0]
[null,null,null,null,"",97,null,null,null,null,0,"",97,null,null,null,null,0]
[null,null,null,null,"",98,null,null,null,null,0,"",98,null,null,null,null,0]
[null,null,null,null,"",99,null,null,null,null,{"$f":"IF(J105=\"\",I105,I105*J105)","v":0},"",99,null,null,null,null,{"$f":"IF(Q105=\"\",P105,P105*Q105)","v":0}]
[null,null,null,null,"",100,null,null,null,null,{"$f":"IF(J106=\"\",I106,I106*J106)","v":0},"",100,null,null,null,null,{"$f":"IF(Q106=\"\",P106,P106*Q106)","v":0}]

{"sheet":"41","index":41,"n_rows":106,"n_cols":20,"rows_kept":106,"cut":false,"hidden":false,"merged":[[1,5,1,6],[1,12,1,13],[3,5,5,6],[3,12,5,13]]}
["「表１_対象物質一覧」に戻る"]
["事業所名",null,null,null,null,"輸入量",null,null,null,null,null,null,"払出量"]
["新規化学物質の名称",null,null,null,null,"Ｎｏ",{"$f":"_xlfn.IFS(F2=\"製造量\",\"製造ロット\",F2=\"輸入量\",\"輸入ロット\",F2=\"製造・輸入量\",\"製造・輸入ロット\")","v":"輸入ロット"},{"$f":"_xlfn.IFS(F2=\"製造量\",\"製造日　（最終製品日）\",F2=\"輸入量\",\"輸入許可日\",F2=\"製造・輸入量\",\"製造日・輸入許可日\")","v":"輸入許可日"},{"$f":"_xlfn.IFS(F2=\"製造量\",\"製造数量（kg)\",F2=\"輸入量\",\"輸入数量（kg)\",F2=\"製造・輸入量\",\"製造・輸入数量（kg)\")","v":"輸入数量（kg)"},"含有率（％）","含有率換算数量(kg)",null,"Ｎｏ","ロット","払出日","払出数量（kg)","含有率（％）","含有率換算数量(kg)","用途番号","変更前ロット"]
["略称",null,null,null,null,"実績数量合計",null,{"$f":"B6","v":"2024年度"},{"$f":"SUMIF($E$7:$E106,$H$4,$I$7:$I106)","v":0},"-",{"$f":"SUMIF($E$7:$E106,$H$4,$K$7:$K106)","v":0},null,"払出数量合計",null,{"$f":"B6","v":"2024年度"},{"$f":"SUMIF($L$7:$L95,$O$4,$P$7:$P106)","v":0},"-",{"$f":"SUMIF($L$7:$L106,$H$4,$R$7:$R106)","v":0},"-","-"]
[null,null,null,null,null,null,null,{"$f":"C6","v":"2025年度"},{"$f":"SUMIF($E$7:$E106,$H$5,$I$7:$I106)","v":0},"-",{"$f":"SUMIF($E$7:$E106,$H$5,$K$7:$K106)","v":0},null,null,null,{"$f":"C6","v":"2025年度"},{"$f":"SUMIF($L$7:$L95,$O$5,$P$7:$P106)","v":0},"-",{"$f":"SUMIF($E$7:$E106,$H$5,$K$7:$K106)","v":0},"-","-"]
[null,{"$f":"'1'!B6","v":"2024年度"},{"$f":"'1'!C6","v":"2025年度"},{"$f":"'1'!D6","v":"2026年度"},null,null,null,{"$f":"D6","v":"2026年度"},{"$f":"SUMIF($E$7:$E106,$H$6,$I$7:$I106)","v":0},"-",{"$f":"SUMIF($E$7:$E106,$H$6,$K$7:$K106)","v":0},null,null,null,{"$f":"D6","v":"2026年度"},{"$f":"SUMIF($L$7:$L95,$O$6,$P$7:$P106)","v":0},"-",{"$f":"SUMIF($E$7:$E106,$H$6,$K$7:$K106)","v":0},"-","-"]
["確認年月日",null,null,null,{"$f":"IF(H7=\"\", \"\",YEAR(H7) - IF(MONTH(H7)<4, 1, 0) & \"年度\")","v":""},1,null,null,null,null,{"$f":"IF(J7=\"\",I7,I7*J7)","v":0},{"$f":"IF(O7=\"\", \"\",YEAR(O7) - IF(MONTH(O7)<4, 1, 0) & \"年度\")","v":""},1,null,null,null,null,{"$f":"IF(Q7=\"\",P7,P7*Q7)","v":0}]
["確認数量（kg）",null,null,null,"",2,null,null,null,null,{"$f":"IF(J8=\"\",I8,I8*J8)","v":0},"",2,null,null,null,null,{"$f":"IF(Q8=\"\",P8,P8*Q8)","v":0}]
["申出番号（受付コード下4桁）",null,null,null,"",3,null,null,null,null,{"$f":"IF(J9=\"\",I9,I9*J9)","v":0},"",3,null,null,null,null,{"$f":"IF(Q9=\"\",P9,P9*Q9)","v":0}]
["受付コード",{"$f":"IF(B$9=\"\",\"\",表１_対象物質一覧!$C$4&(MID($B$6,3,2)&B$9))","v":""},{"$f":"IF(C$9=\"\",\"\",表１_対象物質一覧!$C$4&(MID($C$6, 3, 2))&C$9)","v":""},{"$f":"IF(D$9=\"\",\"\",表１_対象物質一覧!$C$4&(MID($D$6, 3, 2))&D$9)","v":""},"",4,null,null,null,null,0,"",4,null,null,null,null,{"$f":"IF(Q10=\"\",P10,P10*Q10)","v":0}]
["用途番号",null,null,null,"",5,null,null,null,null,0,"",5,null,null,null,null,0]
[null,null,null,null,"",6,null,null,null,null,0,"",6,null,null,null,null,0]
[null,null,null,null,"",7,null,null,null,null,0,"",7,null,null,null,null,0]
[null,null,null,null,"",8,null,null,null,null,0,"",8,null,null,null,null,0]
[null,null,null,null,"",9,null,null,null,null,0,"",9,null,null,null,null,0]
[null,null,null,null,"",10,null,null,null,null,0,"",10,null,null,null,null,0]
["申出書に記載の「前年度の実績数量」",null,null,null,"",11,null,null,null,null,0,"",11,null,null,null,null,0]
["実績数量",{"$f":"$K$4","v":0},{"$f":"$K$5","v":0},{"$f":"$K$6","v":0},"",12,null,null,null,null,0,"",12,null,null,null,null,0]
["確認を受けている中間物等の分類",null,null,null,"",13,null,null,null,null,0,"",13,null,null,null,null,0]
["用途追加手続を省略して追加した用途の用途番号",null,null,null,"",14,null,null,null,null,0,"",14,null,null,null,null,0]
["備考（３年連続して実積数量がゼロの場合はその理由）",null,null,null,"",15,null,null,null,null,0,"",15,null,null,null,null,0]
["用途証明書なしであって確認年月日が複数ある場合の",null,null,null,"",16,null,null,null,null,0,"",16,null,null,null,null,0]
["確認年月日（上段）及び確認数量(kg)（下段）",null,null,null,"",17,null,null,null,null,0,"",17,null,null,null,null,0]
[null,null,null,null,"",18,null,null,null,null,0,"",18,null,null,null,null,0]
[null,null,null,null,"",19,null,null,null,null,0,"",19,null,null,null,null,0]
[null,null,null,null,"",20,null,null,null,null,0,"",20,null,null,null,null,0]
[null,null,null,null,"",21,null,null,null,null,0,"",21,null,null,null,null,0]
[null,null,null,null,"",22,null,null,null,null,0,"",22,null,null,null,null,0]
[null,null,null,null,"",23,null,null,null,null,0,"",23,null,null,null,null,0]
[null,null,null,null,"",24,null,null,null,null,0,"",24,null,null,null,null,0]
[null,null,null,null,"",25,null,null,null,null,0,"",25,null,null,null,null,0]
[null,null,null,null,"",26,null,null,null,null,0,"",26,null,null,null,null,0]
[null,null,null,null,"",27,null,null,null,null,0,"",27,null,null,null,null,0]
[null,null,null,null,"",28,null,null,null,null,0,"",28,null,null,null,null,0]
[null,null,null,null,"",29,null,null,null,null,0,"",29,null,null,null,null,0]
[null,null,null,null,"",30,null,null,null,null,0,"",30,null,null,null,null,0]
[null,null,null,null,"",31,null,null,null,null,0,"",31,null,null,null,null,0]
[null,null,null,null,"",32,null,null,null,null,0,"",32,null,null,null,null,0]
[null,null,null,null,{"$f":"IF(H39=\"\", \"\",YEAR(H39) - IF(MONTH(H39)<4, 1, 0) & \"年度\")","v":""},33,null,null,null,null,0,{"$f":"IF(O39=\"\", \"\",YEAR(O39) - IF(MONTH(O39)<4, 1, 0) & \"年度\")","v":""},33,null,null,null,null,0]
[null,null,null,null,"",34,null,null,null,null,0,"",34,null,null,null,null,0]
[null,null,null,null,"",35,null,null,null,null,0,"",35,null,null,null,null,0]
["同一年度で同じ化学物質を複数申請している場合は、その確認を受けた事項",null,null,null,"",36,null,null,null,null,0,"",36,null,null,null,null,0]
[null,{"$f":"$B$6","v":"2024年度"},{"$f":"$C$6","v":"2025年度"},{"$f":"$D$6","v":"2026年度"},"",37,null,null,null,null,0,"",37,null,null,null,null,0]
["複数手続きの種類",null,null,null,"",38,null,null,null,null,0,"",38,null,null,null,null,0]
["確認年月日",null,null,null,"",39,null,null,null,null,0,"",39,null,null,null,null,0]
["確認数量（kg）",null,null,null,"",40,null,null,null,null,0,"",40,null,null,null,null,0]
["申出番号（受付コード下4桁）",null,null,null,"",41,null,null,null,null,0,"",41,null,null,null,null,0]
["受付コード",{"$f":"IF(B$47=\"\",\"\",表１_対象物質一覧!$C$4&(MID($B$6,3,2)&B$47))","v":""},{"$f":"IF(C$47=\"\",\"\",表１_対象物質一覧!$C$4&(MID($C$6, 3, 2))&C$47)","v":""},{"$f":"IF(D$47=\"\",\"\",表１_対象物質一覧!$C$4&(MID($D$6, 3, 2))&D$47)","v":""},"",42,null,null,null,null,0,"",42,null,null,null,null,0]
["用途番号",null,null,null,"",43,null,null,null,null,0,"",43,null,null,null,null,0]
[null,null,null,null,"",44,null,null,null,null,0,"",44,null,null,null,null,0]
[null,null,null,null,"",45,null,null,null,null,0,"",45,null,null,null,null,0]
[null,null,null,null,"",46,null,null,null,null,0,"",46,null,null,null,null,0]
[null,null,null,null,"",47,null,null,null,null,0,"",47,null,null,null,null,0]
[null,null,null,null,"",48,null,null,null,null,0,"",48,null,null,null,null,0]
[null,null,null,null,"",49,null,null,null,null,0,"",49,null,null,null,null,0]
[null,{"$f":"$B$6","v":"2024年度"},{"$f":"$C$6","v":"2025年度"},{"$f":"$D$6","v":"2026年度"},"",50,null,null,null,null,0,"",50,null,null,null,null,0]
["複数手続きの種類",null,null,null,"",51,null,null,null,null,0,"",51,null,null,null,null,0]
["確認年月日",null,null,null,"",52,null,null,null,null,0,"",52,null,null,null,null,0]
["確認数量（kg）",null,null,null,"",53,null,null,null,null,0,"",53,null,null,null,null,0]
["申出番号（受付コード下4桁）",null,null,null,"",54,null,null,null,null,0,"",54,null,null,null,null,0]
["受付コード",{"$f":"IF(B$60=\"\",\"\",表１_対象物質一覧!$C$4&(MID($B$6,3,2)&B$60))","v":""},{"$f":"IF(C$60=\"\",\"\",表１_対象物質一覧!$C$4&(MID($C$6, 3, 2))&C$60)","v":""},{"$f":"IF(D$60=\"\",\"\",表１_対象物質一覧!$C$4&(MID($D$6, 3, 2))&D$60)","v":""},"",55,null,null,null,null,0,"",55,null,null,null,null,0]
["用途番号",null,null,null,"",56,null,null,null,null,0,"",56,null,null,null,null,0]
[null,null,null,null,"",57,null,null,null,null,0,"",57,null,null,null,null,0]
[null,null,null,null,"",58,null,null,null,null,0,"",58,null,null,null,null,0]
[null,null,null,null,"",59,null,null,null,null,0,"",59,null,null,null,null,0]
[null,null,null,null,"",60,null,null,null,null,0,"",60,null,null,null,null,0]
[null,null,null,null,"",61,null,null,null,null,0,"",61,null,null,null,null,0]
[null,null,null,null,"",62,null,null,null,null,0,"",62,null,null,null,null,0]
[null,{"$f":"$B$6","v":"2024年度"},{"$f":"$C$6","v":"2025年度"},{"$f":"$D$6","v":"2026年度"},"",63,null,null,null,null,0,"",63,null,null,null,null,0]
["複数手続きの種類",null,null,null,"",64,null,null,null,null,0,"",64,null,null,null,null,0]
["確認年月日",null,null,null,{"$f":"IF(H71=\"\", \"\",YEAR(H71) - IF(MONTH(H71)<4, 1, 0) & \"年度\")","v":""},65,null,null,null,null,0,{"$f":"IF(O71=\"\", \"\",YEAR(O71) - IF(MONTH(O71)<4, 1, 0) & \"年度\")","v":""},65,null,null,null,null,0]
["確認数量（kg）",null,null,null,"",66,null,null,null,null,0,"",66,null,null,null,null,0]
["申出番号（受付コード下4桁）",null,null,null,"",67,null,null,null,null,{"$f":"IF(J73=\"\",I73,I73*J73)","v":0},"",67,null,null,null,null,{"$f":"IF(Q73=\"\",P73,P73*Q73)","v":0}]
["受付コード",{"$f":"IF(B$73=\"\",\"\",表１_対象物質一覧!$C$4&(MID($B$6,3,2)&B$73))","v":""},{"$f":"IF(C$73=\"\",\"\",表１_対象物質一覧!$C$4&(MID($C$6, 3, 2))&C$73)","v":""},{"$f":"IF(D$73=\"\",\"\",表１_対象物質一覧!$C$4&(MID($D$6, 3, 2))&D$73)","v":""},"",68,null,null,null,null,0,"",68,null,null,null,null,0]
["用途番号",null,null,null,"",69,null,null,null,null,0,"",69,null,null,null,null,0]
[null,null,null,null,"",70,null,null,null,null,0,"",70,null,null,null,null,0]
[null,null,null,null,"",71,null,null,null,null,0,"",71,null,null,null,null,0]
[null,null,null,null,"",72,null,null,null,null,0,"",72,null,null,null,null,0]
[null,null,null,null,"",73,null,null,null,null,0,"",73,null,null,null,null,0]
[null,null,null,null,"",74,null,null,null,null,0,"",74,null,null,null,null,0]
[null,null,null,null,"",75,null,null,null,null,0,"",75,null,null,null,null,0]
["備考",null,null,null,"",76,null,null,null,null,0,"",76,null,null,null,null,0]
[null,null,null,null,"",77,null,null,null,null,0,"",77,null,null,null,null,0]
[null,null,null,null,"",78,null,null,null,null,0,"",78,null,null,null,null,0]
[null,null,null,null,"",79,null,null,null,null,0,"",79,null,null,null,null,0]
[null,null,null,null,"",80,null,null,null,null,0,"",80,null,null,null,null,0]
[null,null,null,null,"",81,null,null,null,null,0,"",81,null,null,null,null,0]
[null,null,null,null,"",82,null,null,null,null,0,"",82,null,null,null,null,0]
[null,null,null,null,"",83,null,null,null,null,0,"",83,null,null,null,null,0]
[null,null,null,null,"",84,null,null,null,null,0,"",84,null,null,null,null,0]
[null,null,null,null,"",85,null,null,null,null,0,"",85,null,null,null,null,0]
[null,null,null,null,"",86,null,null,null,null,0,"",86,null,null,null,null,0]
[null,null,null,null,"",87,null,null,null,null,0,"",87,null,null,null,null,0]
[null,null,null,null,"",88,null,null,null,null,0,"",88,null,null,null,null,0]
[null,null,null,null,"",89,null,null,null,null,0,"",89,null,null,null,null,0]
[null,null,null,null,"",90,null,null,null,null,0,"",90,null,null,null,null,0]
[null,null,null,null,"",91,null,null,null,null,0,"",91,null,null,null,null,0]
[null,null,null,null,"",92,null,null,null,null,0,"",92,null,null,null,null,0]
[null,null,null,null,"",93,null,null,null,null,0,"",93,null,null,null,null,0]
[null,null,null,null,"",94,null,null,null,null,0,"",94,null,null,null,null,0]
[null,null,null,null,"",95,null,null,null,null,0,"",95,null,null,null,null,0]
[null,null,null,null,"",96,null,null,null,null,0,"",96,null,null,null,null,0]
[null,null,null,null,"",97,null,null,null,null,0,"",97,null,null,null,null,0]
[null,null,null,null,"",98,null,null,null,null,0,"",98,null,null,null,null,0]
[null,null,null,null,"",99,null,null,null,null,{"$f":"IF(J105=\"\",I105,I105*J105)","v":0},"",99,null,null,null,null,{"$f":"IF(Q105=\"\",P105,P105*Q105)","v":0}]
[null,null,null,null,"",100,null,null,null,null,{"$f":"IF(J106=\"\",I106,I106*J106)","v":0},"",100,null,null,null,null,{"$f":"IF(Q106=\"\",P106,P106*Q106)","v":0}]

{"sheet":"42","index":42,"n_rows":106,"n_cols":20,"rows_kept":106,"cut":false,"hidden":false,"merged":[[1,5,1,6],[1,12,1,13],[3,5,5,6],[3,12,5,13]]}
["「表１_対象物質一覧」に戻る"]
["事業所名",null,null,null,null,"輸入量",null,null,null,null,null,null,"払出量"]
["新規化学物質の名称",null,null,null,null,"Ｎｏ",{"$f":"_xlfn.IFS(F2=\"製造量\",\"製造ロット\",F2=\"輸入量\",\"輸入ロット\",F2=\"製造・輸入量\",\"製造・輸入ロット\")","v":"輸入ロット"},{"$f":"_xlfn.IFS(F2=\"製造量\",\"製造日　（最終製品日）\",F2=\"輸入量\",\"輸入許可日\",F2=\"製造・輸入量\",\"製造日・輸入許可日\")","v":"輸入許可日"},{"$f":"_xlfn.IFS(F2=\"製造量\",\"製造数量（kg)\",F2=\"輸入量\",\"輸入数量（kg)\",F2=\"製造・輸入量\",\"製造・輸入数量（kg)\")","v":"輸入数量（kg)"},"含有率（％）","含有率換算数量(kg)",null,"Ｎｏ","ロット","払出日","払出数量（kg)","含有率（％）","含有率換算数量(kg)","用途番号","変更前ロット"]
["略称",null,null,null,null,"実績数量合計",null,{"$f":"B6","v":"2024年度"},{"$f":"SUMIF($E$7:$E106,$H$4,$I$7:$I106)","v":0},"-",{"$f":"SUMIF($E$7:$E106,$H$4,$K$7:$K106)","v":0},null,"払出数量合計",null,{"$f":"B6","v":"2024年度"},{"$f":"SUMIF($L$7:$L95,$O$4,$P$7:$P106)","v":0},"-",{"$f":"SUMIF($L$7:$L106,$H$4,$R$7:$R106)","v":0},"-","-"]
[null,null,null,null,null,null,null,{"$f":"C6","v":"2025年度"},{"$f":"SUMIF($E$7:$E106,$H$5,$I$7:$I106)","v":0},"-",{"$f":"SUMIF($E$7:$E106,$H$5,$K$7:$K106)","v":0},null,null,null,{"$f":"C6","v":"2025年度"},{"$f":"SUMIF($L$7:$L95,$O$5,$P$7:$P106)","v":0},"-",{"$f":"SUMIF($E$7:$E106,$H$5,$K$7:$K106)","v":0},"-","-"]
[null,{"$f":"'1'!B6","v":"2024年度"},{"$f":"'1'!C6","v":"2025年度"},{"$f":"'1'!D6","v":"2026年度"},null,null,null,{"$f":"D6","v":"2026年度"},{"$f":"SUMIF($E$7:$E106,$H$6,$I$7:$I106)","v":0},"-",{"$f":"SUMIF($E$7:$E106,$H$6,$K$7:$K106)","v":0},null,null,null,{"$f":"D6","v":"2026年度"},{"$f":"SUMIF($L$7:$L95,$O$6,$P$7:$P106)","v":0},"-",{"$f":"SUMIF($E$7:$E106,$H$6,$K$7:$K106)","v":0},"-","-"]
["確認年月日",null,null,null,{"$f":"IF(H7=\"\", \"\",YEAR(H7) - IF(MONTH(H7)<4, 1, 0) & \"年度\")","v":""},1,null,null,null,null,{"$f":"IF(J7=\"\",I7,I7*J7)","v":0},{"$f":"IF(O7=\"\", \"\",YEAR(O7) - IF(MONTH(O7)<4, 1, 0) & \"年度\")","v":""},1,null,null,null,null,{"$f":"IF(Q7=\"\",P7,P7*Q7)","v":0}]
["確認数量（kg）",null,null,null,"",2,null,null,null,null,{"$f":"IF(J8=\"\",I8,I8*J8)","v":0},"",2,null,null,null,null,{"$f":"IF(Q8=\"\",P8,P8*Q8)","v":0}]
["申出番号（受付コード下4桁）",null,null,null,"",3,null,null,null,null,{"$f":"IF(J9=\"\",I9,I9*J9)","v":0},"",3,null,null,null,null,{"$f":"IF(Q9=\"\",P9,P9*Q9)","v":0}]
["受付コード",{"$f":"IF(B$9=\"\",\"\",表１_対象物質一覧!$C$4&(MID($B$6,3,2)&B$9))","v":""},{"$f":"IF(C$9=\"\",\"\",表１_対象物質一覧!$C$4&(MID($C$6, 3, 2))&C$9)","v":""},{"$f":"IF(D$9=\"\",\"\",表１_対象物質一覧!$C$4&(MID($D$6, 3, 2))&D$9)","v":""},"",4,null,null,null,null,0,"",4,null,null,null,null,{"$f":"IF(Q10=\"\",P10,P10*Q10)","v":0}]
["用途番号",null,null,null,"",5,null,null,null,null,0,"",5,null,null,null,null,0]
[null,null,null,null,"",6,null,null,null,null,0,"",6,null,null,null,null,0]
[null,null,null,null,"",7,null,null,null,null,0,"",7,null,null,null,null,0]
[null,null,null,null,"",8,null,null,null,null,0,"",8,null,null,null,null,0]
[null,null,null,null,"",9,null,null,null,null,0,"",9,null,null,null,null,0]
[null,null,null,null,"",10,null,null,null,null,0,"",10,null,null,null,null,0]
["申出書に記載の「前年度の実績数量」",null,null,null,"",11,null,null,null,null,0,"",11,null,null,null,null,0]
["実績数量",{"$f":"$K$4","v":0},{"$f":"$K$5","v":0},{"$f":"$K$6","v":0},"",12,null,null,null,null,0,"",12,null,null,null,null,0]
["確認を受けている中間物等の分類",null,null,null,"",13,null,null,null,null,0,"",13,null,null,null,null,0]
["用途追加手続を省略して追加した用途の用途番号",null,null,null,"",14,null,null,null,null,0,"",14,null,null,null,null,0]
["備考（３年連続して実積数量がゼロの場合はその理由）",null,null,null,"",15,null,null,null,null,0,"",15,null,null,null,null,0]
["用途証明書なしであって確認年月日が複数ある場合の",null,null,null,"",16,null,null,null,null,0,"",16,null,null,null,null,0]
["確認年月日（上段）及び確認数量(kg)（下段）",null,null,null,"",17,null,null,null,null,0,"",17,null,null,null,null,0]
[null,null,null,null,"",18,null,null,null,null,0,"",18,null,null,null,null,0]
[null,null,null,null,"",19,null,null,null,null,0,"",19,null,null,null,null,0]
[null,null,null,null,"",20,null,null,null,null,0,"",20,null,null,null,null,0]
[null,null,null,null,"",21,null,null,null,null,0,"",21,null,null,null,null,0]
[null,null,null,null,"",22,null,null,null,null,0,"",22,null,null,null,null,0]
[null,null,null,null,"",23,null,null,null,null,0,"",23,null,null,null,null,0]
[null,null,null,null,"",24,null,null,null,null,0,"",24,null,null,null,null,0]
[null,null,null,null,"",25,null,null,null,null,0,"",25,null,null,null,null,0]
[null,null,null,null,"",26,null,null,null,null,0,"",26,null,null,null,null,0]
[null,null,null,null,"",27,null,null,null,null,0,"",27,null,null,null,null,0]
[null,null,null,null,"",28,null,null,null,null,0,"",28,null,null,null,null,0]
[null,null,null,null,"",29,null,null,null,null,0,"",29,null,null,null,null,0]
[null,null,null,null,"",30,null,null,null,null,0,"",30,null,null,null,null,0]
[null,null,null,null,"",31,null,null,null,null,0,"",31,null,null,null,null,0]
[null,null,null,null,"",32,null,null,null,null,0,"",32,null,null,null,null,0]
[null,null,null,null,{"$f":"IF(H39=\"\", \"\",YEAR(H39) - IF(MONTH(H39)<4, 1, 0) & \"年度\")","v":""},33,null,null,null,null,0,{"$f":"IF(O39=\"\", \"\",YEAR(O39) - IF(MONTH(O39)<4, 1, 0) & \"年度\")","v":""},33,null,null,null,null,0]
[null,null,null,null,"",34,null,null,null,null,0,"",34,null,null,null,null,0]
[null,null,null,null,"",35,null,null,null,null,0,"",35,null,null,null,null,0]
["同一年度で同じ化学物質を複数申請している場合は、その確認を受けた事項",null,null,null,"",36,null,null,null,null,0,"",36,null,null,null,null,0]
[null,{"$f":"$B$6","v":"2024年度"},{"$f":"$C$6","v":"2025年度"},{"$f":"$D$6","v":"2026年度"},"",37,null,null,null,null,0,"",37,null,null,null,null,0]
["複数手続きの種類",null,null,null,"",38,null,null,null,null,0,"",38,null,null,null,null,0]
["確認年月日",null,null,null,"",39,null,null,null,null,0,"",39,null,null,null,null,0]
["確認数量（kg）",null,null,null,"",40,null,null,null,null,0,"",40,null,null,null,null,0]
["申出番号（受付コード下4桁）",null,null,null,"",41,null,null,null,null,0,"",41,null,null,null,null,0]
["受付コード",{"$f":"IF(B$47=\"\",\"\",表１_対象物質一覧!$C$4&(MID($B$6,3,2)&B$47))","v":""},{"$f":"IF(C$47=\"\",\"\",表１_対象物質一覧!$C$4&(MID($C$6, 3, 2))&C$47)","v":""},{"$f":"IF(D$47=\"\",\"\",表１_対象物質一覧!$C$4&(MID($D$6, 3, 2))&D$47)","v":""},"",42,null,null,null,null,0,"",42,null,null,null,null,0]
["用途番号",null,null,null,"",43,null,null,null,null,0,"",43,null,null,null,null,0]
[null,null,null,null,"",44,null,null,null,null,0,"",44,null,null,null,null,0]
[null,null,null,null,"",45,null,null,null,null,0,"",45,null,null,null,null,0]
[null,null,null,null,"",46,null,null,null,null,0,"",46,null,null,null,null,0]
[null,null,null,null,"",47,null,null,null,null,0,"",47,null,null,null,null,0]
[null,null,null,null,"",48,null,null,null,null,0,"",48,null,null,null,null,0]
[null,null,null,null,"",49,null,null,null,null,0,"",49,null,null,null,null,0]
[null,{"$f":"$B$6","v":"2024年度"},{"$f":"$C$6","v":"2025年度"},{"$f":"$D$6","v":"2026年度"},"",50,null,null,null,null,0,"",50,null,null,null,null,0]
["複数手続きの種類",null,null,null,"",51,null,null,null,null,0,"",51,null,null,null,null,0]
["確認年月日",null,null,null,"",52,null,null,null,null,0,"",52,null,null,null,null,0]
["確認数量（kg）",null,null,null,"",53,null,null,null,null,0,"",53,null,null,null,null,0]
["申出番号（受付コード下4桁）",null,null,null,"",54,null,null,null,null,0,"",54,null,null,null,null,0]
["受付コード",{"$f":"IF(B$60=\"\",\"\",表１_対象物質一覧!$C$4&(MID($B$6,3,2)&B$60))","v":""},{"$f":"IF(C$60=\"\",\"\",表１_対象物質一覧!$C$4&(MID($C$6, 3, 2))&C$60)","v":""},{"$f":"IF(D$60=\"\",\"\",表１_対象物質一覧!$C$4&(MID($D$6, 3, 2))&D$60)","v":""},"",55,null,null,null,null,0,"",55,null,null,null,null,0]
["用途番号",null,null,null,"",56,null,null,null,null,0,"",56,null,null,null,null,0]
[null,null,null,null,"",57,null,null,null,null,0,"",57,null,null,null,null,0]
[null,null,null,null,"",58,null,null,null,null,0,"",58,null,null,null,null,0]
[null,null,null,null,"",59,null,null,null,null,0,"",59,null,null,null,null,0]
[null,null,null,null,"",60,null,null,null,null,0,"",60,null,null,null,null,0]
[null,null,null,null,"",61,null,null,null,null,0,"",61,null,null,null,null,0]
[null,null,null,null,"",62,null,null,null,null,0,"",62,null,null,null,null,0]
[null,{"$f":"$B$6","v":"2024年度"},{"$f":"$C$6","v":"2025年度"},{"$f":"$D$6","v":"2026年度"},"",63,null,null,null,null,0,"",63,null,null,null,null,0]
["複数手続きの種類",null,null,null,"",64,null,null,null,null,0,"",64,null,null,null,null,0]
["確認年月日",null,null,null,{"$f":"IF(H71=\"\", \"\",YEAR(H71) - IF(MONTH(H71)<4, 1, 0) & \"年度\")","v":""},65,null,null,null,null,0,{"$f":"IF(O71=\"\", \"\",YEAR(O71) - IF(MONTH(O71)<4, 1, 0) & \"年度\")","v":""},65,null,null,null,null,0]
["確認数量（kg）",null,null,null,"",66,null,null,null,null,0,"",66,null,null,null,null,0]
["申出番号（受付コード下4桁）",null,null,null,"",67,null,null,null,null,{"$f":"IF(J73=\"\",I73,I73*J73)","v":0},"",67,null,null,null,null,{"$f":"IF(Q73=\"\",P73,P73*Q73)","v":0}]
["受付コード",{"$f":"IF(B$73=\"\",\"\",表１_対象物質一覧!$C$4&(MID($B$6,3,2)&B$73))","v":""},{"$f":"IF(C$73=\"\",\"\",表１_対象物質一覧!$C$4&(MID($C$6, 3, 2))&C$73)","v":""},{"$f":"IF(D$73=\"\",\"\",表１_対象物質一覧!$C$4&(MID($D$6, 3, 2))&D$73)","v":""},"",68,null,null,null,null,0,"",68,null,null,null,null,0]
["用途番号",null,null,null,"",69,null,null,null,null,0,"",69,null,null,null,null,0]
[null,null,null,null,"",70,null,null,null,null,0,"",70,null,null,null,null,0]
[null,null,null,null,"",71,null,null,null,null,0,"",71,null,null,null,null,0]
[null,null,null,null,"",72,null,null,null,null,0,"",72,null,null,null,null,0]
[null,null,null,null,"",73,null,null,null,null,0,"",73,null,null,null,null,0]
[null,null,null,null,"",74,null,null,null,null,0,"",74,null,null,null,null,0]
[null,null,null,null,"",75,null,null,null,null,0,"",75,null,null,null,null,0]
["備考",null,null,null,"",76,null,null,null,null,0,"",76,null,null,null,null,0]
[null,null,null,null,"",77,null,null,null,null,0,"",77,null,null,null,null,0]
[null,null,null,null,"",78,null,null,null,null,0,"",78,null,null,null,null,0]
[null,null,null,null,"",79,null,null,null,null,0,"",79,null,null,null,null,0]
[null,null,null,null,"",80,null,null,null,null,0,"",80,null,null,null,null,0]
[null,null,null,null,"",81,null,null,null,null,0,"",81,null,null,null,null,0]
[null,null,null,null,"",82,null,null,null,null,0,"",82,null,null,null,null,0]
[null,null,null,null,"",83,null,null,null,null,0,"",83,null,null,null,null,0]
[null,null,null,null,"",84,null,null,null,null,0,"",84,null,null,null,null,0]
[null,null,null,null,"",85,null,null,null,null,0,"",85,null,null,null,null,0]
[null,null,null,null,"",86,null,null,null,null,0,"",86,null,null,null,null,0]
[null,null,null,null,"",87,null,null,null,null,0,"",87,null,null,null,null,0]
[null,null,null,null,"",88,null,null,null,null,0,"",88,null,null,null,null,0]
[null,null,null,null,"",89,null,null,null,null,0,"",89,null,null,null,null,0]
[null,null,null,null,"",90,null,null,null,null,0,"",90,null,null,null,null,0]
[null,null,null,null,"",91,null,null,null,null,0,"",91,null,null,null,null,0]
[null,null,null,null,"",92,null,null,null,null,0,"",92,null,null,null,null,0]
[null,null,null,null,"",93,null,null,null,null,0,"",93,null,null,null,null,0]
[null,null,null,null,"",94,null,null,null,null,0,"",94,null,null,null,null,0]
[null,null,null,null,"",95,null,null,null,null,0,"",95,null,null,null,null,0]
[null,null,null,null,"",96,null,null,null,null,0,"",96,null,null,null,null,0]
[null,null,null,null,"",97,null,null,null,null,0,"",97,null,null,null,null,0]
[null,null,null,null,"",98,null,null,null,null,0,"",98,null,null,null,null,0]
[null,null,null,null,"",99,null,null,null,null,{"$f":"IF(J105=\"\",I105,I105*J105)","v":0},"",99,null,null,null,null,{"$f":"IF(Q105=\"\",P105,P105*Q105)","v":0}]
[null,null,null,null,"",100,null,null,null,null,{"$f":"IF(J106=\"\",I106,I106*J106)","v":0},"",100,null,null,null,null,{"$f":"IF(Q106=\"\",P106,P106*Q106)","v":0}]

{"sheet":"43","index":43,"n_rows":106,"n_cols":20,"rows_kept":106,"cut":false,"hidden":false,"merged":[[1,5,1,6],[1,12,1,13],[3,5,5,6],[3,12,5,13]]}
["「表１_対象物質一覧」に戻る"]
["事業所名",null,null,null,null,"輸入量",null,null,null,null,null,null,"払出量"]
["新規化学物質の名称",null,null,null,null,"Ｎｏ",{"$f":"_xlfn.IFS(F2=\"製造量\",\"製造ロット\",F2=\"輸入量\",\"輸入ロット\",F2=\"製造・輸入量\",\"製造・輸入ロット\")","v":"輸入ロット"},{"$f":"_xlfn.IFS(F2=\"製造量\",\"製造日　（最終製品日）\",F2=\"輸入量\",\"輸入許可日\",F2=\"製造・輸入量\",\"製造日・輸入許可日\")","v":"輸入許可日"},{"$f":"_xlfn.IFS(F2=\"製造量\",\"製造数量（kg)\",F2=\"輸入量\",\"輸入数量（kg)\",F2=\"製造・輸入量\",\"製造・輸入数量（kg)\")","v":"輸入数量（kg)"},"含有率（％）","含有率換算数量(kg)",null,"Ｎｏ","ロット","払出日","払出数量（kg)","含有率（％）","含有率換算数量(kg)","用途番号","変更前ロット"]
["略称",null,null,null,null,"実績数量合計",null,{"$f":"B6","v":"2024年度"},{"$f":"SUMIF($E$7:$E106,$H$4,$I$7:$I106)","v":0},"-",{"$f":"SUMIF($E$7:$E106,$H$4,$K$7:$K106)","v":0},null,"払出数量合計",null,{"$f":"B6","v":"2024年度"},{"$f":"SUMIF($L$7:$L95,$O$4,$P$7:$P106)","v":0},"-",{"$f":"SUMIF($L$7:$L106,$H$4,$R$7:$R106)","v":0},"-","-"]
[null,null,null,null,null,null,null,{"$f":"C6","v":"2025年度"},{"$f":"SUMIF($E$7:$E106,$H$5,$I$7:$I106)","v":0},"-",{"$f":"SUMIF($E$7:$E106,$H$5,$K$7:$K106)","v":0},null,null,null,{"$f":"C6","v":"2025年度"},{"$f":"SUMIF($L$7:$L95,$O$5,$P$7:$P106)","v":0},"-",{"$f":"SUMIF($E$7:$E106,$H$5,$K$7:$K106)","v":0},"-","-"]
[null,{"$f":"'1'!B6","v":"2024年度"},{"$f":"'1'!C6","v":"2025年度"},{"$f":"'1'!D6","v":"2026年度"},null,null,null,{"$f":"D6","v":"2026年度"},{"$f":"SUMIF($E$7:$E106,$H$6,$I$7:$I106)","v":0},"-",{"$f":"SUMIF($E$7:$E106,$H$6,$K$7:$K106)","v":0},null,null,null,{"$f":"D6","v":"2026年度"},{"$f":"SUMIF($L$7:$L95,$O$6,$P$7:$P106)","v":0},"-",{"$f":"SUMIF($E$7:$E106,$H$6,$K$7:$K106)","v":0},"-","-"]
["確認年月日",null,null,null,{"$f":"IF(H7=\"\", \"\",YEAR(H7) - IF(MONTH(H7)<4, 1, 0) & \"年度\")","v":""},1,null,null,null,null,{"$f":"IF(J7=\"\",I7,I7*J7)","v":0},{"$f":"IF(O7=\"\", \"\",YEAR(O7) - IF(MONTH(O7)<4, 1, 0) & \"年度\")","v":""},1,null,null,null,null,{"$f":"IF(Q7=\"\",P7,P7*Q7)","v":0}]
["確認数量（kg）",null,null,null,"",2,null,null,null,null,{"$f":"IF(J8=\"\",I8,I8*J8)","v":0},"",2,null,null,null,null,{"$f":"IF(Q8=\"\",P8,P8*Q8)","v":0}]
["申出番号（受付コード下4桁）",null,null,null,"",3,null,null,null,null,{"$f":"IF(J9=\"\",I9,I9*J9)","v":0},"",3,null,null,null,null,{"$f":"IF(Q9=\"\",P9,P9*Q9)","v":0}]
["受付コード",{"$f":"IF(B$9=\"\",\"\",表１_対象物質一覧!$C$4&(MID($B$6,3,2)&B$9))","v":""},{"$f":"IF(C$9=\"\",\"\",表１_対象物質一覧!$C$4&(MID($C$6, 3, 2))&C$9)","v":""},{"$f":"IF(D$9=\"\",\"\",表１_対象物質一覧!$C$4&(MID($D$6, 3, 2))&D$9)","v":""},"",4,null,null,null,null,0,"",4,null,null,null,null,{"$f":"IF(Q10=\"\",P10,P10*Q10)","v":0}]
["用途番号",null,null,null,"",5,null,null,null,null,0,"",5,null,null,null,null,0]
[null,null,null,null,"",6,null,null,null,null,0,"",6,null,null,null,null,0]
[null,null,null,null,"",7,null,null,null,null,0,"",7,null,null,null,null,0]
[null,null,null,null,"",8,null,null,null,null,0,"",8,null,null,null,null,0]
[null,null,null,null,"",9,null,null,null,null,0,"",9,null,null,null,null,0]
[null,null,null,null,"",10,null,null,null,null,0,"",10,null,null,null,null,0]
["申出書に記載の「前年度の実績数量」",null,null,null,"",11,null,null,null,null,0,"",11,null,null,null,null,0]
["実績数量",{"$f":"$K$4","v":0},{"$f":"$K$5","v":0},{"$f":"$K$6","v":0},"",12,null,null,null,null,0,"",12,null,null,null,null,0]
["確認を受けている中間物等の分類",null,null,null,"",13,null,null,null,null,0,"",13,null,null,null,null,0]
["用途追加手続を省略して追加した用途の用途番号",null,null,null,"",14,null,null,null,null,0,"",14,null,null,null,null,0]
["備考（３年連続して実積数量がゼロの場合はその理由）",null,null,null,"",15,null,null,null,null,0,"",15,null,null,null,null,0]
["用途証明書なしであって確認年月日が複数ある場合の",null,null,null,"",16,null,null,null,null,0,"",16,null,null,null,null,0]
["確認年月日（上段）及び確認数量(kg)（下段）",null,null,null,"",17,null,null,null,null,0,"",17,null,null,null,null,0]
[null,null,null,null,"",18,null,null,null,null,0,"",18,null,null,null,null,0]
[null,null,null,null,"",19,null,null,null,null,0,"",19,null,null,null,null,0]
[null,null,null,null,"",20,null,null,null,null,0,"",20,null,null,null,null,0]
[null,null,null,null,"",21,null,null,null,null,0,"",21,null,null,null,null,0]
[null,null,null,null,"",22,null,null,null,null,0,"",22,null,null,null,null,0]
[null,null,null,null,"",23,null,null,null,null,0,"",23,null,null,null,null,0]
[null,null,null,null,"",24,null,null,null,null,0,"",24,null,null,null,null,0]
[null,null,null,null,"",25,null,null,null,null,0,"",25,null,null,null,null,0]
[null,null,null,null,"",26,null,null,null,null,0,"",26,null,null,null,null,0]
[null,null,null,null,"",27,null,null,null,null,0,"",27,null,null,null,null,0]
[null,null,null,null,"",28,null,null,null,null,0,"",28,null,null,null,null,0]
[null,null,null,null,"",29,null,null,null,null,0,"",29,null,null,null,null,0]
[null,null,null,null,"",30,null,null,null,null,0,"",30,null,null,null,null,0]
[null,null,null,null,"",31,null,null,null,null,0,"",31,null,null,null,null,0]
[null,null,null,null,"",32,null,null,null,null,0,"",32,null,null,null,null,0]
[null,null,null,null,{"$f":"IF(H39=\"\", \"\",YEAR(H39) - IF(MONTH(H39)<4, 1, 0) & \"年度\")","v":""},33,null,null,null,null,0,{"$f":"IF(O39=\"\", \"\",YEAR(O39) - IF(MONTH(O39)<4, 1, 0) & \"年度\")","v":""},33,null,null,null,null,0]
[null,null,null,null,"",34,null,null,null,null,0,"",34,null,null,null,null,0]
[null,null,null,null,"",35,null,null,null,null,0,"",35,null,null,null,null,0]
["同一年度で同じ化学物質を複数申請している場合は、その確認を受けた事項",null,null,null,"",36,null,null,null,null,0,"",36,null,null,null,null,0]
[null,{"$f":"$B$6","v":"2024年度"},{"$f":"$C$6","v":"2025年度"},{"$f":"$D$6","v":"2026年度"},"",37,null,null,null,null,0,"",37,null,null,null,null,0]
["複数手続きの種類",null,null,null,"",38,null,null,null,null,0,"",38,null,null,null,null,0]
["確認年月日",null,null,null,"",39,null,null,null,null,0,"",39,null,null,null,null,0]
["確認数量（kg）",null,null,null,"",40,null,null,null,null,0,"",40,null,null,null,null,0]
["申出番号（受付コード下4桁）",null,null,null,"",41,null,null,null,null,0,"",41,null,null,null,null,0]
["受付コード",{"$f":"IF(B$47=\"\",\"\",表１_対象物質一覧!$C$4&(MID($B$6,3,2)&B$47))","v":""},{"$f":"IF(C$47=\"\",\"\",表１_対象物質一覧!$C$4&(MID($C$6, 3, 2))&C$47)","v":""},{"$f":"IF(D$47=\"\",\"\",表１_対象物質一覧!$C$4&(MID($D$6, 3, 2))&D$47)","v":""},"",42,null,null,null,null,0,"",42,null,null,null,null,0]
["用途番号",null,null,null,"",43,null,null,null,null,0,"",43,null,null,null,null,0]
[null,null,null,null,"",44,null,null,null,null,0,"",44,null,null,null,null,0]
[null,null,null,null,"",45,null,null,null,null,0,"",45,null,null,null,null,0]
[null,null,null,null,"",46,null,null,null,null,0,"",46,null,null,null,null,0]
[null,null,null,null,"",47,null,null,null,null,0,"",47,null,null,null,null,0]
[null,null,null,null,"",48,null,null,null,null,0,"",48,null,null,null,null,0]
[null,null,null,null,"",49,null,null,null,null,0,"",49,null,null,null,null,0]
[null,{"$f":"$B$6","v":"2024年度"},{"$f":"$C$6","v":"2025年度"},{"$f":"$D$6","v":"2026年度"},"",50,null,null,null,null,0,"",50,null,null,null,null,0]
["複数手続きの種類",null,null,null,"",51,null,null,null,null,0,"",51,null,null,null,null,0]
["確認年月日",null,null,null,"",52,null,null,null,null,0,"",52,null,null,null,null,0]
["確認数量（kg）",null,null,null,"",53,null,null,null,null,0,"",53,null,null,null,null,0]
["申出番号（受付コード下4桁）",null,null,null,"",54,null,null,null,null,0,"",54,null,null,null,null,0]
["受付コード",{"$f":"IF(B$60=\"\",\"\",表１_対象物質一覧!$C$4&(MID($B$6,3,2)&B$60))","v":""},{"$f":"IF(C$60=\"\",\"\",表１_対象物質一覧!$C$4&(MID($C$6, 3, 2))&C$60)","v":""},{"$f":"IF(D$60=\"\",\"\",表１_対象物質一覧!$C$4&(MID($D$6, 3, 2))&D$60)","v":""},"",55,null,null,null,null,0,"",55,null,null,null,null,0]
["用途番号",null,null,null,"",56,null,null,null,null,0,"",56,null,null,null,null,0]
[null,null,null,null,"",57,null,null,null,null,0,"",57,null,null,null,null,0]
[null,null,null,null,"",58,null,null,null,null,0,"",58,null,null,null,null,0]
[null,null,null,null,"",59,null,null,null,null,0,"",59,null,null,null,null,0]
[null,null,null,null,"",60,null,null,null,null,0,"",60,null,null,null,null,0]
[null,null,null,null,"",61,null,null,null,null,0,"",61,null,null,null,null,0]
[null,null,null,null,"",62,null,null,null,null,0,"",62,null,null,null,null,0]
[null,{"$f":"$B$6","v":"2024年度"},{"$f":"$C$6","v":"2025年度"},{"$f":"$D$6","v":"2026年度"},"",63,null,null,null,null,0,"",63,null,null,null,null,0]
["複数手続きの種類",null,null,null,"",64,null,null,null,null,0,"",64,null,null,null,null,0]
["確認年月日",null,null,null,{"$f":"IF(H71=\"\", \"\",YEAR(H71) - IF(MONTH(H71)<4, 1, 0) & \"年度\")","v":""},65,null,null,null,null,0,{"$f":"IF(O71=\"\", \"\",YEAR(O71) - IF(MONTH(O71)<4, 1, 0) & \"年度\")","v":""},65,null,null,null,null,0]
["確認数量（kg）",null,null,null,"",66,null,null,null,null,0,"",66,null,null,null,null,0]
["申出番号（受付コード下4桁）",null,null,null,"",67,null,null,null,null,{"$f":"IF(J73=\"\",I73,I73*J73)","v":0},"",67,null,null,null,null,{"$f":"IF(Q73=\"\",P73,P73*Q73)","v":0}]
["受付コード",{"$f":"IF(B$73=\"\",\"\",表１_対象物質一覧!$C$4&(MID($B$6,3,2)&B$73))","v":""},{"$f":"IF(C$73=\"\",\"\",表１_対象物質一覧!$C$4&(MID($C$6, 3, 2))&C$73)","v":""},{"$f":"IF(D$73=\"\",\"\",表１_対象物質一覧!$C$4&(MID($D$6, 3, 2))&D$73)","v":""},"",68,null,null,null,null,0,"",68,null,null,null,null,0]
["用途番号",null,null,null,"",69,null,null,null,null,0,"",69,null,null,null,null,0]
[null,null,null,null,"",70,null,null,null,null,0,"",70,null,null,null,null,0]
[null,null,null,null,"",71,null,null,null,null,0,"",71,null,null,null,null,0]
[null,null,null,null,"",72,null,null,null,null,0,"",72,null,null,null,null,0]
[null,null,null,null,"",73,null,null,null,null,0,"",73,null,null,null,null,0]
[null,null,null,null,"",74,null,null,null,null,0,"",74,null,null,null,null,0]
[null,null,null,null,"",75,null,null,null,null,0,"",75,null,null,null,null,0]
["備考",null,null,null,"",76,null,null,null,null,0,"",76,null,null,null,null,0]
[null,null,null,null,"",77,null,null,null,null,0,"",77,null,null,null,null,0]
[null,null,null,null,"",78,null,null,null,null,0,"",78,null,null,null,null,0]
[null,null,null,null,"",79,null,null,null,null,0,"",79,null,null,null,null,0]
[null,null,null,null,"",80,null,null,null,null,0,"",80,null,null,null,null,0]
[null,null,null,null,"",81,null,null,null,null,0,"",81,null,null,null,null,0]
[null,null,null,null,"",82,null,null,null,null,0,"",82,null,null,null,null,0]
[null,null,null,null,"",83,null,null,null,null,0,"",83,null,null,null,null,0]
[null,null,null,null,"",84,null,null,null,null,0,"",84,null,null,null,null,0]
[null,null,null,null,"",85,null,null,null,null,0,"",85,null,null,null,null,0]
[null,null,null,null,"",86,null,null,null,null,0,"",86,null,null,null,null,0]
[null,null,null,null,"",87,null,null,null,null,0,"",87,null,null,null,null,0]
[null,null,null,null,"",88,null,null,null,null,0,"",88,null,null,null,null,0]
[null,null,null,null,"",89,null,null,null,null,0,"",89,null,null,null,null,0]
[null,null,null,null,"",90,null,null,null,null,0,"",90,null,null,null,null,0]
[null,null,null,null,"",91,null,null,null,null,0,"",91,null,null,null,null,0]
[null,null,null,null,"",92,null,null,null,null,0,"",92,null,null,null,null,0]
[null,null,null,null,"",93,null,null,null,null,0,"",93,null,null,null,null,0]
[null,null,null,null,"",94,null,null,null,null,0,"",94,null,null,null,null,0]
[null,null,null,null,"",95,null,null,null,null,0,"",95,null,null,null,null,0]
[null,null,null,null,"",96,null,null,null,null,0,"",96,null,null,null,null,0]
[null,null,null,null,"",97,null,null,null,null,0,"",97,null,null,null,null,0]
[null,null,null,null,"",98,null,null,null,null,0,"",98,null,null,null,null,0]
[null,null,null,null,"",99,null,null,null,null,{"$f":"IF(J105=\"\",I105,I105*J105)","v":0},"",99,null,null,null,null,{"$f":"IF(Q105=\"\",P105,P105*Q105)","v":0}]
[null,null,null,null,"",100,null,null,null,null,{"$f":"IF(J106=\"\",I106,I106*J106)","v":0},"",100,null,null,null,null,{"$f":"IF(Q106=\"\",P106,P106*Q106)","v":0}]

{"sheet":"44","index":44,"n_rows":106,"n_cols":20,"rows_kept":106,"cut":false,"hidden":false,"merged":[[1,5,1,6],[1,12,1,13],[3,5,5,6],[3,12,5,13]]}
["「表１_対象物質一覧」に戻る"]
["事業所名",null,null,null,null,"輸入量",null,null,null,null,null,null,"払出量"]
["新規化学物質の名称",null,null,null,null,"Ｎｏ",{"$f":"_xlfn.IFS(F2=\"製造量\",\"製造ロット\",F2=\"輸入量\",\"輸入ロット\",F2=\"製造・輸入量\",\"製造・輸入ロット\")","v":"輸入ロット"},{"$f":"_xlfn.IFS(F2=\"製造量\",\"製造日　（最終製品日）\",F2=\"輸入量\",\"輸入許可日\",F2=\"製造・輸入量\",\"製造日・輸入許可日\")","v":"輸入許可日"},{"$f":"_xlfn.IFS(F2=\"製造量\",\"製造数量（kg)\",F2=\"輸入量\",\"輸入数量（kg)\",F2=\"製造・輸入量\",\"製造・輸入数量（kg)\")","v":"輸入数量（kg)"},"含有率（％）","含有率換算数量(kg)",null,"Ｎｏ","ロット","払出日","払出数量（kg)","含有率（％）","含有率換算数量(kg)","用途番号","変更前ロット"]
["略称",null,null,null,null,"実績数量合計",null,{"$f":"B6","v":"2024年度"},{"$f":"SUMIF($E$7:$E106,$H$4,$I$7:$I106)","v":0},"-",{"$f":"SUMIF($E$7:$E106,$H$4,$K$7:$K106)","v":0},null,"払出数量合計",null,{"$f":"B6","v":"2024年度"},{"$f":"SUMIF($L$7:$L95,$O$4,$P$7:$P106)","v":0},"-",{"$f":"SUMIF($L$7:$L106,$H$4,$R$7:$R106)","v":0},"-","-"]
[null,null,null,null,null,null,null,{"$f":"C6","v":"2025年度"},{"$f":"SUMIF($E$7:$E106,$H$5,$I$7:$I106)","v":0},"-",{"$f":"SUMIF($E$7:$E106,$H$5,$K$7:$K106)","v":0},null,null,null,{"$f":"C6","v":"2025年度"},{"$f":"SUMIF($L$7:$L95,$O$5,$P$7:$P106)","v":0},"-",{"$f":"SUMIF($E$7:$E106,$H$5,$K$7:$K106)","v":0},"-","-"]
[null,{"$f":"'1'!B6","v":"2024年度"},{"$f":"'1'!C6","v":"2025年度"},{"$f":"'1'!D6","v":"2026年度"},null,null,null,{"$f":"D6","v":"2026年度"},{"$f":"SUMIF($E$7:$E106,$H$6,$I$7:$I106)","v":0},"-",{"$f":"SUMIF($E$7:$E106,$H$6,$K$7:$K106)","v":0},null,null,null,{"$f":"D6","v":"2026年度"},{"$f":"SUMIF($L$7:$L95,$O$6,$P$7:$P106)","v":0},"-",{"$f":"SUMIF($E$7:$E106,$H$6,$K$7:$K106)","v":0},"-","-"]
["確認年月日",null,null,null,{"$f":"IF(H7=\"\", \"\",YEAR(H7) - IF(MONTH(H7)<4, 1, 0) & \"年度\")","v":""},1,null,null,null,null,{"$f":"IF(J7=\"\",I7,I7*J7)","v":0},{"$f":"IF(O7=\"\", \"\",YEAR(O7) - IF(MONTH(O7)<4, 1, 0) & \"年度\")","v":""},1,null,null,null,null,{"$f":"IF(Q7=\"\",P7,P7*Q7)","v":0}]
["確認数量（kg）",null,null,null,"",2,null,null,null,null,{"$f":"IF(J8=\"\",I8,I8*J8)","v":0},"",2,null,null,null,null,{"$f":"IF(Q8=\"\",P8,P8*Q8)","v":0}]
["申出番号（受付コード下4桁）",null,null,null,"",3,null,null,null,null,{"$f":"IF(J9=\"\",I9,I9*J9)","v":0},"",3,null,null,null,null,{"$f":"IF(Q9=\"\",P9,P9*Q9)","v":0}]
["受付コード",{"$f":"IF(B$9=\"\",\"\",表１_対象物質一覧!$C$4&(MID($B$6,3,2)&B$9))","v":""},{"$f":"IF(C$9=\"\",\"\",表１_対象物質一覧!$C$4&(MID($C$6, 3, 2))&C$9)","v":""},{"$f":"IF(D$9=\"\",\"\",表１_対象物質一覧!$C$4&(MID($D$6, 3, 2))&D$9)","v":""},"",4,null,null,null,null,0,"",4,null,null,null,null,{"$f":"IF(Q10=\"\",P10,P10*Q10)","v":0}]
["用途番号",null,null,null,"",5,null,null,null,null,0,"",5,null,null,null,null,0]
[null,null,null,null,"",6,null,null,null,null,0,"",6,null,null,null,null,0]
[null,null,null,null,"",7,null,null,null,null,0,"",7,null,null,null,null,0]
[null,null,null,null,"",8,null,null,null,null,0,"",8,null,null,null,null,0]
[null,null,null,null,"",9,null,null,null,null,0,"",9,null,null,null,null,0]
[null,null,null,null,"",10,null,null,null,null,0,"",10,null,null,null,null,0]
["申出書に記載の「前年度の実績数量」",null,null,null,"",11,null,null,null,null,0,"",11,null,null,null,null,0]
["実績数量",{"$f":"$K$4","v":0},{"$f":"$K$5","v":0},{"$f":"$K$6","v":0},"",12,null,null,null,null,0,"",12,null,null,null,null,0]
["確認を受けている中間物等の分類",null,null,null,"",13,null,null,null,null,0,"",13,null,null,null,null,0]
["用途追加手続を省略して追加した用途の用途番号",null,null,null,"",14,null,null,null,null,0,"",14,null,null,null,null,0]
["備考（３年連続して実積数量がゼロの場合はその理由）",null,null,null,"",15,null,null,null,null,0,"",15,null,null,null,null,0]
["用途証明書なしであって確認年月日が複数ある場合の",null,null,null,"",16,null,null,null,null,0,"",16,null,null,null,null,0]
["確認年月日（上段）及び確認数量(kg)（下段）",null,null,null,"",17,null,null,null,null,0,"",17,null,null,null,null,0]
[null,null,null,null,"",18,null,null,null,null,0,"",18,null,null,null,null,0]
[null,null,null,null,"",19,null,null,null,null,0,"",19,null,null,null,null,0]
[null,null,null,null,"",20,null,null,null,null,0,"",20,null,null,null,null,0]
[null,null,null,null,"",21,null,null,null,null,0,"",21,null,null,null,null,0]
[null,null,null,null,"",22,null,null,null,null,0,"",22,null,null,null,null,0]
[null,null,null,null,"",23,null,null,null,null,0,"",23,null,null,null,null,0]
[null,null,null,null,"",24,null,null,null,null,0,"",24,null,null,null,null,0]
[null,null,null,null,"",25,null,null,null,null,0,"",25,null,null,null,null,0]
[null,null,null,null,"",26,null,null,null,null,0,"",26,null,null,null,null,0]
[null,null,null,null,"",27,null,null,null,null,0,"",27,null,null,null,null,0]
[null,null,null,null,"",28,null,null,null,null,0,"",28,null,null,null,null,0]
[null,null,null,null,"",29,null,null,null,null,0,"",29,null,null,null,null,0]
[null,null,null,null,"",30,null,null,null,null,0,"",30,null,null,null,null,0]
[null,null,null,null,"",31,null,null,null,null,0,"",31,null,null,null,null,0]
[null,null,null,null,"",32,null,null,null,null,0,"",32,null,null,null,null,0]
[null,null,null,null,{"$f":"IF(H39=\"\", \"\",YEAR(H39) - IF(MONTH(H39)<4, 1, 0) & \"年度\")","v":""},33,null,null,null,null,0,{"$f":"IF(O39=\"\", \"\",YEAR(O39) - IF(MONTH(O39)<4, 1, 0) & \"年度\")","v":""},33,null,null,null,null,0]
[null,null,null,null,"",34,null,null,null,null,0,"",34,null,null,null,null,0]
[null,null,null,null,"",35,null,null,null,null,0,"",35,null,null,null,null,0]
["同一年度で同じ化学物質を複数申請している場合は、その確認を受けた事項",null,null,null,"",36,null,null,null,null,0,"",36,null,null,null,null,0]
[null,{"$f":"$B$6","v":"2024年度"},{"$f":"$C$6","v":"2025年度"},{"$f":"$D$6","v":"2026年度"},"",37,null,null,null,null,0,"",37,null,null,null,null,0]
["複数手続きの種類",null,null,null,"",38,null,null,null,null,0,"",38,null,null,null,null,0]
["確認年月日",null,null,null,"",39,null,null,null,null,0,"",39,null,null,null,null,0]
["確認数量（kg）",null,null,null,"",40,null,null,null,null,0,"",40,null,null,null,null,0]
["申出番号（受付コード下4桁）",null,null,null,"",41,null,null,null,null,0,"",41,null,null,null,null,0]
["受付コード",{"$f":"IF(B$47=\"\",\"\",表１_対象物質一覧!$C$4&(MID($B$6,3,2)&B$47))","v":""},{"$f":"IF(C$47=\"\",\"\",表１_対象物質一覧!$C$4&(MID($C$6, 3, 2))&C$47)","v":""},{"$f":"IF(D$47=\"\",\"\",表１_対象物質一覧!$C$4&(MID($D$6, 3, 2))&D$47)","v":""},"",42,null,null,null,null,0,"",42,null,null,null,null,0]
["用途番号",null,null,null,"",43,null,null,null,null,0,"",43,null,null,null,null,0]
[null,null,null,null,"",44,null,null,null,null,0,"",44,null,null,null,null,0]
[null,null,null,null,"",45,null,null,null,null,0,"",45,null,null,null,null,0]
[null,null,null,null,"",46,null,null,null,null,0,"",46,null,null,null,null,0]
[null,null,null,null,"",47,null,null,null,null,0,"",47,null,null,null,null,0]
[null,null,null,null,"",48,null,null,null,null,0,"",48,null,null,null,null,0]
[null,null,null,null,"",49,null,null,null,null,0,"",49,null,null,null,null,0]
[null,{"$f":"$B$6","v":"2024年度"},{"$f":"$C$6","v":"2025年度"},{"$f":"$D$6","v":"2026年度"},"",50,null,null,null,null,0,"",50,null,null,null,null,0]
["複数手続きの種類",null,null,null,"",51,null,null,null,null,0,"",51,null,null,null,null,0]
["確認年月日",null,null,null,"",52,null,null,null,null,0,"",52,null,null,null,null,0]
["確認数量（kg）",null,null,null,"",53,null,null,null,null,0,"",53,null,null,null,null,0]
["申出番号（受付コード下4桁）",null,null,null,"",54,null,null,null,null,0,"",54,null,null,null,null,0]
["受付コード",{"$f":"IF(B$60=\"\",\"\",表１_対象物質一覧!$C$4&(MID($B$6,3,2)&B$60))","v":""},{"$f":"IF(C$60=\"\",\"\",表１_対象物質一覧!$C$4&(MID($C$6, 3, 2))&C$60)","v":""},{"$f":"IF(D$60=\"\",\"\",表１_対象物質一覧!$C$4&(MID($D$6, 3, 2))&D$60)","v":""},"",55,null,null,null,null,0,"",55,null,null,null,null,0]
["用途番号",null,null,null,"",56,null,null,null,null,0,"",56,null,null,null,null,0]
[null,null,null,null,"",57,null,null,null,null,0,"",57,null,null,null,null,0]
[null,null,null,null,"",58,null,null,null,null,0,"",58,null,null,null,null,0]
[null,null,null,null,"",59,null,null,null,null,0,"",59,null,null,null,null,0]
[null,null,null,null,"",60,null,null,null,null,0,"",60,null,null,null,null,0]
[null,null,null,null,"",61,null,null,null,null,0,"",61,null,null,null,null,0]
[null,null,null,null,"",62,null,null,null,null,0,"",62,null,null,null,null,0]
[null,{"$f":"$B$6","v":"2024年度"},{"$f":"$C$6","v":"2025年度"},{"$f":"$D$6","v":"2026年度"},"",63,null,null,null,null,0,"",63,null,null,null,null,0]
["複数手続きの種類",null,null,null,"",64,null,null,null,null,0,"",64,null,null,null,null,0]
["確認年月日",null,null,null,{"$f":"IF(H71=\"\", \"\",YEAR(H71) - IF(MONTH(H71)<4, 1, 0) & \"年度\")","v":""},65,null,null,null,null,0,{"$f":"IF(O71=\"\", \"\",YEAR(O71) - IF(MONTH(O71)<4, 1, 0) & \"年度\")","v":""},65,null,null,null,null,0]
["確認数量（kg）",null,null,null,"",66,null,null,null,null,0,"",66,null,null,null,null,0]
["申出番号（受付コード下4桁）",null,null,null,"",67,null,null,null,null,{"$f":"IF(J73=\"\",I73,I73*J73)","v":0},"",67,null,null,null,null,{"$f":"IF(Q73=\"\",P73,P73*Q73)","v":0}]
["受付コード",{"$f":"IF(B$73=\"\",\"\",表１_対象物質一覧!$C$4&(MID($B$6,3,2)&B$73))","v":""},{"$f":"IF(C$73=\"\",\"\",表１_対象物質一覧!$C$4&(MID($C$6, 3, 2))&C$73)","v":""},{"$f":"IF(D$73=\"\",\"\",表１_対象物質一覧!$C$4&(MID($D$6, 3, 2))&D$73)","v":""},"",68,null,null,null,null,0,"",68,null,null,null,null,0]
["用途番号",null,null,null,"",69,null,null,null,null,0,"",69,null,null,null,null,0]
[null,null,null,null,"",70,null,null,null,null,0,"",70,null,null,null,null,0]
[null,null,null,null,"",71,null,null,null,null,0,"",71,null,null,null,null,0]
[null,null,null,null,"",72,null,null,null,null,0,"",72,null,null,null,null,0]
[null,null,null,null,"",73,null,null,null,null,0,"",73,null,null,null,null,0]
[null,null,null,null,"",74,null,null,null,null,0,"",74,null,null,null,null,0]
[null,null,null,null,"",75,null,null,null,null,0,"",75,null,null,null,null,0]
["備考",null,null,null,"",76,null,null,null,null,0,"",76,null,null,null,null,0]
[null,null,null,null,"",77,null,null,null,null,0,"",77,null,null,null,null,0]
[null,null,null,null,"",78,null,null,null,null,0,"",78,null,null,null,null,0]
[null,null,null,null,"",79,null,null,null,null,0,"",79,null,null,null,null,0]
[null,null,null,null,"",80,null,null,null,null,0,"",80,null,null,null,null,0]
[null,null,null,null,"",81,null,null,null,null,0,"",81,null,null,null,null,0]
[null,null,null,null,"",82,null,null,null,null,0,"",82,null,null,null,null,0]
[null,null,null,null,"",83,null,null,null,null,0,"",83,null,null,null,null,0]
[null,null,null,null,"",84,null,null,null,null,0,"",84,null,null,null,null,0]
[null,null,null,null,"",85,null,null,null,null,0,"",85,null,null,null,null,0]
[null,null,null,null,"",86,null,null,null,null,0,"",86,null,null,null,null,0]
[null,null,null,null,"",87,null,null,null,null,0,"",87,null,null,null,null,0]
[null,null,null,null,"",88,null,null,null,null,0,"",88,null,null,null,null,0]
[null,null,null,null,"",89,null,null,null,null,0,"",89,null,null,null,null,0]
[null,null,null,null,"",90,null,null,null,null,0,"",90,null,null,null,null,0]
[null,null,null,null,"",91,null,null,null,null,0,"",91,null,null,null,null,0]
[null,null,null,null,"",92,null,null,null,null,0,"",92,null,null,null,null,0]
[null,null,null,null,"",93,null,null,null,null,0,"",93,null,null,null,null,0]
[null,null,null,null,"",94,null,null,null,null,0,"",94,null,null,null,null,0]
[null,null,null,null,"",95,null,null,null,null,0,"",95,null,null,null,null,0]
[null,null,null,null,"",96,null,null,null,null,0,"",96,null,null,null,null,0]
[null,null,null,null,"",97,null,null,null,null,0,"",97,null,null,null,null,0]
[null,null,null,null,"",98,null,null,null,null,0,"",98,null,null,null,null,0]
[null,null,null,null,"",99,null,null,null,null,{"$f":"IF(J105=\"\",I105,I105*J105)","v":0},"",99,null,null,null,null,{"$f":"IF(Q105=\"\",P105,P105*Q105)","v":0}]
[null,null,null,null,"",100,null,null,null,null,{"$f":"IF(J106=\"\",I106,I106*J106)","v":0},"",100,null,null,null,null,{"$f":"IF(Q106=\"\",P106,P106*Q106)","v":0}]

{"sheet":"45","index":45,"n_rows":106,"n_cols":20,"rows_kept":106,"cut":false,"hidden":false,"merged":[[1,5,1,6],[1,12,1,13],[3,5,5,6],[3,12,5,13]]}
["「表１_対象物質一覧」に戻る"]
["事業所名",null,null,null,null,"輸入量",null,null,null,null,null,null,"払出量"]
["新規化学物質の名称",null,null,null,null,"Ｎｏ",{"$f":"_xlfn.IFS(F2=\"製造量\",\"製造ロット\",F2=\"輸入量\",\"輸入ロット\",F2=\"製造・輸入量\",\"製造・輸入ロット\")","v":"輸入ロット"},{"$f":"_xlfn.IFS(F2=\"製造量\",\"製造日　（最終製品日）\",F2=\"輸入量\",\"輸入許可日\",F2=\"製造・輸入量\",\"製造日・輸入許可日\")","v":"輸入許可日"},{"$f":"_xlfn.IFS(F2=\"製造量\",\"製造数量（kg)\",F2=\"輸入量\",\"輸入数量（kg)\",F2=\"製造・輸入量\",\"製造・輸入数量（kg)\")","v":"輸入数量（kg)"},"含有率（％）","含有率換算数量(kg)",null,"Ｎｏ","ロット","払出日","払出数量（kg)","含有率（％）","含有率換算数量(kg)","用途番号","変更前ロット"]
["略称",null,null,null,null,"実績数量合計",null,{"$f":"B6","v":"2024年度"},{"$f":"SUMIF($E$7:$E106,$H$4,$I$7:$I106)","v":0},"-",{"$f":"SUMIF($E$7:$E106,$H$4,$K$7:$K106)","v":0},null,"払出数量合計",null,{"$f":"B6","v":"2024年度"},{"$f":"SUMIF($L$7:$L95,$O$4,$P$7:$P106)","v":0},"-",{"$f":"SUMIF($L$7:$L106,$H$4,$R$7:$R106)","v":0},"-","-"]
[null,null,null,null,null,null,null,{"$f":"C6","v":"2025年度"},{"$f":"SUMIF($E$7:$E106,$H$5,$I$7:$I106)","v":0},"-",{"$f":"SUMIF($E$7:$E106,$H$5,$K$7:$K106)","v":0},null,null,null,{"$f":"C6","v":"2025年度"},{"$f":"SUMIF($L$7:$L95,$O$5,$P$7:$P106)","v":0},"-",{"$f":"SUMIF($E$7:$E106,$H$5,$K$7:$K106)","v":0},"-","-"]
[null,{"$f":"'1'!B6","v":"2024年度"},{"$f":"'1'!C6","v":"2025年度"},{"$f":"'1'!D6","v":"2026年度"},null,null,null,{"$f":"D6","v":"2026年度"},{"$f":"SUMIF($E$7:$E106,$H$6,$I$7:$I106)","v":0},"-",{"$f":"SUMIF($E$7:$E106,$H$6,$K$7:$K106)","v":0},null,null,null,{"$f":"D6","v":"2026年度"},{"$f":"SUMIF($L$7:$L95,$O$6,$P$7:$P106)","v":0},"-",{"$f":"SUMIF($E$7:$E106,$H$6,$K$7:$K106)","v":0},"-","-"]
["確認年月日",null,null,null,{"$f":"IF(H7=\"\", \"\",YEAR(H7) - IF(MONTH(H7)<4, 1, 0) & \"年度\")","v":""},1,null,null,null,null,{"$f":"IF(J7=\"\",I7,I7*J7)","v":0},{"$f":"IF(O7=\"\", \"\",YEAR(O7) - IF(MONTH(O7)<4, 1, 0) & \"年度\")","v":""},1,null,null,null,null,{"$f":"IF(Q7=\"\",P7,P7*Q7)","v":0}]
["確認数量（kg）",null,null,null,"",2,null,null,null,null,{"$f":"IF(J8=\"\",I8,I8*J8)","v":0},"",2,null,null,null,null,{"$f":"IF(Q8=\"\",P8,P8*Q8)","v":0}]
["申出番号（受付コード下4桁）",null,null,null,"",3,null,null,null,null,{"$f":"IF(J9=\"\",I9,I9*J9)","v":0},"",3,null,null,null,null,{"$f":"IF(Q9=\"\",P9,P9*Q9)","v":0}]
["受付コード",{"$f":"IF(B$9=\"\",\"\",表１_対象物質一覧!$C$4&(MID($B$6,3,2)&B$9))","v":""},{"$f":"IF(C$9=\"\",\"\",表１_対象物質一覧!$C$4&(MID($C$6, 3, 2))&C$9)","v":""},{"$f":"IF(D$9=\"\",\"\",表１_対象物質一覧!$C$4&(MID($D$6, 3, 2))&D$9)","v":""},"",4,null,null,null,null,0,"",4,null,null,null,null,{"$f":"IF(Q10=\"\",P10,P10*Q10)","v":0}]
["用途番号",null,null,null,"",5,null,null,null,null,0,"",5,null,null,null,null,0]
[null,null,null,null,"",6,null,null,null,null,0,"",6,null,null,null,null,0]
[null,null,null,null,"",7,null,null,null,null,0,"",7,null,null,null,null,0]
[null,null,null,null,"",8,null,null,null,null,0,"",8,null,null,null,null,0]
[null,null,null,null,"",9,null,null,null,null,0,"",9,null,null,null,null,0]
[null,null,null,null,"",10,null,null,null,null,0,"",10,null,null,null,null,0]
["申出書に記載の「前年度の実績数量」",null,null,null,"",11,null,null,null,null,0,"",11,null,null,null,null,0]
["実績数量",{"$f":"$K$4","v":0},{"$f":"$K$5","v":0},{"$f":"$K$6","v":0},"",12,null,null,null,null,0,"",12,null,null,null,null,0]
["確認を受けている中間物等の分類",null,null,null,"",13,null,null,null,null,0,"",13,null,null,null,null,0]
["用途追加手続を省略して追加した用途の用途番号",null,null,null,"",14,null,null,null,null,0,"",14,null,null,null,null,0]
["備考（３年連続して実積数量がゼロの場合はその理由）",null,null,null,"",15,null,null,null,null,0,"",15,null,null,null,null,0]
["用途証明書なしであって確認年月日が複数ある場合の",null,null,null,"",16,null,null,null,null,0,"",16,null,null,null,null,0]
["確認年月日（上段）及び確認数量(kg)（下段）",null,null,null,"",17,null,null,null,null,0,"",17,null,null,null,null,0]
[null,null,null,null,"",18,null,null,null,null,0,"",18,null,null,null,null,0]
[null,null,null,null,"",19,null,null,null,null,0,"",19,null,null,null,null,0]
[null,null,null,null,"",20,null,null,null,null,0,"",20,null,null,null,null,0]
[null,null,null,null,"",21,null,null,null,null,0,"",21,null,null,null,null,0]
[null,null,null,null,"",22,null,null,null,null,0,"",22,null,null,null,null,0]
[null,null,null,null,"",23,null,null,null,null,0,"",23,null,null,null,null,0]
[null,null,null,null,"",24,null,null,null,null,0,"",24,null,null,null,null,0]
[null,null,null,null,"",25,null,null,null,null,0,"",25,null,null,null,null,0]
[null,null,null,null,"",26,null,null,null,null,0,"",26,null,null,null,null,0]
[null,null,null,null,"",27,null,null,null,null,0,"",27,null,null,null,null,0]
[null,null,null,null,"",28,null,null,null,null,0,"",28,null,null,null,null,0]
[null,null,null,null,"",29,null,null,null,null,0,"",29,null,null,null,null,0]
[null,null,null,null,"",30,null,null,null,null,0,"",30,null,null,null,null,0]
[null,null,null,null,"",31,null,null,null,null,0,"",31,null,null,null,null,0]
[null,null,null,null,"",32,null,null,null,null,0,"",32,null,null,null,null,0]
[null,null,null,null,{"$f":"IF(H39=\"\", \"\",YEAR(H39) - IF(MONTH(H39)<4, 1, 0) & \"年度\")","v":""},33,null,null,null,null,0,{"$f":"IF(O39=\"\", \"\",YEAR(O39) - IF(MONTH(O39)<4, 1, 0) & \"年度\")","v":""},33,null,null,null,null,0]
[null,null,null,null,"",34,null,null,null,null,0,"",34,null,null,null,null,0]
[null,null,null,null,"",35,null,null,null,null,0,"",35,null,null,null,null,0]
["同一年度で同じ化学物質を複数申請している場合は、その確認を受けた事項",null,null,null,"",36,null,null,null,null,0,"",36,null,null,null,null,0]
[null,{"$f":"$B$6","v":"2024年度"},{"$f":"$C$6","v":"2025年度"},{"$f":"$D$6","v":"2026年度"},"",37,null,null,null,null,0,"",37,null,null,null,null,0]
["複数手続きの種類",null,null,null,"",38,null,null,null,null,0,"",38,null,null,null,null,0]
["確認年月日",null,null,null,"",39,null,null,null,null,0,"",39,null,null,null,null,0]
["確認数量（kg）",null,null,null,"",40,null,null,null,null,0,"",40,null,null,null,null,0]
["申出番号（受付コード下4桁）",null,null,null,"",41,null,null,null,null,0,"",41,null,null,null,null,0]
["受付コード",{"$f":"IF(B$47=\"\",\"\",表１_対象物質一覧!$C$4&(MID($B$6,3,2)&B$47))","v":""},{"$f":"IF(C$47=\"\",\"\",表１_対象物質一覧!$C$4&(MID($C$6, 3, 2))&C$47)","v":""},{"$f":"IF(D$47=\"\",\"\",表１_対象物質一覧!$C$4&(MID($D$6, 3, 2))&D$47)","v":""},"",42,null,null,null,null,0,"",42,null,null,null,null,0]
["用途番号",null,null,null,"",43,null,null,null,null,0,"",43,null,null,null,null,0]
[null,null,null,null,"",44,null,null,null,null,0,"",44,null,null,null,null,0]
[null,null,null,null,"",45,null,null,null,null,0,"",45,null,null,null,null,0]
[null,null,null,null,"",46,null,null,null,null,0,"",46,null,null,null,null,0]
[null,null,null,null,"",47,null,null,null,null,0,"",47,null,null,null,null,0]
[null,null,null,null,"",48,null,null,null,null,0,"",48,null,null,null,null,0]
[null,null,null,null,"",49,null,null,null,null,0,"",49,null,null,null,null,0]
[null,{"$f":"$B$6","v":"2024年度"},{"$f":"$C$6","v":"2025年度"},{"$f":"$D$6","v":"2026年度"},"",50,null,null,null,null,0,"",50,null,null,null,null,0]
["複数手続きの種類",null,null,null,"",51,null,null,null,null,0,"",51,null,null,null,null,0]
["確認年月日",null,null,null,"",52,null,null,null,null,0,"",52,null,null,null,null,0]
["確認数量（kg）",null,null,null,"",53,null,null,null,null,0,"",53,null,null,null,null,0]
["申出番号（受付コード下4桁）",null,null,null,"",54,null,null,null,null,0,"",54,null,null,null,null,0]
["受付コード",{"$f":"IF(B$60=\"\",\"\",表１_対象物質一覧!$C$4&(MID($B$6,3,2)&B$60))","v":""},{"$f":"IF(C$60=\"\",\"\",表１_対象物質一覧!$C$4&(MID($C$6, 3, 2))&C$60)","v":""},{"$f":"IF(D$60=\"\",\"\",表１_対象物質一覧!$C$4&(MID($D$6, 3, 2))&D$60)","v":""},"",55,null,null,null,null,0,"",55,null,null,null,null,0]
["用途番号",null,null,null,"",56,null,null,null,null,0,"",56,null,null,null,null,0]
[null,null,null,null,"",57,null,null,null,null,0,"",57,null,null,null,null,0]
[null,null,null,null,"",58,null,null,null,null,0,"",58,null,null,null,null,0]
[null,null,null,null,"",59,null,null,null,null,0,"",59,null,null,null,null,0]
[null,null,null,null,"",60,null,null,null,null,0,"",60,null,null,null,null,0]
[null,null,null,null,"",61,null,null,null,null,0,"",61,null,null,null,null,0]
[null,null,null,null,"",62,null,null,null,null,0,"",62,null,null,null,null,0]
[null,{"$f":"$B$6","v":"2024年度"},{"$f":"$C$6","v":"2025年度"},{"$f":"$D$6","v":"2026年度"},"",63,null,null,null,null,0,"",63,null,null,null,null,0]
["複数手続きの種類",null,null,null,"",64,null,null,null,null,0,"",64,null,null,null,null,0]
["確認年月日",null,null,null,{"$f":"IF(H71=\"\", \"\",YEAR(H71) - IF(MONTH(H71)<4, 1, 0) & \"年度\")","v":""},65,null,null,null,null,0,{"$f":"IF(O71=\"\", \"\",YEAR(O71) - IF(MONTH(O71)<4, 1, 0) & \"年度\")","v":""},65,null,null,null,null,0]
["確認数量（kg）",null,null,null,"",66,null,null,null,null,0,"",66,null,null,null,null,0]
["申出番号（受付コード下4桁）",null,null,null,"",67,null,null,null,null,{"$f":"IF(J73=\"\",I73,I73*J73)","v":0},"",67,null,null,null,null,{"$f":"IF(Q73=\"\",P73,P73*Q73)","v":0}]
["受付コード",{"$f":"IF(B$73=\"\",\"\",表１_対象物質一覧!$C$4&(MID($B$6,3,2)&B$73))","v":""},{"$f":"IF(C$73=\"\",\"\",表１_対象物質一覧!$C$4&(MID($C$6, 3, 2))&C$73)","v":""},{"$f":"IF(D$73=\"\",\"\",表１_対象物質一覧!$C$4&(MID($D$6, 3, 2))&D$73)","v":""},"",68,null,null,null,null,0,"",68,null,null,null,null,0]
["用途番号",null,null,null,"",69,null,null,null,null,0,"",69,null,null,null,null,0]
[null,null,null,null,"",70,null,null,null,null,0,"",70,null,null,null,null,0]
[null,null,null,null,"",71,null,null,null,null,0,"",71,null,null,null,null,0]
[null,null,null,null,"",72,null,null,null,null,0,"",72,null,null,null,null,0]
[null,null,null,null,"",73,null,null,null,null,0,"",73,null,null,null,null,0]
[null,null,null,null,"",74,null,null,null,null,0,"",74,null,null,null,null,0]
[null,null,null,null,"",75,null,null,null,null,0,"",75,null,null,null,null,0]
["備考",null,null,null,"",76,null,null,null,null,0,"",76,null,null,null,null,0]
[null,null,null,null,"",77,null,null,null,null,0,"",77,null,null,null,null,0]
[null,null,null,null,"",78,null,null,null,null,0,"",78,null,null,null,null,0]
[null,null,null,null,"",79,null,null,null,null,0,"",79,null,null,null,null,0]
[null,null,null,null,"",80,null,null,null,null,0,"",80,null,null,null,null,0]
[null,null,null,null,"",81,null,null,null,null,0,"",81,null,null,null,null,0]
[null,null,null,null,"",82,null,null,null,null,0,"",82,null,null,null,null,0]
[null,null,null,null,"",83,null,null,null,null,0,"",83,null,null,null,null,0]
[null,null,null,null,"",84,null,null,null,null,0,"",84,null,null,null,null,0]
[null,null,null,null,"",85,null,null,null,null,0,"",85,null,null,null,null,0]
[null,null,null,null,"",86,null,null,null,null,0,"",86,null,null,null,null,0]
[null,null,null,null,"",87,null,null,null,null,0,"",87,null,null,null,null,0]
[null,null,null,null,"",88,null,null,null,null,0,"",88,null,null,null,null,0]
[null,null,null,null,"",89,null,null,null,null,0,"",89,null,null,null,null,0]
[null,null,null,null,"",90,null,null,null,null,0,"",90,null,null,null,null,0]
[null,null,null,null,"",91,null,null,null,null,0,"",91,null,null,null,null,0]
[null,null,null,null,"",92,null,null,null,null,0,"",92,null,null,null,null,0]
[null,null,null,null,"",93,null,null,null,null,0,"",93,null,null,null,null,0]
[null,null,null,null,"",94,null,null,null,null,0,"",94,null,null,null,null,0]
[null,null,null,null,"",95,null,null,null,null,0,"",95,null,null,null,null,0]
[null,null,null,null,"",96,null,null,null,null,0,"",96,null,null,null,null,0]
[null,null,null,null,"",97,null,null,null,null,0,"",97,null,null,null,null,0]
[null,null,null,null,"",98,null,null,null,null,0,"",98,null,null,null,null,0]
[null,null,null,null,"",99,null,null,null,null,{"$f":"IF(J105=\"\",I105,I105*J105)","v":0},"",99,null,null,null,null,{"$f":"IF(Q105=\"\",P105,P105*Q105)","v":0}]
[null,null,null,null,"",100,null,null,null,null,{"$f":"IF(J106=\"\",I106,I106*J106)","v":0},"",100,null,null,null,null,{"$f":"IF(Q106=\"\",P106,P106*Q106)","v":0}]

{"sheet":"46","index":46,"n_rows":106,"n_cols":20,"rows_kept":106,"cut":false,"hidden":false,"merged":[[1,5,1,6],[1,12,1,13],[3,5,5,6],[3,12,5,13]]}
["「表１_対象物質一覧」に戻る"]
["事業所名",null,null,null,null,"輸入量",null,null,null,null,null,null,"払出量"]
["新規化学物質の名称",null,null,null,null,"Ｎｏ",{"$f":"_xlfn.IFS(F2=\"製造量\",\"製造ロット\",F2=\"輸入量\",\"輸入ロット\",F2=\"製造・輸入量\",\"製造・輸入ロット\")","v":"輸入ロット"},{"$f":"_xlfn.IFS(F2=\"製造量\",\"製造日　（最終製品日）\",F2=\"輸入量\",\"輸入許可日\",F2=\"製造・輸入量\",\"製造日・輸入許可日\")","v":"輸入許可日"},{"$f":"_xlfn.IFS(F2=\"製造量\",\"製造数量（kg)\",F2=\"輸入量\",\"輸入数量（kg)\",F2=\"製造・輸入量\",\"製造・輸入数量（kg)\")","v":"輸入数量（kg)"},"含有率（％）","含有率換算数量(kg)",null,"Ｎｏ","ロット","払出日","払出数量（kg)","含有率（％）","含有率換算数量(kg)","用途番号","変更前ロット"]
["略称",null,null,null,null,"実績数量合計",null,{"$f":"B6","v":"2024年度"},{"$f":"SUMIF($E$7:$E106,$H$4,$I$7:$I106)","v":0},"-",{"$f":"SUMIF($E$7:$E106,$H$4,$K$7:$K106)","v":0},null,"払出数量合計",null,{"$f":"B6","v":"2024年度"},{"$f":"SUMIF($L$7:$L95,$O$4,$P$7:$P106)","v":0},"-",{"$f":"SUMIF($L$7:$L106,$H$4,$R$7:$R106)","v":0},"-","-"]
[null,null,null,null,null,null,null,{"$f":"C6","v":"2025年度"},{"$f":"SUMIF($E$7:$E106,$H$5,$I$7:$I106)","v":0},"-",{"$f":"SUMIF($E$7:$E106,$H$5,$K$7:$K106)","v":0},null,null,null,{"$f":"C6","v":"2025年度"},{"$f":"SUMIF($L$7:$L95,$O$5,$P$7:$P106)","v":0},"-",{"$f":"SUMIF($E$7:$E106,$H$5,$K$7:$K106)","v":0},"-","-"]
[null,{"$f":"'1'!B6","v":"2024年度"},{"$f":"'1'!C6","v":"2025年度"},{"$f":"'1'!D6","v":"2026年度"},null,null,null,{"$f":"D6","v":"2026年度"},{"$f":"SUMIF($E$7:$E106,$H$6,$I$7:$I106)","v":0},"-",{"$f":"SUMIF($E$7:$E106,$H$6,$K$7:$K106)","v":0},null,null,null,{"$f":"D6","v":"2026年度"},{"$f":"SUMIF($L$7:$L95,$O$6,$P$7:$P106)","v":0},"-",{"$f":"SUMIF($E$7:$E106,$H$6,$K$7:$K106)","v":0},"-","-"]
["確認年月日",null,null,null,{"$f":"IF(H7=\"\", \"\",YEAR(H7) - IF(MONTH(H7)<4, 1, 0) & \"年度\")","v":""},1,null,null,null,null,{"$f":"IF(J7=\"\",I7,I7*J7)","v":0},{"$f":"IF(O7=\"\", \"\",YEAR(O7) - IF(MONTH(O7)<4, 1, 0) & \"年度\")","v":""},1,null,null,null,null,{"$f":"IF(Q7=\"\",P7,P7*Q7)","v":0}]
["確認数量（kg）",null,null,null,"",2,null,null,null,null,{"$f":"IF(J8=\"\",I8,I8*J8)","v":0},"",2,null,null,null,null,{"$f":"IF(Q8=\"\",P8,P8*Q8)","v":0}]
["申出番号（受付コード下4桁）",null,null,null,"",3,null,null,null,null,{"$f":"IF(J9=\"\",I9,I9*J9)","v":0},"",3,null,null,null,null,{"$f":"IF(Q9=\"\",P9,P9*Q9)","v":0}]
["受付コード",{"$f":"IF(B$9=\"\",\"\",表１_対象物質一覧!$C$4&(MID($B$6,3,2)&B$9))","v":""},{"$f":"IF(C$9=\"\",\"\",表１_対象物質一覧!$C$4&(MID($C$6, 3, 2))&C$9)","v":""},{"$f":"IF(D$9=\"\",\"\",表１_対象物質一覧!$C$4&(MID($D$6, 3, 2))&D$9)","v":""},"",4,null,null,null,null,0,"",4,null,null,null,null,{"$f":"IF(Q10=\"\",P10,P10*Q10)","v":0}]
["用途番号",null,null,null,"",5,null,null,null,null,0,"",5,null,null,null,null,0]
[null,null,null,null,"",6,null,null,null,null,0,"",6,null,null,null,null,0]
[null,null,null,null,"",7,null,null,null,null,0,"",7,null,null,null,null,0]
[null,null,null,null,"",8,null,null,null,null,0,"",8,null,null,null,null,0]
[null,null,null,null,"",9,null,null,null,null,0,"",9,null,null,null,null,0]
[null,null,null,null,"",10,null,null,null,null,0,"",10,null,null,null,null,0]
["申出書に記載の「前年度の実績数量」",null,null,null,"",11,null,null,null,null,0,"",11,null,null,null,null,0]
["実績数量",{"$f":"$K$4","v":0},{"$f":"$K$5","v":0},{"$f":"$K$6","v":0},"",12,null,null,null,null,0,"",12,null,null,null,null,0]
["確認を受けている中間物等の分類",null,null,null,"",13,null,null,null,null,0,"",13,null,null,null,null,0]
["用途追加手続を省略して追加した用途の用途番号",null,null,null,"",14,null,null,null,null,0,"",14,null,null,null,null,0]
["備考（３年連続して実積数量がゼロの場合はその理由）",null,null,null,"",15,null,null,null,null,0,"",15,null,null,null,null,0]
["用途証明書なしであって確認年月日が複数ある場合の",null,null,null,"",16,null,null,null,null,0,"",16,null,null,null,null,0]
["確認年月日（上段）及び確認数量(kg)（下段）",null,null,null,"",17,null,null,null,null,0,"",17,null,null,null,null,0]
[null,null,null,null,"",18,null,null,null,null,0,"",18,null,null,null,null,0]
[null,null,null,null,"",19,null,null,null,null,0,"",19,null,null,null,null,0]
[null,null,null,null,"",20,null,null,null,null,0,"",20,null,null,null,null,0]
[null,null,null,null,"",21,null,null,null,null,0,"",21,null,null,null,null,0]
[null,null,null,null,"",22,null,null,null,null,0,"",22,null,null,null,null,0]
[null,null,null,null,"",23,null,null,null,null,0,"",23,null,null,null,null,0]
[null,null,null,null,"",24,null,null,null,null,0,"",24,null,null,null,null,0]
[null,null,null,null,"",25,null,null,null,null,0,"",25,null,null,null,null,0]
[null,null,null,null,"",26,null,null,null,null,0,"",26,null,null,null,null,0]
[null,null,null,null,"",27,null,null,null,null,0,"",27,null,null,null,null,0]
[null,null,null,null,"",28,null,null,null,null,0,"",28,null,null,null,null,0]
[null,null,null,null,"",29,null,null,null,null,0,"",29,null,null,null,null,0]
[null,null,null,null,"",30,null,null,null,null,0,"",30,null,null,null,null,0]
[null,null,null,null,"",31,null,null,null,null,0,"",31,null,null,null,null,0]
[null,null,null,null,"",32,null,null,null,null,0,"",32,null,null,null,null,0]
[null,null,null,null,{"$f":"IF(H39=\"\", \"\",YEAR(H39) - IF(MONTH(H39)<4, 1, 0) & \"年度\")","v":""},33,null,null,null,null,0,{"$f":"IF(O39=\"\", \"\",YEAR(O39) - IF(MONTH(O39)<4, 1, 0) & \"年度\")","v":""},33,null,null,null,null,0]
[null,null,null,null,"",34,null,null,null,null,0,"",34,null,null,null,null,0]
[null,null,null,null,"",35,null,null,null,null,0,"",35,null,null,null,null,0]
["同一年度で同じ化学物質を複数申請している場合は、その確認を受けた事項",null,null,null,"",36,null,null,null,null,0,"",36,null,null,null,null,0]
[null,{"$f":"$B$6","v":"2024年度"},{"$f":"$C$6","v":"2025年度"},{"$f":"$D$6","v":"2026年度"},"",37,null,null,null,null,0,"",37,null,null,null,null,0]
["複数手続きの種類",null,null,null,"",38,null,null,null,null,0,"",38,null,null,null,null,0]
["確認年月日",null,null,null,"",39,null,null,null,null,0,"",39,null,null,null,null,0]
["確認数量（kg）",null,null,null,"",40,null,null,null,null,0,"",40,null,null,null,null,0]
["申出番号（受付コード下4桁）",null,null,null,"",41,null,null,null,null,0,"",41,null,null,null,null,0]
["受付コード",{"$f":"IF(B$47=\"\",\"\",表１_対象物質一覧!$C$4&(MID($B$6,3,2)&B$47))","v":""},{"$f":"IF(C$47=\"\",\"\",表１_対象物質一覧!$C$4&(MID($C$6, 3, 2))&C$47)","v":""},{"$f":"IF(D$47=\"\",\"\",表１_対象物質一覧!$C$4&(MID($D$6, 3, 2))&D$47)","v":""},"",42,null,null,null,null,0,"",42,null,null,null,null,0]
["用途番号",null,null,null,"",43,null,null,null,null,0,"",43,null,null,null,null,0]
[null,null,null,null,"",44,null,null,null,null,0,"",44,null,null,null,null,0]
[null,null,null,null,"",45,null,null,null,null,0,"",45,null,null,null,null,0]
[null,null,null,null,"",46,null,null,null,null,0,"",46,null,null,null,null,0]
[null,null,null,null,"",47,null,null,null,null,0,"",47,null,null,null,null,0]
[null,null,null,null,"",48,null,null,null,null,0,"",48,null,null,null,null,0]
[null,null,null,null,"",49,null,null,null,null,0,"",49,null,null,null,null,0]
[null,{"$f":"$B$6","v":"2024年度"},{"$f":"$C$6","v":"2025年度"},{"$f":"$D$6","v":"2026年度"},"",50,null,null,null,null,0,"",50,null,null,null,null,0]
["複数手続きの種類",null,null,null,"",51,null,null,null,null,0,"",51,null,null,null,null,0]
["確認年月日",null,null,null,"",52,null,null,null,null,0,"",52,null,null,null,null,0]
["確認数量（kg）",null,null,null,"",53,null,null,null,null,0,"",53,null,null,null,null,0]
["申出番号（受付コード下4桁）",null,null,null,"",54,null,null,null,null,0,"",54,null,null,null,null,0]
["受付コード",{"$f":"IF(B$60=\"\",\"\",表１_対象物質一覧!$C$4&(MID($B$6,3,2)&B$60))","v":""},{"$f":"IF(C$60=\"\",\"\",表１_対象物質一覧!$C$4&(MID($C$6, 3, 2))&C$60)","v":""},{"$f":"IF(D$60=\"\",\"\",表１_対象物質一覧!$C$4&(MID($D$6, 3, 2))&D$60)","v":""},"",55,null,null,null,null,0,"",55,null,null,null,null,0]
["用途番号",null,null,null,"",56,null,null,null,null,0,"",56,null,null,null,null,0]
[null,null,null,null,"",57,null,null,null,null,0,"",57,null,null,null,null,0]
[null,null,null,null,"",58,null,null,null,null,0,"",58,null,null,null,null,0]
[null,null,null,null,"",59,null,null,null,null,0,"",59,null,null,null,null,0]
[null,null,null,null,"",60,null,null,null,null,0,"",60,null,null,null,null,0]
[null,null,null,null,"",61,null,null,null,null,0,"",61,null,null,null,null,0]
[null,null,null,null,"",62,null,null,null,null,0,"",62,null,null,null,null,0]
[null,{"$f":"$B$6","v":"2024年度"},{"$f":"$C$6","v":"2025年度"},{"$f":"$D$6","v":"2026年度"},"",63,null,null,null,null,0,"",63,null,null,null,null,0]
["複数手続きの種類",null,null,null,"",64,null,null,null,null,0,"",64,null,null,null,null,0]
["確認年月日",null,null,null,{"$f":"IF(H71=\"\", \"\",YEAR(H71) - IF(MONTH(H71)<4, 1, 0) & \"年度\")","v":""},65,null,null,null,null,0,{"$f":"IF(O71=\"\", \"\",YEAR(O71) - IF(MONTH(O71)<4, 1, 0) & \"年度\")","v":""},65,null,null,null,null,0]
["確認数量（kg）",null,null,null,"",66,null,null,null,null,0,"",66,null,null,null,null,0]
["申出番号（受付コード下4桁）",null,null,null,"",67,null,null,null,null,{"$f":"IF(J73=\"\",I73,I73*J73)","v":0},"",67,null,null,null,null,{"$f":"IF(Q73=\"\",P73,P73*Q73)","v":0}]
["受付コード",{"$f":"IF(B$73=\"\",\"\",表１_対象物質一覧!$C$4&(MID($B$6,3,2)&B$73))","v":""},{"$f":"IF(C$73=\"\",\"\",表１_対象物質一覧!$C$4&(MID($C$6, 3, 2))&C$73)","v":""},{"$f":"IF(D$73=\"\",\"\",表１_対象物質一覧!$C$4&(MID($D$6, 3, 2))&D$73)","v":""},"",68,null,null,null,null,0,"",68,null,null,null,null,0]
["用途番号",null,null,null,"",69,null,null,null,null,0,"",69,null,null,null,null,0]
[null,null,null,null,"",70,null,null,null,null,0,"",70,null,null,null,null,0]
[null,null,null,null,"",71,null,null,null,null,0,"",71,null,null,null,null,0]
[null,null,null,null,"",72,null,null,null,null,0,"",72,null,null,null,null,0]
[null,null,null,null,"",73,null,null,null,null,0,"",73,null,null,null,null,0]
[null,null,null,null,"",74,null,null,null,null,0,"",74,null,null,null,null,0]
[null,null,null,null,"",75,null,null,null,null,0,"",75,null,null,null,null,0]
["備考",null,null,null,"",76,null,null,null,null,0,"",76,null,null,null,null,0]
[null,null,null,null,"",77,null,null,null,null,0,"",77,null,null,null,null,0]
[null,null,null,null,"",78,null,null,null,null,0,"",78,null,null,null,null,0]
[null,null,null,null,"",79,null,null,null,null,0,"",79,null,null,null,null,0]
[null,null,null,null,"",80,null,null,null,null,0,"",80,null,null,null,null,0]
[null,null,null,null,"",81,null,null,null,null,0,"",81,null,null,null,null,0]
[null,null,null,null,"",82,null,null,null,null,0,"",82,null,null,null,null,0]
[null,null,null,null,"",83,null,null,null,null,0,"",83,null,null,null,null,0]
[null,null,null,null,"",84,null,null,null,null,0,"",84,null,null,null,null,0]
[null,null,null,null,"",85,null,null,null,null,0,"",85,null,null,null,null,0]
[null,null,null,null,"",86,null,null,null,null,0,"",86,null,null,null,null,0]
[null,null,null,null,"",87,null,null,null,null,0,"",87,null,null,null,null,0]
[null,null,null,null,"",88,null,null,null,null,0,"",88,null,null,null,null,0]
[null,null,null,null,"",89,null,null,null,null,0,"",89,null,null,null,null,0]
[null,null,null,null,"",90,null,null,null,null,0,"",90,null,null,null,null,0]
[null,null,null,null,"",91,null,null,null,null,0,"",91,null,null,null,null,0]
[null,null,null,null,"",92,null,null,null,null,0,"",92,null,null,null,null,0]
[null,null,null,null,"",93,null,null,null,null,0,"",93,null,null,null,null,0]
[null,null,null,null,"",94,null,null,null,null,0,"",94,null,null,null,null,0]
[null,null,null,null,"",95,null,null,null,null,0,"",95,null,null,null,null,0]
[null,null,null,null,"",96,null,null,null,null,0,"",96,null,null,null,null,0]
[null,null,null,null,"",97,null,null,null,null,0,"",97,null,null,null,null,0]
[null,null,null,null,"",98,null,null,null,null,0,"",98,null,null,null,null,0]
[null,null,null,null,"",99,null,null,null,null,{"$f":"IF(J105=\"\",I105,I105*J105)","v":0},"",99,null,null,null,null,{"$f":"IF(Q105=\"\",P105,P105*Q105)","v":0}]
[null,null,null,null,"",100,null,null,null,null,{"$f":"IF(J106=\"\",I106,I106*J106)","v":0},"",100,null,null,null,null,{"$f":"IF(Q106=\"\",P106,P106*Q106)","v":0}]

{"sheet":"47","index":47,"n_rows":106,"n_cols":20,"rows_kept":106,"cut":false,"hidden":false,"merged":[[1,5,1,6],[1,12,1,13],[3,5,5,6],[3,12,5,13]]}
["「表１_対象物質一覧」に戻る"]
["事業所名",null,null,null,null,"輸入量",null,null,null,null,null,null,"払出量"]
["新規化学物質の名称",null,null,null,null,"Ｎｏ",{"$f":"_xlfn.IFS(F2=\"製造量\",\"製造ロット\",F2=\"輸入量\",\"輸入ロット\",F2=\"製造・輸入量\",\"製造・輸入ロット\")","v":"輸入ロット"},{"$f":"_xlfn.IFS(F2=\"製造量\",\"製造日　（最終製品日）\",F2=\"輸入量\",\"輸入許可日\",F2=\"製造・輸入量\",\"製造日・輸入許可日\")","v":"輸入許可日"},{"$f":"_xlfn.IFS(F2=\"製造量\",\"製造数量（kg)\",F2=\"輸入量\",\"輸入数量（kg)\",F2=\"製造・輸入量\",\"製造・輸入数量（kg)\")","v":"輸入数量（kg)"},"含有率（％）","含有率換算数量(kg)",null,"Ｎｏ","ロット","払出日","払出数量（kg)","含有率（％）","含有率換算数量(kg)","用途番号","変更前ロット"]
["略称",null,null,null,null,"実績数量合計",null,{"$f":"B6","v":"2024年度"},{"$f":"SUMIF($E$7:$E106,$H$4,$I$7:$I106)","v":0},"-",{"$f":"SUMIF($E$7:$E106,$H$4,$K$7:$K106)","v":0},null,"払出数量合計",null,{"$f":"B6","v":"2024年度"},{"$f":"SUMIF($L$7:$L95,$O$4,$P$7:$P106)","v":0},"-",{"$f":"SUMIF($L$7:$L106,$H$4,$R$7:$R106)","v":0},"-","-"]
[null,null,null,null,null,null,null,{"$f":"C6","v":"2025年度"},{"$f":"SUMIF($E$7:$E106,$H$5,$I$7:$I106)","v":0},"-",{"$f":"SUMIF($E$7:$E106,$H$5,$K$7:$K106)","v":0},null,null,null,{"$f":"C6","v":"2025年度"},{"$f":"SUMIF($L$7:$L95,$O$5,$P$7:$P106)","v":0},"-",{"$f":"SUMIF($E$7:$E106,$H$5,$K$7:$K106)","v":0},"-","-"]
[null,{"$f":"'1'!B6","v":"2024年度"},{"$f":"'1'!C6","v":"2025年度"},{"$f":"'1'!D6","v":"2026年度"},null,null,null,{"$f":"D6","v":"2026年度"},{"$f":"SUMIF($E$7:$E106,$H$6,$I$7:$I106)","v":0},"-",{"$f":"SUMIF($E$7:$E106,$H$6,$K$7:$K106)","v":0},null,null,null,{"$f":"D6","v":"2026年度"},{"$f":"SUMIF($L$7:$L95,$O$6,$P$7:$P106)","v":0},"-",{"$f":"SUMIF($E$7:$E106,$H$6,$K$7:$K106)","v":0},"-","-"]
["確認年月日",null,null,null,{"$f":"IF(H7=\"\", \"\",YEAR(H7) - IF(MONTH(H7)<4, 1, 0) & \"年度\")","v":""},1,null,null,null,null,{"$f":"IF(J7=\"\",I7,I7*J7)","v":0},{"$f":"IF(O7=\"\", \"\",YEAR(O7) - IF(MONTH(O7)<4, 1, 0) & \"年度\")","v":""},1,null,null,null,null,{"$f":"IF(Q7=\"\",P7,P7*Q7)","v":0}]
["確認数量（kg）",null,null,null,"",2,null,null,null,null,{"$f":"IF(J8=\"\",I8,I8*J8)","v":0},"",2,null,null,null,null,{"$f":"IF(Q8=\"\",P8,P8*Q8)","v":0}]
["申出番号（受付コード下4桁）",null,null,null,"",3,null,null,null,null,{"$f":"IF(J9=\"\",I9,I9*J9)","v":0},"",3,null,null,null,null,{"$f":"IF(Q9=\"\",P9,P9*Q9)","v":0}]
["受付コード",{"$f":"IF(B$9=\"\",\"\",表１_対象物質一覧!$C$4&(MID($B$6,3,2)&B$9))","v":""},{"$f":"IF(C$9=\"\",\"\",表１_対象物質一覧!$C$4&(MID($C$6, 3, 2))&C$9)","v":""},{"$f":"IF(D$9=\"\",\"\",表１_対象物質一覧!$C$4&(MID($D$6, 3, 2))&D$9)","v":""},"",4,null,null,null,null,0,"",4,null,null,null,null,{"$f":"IF(Q10=\"\",P10,P10*Q10)","v":0}]
["用途番号",null,null,null,"",5,null,null,null,null,0,"",5,null,null,null,null,0]
[null,null,null,null,"",6,null,null,null,null,0,"",6,null,null,null,null,0]
[null,null,null,null,"",7,null,null,null,null,0,"",7,null,null,null,null,0]
[null,null,null,null,"",8,null,null,null,null,0,"",8,null,null,null,null,0]
[null,null,null,null,"",9,null,null,null,null,0,"",9,null,null,null,null,0]
[null,null,null,null,"",10,null,null,null,null,0,"",10,null,null,null,null,0]
["申出書に記載の「前年度の実績数量」",null,null,null,"",11,null,null,null,null,0,"",11,null,null,null,null,0]
["実績数量",{"$f":"$K$4","v":0},{"$f":"$K$5","v":0},{"$f":"$K$6","v":0},"",12,null,null,null,null,0,"",12,null,null,null,null,0]
["確認を受けている中間物等の分類",null,null,null,"",13,null,null,null,null,0,"",13,null,null,null,null,0]
["用途追加手続を省略して追加した用途の用途番号",null,null,null,"",14,null,null,null,null,0,"",14,null,null,null,null,0]
["備考（３年連続して実積数量がゼロの場合はその理由）",null,null,null,"",15,null,null,null,null,0,"",15,null,null,null,null,0]
["用途証明書なしであって確認年月日が複数ある場合の",null,null,null,"",16,null,null,null,null,0,"",16,null,null,null,null,0]
["確認年月日（上段）及び確認数量(kg)（下段）",null,null,null,"",17,null,null,null,null,0,"",17,null,null,null,null,0]
[null,null,null,null,"",18,null,null,null,null,0,"",18,null,null,null,null,0]
[null,null,null,null,"",19,null,null,null,null,0,"",19,null,null,null,null,0]
[null,null,null,null,"",20,null,null,null,null,0,"",20,null,null,null,null,0]
[null,null,null,null,"",21,null,null,null,null,0,"",21,null,null,null,null,0]
[null,null,null,null,"",22,null,null,null,null,0,"",22,null,null,null,null,0]
[null,null,null,null,"",23,null,null,null,null,0,"",23,null,null,null,null,0]
[null,null,null,null,"",24,null,null,null,null,0,"",24,null,null,null,null,0]
[null,null,null,null,"",25,null,null,null,null,0,"",25,null,null,null,null,0]
[null,null,null,null,"",26,null,null,null,null,0,"",26,null,null,null,null,0]
[null,null,null,null,"",27,null,null,null,null,0,"",27,null,null,null,null,0]
[null,null,null,null,"",28,null,null,null,null,0,"",28,null,null,null,null,0]
[null,null,null,null,"",29,null,null,null,null,0,"",29,null,null,null,null,0]
[null,null,null,null,"",30,null,null,null,null,0,"",30,null,null,null,null,0]
[null,null,null,null,"",31,null,null,null,null,0,"",31,null,null,null,null,0]
[null,null,null,null,"",32,null,null,null,null,0,"",32,null,null,null,null,0]
[null,null,null,null,{"$f":"IF(H39=\"\", \"\",YEAR(H39) - IF(MONTH(H39)<4, 1, 0) & \"年度\")","v":""},33,null,null,null,null,0,{"$f":"IF(O39=\"\", \"\",YEAR(O39) - IF(MONTH(O39)<4, 1, 0) & \"年度\")","v":""},33,null,null,null,null,0]
[null,null,null,null,"",34,null,null,null,null,0,"",34,null,null,null,null,0]
[null,null,null,null,"",35,null,null,null,null,0,"",35,null,null,null,null,0]
["同一年度で同じ化学物質を複数申請している場合は、その確認を受けた事項",null,null,null,"",36,null,null,null,null,0,"",36,null,null,null,null,0]
[null,{"$f":"$B$6","v":"2024年度"},{"$f":"$C$6","v":"2025年度"},{"$f":"$D$6","v":"2026年度"},"",37,null,null,null,null,0,"",37,null,null,null,null,0]
["複数手続きの種類",null,null,null,"",38,null,null,null,null,0,"",38,null,null,null,null,0]
["確認年月日",null,null,null,"",39,null,null,null,null,0,"",39,null,null,null,null,0]
["確認数量（kg）",null,null,null,"",40,null,null,null,null,0,"",40,null,null,null,null,0]
["申出番号（受付コード下4桁）",null,null,null,"",41,null,null,null,null,0,"",41,null,null,null,null,0]
["受付コード",{"$f":"IF(B$47=\"\",\"\",表１_対象物質一覧!$C$4&(MID($B$6,3,2)&B$47))","v":""},{"$f":"IF(C$47=\"\",\"\",表１_対象物質一覧!$C$4&(MID($C$6, 3, 2))&C$47)","v":""},{"$f":"IF(D$47=\"\",\"\",表１_対象物質一覧!$C$4&(MID($D$6, 3, 2))&D$47)","v":""},"",42,null,null,null,null,0,"",42,null,null,null,null,0]
["用途番号",null,null,null,"",43,null,null,null,null,0,"",43,null,null,null,null,0]
[null,null,null,null,"",44,null,null,null,null,0,"",44,null,null,null,null,0]
[null,null,null,null,"",45,null,null,null,null,0,"",45,null,null,null,null,0]
[null,null,null,null,"",46,null,null,null,null,0,"",46,null,null,null,null,0]
[null,null,null,null,"",47,null,null,null,null,0,"",47,null,null,null,null,0]
[null,null,null,null,"",48,null,null,null,null,0,"",48,null,null,null,null,0]
[null,null,null,null,"",49,null,null,null,null,0,"",49,null,null,null,null,0]
[null,{"$f":"$B$6","v":"2024年度"},{"$f":"$C$6","v":"2025年度"},{"$f":"$D$6","v":"2026年度"},"",50,null,null,null,null,0,"",50,null,null,null,null,0]
["複数手続きの種類",null,null,null,"",51,null,null,null,null,0,"",51,null,null,null,null,0]
["確認年月日",null,null,null,"",52,null,null,null,null,0,"",52,null,null,null,null,0]
["確認数量（kg）",null,null,null,"",53,null,null,null,null,0,"",53,null,null,null,null,0]
["申出番号（受付コード下4桁）",null,null,null,"",54,null,null,null,null,0,"",54,null,null,null,null,0]
["受付コード",{"$f":"IF(B$60=\"\",\"\",表１_対象物質一覧!$C$4&(MID($B$6,3,2)&B$60))","v":""},{"$f":"IF(C$60=\"\",\"\",表１_対象物質一覧!$C$4&(MID($C$6, 3, 2))&C$60)","v":""},{"$f":"IF(D$60=\"\",\"\",表１_対象物質一覧!$C$4&(MID($D$6, 3, 2))&D$60)","v":""},"",55,null,null,null,null,0,"",55,null,null,null,null,0]
["用途番号",null,null,null,"",56,null,null,null,null,0,"",56,null,null,null,null,0]
[null,null,null,null,"",57,null,null,null,null,0,"",57,null,null,null,null,0]
[null,null,null,null,"",58,null,null,null,null,0,"",58,null,null,null,null,0]
[null,null,null,null,"",59,null,null,null,null,0,"",59,null,null,null,null,0]
[null,null,null,null,"",60,null,null,null,null,0,"",60,null,null,null,null,0]
[null,null,null,null,"",61,null,null,null,null,0,"",61,null,null,null,null,0]
[null,null,null,null,"",62,null,null,null,null,0,"",62,null,null,null,null,0]
[null,{"$f":"$B$6","v":"2024年度"},{"$f":"$C$6","v":"2025年度"},{"$f":"$D$6","v":"2026年度"},"",63,null,null,null,null,0,"",63,null,null,null,null,0]
["複数手続きの種類",null,null,null,"",64,null,null,null,null,0,"",64,null,null,null,null,0]
["確認年月日",null,null,null,{"$f":"IF(H71=\"\", \"\",YEAR(H71) - IF(MONTH(H71)<4, 1, 0) & \"年度\")","v":""},65,null,null,null,null,0,{"$f":"IF(O71=\"\", \"\",YEAR(O71) - IF(MONTH(O71)<4, 1, 0) & \"年度\")","v":""},65,null,null,null,null,0]
["確認数量（kg）",null,null,null,"",66,null,null,null,null,0,"",66,null,null,null,null,0]
["申出番号（受付コード下4桁）",null,null,null,"",67,null,null,null,null,{"$f":"IF(J73=\"\",I73,I73*J73)","v":0},"",67,null,null,null,null,{"$f":"IF(Q73=\"\",P73,P73*Q73)","v":0}]
["受付コード",{"$f":"IF(B$73=\"\",\"\",表１_対象物質一覧!$C$4&(MID($B$6,3,2)&B$73))","v":""},{"$f":"IF(C$73=\"\",\"\",表１_対象物質一覧!$C$4&(MID($C$6, 3, 2))&C$73)","v":""},{"$f":"IF(D$73=\"\",\"\",表１_対象物質一覧!$C$4&(MID($D$6, 3, 2))&D$73)","v":""},"",68,null,null,null,null,0,"",68,null,null,null,null,0]
["用途番号",null,null,null,"",69,null,null,null,null,0,"",69,null,null,null,null,0]
[null,null,null,null,"",70,null,null,null,null,0,"",70,null,null,null,null,0]
[null,null,null,null,"",71,null,null,null,null,0,"",71,null,null,null,null,0]
[null,null,null,null,"",72,null,null,null,null,0,"",72,null,null,null,null,0]
[null,null,null,null,"",73,null,null,null,null,0,"",73,null,null,null,null,0]
[null,null,null,null,"",74,null,null,null,null,0,"",74,null,null,null,null,0]
[null,null,null,null,"",75,null,null,null,null,0,"",75,null,null,null,null,0]
["備考",null,null,null,"",76,null,null,null,null,0,"",76,null,null,null,null,0]
[null,null,null,null,"",77,null,null,null,null,0,"",77,null,null,null,null,0]
[null,null,null,null,"",78,null,null,null,null,0,"",78,null,null,null,null,0]
[null,null,null,null,"",79,null,null,null,null,0,"",79,null,null,null,null,0]
[null,null,null,null,"",80,null,null,null,null,0,"",80,null,null,null,null,0]
[null,null,null,null,"",81,null,null,null,null,0,"",81,null,null,null,null,0]
[null,null,null,null,"",82,null,null,null,null,0,"",82,null,null,null,null,0]
[null,null,null,null,"",83,null,null,null,null,0,"",83,null,null,null,null,0]
[null,null,null,null,"",84,null,null,null,null,0,"",84,null,null,null,null,0]
[null,null,null,null,"",85,null,null,null,null,0,"",85,null,null,null,null,0]
[null,null,null,null,"",86,null,null,null,null,0,"",86,null,null,null,null,0]
[null,null,null,null,"",87,null,null,null,null,0,"",87,null,null,null,null,0]
[null,null,null,null,"",88,null,null,null,null,0,"",88,null,null,null,null,0]
[null,null,null,null,"",89,null,null,null,null,0,"",89,null,null,null,null,0]
[null,null,null,null,"",90,null,null,null,null,0,"",90,null,null,null,null,0]
[null,null,null,null,"",91,null,null,null,null,0,"",91,null,null,null,null,0]
[null,null,null,null,"",92,null,null,null,null,0,"",92,null,null,null,null,0]
[null,null,null,null,"",93,null,null,null,null,0,"",93,null,null,null,null,0]
[null,null,null,null,"",94,null,null,null,null,0,"",94,null,null,null,null,0]
[null,null,null,null,"",95,null,null,null,null,0,"",95,null,null,null,null,0]
[null,null,null,null,"",96,null,null,null,null,0,"",96,null,null,null,null,0]
[null,null,null,null,"",97,null,null,null,null,0,"",97,null,null,null,null,0]
[null,null,null,null,"",98,null,null,null,null,0,"",98,null,null,null,null,0]
[null,null,null,null,"",99,null,null,null,null,{"$f":"IF(J105=\"\",I105,I105*J105)","v":0},"",99,null,null,null,null,{"$f":"IF(Q105=\"\",P105,P105*Q105)","v":0}]
[null,null,null,null,"",100,null,null,null,null,{"$f":"IF(J106=\"\",I106,I106*J106)","v":0},"",100,null,null,null,null,{"$f":"IF(Q106=\"\",P106,P106*Q106)","v":0}]

{"sheet":"48","index":48,"n_rows":106,"n_cols":20,"rows_kept":106,"cut":false,"hidden":false,"merged":[[1,5,1,6],[1,12,1,13],[3,5,5,6],[3,12,5,13]]}
["「表１_対象物質一覧」に戻る"]
["事業所名",null,null,null,null,"輸入量",null,null,null,null,null,null,"払出量"]
["新規化学物質の名称",null,null,null,null,"Ｎｏ",{"$f":"_xlfn.IFS(F2=\"製造量\",\"製造ロット\",F2=\"輸入量\",\"輸入ロット\",F2=\"製造・輸入量\",\"製造・輸入ロット\")","v":"輸入ロット"},{"$f":"_xlfn.IFS(F2=\"製造量\",\"製造日　（最終製品日）\",F2=\"輸入量\",\"輸入許可日\",F2=\"製造・輸入量\",\"製造日・輸入許可日\")","v":"輸入許可日"},{"$f":"_xlfn.IFS(F2=\"製造量\",\"製造数量（kg)\",F2=\"輸入量\",\"輸入数量（kg)\",F2=\"製造・輸入量\",\"製造・輸入数量（kg)\")","v":"輸入数量（kg)"},"含有率（％）","含有率換算数量(kg)",null,"Ｎｏ","ロット","払出日","払出数量（kg)","含有率（％）","含有率換算数量(kg)","用途番号","変更前ロット"]
["略称",null,null,null,null,"実績数量合計",null,{"$f":"B6","v":"2024年度"},{"$f":"SUMIF($E$7:$E106,$H$4,$I$7:$I106)","v":0},"-",{"$f":"SUMIF($E$7:$E106,$H$4,$K$7:$K106)","v":0},null,"払出数量合計",null,{"$f":"B6","v":"2024年度"},{"$f":"SUMIF($L$7:$L95,$O$4,$P$7:$P106)","v":0},"-",{"$f":"SUMIF($L$7:$L106,$H$4,$R$7:$R106)","v":0},"-","-"]
[null,null,null,null,null,null,null,{"$f":"C6","v":"2025年度"},{"$f":"SUMIF($E$7:$E106,$H$5,$I$7:$I106)","v":0},"-",{"$f":"SUMIF($E$7:$E106,$H$5,$K$7:$K106)","v":0},null,null,null,{"$f":"C6","v":"2025年度"},{"$f":"SUMIF($L$7:$L95,$O$5,$P$7:$P106)","v":0},"-",{"$f":"SUMIF($E$7:$E106,$H$5,$K$7:$K106)","v":0},"-","-"]
[null,{"$f":"'1'!B6","v":"2024年度"},{"$f":"'1'!C6","v":"2025年度"},{"$f":"'1'!D6","v":"2026年度"},null,null,null,{"$f":"D6","v":"2026年度"},{"$f":"SUMIF($E$7:$E106,$H$6,$I$7:$I106)","v":0},"-",{"$f":"SUMIF($E$7:$E106,$H$6,$K$7:$K106)","v":0},null,null,null,{"$f":"D6","v":"2026年度"},{"$f":"SUMIF($L$7:$L95,$O$6,$P$7:$P106)","v":0},"-",{"$f":"SUMIF($E$7:$E106,$H$6,$K$7:$K106)","v":0},"-","-"]
["確認年月日",null,null,null,{"$f":"IF(H7=\"\", \"\",YEAR(H7) - IF(MONTH(H7)<4, 1, 0) & \"年度\")","v":""},1,null,null,null,null,{"$f":"IF(J7=\"\",I7,I7*J7)","v":0},{"$f":"IF(O7=\"\", \"\",YEAR(O7) - IF(MONTH(O7)<4, 1, 0) & \"年度\")","v":""},1,null,null,null,null,{"$f":"IF(Q7=\"\",P7,P7*Q7)","v":0}]
["確認数量（kg）",null,null,null,"",2,null,null,null,null,{"$f":"IF(J8=\"\",I8,I8*J8)","v":0},"",2,null,null,null,null,{"$f":"IF(Q8=\"\",P8,P8*Q8)","v":0}]
["申出番号（受付コード下4桁）",null,null,null,"",3,null,null,null,null,{"$f":"IF(J9=\"\",I9,I9*J9)","v":0},"",3,null,null,null,null,{"$f":"IF(Q9=\"\",P9,P9*Q9)","v":0}]
["受付コード",{"$f":"IF(B$9=\"\",\"\",表１_対象物質一覧!$C$4&(MID($B$6,3,2)&B$9))","v":""},{"$f":"IF(C$9=\"\",\"\",表１_対象物質一覧!$C$4&(MID($C$6, 3, 2))&C$9)","v":""},{"$f":"IF(D$9=\"\",\"\",表１_対象物質一覧!$C$4&(MID($D$6, 3, 2))&D$9)","v":""},"",4,null,null,null,null,0,"",4,null,null,null,null,{"$f":"IF(Q10=\"\",P10,P10*Q10)","v":0}]
["用途番号",null,null,null,"",5,null,null,null,null,0,"",5,null,null,null,null,0]
[null,null,null,null,"",6,null,null,null,null,0,"",6,null,null,null,null,0]
[null,null,null,null,"",7,null,null,null,null,0,"",7,null,null,null,null,0]
[null,null,null,null,"",8,null,null,null,null,0,"",8,null,null,null,null,0]
[null,null,null,null,"",9,null,null,null,null,0,"",9,null,null,null,null,0]
[null,null,null,null,"",10,null,null,null,null,0,"",10,null,null,null,null,0]
["申出書に記載の「前年度の実績数量」",null,null,null,"",11,null,null,null,null,0,"",11,null,null,null,null,0]
["実績数量",{"$f":"$K$4","v":0},{"$f":"$K$5","v":0},{"$f":"$K$6","v":0},"",12,null,null,null,null,0,"",12,null,null,null,null,0]
["確認を受けている中間物等の分類",null,null,null,"",13,null,null,null,null,0,"",13,null,null,null,null,0]
["用途追加手続を省略して追加した用途の用途番号",null,null,null,"",14,null,null,null,null,0,"",14,null,null,null,null,0]
["備考（３年連続して実積数量がゼロの場合はその理由）",null,null,null,"",15,null,null,null,null,0,"",15,null,null,null,null,0]
["用途証明書なしであって確認年月日が複数ある場合の",null,null,null,"",16,null,null,null,null,0,"",16,null,null,null,null,0]
["確認年月日（上段）及び確認数量(kg)（下段）",null,null,null,"",17,null,null,null,null,0,"",17,null,null,null,null,0]
[null,null,null,null,"",18,null,null,null,null,0,"",18,null,null,null,null,0]
[null,null,null,null,"",19,null,null,null,null,0,"",19,null,null,null,null,0]
[null,null,null,null,"",20,null,null,null,null,0,"",20,null,null,null,null,0]
[null,null,null,null,"",21,null,null,null,null,0,"",21,null,null,null,null,0]
[null,null,null,null,"",22,null,null,null,null,0,"",22,null,null,null,null,0]
[null,null,null,null,"",23,null,null,null,null,0,"",23,null,null,null,null,0]
[null,null,null,null,"",24,null,null,null,null,0,"",24,null,null,null,null,0]
[null,null,null,null,"",25,null,null,null,null,0,"",25,null,null,null,null,0]
[null,null,null,null,"",26,null,null,null,null,0,"",26,null,null,null,null,0]
[null,null,null,null,"",27,null,null,null,null,0,"",27,null,null,null,null,0]
[null,null,null,null,"",28,null,null,null,null,0,"",28,null,null,null,null,0]
[null,null,null,null,"",29,null,null,null,null,0,"",29,null,null,null,null,0]
[null,null,null,null,"",30,null,null,null,null,0,"",30,null,null,null,null,0]
[null,null,null,null,"",31,null,null,null,null,0,"",31,null,null,null,null,0]
[null,null,null,null,"",32,null,null,null,null,0,"",32,null,null,null,null,0]
[null,null,null,null,{"$f":"IF(H39=\"\", \"\",YEAR(H39) - IF(MONTH(H39)<4, 1, 0) & \"年度\")","v":""},33,null,null,null,null,0,{"$f":"IF(O39=\"\", \"\",YEAR(O39) - IF(MONTH(O39)<4, 1, 0) & \"年度\")","v":""},33,null,null,null,null,0]
[null,null,null,null,"",34,null,null,null,null,0,"",34,null,null,null,null,0]
[null,null,null,null,"",35,null,null,null,null,0,"",35,null,null,null,null,0]
["同一年度で同じ化学物質を複数申請している場合は、その確認を受けた事項",null,null,null,"",36,null,null,null,null,0,"",36,null,null,null,null,0]
[null,{"$f":"$B$6","v":"2024年度"},{"$f":"$C$6","v":"2025年度"},{"$f":"$D$6","v":"2026年度"},"",37,null,null,null,null,0,"",37,null,null,null,null,0]
["複数手続きの種類",null,null,null,"",38,null,null,null,null,0,"",38,null,null,null,null,0]
["確認年月日",null,null,null,"",39,null,null,null,null,0,"",39,null,null,null,null,0]
["確認数量（kg）",null,null,null,"",40,null,null,null,null,0,"",40,null,null,null,null,0]
["申出番号（受付コード下4桁）",null,null,null,"",41,null,null,null,null,0,"",41,null,null,null,null,0]
["受付コード",{"$f":"IF(B$47=\"\",\"\",表１_対象物質一覧!$C$4&(MID($B$6,3,2)&B$47))","v":""},{"$f":"IF(C$47=\"\",\"\",表１_対象物質一覧!$C$4&(MID($C$6, 3, 2))&C$47)","v":""},{"$f":"IF(D$47=\"\",\"\",表１_対象物質一覧!$C$4&(MID($D$6, 3, 2))&D$47)","v":""},"",42,null,null,null,null,0,"",42,null,null,null,null,0]
["用途番号",null,null,null,"",43,null,null,null,null,0,"",43,null,null,null,null,0]
[null,null,null,null,"",44,null,null,null,null,0,"",44,null,null,null,null,0]
[null,null,null,null,"",45,null,null,null,null,0,"",45,null,null,null,null,0]
[null,null,null,null,"",46,null,null,null,null,0,"",46,null,null,null,null,0]
[null,null,null,null,"",47,null,null,null,null,0,"",47,null,null,null,null,0]
[null,null,null,null,"",48,null,null,null,null,0,"",48,null,null,null,null,0]
[null,null,null,null,"",49,null,null,null,null,0,"",49,null,null,null,null,0]
[null,{"$f":"$B$6","v":"2024年度"},{"$f":"$C$6","v":"2025年度"},{"$f":"$D$6","v":"2026年度"},"",50,null,null,null,null,0,"",50,null,null,null,null,0]
["複数手続きの種類",null,null,null,"",51,null,null,null,null,0,"",51,null,null,null,null,0]
["確認年月日",null,null,null,"",52,null,null,null,null,0,"",52,null,null,null,null,0]
["確認数量（kg）",null,null,null,"",53,null,null,null,null,0,"",53,null,null,null,null,0]
["申出番号（受付コード下4桁）",null,null,null,"",54,null,null,null,null,0,"",54,null,null,null,null,0]
["受付コード",{"$f":"IF(B$60=\"\",\"\",表１_対象物質一覧!$C$4&(MID($B$6,3,2)&B$60))","v":""},{"$f":"IF(C$60=\"\",\"\",表１_対象物質一覧!$C$4&(MID($C$6, 3, 2))&C$60)","v":""},{"$f":"IF(D$60=\"\",\"\",表１_対象物質一覧!$C$4&(MID($D$6, 3, 2))&D$60)","v":""},"",55,null,null,null,null,0,"",55,null,null,null,null,0]
["用途番号",null,null,null,"",56,null,null,null,null,0,"",56,null,null,null,null,0]
[null,null,null,null,"",57,null,null,null,null,0,"",57,null,null,null,null,0]
[null,null,null,null,"",58,null,null,null,null,0,"",58,null,null,null,null,0]
[null,null,null,null,"",59,null,null,null,null,0,"",59,null,null,null,null,0]
[null,null,null,null,"",60,null,null,null,null,0,"",60,null,null,null,null,0]
[null,null,null,null,"",61,null,null,null,null,0,"",61,null,null,null,null,0]
[null,null,null,null,"",62,null,null,null,null,0,"",62,null,null,null,null,0]
[null,{"$f":"$B$6","v":"2024年度"},{"$f":"$C$6","v":"2025年度"},{"$f":"$D$6","v":"2026年度"},"",63,null,null,null,null,0,"",63,null,null,null,null,0]
["複数手続きの種類",null,null,null,"",64,null,null,null,null,0,"",64,null,null,null,null,0]
["確認年月日",null,null,null,{"$f":"IF(H71=\"\", \"\",YEAR(H71) - IF(MONTH(H71)<4, 1, 0) & \"年度\")","v":""},65,null,null,null,null,0,{"$f":"IF(O71=\"\", \"\",YEAR(O71) - IF(MONTH(O71)<4, 1, 0) & \"年度\")","v":""},65,null,null,null,null,0]
["確認数量（kg）",null,null,null,"",66,null,null,null,null,0,"",66,null,null,null,null,0]
["申出番号（受付コード下4桁）",null,null,null,"",67,null,null,null,null,{"$f":"IF(J73=\"\",I73,I73*J73)","v":0},"",67,null,null,null,null,{"$f":"IF(Q73=\"\",P73,P73*Q73)","v":0}]
["受付コード",{"$f":"IF(B$73=\"\",\"\",表１_対象物質一覧!$C$4&(MID($B$6,3,2)&B$73))","v":""},{"$f":"IF(C$73=\"\",\"\",表１_対象物質一覧!$C$4&(MID($C$6, 3, 2))&C$73)","v":""},{"$f":"IF(D$73=\"\",\"\",表１_対象物質一覧!$C$4&(MID($D$6, 3, 2))&D$73)","v":""},"",68,null,null,null,null,0,"",68,null,null,null,null,0]
["用途番号",null,null,null,"",69,null,null,null,null,0,"",69,null,null,null,null,0]
[null,null,null,null,"",70,null,null,null,null,0,"",70,null,null,null,null,0]
[null,null,null,null,"",71,null,null,null,null,0,"",71,null,null,null,null,0]
[null,null,null,null,"",72,null,null,null,null,0,"",72,null,null,null,null,0]
[null,null,null,null,"",73,null,null,null,null,0,"",73,null,null,null,null,0]
[null,null,null,null,"",74,null,null,null,null,0,"",74,null,null,null,null,0]
[null,null,null,null,"",75,null,null,null,null,0,"",75,null,null,null,null,0]
["備考",null,null,null,"",76,null,null,null,null,0,"",76,null,null,null,null,0]
[null,null,null,null,"",77,null,null,null,null,0,"",77,null,null,null,null,0]
[null,null,null,null,"",78,null,null,null,null,0,"",78,null,null,null,null,0]
[null,null,null,null,"",79,null,null,null,null,0,"",79,null,null,null,null,0]
[null,null,null,null,"",80,null,null,null,null,0,"",80,null,null,null,null,0]
[null,null,null,null,"",81,null,null,null,null,0,"",81,null,null,null,null,0]
[null,null,null,null,"",82,null,null,null,null,0,"",82,null,null,null,null,0]
[null,null,null,null,"",83,null,null,null,null,0,"",83,null,null,null,null,0]
[null,null,null,null,"",84,null,null,null,null,0,"",84,null,null,null,null,0]
[null,null,null,null,"",85,null,null,null,null,0,"",85,null,null,null,null,0]
[null,null,null,null,"",86,null,null,null,null,0,"",86,null,null,null,null,0]
[null,null,null,null,"",87,null,null,null,null,0,"",87,null,null,null,null,0]
[null,null,null,null,"",88,null,null,null,null,0,"",88,null,null,null,null,0]
[null,null,null,null,"",89,null,null,null,null,0,"",89,null,null,null,null,0]
[null,null,null,null,"",90,null,null,null,null,0,"",90,null,null,null,null,0]
[null,null,null,null,"",91,null,null,null,null,0,"",91,null,null,null,null,0]
[null,null,null,null,"",92,null,null,null,null,0,"",92,null,null,null,null,0]
[null,null,null,null,"",93,null,null,null,null,0,"",93,null,null,null,null,0]
[null,null,null,null,"",94,null,null,null,null,0,"",94,null,null,null,null,0]
[null,null,null,null,"",95,null,null,null,null,0,"",95,null,null,null,null,0]
[null,null,null,null,"",96,null,null,null,null,0,"",96,null,null,null,null,0]
[null,null,null,null,"",97,null,null,null,null,0,"",97,null,null,null,null,0]
[null,null,null,null,"",98,null,null,null,null,0,"",98,null,null,null,null,0]
[null,null,null,null,"",99,null,null,null,null,{"$f":"IF(J105=\"\",I105,I105*J105)","v":0},"",99,null,null,null,null,{"$f":"IF(Q105=\"\",P105,P105*Q105)","v":0}]
[null,null,null,null,"",100,null,null,null,null,{"$f":"IF(J106=\"\",I106,I106*J106)","v":0},"",100,null,null,null,null,{"$f":"IF(Q106=\"\",P106,P106*Q106)","v":0}]

{"sheet":"49","index":49,"n_rows":106,"n_cols":20,"rows_kept":106,"cut":false,"hidden":false,"merged":[[1,5,1,6],[1,12,1,13],[3,5,5,6],[3,12,5,13]]}
["「表１_対象物質一覧」に戻る"]
["事業所名",null,null,null,null,"輸入量",null,null,null,null,null,null,"払出量"]
["新規化学物質の名称",null,null,null,null,"Ｎｏ",{"$f":"_xlfn.IFS(F2=\"製造量\",\"製造ロット\",F2=\"輸入量\",\"輸入ロット\",F2=\"製造・輸入量\",\"製造・輸入ロット\")","v":"輸入ロット"},{"$f":"_xlfn.IFS(F2=\"製造量\",\"製造日　（最終製品日）\",F2=\"輸入量\",\"輸入許可日\",F2=\"製造・輸入量\",\"製造日・輸入許可日\")","v":"輸入許可日"},{"$f":"_xlfn.IFS(F2=\"製造量\",\"製造数量（kg)\",F2=\"輸入量\",\"輸入数量（kg)\",F2=\"製造・輸入量\",\"製造・輸入数量（kg)\")","v":"輸入数量（kg)"},"含有率（％）","含有率換算数量(kg)",null,"Ｎｏ","ロット","払出日","払出数量（kg)","含有率（％）","含有率換算数量(kg)","用途番号","変更前ロット"]
["略称",null,null,null,null,"実績数量合計",null,{"$f":"B6","v":"2024年度"},{"$f":"SUMIF($E$7:$E106,$H$4,$I$7:$I106)","v":0},"-",{"$f":"SUMIF($E$7:$E106,$H$4,$K$7:$K106)","v":0},null,"払出数量合計",null,{"$f":"B6","v":"2024年度"},{"$f":"SUMIF($L$7:$L95,$O$4,$P$7:$P106)","v":0},"-",{"$f":"SUMIF($L$7:$L106,$H$4,$R$7:$R106)","v":0},"-","-"]
[null,null,null,null,null,null,null,{"$f":"C6","v":"2025年度"},{"$f":"SUMIF($E$7:$E106,$H$5,$I$7:$I106)","v":0},"-",{"$f":"SUMIF($E$7:$E106,$H$5,$K$7:$K106)","v":0},null,null,null,{"$f":"C6","v":"2025年度"},{"$f":"SUMIF($L$7:$L95,$O$5,$P$7:$P106)","v":0},"-",{"$f":"SUMIF($E$7:$E106,$H$5,$K$7:$K106)","v":0},"-","-"]
[null,{"$f":"'1'!B6","v":"2024年度"},{"$f":"'1'!C6","v":"2025年度"},{"$f":"'1'!D6","v":"2026年度"},null,null,null,{"$f":"D6","v":"2026年度"},{"$f":"SUMIF($E$7:$E106,$H$6,$I$7:$I106)","v":0},"-",{"$f":"SUMIF($E$7:$E106,$H$6,$K$7:$K106)","v":0},null,null,null,{"$f":"D6","v":"2026年度"},{"$f":"SUMIF($L$7:$L95,$O$6,$P$7:$P106)","v":0},"-",{"$f":"SUMIF($E$7:$E106,$H$6,$K$7:$K106)","v":0},"-","-"]
["確認年月日",null,null,null,{"$f":"IF(H7=\"\", \"\",YEAR(H7) - IF(MONTH(H7)<4, 1, 0) & \"年度\")","v":""},1,null,null,null,null,{"$f":"IF(J7=\"\",I7,I7*J7)","v":0},{"$f":"IF(O7=\"\", \"\",YEAR(O7) - IF(MONTH(O7)<4, 1, 0) & \"年度\")","v":""},1,null,null,null,null,{"$f":"IF(Q7=\"\",P7,P7*Q7)","v":0}]
["確認数量（kg）",null,null,null,"",2,null,null,null,null,{"$f":"IF(J8=\"\",I8,I8*J8)","v":0},"",2,null,null,null,null,{"$f":"IF(Q8=\"\",P8,P8*Q8)","v":0}]
["申出番号（受付コード下4桁）",null,null,null,"",3,null,null,null,null,{"$f":"IF(J9=\"\",I9,I9*J9)","v":0},"",3,null,null,null,null,{"$f":"IF(Q9=\"\",P9,P9*Q9)","v":0}]
["受付コード",{"$f":"IF(B$9=\"\",\"\",表１_対象物質一覧!$C$4&(MID($B$6,3,2)&B$9))","v":""},{"$f":"IF(C$9=\"\",\"\",表１_対象物質一覧!$C$4&(MID($C$6, 3, 2))&C$9)","v":""},{"$f":"IF(D$9=\"\",\"\",表１_対象物質一覧!$C$4&(MID($D$6, 3, 2))&D$9)","v":""},"",4,null,null,null,null,0,"",4,null,null,null,null,{"$f":"IF(Q10=\"\",P10,P10*Q10)","v":0}]
["用途番号",null,null,null,"",5,null,null,null,null,0,"",5,null,null,null,null,0]
[null,null,null,null,"",6,null,null,null,null,0,"",6,null,null,null,null,0]
[null,null,null,null,"",7,null,null,null,null,0,"",7,null,null,null,null,0]
[null,null,null,null,"",8,null,null,null,null,0,"",8,null,null,null,null,0]
[null,null,null,null,"",9,null,null,null,null,0,"",9,null,null,null,null,0]
[null,null,null,null,"",10,null,null,null,null,0,"",10,null,null,null,null,0]
["申出書に記載の「前年度の実績数量」",null,null,null,"",11,null,null,null,null,0,"",11,null,null,null,null,0]
["実績数量",{"$f":"$K$4","v":0},{"$f":"$K$5","v":0},{"$f":"$K$6","v":0},"",12,null,null,null,null,0,"",12,null,null,null,null,0]
["確認を受けている中間物等の分類",null,null,null,"",13,null,null,null,null,0,"",13,null,null,null,null,0]
["用途追加手続を省略して追加した用途の用途番号",null,null,null,"",14,null,null,null,null,0,"",14,null,null,null,null,0]
["備考（３年連続して実積数量がゼロの場合はその理由）",null,null,null,"",15,null,null,null,null,0,"",15,null,null,null,null,0]
["用途証明書なしであって確認年月日が複数ある場合の",null,null,null,"",16,null,null,null,null,0,"",16,null,null,null,null,0]
["確認年月日（上段）及び確認数量(kg)（下段）",null,null,null,"",17,null,null,null,null,0,"",17,null,null,null,null,0]
[null,null,null,null,"",18,null,null,null,null,0,"",18,null,null,null,null,0]
[null,null,null,null,"",19,null,null,null,null,0,"",19,null,null,null,null,0]
[null,null,null,null,"",20,null,null,null,null,0,"",20,null,null,null,null,0]
[null,null,null,null,"",21,null,null,null,null,0,"",21,null,null,null,null,0]
[null,null,null,null,"",22,null,null,null,null,0,"",22,null,null,null,null,0]
[null,null,null,null,"",23,null,null,null,null,0,"",23,null,null,null,null,0]
[null,null,null,null,"",24,null,null,null,null,0,"",24,null,null,null,null,0]
[null,null,null,null,"",25,null,null,null,null,0,"",25,null,null,null,null,0]
[null,null,null,null,"",26,null,null,null,null,0,"",26,null,null,null,null,0]
[null,null,null,null,"",27,null,null,null,null,0,"",27,null,null,null,null,0]
[null,null,null,null,"",28,null,null,null,null,0,"",28,null,null,null,null,0]
[null,null,null,null,"",29,null,null,null,null,0,"",29,null,null,null,null,0]
[null,null,null,null,"",30,null,null,null,null,0,"",30,null,null,null,null,0]
[null,null,null,null,"",31,null,null,null,null,0,"",31,null,null,null,null,0]
[null,null,null,null,"",32,null,null,null,null,0,"",32,null,null,null,null,0]
[null,null,null,null,{"$f":"IF(H39=\"\", \"\",YEAR(H39) - IF(MONTH(H39)<4, 1, 0) & \"年度\")","v":""},33,null,null,null,null,0,{"$f":"IF(O39=\"\", \"\",YEAR(O39) - IF(MONTH(O39)<4, 1, 0) & \"年度\")","v":""},33,null,null,null,null,0]
[null,null,null,null,"",34,null,null,null,null,0,"",34,null,null,null,null,0]
[null,null,null,null,"",35,null,null,null,null,0,"",35,null,null,null,null,0]
["同一年度で同じ化学物質を複数申請している場合は、その確認を受けた事項",null,null,null,"",36,null,null,null,null,0,"",36,null,null,null,null,0]
[null,{"$f":"$B$6","v":"2024年度"},{"$f":"$C$6","v":"2025年度"},{"$f":"$D$6","v":"2026年度"},"",37,null,null,null,null,0,"",37,null,null,null,null,0]
["複数手続きの種類",null,null,null,"",38,null,null,null,null,0,"",38,null,null,null,null,0]
["確認年月日",null,null,null,"",39,null,null,null,null,0,"",39,null,null,null,null,0]
["確認数量（kg）",null,null,null,"",40,null,null,null,null,0,"",40,null,null,null,null,0]
["申出番号（受付コード下4桁）",null,null,null,"",41,null,null,null,null,0,"",41,null,null,null,null,0]
["受付コード",{"$f":"IF(B$47=\"\",\"\",表１_対象物質一覧!$C$4&(MID($B$6,3,2)&B$47))","v":""},{"$f":"IF(C$47=\"\",\"\",表１_対象物質一覧!$C$4&(MID($C$6, 3, 2))&C$47)","v":""},{"$f":"IF(D$47=\"\",\"\",表１_対象物質一覧!$C$4&(MID($D$6, 3, 2))&D$47)","v":""},"",42,null,null,null,null,0,"",42,null,null,null,null,0]
["用途番号",null,null,null,"",43,null,null,null,null,0,"",43,null,null,null,null,0]
[null,null,null,null,"",44,null,null,null,null,0,"",44,null,null,null,null,0]
[null,null,null,null,"",45,null,null,null,null,0,"",45,null,null,null,null,0]
[null,null,null,null,"",46,null,null,null,null,0,"",46,null,null,null,null,0]
[null,null,null,null,"",47,null,null,null,null,0,"",47,null,null,null,null,0]
[null,null,null,null,"",48,null,null,null,null,0,"",48,null,null,null,null,0]
[null,null,null,null,"",49,null,null,null,null,0,"",49,null,null,null,null,0]
[null,{"$f":"$B$6","v":"2024年度"},{"$f":"$C$6","v":"2025年度"},{"$f":"$D$6","v":"2026年度"},"",50,null,null,null,null,0,"",50,null,null,null,null,0]
["複数手続きの種類",null,null,null,"",51,null,null,null,null,0,"",51,null,null,null,null,0]
["確認年月日",null,null,null,"",52,null,null,null,null,0,"",52,null,null,null,null,0]
["確認数量（kg）",null,null,null,"",53,null,null,null,null,0,"",53,null,null,null,null,0]
["申出番号（受付コード下4桁）",null,null,null,"",54,null,null,null,null,0,"",54,null,null,null,null,0]
["受付コード",{"$f":"IF(B$60=\"\",\"\",表１_対象物質一覧!$C$4&(MID($B$6,3,2)&B$60))","v":""},{"$f":"IF(C$60=\"\",\"\",表１_対象物質一覧!$C$4&(MID($C$6, 3, 2))&C$60)","v":""},{"$f":"IF(D$60=\"\",\"\",表１_対象物質一覧!$C$4&(MID($D$6, 3, 2))&D$60)","v":""},"",55,null,null,null,null,0,"",55,null,null,null,null,0]
["用途番号",null,null,null,"",56,null,null,null,null,0,"",56,null,null,null,null,0]
[null,null,null,null,"",57,null,null,null,null,0,"",57,null,null,null,null,0]
[null,null,null,null,"",58,null,null,null,null,0,"",58,null,null,null,null,0]
[null,null,null,null,"",59,null,null,null,null,0,"",59,null,null,null,null,0]
[null,null,null,null,"",60,null,null,null,null,0,"",60,null,null,null,null,0]
[null,null,null,null,"",61,null,null,null,null,0,"",61,null,null,null,null,0]
[null,null,null,null,"",62,null,null,null,null,0,"",62,null,null,null,null,0]
[null,{"$f":"$B$6","v":"2024年度"},{"$f":"$C$6","v":"2025年度"},{"$f":"$D$6","v":"2026年度"},"",63,null,null,null,null,0,"",63,null,null,null,null,0]
["複数手続きの種類",null,null,null,"",64,null,null,null,null,0,"",64,null,null,null,null,0]
["確認年月日",null,null,null,{"$f":"IF(H71=\"\", \"\",YEAR(H71) - IF(MONTH(H71)<4, 1, 0) & \"年度\")","v":""},65,null,null,null,null,0,{"$f":"IF(O71=\"\", \"\",YEAR(O71) - IF(MONTH(O71)<4, 1, 0) & \"年度\")","v":""},65,null,null,null,null,0]
["確認数量（kg）",null,null,null,"",66,null,null,null,null,0,"",66,null,null,null,null,0]
["申出番号（受付コード下4桁）",null,null,null,"",67,null,null,null,null,{"$f":"IF(J73=\"\",I73,I73*J73)","v":0},"",67,null,null,null,null,{"$f":"IF(Q73=\"\",P73,P73*Q73)","v":0}]
["受付コード",{"$f":"IF(B$73=\"\",\"\",表１_対象物質一覧!$C$4&(MID($B$6,3,2)&B$73))","v":""},{"$f":"IF(C$73=\"\",\"\",表１_対象物質一覧!$C$4&(MID($C$6, 3, 2))&C$73)","v":""},{"$f":"IF(D$73=\"\",\"\",表１_対象物質一覧!$C$4&(MID($D$6, 3, 2))&D$73)","v":""},"",68,null,null,null,null,0,"",68,null,null,null,null,0]
["用途番号",null,null,null,"",69,null,null,null,null,0,"",69,null,null,null,null,0]
[null,null,null,null,"",70,null,null,null,null,0,"",70,null,null,null,null,0]
[null,null,null,null,"",71,null,null,null,null,0,"",71,null,null,null,null,0]
[null,null,null,null,"",72,null,null,null,null,0,"",72,null,null,null,null,0]
[null,null,null,null,"",73,null,null,null,null,0,"",73,null,null,null,null,0]
[null,null,null,null,"",74,null,null,null,null,0,"",74,null,null,null,null,0]
[null,null,null,null,"",75,null,null,null,null,0,"",75,null,null,null,null,0]
["備考",null,null,null,"",76,null,null,null,null,0,"",76,null,null,null,null,0]
[null,null,null,null,"",77,null,null,null,null,0,"",77,null,null,null,null,0]
[null,null,null,null,"",78,null,null,null,null,0,"",78,null,null,null,null,0]
[null,null,null,null,"",79,null,null,null,null,0,"",79,null,null,null,null,0]
[null,null,null,null,"",80,null,null,null,null,0,"",80,null,null,null,null,0]
[null,null,null,null,"",81,null,null,null,null,0,"",81,null,null,null,null,0]
[null,null,null,null,"",82,null,null,null,null,0,"",82,null,null,null,null,0]
[null,null,null,null,"",83,null,null,null,null,0,"",83,null,null,null,null,0]
[null,null,null,null,"",84,null,null,null,null,0,"",84,null,null,null,null,0]
[null,null,null,null,"",85,null,null,null,null,0,"",85,null,null,null,null,0]
[null,null,null,null,"",86,null,null,null,null,0,"",86,null,null,null,null,0]
[null,null,null,null,"",87,null,null,null,null,0,"",87,null,null,null,null,0]
[null,null,null,null,"",88,null,null,null,null,0,"",88,null,null,null,null,0]
[null,null,null,null,"",89,null,null,null,null,0,"",89,null,null,null,null,0]
[null,null,null,null,"",90,null,null,null,null,0,"",90,null,null,null,null,0]
[null,null,null,null,"",91,null,null,null,null,0,"",91,null,null,null,null,0]
[null,null,null,null,"",92,null,null,null,null,0,"",92,null,null,null,null,0]
[null,null,null,null,"",93,null,null,null,null,0,"",93,null,null,null,null,0]
[null,null,null,null,"",94,null,null,null,null,0,"",94,null,null,null,null,0]
[null,null,null,null,"",95,null,null,null,null,0,"",95,null,null,null,null,0]
[null,null,null,null,"",96,null,null,null,null,0,"",96,null,null,null,null,0]
[null,null,null,null,"",97,null,null,null,null,0,"",97,null,null,null,null,0]
[null,null,null,null,"",98,null,null,null,null,0,"",98,null,null,null,null,0]
[null,null,null,null,"",99,null,null,null,null,{"$f":"IF(J105=\"\",I105,I105*J105)","v":0},"",99,null,null,null,null,{"$f":"IF(Q105=\"\",P105,P105*Q105)","v":0}]
[null,null,null,null,"",100,null,null,null,null,{"$f":"IF(J106=\"\",I106,I106*J106)","v":0},"",100,null,null,null,null,{"$f":"IF(Q106=\"\",P106,P106*Q106)","v":0}]

{"sheet":"50","index":50,"n_rows":106,"n_cols":20,"rows_kept":106,"cut":false,"hidden":false,"merged":[[1,5,1,6],[1,12,1,13],[3,5,5,6],[3,12,5,13]]}
["「表１_対象物質一覧」に戻る"]
["事業所名",null,null,null,null,"輸入量",null,null,null,null,null,null,"払出量"]
["新規化学物質の名称",null,null,null,null,"Ｎｏ",{"$f":"_xlfn.IFS(F2=\"製造量\",\"製造ロット\",F2=\"輸入量\",\"輸入ロット\",F2=\"製造・輸入量\",\"製造・輸入ロット\")","v":"輸入ロット"},{"$f":"_xlfn.IFS(F2=\"製造量\",\"製造日　（最終製品日）\",F2=\"輸入量\",\"輸入許可日\",F2=\"製造・輸入量\",\"製造日・輸入許可日\")","v":"輸入許可日"},{"$f":"_xlfn.IFS(F2=\"製造量\",\"製造数量（kg)\",F2=\"輸入量\",\"輸入数量（kg)\",F2=\"製造・輸入量\",\"製造・輸入数量（kg)\")","v":"輸入数量（kg)"},"含有率（％）","含有率換算数量(kg)",null,"Ｎｏ","ロット","払出日","払出数量（kg)","含有率（％）","含有率換算数量(kg)","用途番号","変更前ロット"]
["略称",null,null,null,null,"実績数量合計",null,{"$f":"B6","v":"2024年度"},{"$f":"SUMIF($E$7:$E106,$H$4,$I$7:$I106)","v":0},"-",{"$f":"SUMIF($E$7:$E106,$H$4,$K$7:$K106)","v":0},null,"払出数量合計",null,{"$f":"B6","v":"2024年度"},{"$f":"SUMIF($L$7:$L95,$O$4,$P$7:$P106)","v":0},"-",{"$f":"SUMIF($L$7:$L106,$H$4,$R$7:$R106)","v":0},"-","-"]
[null,null,null,null,null,null,null,{"$f":"C6","v":"2025年度"},{"$f":"SUMIF($E$7:$E106,$H$5,$I$7:$I106)","v":0},"-",{"$f":"SUMIF($E$7:$E106,$H$5,$K$7:$K106)","v":0},null,null,null,{"$f":"C6","v":"2025年度"},{"$f":"SUMIF($L$7:$L95,$O$5,$P$7:$P106)","v":0},"-",{"$f":"SUMIF($E$7:$E106,$H$5,$K$7:$K106)","v":0},"-","-"]
[null,{"$f":"'1'!B6","v":"2024年度"},{"$f":"'1'!C6","v":"2025年度"},{"$f":"'1'!D6","v":"2026年度"},null,null,null,{"$f":"D6","v":"2026年度"},{"$f":"SUMIF($E$7:$E106,$H$6,$I$7:$I106)","v":0},"-",{"$f":"SUMIF($E$7:$E106,$H$6,$K$7:$K106)","v":0},null,null,null,{"$f":"D6","v":"2026年度"},{"$f":"SUMIF($L$7:$L95,$O$6,$P$7:$P106)","v":0},"-",{"$f":"SUMIF($E$7:$E106,$H$6,$K$7:$K106)","v":0},"-","-"]
["確認年月日",null,null,null,{"$f":"IF(H7=\"\", \"\",YEAR(H7) - IF(MONTH(H7)<4, 1, 0) & \"年度\")","v":""},1,null,null,null,null,{"$f":"IF(J7=\"\",I7,I7*J7)","v":0},{"$f":"IF(O7=\"\", \"\",YEAR(O7) - IF(MONTH(O7)<4, 1, 0) & \"年度\")","v":""},1,null,null,null,null,{"$f":"IF(Q7=\"\",P7,P7*Q7)","v":0}]
["確認数量（kg）",null,null,null,"",2,null,null,null,null,{"$f":"IF(J8=\"\",I8,I8*J8)","v":0},"",2,null,null,null,null,{"$f":"IF(Q8=\"\",P8,P8*Q8)","v":0}]
["申出番号（受付コード下4桁）",null,null,null,"",3,null,null,null,null,{"$f":"IF(J9=\"\",I9,I9*J9)","v":0},"",3,null,null,null,null,{"$f":"IF(Q9=\"\",P9,P9*Q9)","v":0}]
["受付コード",{"$f":"IF(B$9=\"\",\"\",表１_対象物質一覧!$C$4&(MID($B$6,3,2)&B$9))","v":""},{"$f":"IF(C$9=\"\",\"\",表１_対象物質一覧!$C$4&(MID($C$6, 3, 2))&C$9)","v":""},{"$f":"IF(D$9=\"\",\"\",表１_対象物質一覧!$C$4&(MID($D$6, 3, 2))&D$9)","v":""},"",4,null,null,null,null,0,"",4,null,null,null,null,{"$f":"IF(Q10=\"\",P10,P10*Q10)","v":0}]
["用途番号",null,null,null,"",5,null,null,null,null,0,"",5,null,null,null,null,0]
[null,null,null,null,"",6,null,null,null,null,0,"",6,null,null,null,null,0]
[null,null,null,null,"",7,null,null,null,null,0,"",7,null,null,null,null,0]
[null,null,null,null,"",8,null,null,null,null,0,"",8,null,null,null,null,0]
[null,null,null,null,"",9,null,null,null,null,0,"",9,null,null,null,null,0]
[null,null,null,null,"",10,null,null,null,null,0,"",10,null,null,null,null,0]
["申出書に記載の「前年度の実績数量」",null,null,null,"",11,null,null,null,null,0,"",11,null,null,null,null,0]
["実績数量",{"$f":"$K$4","v":0},{"$f":"$K$5","v":0},{"$f":"$K$6","v":0},"",12,null,null,null,null,0,"",12,null,null,null,null,0]
["確認を受けている中間物等の分類",null,null,null,"",13,null,null,null,null,0,"",13,null,null,null,null,0]
["用途追加手続を省略して追加した用途の用途番号",null,null,null,"",14,null,null,null,null,0,"",14,null,null,null,null,0]
["備考（３年連続して実積数量がゼロの場合はその理由）",null,null,null,"",15,null,null,null,null,0,"",15,null,null,null,null,0]
["用途証明書なしであって確認年月日が複数ある場合の",null,null,null,"",16,null,null,null,null,0,"",16,null,null,null,null,0]
["確認年月日（上段）及び確認数量(kg)（下段）",null,null,null,"",17,null,null,null,null,0,"",17,null,null,null,null,0]
[null,null,null,null,"",18,null,null,null,null,0,"",18,null,null,null,null,0]
[null,null,null,null,"",19,null,null,null,null,0,"",19,null,null,null,null,0]
[null,null,null,null,"",20,null,null,null,null,0,"",20,null,null,null,null,0]
[null,null,null,null,"",21,null,null,null,null,0,"",21,null,null,null,null,0]
[null,null,null,null,"",22,null,null,null,null,0,"",22,null,null,null,null,0]
[null,null,null,null,"",23,null,null,null,null,0,"",23,null,null,null,null,0]
[null,null,null,null,"",24,null,null,null,null,0,"",24,null,null,null,null,0]
[null,null,null,null,"",25,null,null,null,null,0,"",25,null,null,null,null,0]
[null,null,null,null,"",26,null,null,null,null,0,"",26,null,null,null,null,0]
[null,null,null,null,"",27,null,null,null,null,0,"",27,null,null,null,null,0]
[null,null,null,null,"",28,null,null,null,null,0,"",28,null,null,null,null,0]
[null,null,null,null,"",29,null,null,null,null,0,"",29,null,null,null,null,0]
[null,null,null,null,"",30,null,null,null,null,0,"",30,null,null,null,null,0]
[null,null,null,null,"",31,null,null,null,null,0,"",31,null,null,null,null,0]
[null,null,null,null,"",32,null,null,null,null,0,"",32,null,null,null,null,0]
[null,null,null,null,{"$f":"IF(H39=\"\", \"\",YEAR(H39) - IF(MONTH(H39)<4, 1, 0) & \"年度\")","v":""},33,null,null,null,null,0,{"$f":"IF(O39=\"\", \"\",YEAR(O39) - IF(MONTH(O39)<4, 1, 0) & \"年度\")","v":""},33,null,null,null,null,0]
[null,null,null,null,"",34,null,null,null,null,0,"",34,null,null,null,null,0]
[null,null,null,null,"",35,null,null,null,null,0,"",35,null,null,null,null,0]
["同一年度で同じ化学物質を複数申請している場合は、その確認を受けた事項",null,null,null,"",36,null,null,null,null,0,"",36,null,null,null,null,0]
[null,{"$f":"$B$6","v":"2024年度"},{"$f":"$C$6","v":"2025年度"},{"$f":"$D$6","v":"2026年度"},"",37,null,null,null,null,0,"",37,null,null,null,null,0]
["複数手続きの種類",null,null,null,"",38,null,null,null,null,0,"",38,null,null,null,null,0]
["確認年月日",null,null,null,"",39,null,null,null,null,0,"",39,null,null,null,null,0]
["確認数量（kg）",null,null,null,"",40,null,null,null,null,0,"",40,null,null,null,null,0]
["申出番号（受付コード下4桁）",null,null,null,"",41,null,null,null,null,0,"",41,null,null,null,null,0]
["受付コード",{"$f":"IF(B$47=\"\",\"\",表１_対象物質一覧!$C$4&(MID($B$6,3,2)&B$47))","v":""},{"$f":"IF(C$47=\"\",\"\",表１_対象物質一覧!$C$4&(MID($C$6, 3, 2))&C$47)","v":""},{"$f":"IF(D$47=\"\",\"\",表１_対象物質一覧!$C$4&(MID($D$6, 3, 2))&D$47)","v":""},"",42,null,null,null,null,0,"",42,null,null,null,null,0]
["用途番号",null,null,null,"",43,null,null,null,null,0,"",43,null,null,null,null,0]
[null,null,null,null,"",44,null,null,null,null,0,"",44,null,null,null,null,0]
[null,null,null,null,"",45,null,null,null,null,0,"",45,null,null,null,null,0]
[null,null,null,null,"",46,null,null,null,null,0,"",46,null,null,null,null,0]
[null,null,null,null,"",47,null,null,null,null,0,"",47,null,null,null,null,0]
[null,null,null,null,"",48,null,null,null,null,0,"",48,null,null,null,null,0]
[null,null,null,null,"",49,null,null,null,null,0,"",49,null,null,null,null,0]
[null,{"$f":"$B$6","v":"2024年度"},{"$f":"$C$6","v":"2025年度"},{"$f":"$D$6","v":"2026年度"},"",50,null,null,null,null,0,"",50,null,null,null,null,0]
["複数手続きの種類",null,null,null,"",51,null,null,null,null,0,"",51,null,null,null,null,0]
["確認年月日",null,null,null,"",52,null,null,null,null,0,"",52,null,null,null,null,0]
["確認数量（kg）",null,null,null,"",53,null,null,null,null,0,"",53,null,null,null,null,0]
["申出番号（受付コード下4桁）",null,null,null,"",54,null,null,null,null,0,"",54,null,null,null,null,0]
["受付コード",{"$f":"IF(B$60=\"\",\"\",表１_対象物質一覧!$C$4&(MID($B$6,3,2)&B$60))","v":""},{"$f":"IF(C$60=\"\",\"\",表１_対象物質一覧!$C$4&(MID($C$6, 3, 2))&C$60)","v":""},{"$f":"IF(D$60=\"\",\"\",表１_対象物質一覧!$C$4&(MID($D$6, 3, 2))&D$60)","v":""},"",55,null,null,null,null,0,"",55,null,null,null,null,0]
["用途番号",null,null,null,"",56,null,null,null,null,0,"",56,null,null,null,null,0]
[null,null,null,null,"",57,null,null,null,null,0,"",57,null,null,null,null,0]
[null,null,null,null,"",58,null,null,null,null,0,"",58,null,null,null,null,0]
[null,null,null,null,"",59,null,null,null,null,0,"",59,null,null,null,null,0]
[null,null,null,null,"",60,null,null,null,null,0,"",60,null,null,null,null,0]
[null,null,null,null,"",61,null,null,null,null,0,"",61,null,null,null,null,0]
[null,null,null,null,"",62,null,null,null,null,0,"",62,null,null,null,null,0]
[null,{"$f":"$B$6","v":"2024年度"},{"$f":"$C$6","v":"2025年度"},{"$f":"$D$6","v":"2026年度"},"",63,null,null,null,null,0,"",63,null,null,null,null,0]
["複数手続きの種類",null,null,null,"",64,null,null,null,null,0,"",64,null,null,null,null,0]
["確認年月日",null,null,null,{"$f":"IF(H71=\"\", \"\",YEAR(H71) - IF(MONTH(H71)<4, 1, 0) & \"年度\")","v":""},65,null,null,null,null,0,{"$f":"IF(O71=\"\", \"\",YEAR(O71) - IF(MONTH(O71)<4, 1, 0) & \"年度\")","v":""},65,null,null,null,null,0]
["確認数量（kg）",null,null,null,"",66,null,null,null,null,0,"",66,null,null,null,null,0]
["申出番号（受付コード下4桁）",null,null,null,"",67,null,null,null,null,{"$f":"IF(J73=\"\",I73,I73*J73)","v":0},"",67,null,null,null,null,{"$f":"IF(Q73=\"\",P73,P73*Q73)","v":0}]
["受付コード",{"$f":"IF(B$73=\"\",\"\",表１_対象物質一覧!$C$4&(MID($B$6,3,2)&B$73))","v":""},{"$f":"IF(C$73=\"\",\"\",表１_対象物質一覧!$C$4&(MID($C$6, 3, 2))&C$73)","v":""},{"$f":"IF(D$73=\"\",\"\",表１_対象物質一覧!$C$4&(MID($D$6, 3, 2))&D$73)","v":""},"",68,null,null,null,null,0,"",68,null,null,null,null,0]
["用途番号",null,null,null,"",69,null,null,null,null,0,"",69,null,null,null,null,0]
[null,null,null,null,"",70,null,null,null,null,0,"",70,null,null,null,null,0]
[null,null,null,null,"",71,null,null,null,null,0,"",71,null,null,null,null,0]
[null,null,null,null,"",72,null,null,null,null,0,"",72,null,null,null,null,0]
[null,null,null,null,"",73,null,null,null,null,0,"",73,null,null,null,null,0]
[null,null,null,null,"",74,null,null,null,null,0,"",74,null,null,null,null,0]
[null,null,null,null,"",75,null,null,null,null,0,"",75,null,null,null,null,0]
["備考",null,null,null,"",76,null,null,null,null,0,"",76,null,null,null,null,0]
[null,null,null,null,"",77,null,null,null,null,0,"",77,null,null,null,null,0]
[null,null,null,null,"",78,null,null,null,null,0,"",78,null,null,null,null,0]
[null,null,null,null,"",79,null,null,null,null,0,"",79,null,null,null,null,0]
[null,null,null,null,"",80,null,null,null,null,0,"",80,null,null,null,null,0]
[null,null,null,null,"",81,null,null,null,null,0,"",81,null,null,null,null,0]
[null,null,null,null,"",82,null,null,null,null,0,"",82,null,null,null,null,0]
[null,null,null,null,"",83,null,null,null,null,0,"",83,null,null,null,null,0]
[null,null,null,null,"",84,null,null,null,null,0,"",84,null,null,null,null,0]
[null,null,null,null,"",85,null,null,null,null,0,"",85,null,null,null,null,0]
[null,null,null,null,"",86,null,null,null,null,0,"",86,null,null,null,null,0]
[null,null,null,null,"",87,null,null,null,null,0,"",87,null,null,null,null,0]
[null,null,null,null,"",88,null,null,null,null,0,"",88,null,null,null,null,0]
[null,null,null,null,"",89,null,null,null,null,0,"",89,null,null,null,null,0]
[null,null,null,null,"",90,null,null,null,null,0,"",90,null,null,null,null,0]
[null,null,null,null,"",91,null,null,null,null,0,"",91,null,null,null,null,0]
[null,null,null,null,"",92,null,null,null,null,0,"",92,null,null,null,null,0]
[null,null,null,null,"",93,null,null,null,null,0,"",93,null,null,null,null,0]
[null,null,null,null,"",94,null,null,null,null,0,"",94,null,null,null,null,0]
[null,null,null,null,"",95,null,null,null,null,0,"",95,null,null,null,null,0]
[null,null,null,null,"",96,null,null,null,null,0,"",96,null,null,null,null,0]
[null,null,null,null,"",97,null,null,null,null,0,"",97,null,null,null,null,0]
[null,null,null,null,"",98,null,null,null,null,0,"",98,null,null,null,null,0]
[null,null,null,null,"",99,null,null,null,null,{"$f":"IF(J105=\"\",I105,I105*J105)","v":0},"",99,null,null,null,null,{"$f":"IF(Q105=\"\",P105,P105*Q105)","v":0}]
[null,null,null,null,"",100,null,null,null,null,{"$f":"IF(J106=\"\",I106,I106*J106)","v":0},"",100,null,null,null,null,{"$f":"IF(Q106=\"\",P106,P106*Q106)","v":0}]

{"sheet":"TOOL","index":51,"n_rows":0,"n_cols":0,"rows_kept":0,"cut":false,"hidden":true,"merged":[]}