{"text_format":"1","workbook":"xlsx","n_sheets":8,"sheets":["表紙","添付資料①_HFC23","添付資料①_HFC32","添付資料①_HFC41","添付資料②","添付資料②_2","施行文","案内文"],"not_rendered":{"charts":0,"images":0,"macros":1,"external_links":2,"defined_names":91,"comments":0,"pivot_tables":0},"unopened":[],"bounds":{"document_bytes":16777216,"sheet_cells":100000,"rows_first":2000,"rows_last":500,"rows_between":2000,"halvings":0,"cell_chars":16384,"cell_head_chars":4096},"cells_cut":0,"cells_raw":0,"read":"whole","date_system":"1900"}

{"sheet":"表紙","index":0,"n_rows":59,"n_cols":20,"rows_kept":59,"cut":false,"hidden":false,"merged":[[43,1,46,12],[24,2,24,3],[24,4,24,5],[24,6,24,7],[25,2,25,3],[25,4,25,5],[25,6,25,7],[9,7,9,13],[10,7,10,13],[12,7,12,13],[23,2,23,3],[23,4,23,5],[23,6,23,7],[13,7,13,13],[11,7,11,13]]}
[null,null,null,null,null,null,null,null,null,null,null,null,null,null,null,null,null,null,1,1]
["様式第９（第１０条の３関係） ",null,null,null,null,null,null,null,null,null,null,null,null,null,null,null,null,null,2,2]
[null,null,null,null,null,null,null,null,null,null,null,null,null,null,null,null,null,null,3,3]
[null,null,null,"原料として使用される特定物質等の製造確認申請書",null,null,null,null,null,null,null,null,null,null,null,null,null,null,4,4]
[null,null,null,null,null,null,null,null,null,null,null,null,null,null,null,null,null,null,5,5]
["経済産業大臣 殿",null,null,null,null,null,null,null,null,null,null,null,null,null,null,null,null,null,6,6]
[null,null,null,null,null,null,null,null,null,null,null,null,null,null,null,null,null,null,7,7]
[null,null,null,null,null,null,null,null,"年",null,"月",null,"日",null,"必須項目",null,null,null,8,8]
[null,null,null,null,null,null,null,null,null,null,null,null,null,null,null,null,null,null,9,9]
[null,null,null,null,null,null,null,null,null,null,null,null,null,null,"必須項目：事業者名",null,null,null,10,10]
[null,null,null,null,null,null,null,null,null,null,null,null,null,null,"必須項目：代表者の役職",null,null,null,11,11]
[null,null,null,null,null,null,null,null,null,null,null,null,null,null,"必須項目：代表者ご芳名",null,null,null,12,12]
[null,null,null,null,null,null,null,null,null,null,null,null,null,null,"必須項目：本社の住所",null,null,null,null,13]
[null,null,null,null,null,null,null,null,null,null,null,null,null,null,"必須項目：法人番号（１３桁）",null,null,null,null,14]
[null,null,null,null,null,null,null,null,null,null,null,null,null,null,null,null,null,null,null,15]
[null,"特定物質等の規制等によるオゾン層の保護に関する法律第１２条第１項の確認を受けたいので、",null,null,null,null,null,null,null,null,null,null,null,null,null,null,null,null,null,16]
[null,"同条第２項の規定により次のとおり申請します。 ",null,null,null,null,null,null,null,null,null,null,null,null,null,null,null,null,null,17]
[null,null,null,null,null,null,null,null,null,null,null,null,null,null,null,null,null,null,null,18]
[null,"１ 原料として使用する者の氏名又は名称及び住所並びに法人にあつては、その代表者の氏名",null,null,null,null,null,null,null,null,null,null,null,null,null,null,null,null,null,19]
[null,"添付資料①のとおり。",null,null,null,null,null,null,null,null,null,null,null,null,null,null,null,null,null,20]
[null,null,null,null,null,null,null,null,null,null,null,null,null,null,null,null,null,null,null,21]
[null,"２ 原料として使用する特定物質等の種類及び数量 ",null,null,null,null,null,null,null,null,null,null,null,null,null,null,null,null,null,22]
[null,null,"種類",null,"数量（kg）",null,"GWP換算（CO2kg）",null,null,null,null,null,null,null,null,null,null,null,null,23]
[null,null,"HFC-23",null,{"$f":"IF(添付資料①_HFC23!$J$38=\"\",\"\",添付資料①_HFC23!$J$38)","v":""},null,{"$f":"IF(添付資料①_HFC23!$K$38=\"\",\"\",添付資料①_HFC23!$K$38)","v":""},null,null,null,null,null,null,null,"届出が無い場合は非表示にする",null,null,null,null,24]
[null,null,"HFC-32",null,{"$f":"IF(添付資料①_HFC32!$J$38=\"\",\"\",添付資料①_HFC32!$J$38)","v":""},null,{"$f":"IF(添付資料①_HFC32!$K$38=\"\",\"\",添付資料①_HFC32!$K$38)","v":""},null,null,null,null,null,null,null,"届出が無い場合は非表示にする",null,null,null,null,25]
[null,null,"HFC-41",null,{"$f":"IF(添付資料①_HFC41!$J$38=\"\",\"\",添付資料①_HFC41!$J$38)","v":""},null,{"$f":"IF(添付資料①_HFC41!$K$38=\"\",\"\",添付資料①_HFC41!$K$38)","v":""},null,null,null,null,null,null,null,"届出が無い場合は非表示にする",null,null,null,null,26]
[null,null,null,null,"内訳は、添付資料①のとおり。",null,null,null,null,null,null,null,null,null,null,null,null,null,null,27]
[null,null,null,null,null,null,null,null,null,null,null,null,null,null,null,null,null,null,null,28]
[null,"３ 使用に係る反応生成物の種類ごとの数量 ",null,null,null,null,null,null,null,null,null,null,null,null,null,null,null,null,null,29]
[null,"添付資料①に記載のとおり。",null,null,null,null,null,null,null,null,null,null,null,null,null,null,null,null,null,30]
[null,null,null,null,null,null,null,null,null,null,null,null,null,null,null,null,null,null,null,31]
[null,"４ 使用に係る設備及び貯蔵の場所 "]
[null,"添付資料①に記載した社ごとの「原料使用証明書」に記載のとおり。"]
[]
[null,"５ 使用する年月日 "]
[null,"添付資料①に記載した社ごとの「原料使用証明書」に記載のとおり。"]
[]
[null,"６ 製造しようとする特定物質等の製造及び貯蔵の場所 "]
[null,"添付資料②に記載のとおり。"]
[]
[null,"７ 副生成物として議定書附属書ＦのグループⅡに属する物質が生じる場合にあつては、"]
[null," 　当該物質の破壊を行う者の氏名（法人にあつては、その名称及び当該法人の代表者の氏名）"]
[null,"　 及び住所並びに破壊方法"]
[]
[]
[]
[]
["備考 "]
[1,"様式第９の２「特定物質等の原料使用の証明書」を添付すること。 "]
[2,"数量の単位は㎏とし、小数点第一位を四捨五入して記入すること。 "]
[3,"用紙の大きさは、日本産業規格Ａ４とすること。 "]
[4,"法人番号の指定を受けた者は、１３桁の法人番号を記載すること。 "]
[5,"使用されることが確実である場合について、この様式による要領で作成する場合にあっては、"]
[null,"原料として使用された場合に係る相当用語を原料として使用されることが確実である場合に"]
[null,"係る相当用語に書き換えるものとすること。"]
[]
[null,null,null,null,"①このファイルと同じフォルダに様式９の２のファイルを置いて下さい。"]
[null,null,null,null,"②ボタンを押下すると、様式９の２のファイルの内容を読み込んで添付資料①シートにコピーします。"]
[null,null,null,null,"※様式９の２のファイルは更新（上書き）しません。"]

{"sheet":"添付資料①_HFC23","index":1,"n_rows":42,"n_cols":14,"rows_kept":42,"cut":false,"hidden":false,"merged":[[2,10,2,12],[4,8,4,12],[41,9,41,13],[38,9,38,13],[39,9,39,13],[40,9,40,13],[4,13,6,13],[5,8,6,8],[5,9,5,10],[5,11,5,12]]}
[null,"添付資料①"]
[]
[null,"HFC-23　使用先、入荷量、原料使用証明量、排出量"]
[]
[null,null,null,null,null,null,null,null,"物質名（HFC-23）",null,null,null,null,"備考"]
[null,null,null,null,null,null,null,null,"入荷量(kg)*1","原料使用証明量",null,"排出量*1"]
["No.","会社名","郵便番号","住所","代表者","代表者肩書","連絡先電話番号","担当者",null,"有姿数量(kg)*2","GWP換算kg","有姿数量(kg)*2","GWP換算kg"]
[1,"経産化学株式会社","111-1111","東京都千代田区霞が関１丁目３－１","経産 太郎","代表取締役社長","03-1234-5678","産業　二郎"]
[2,null,null,null,null,null,null,null,null,null,{"$f":"IF(J9=\"\",\"\",J9*14800)","v":""},null,{"$f":"IF(L9=\"\",\"\",L9*14800)","v":""}]
[3,null,null,null,null,null,null,null,null,null,{"$f":"IF(J10=\"\",\"\",J10*14800)","v":""},null,{"$f":"IF(L10=\"\",\"\",L10*14800)","v":""}]
[4,null,null,null,null,null,null,null,null,null,"",null,""]
[5,null,null,null,null,null,null,null,null,null,"",null,""]
[6,null,null,null,null,null,null,null,null,null,"",null,""]
[7,null,null,null,null,null,null,null,null,null,"",null,""]
[8,null,null,null,null,null,null,null,null,null,"",null,""]
[9,null,null,null,null,null,null,null,null,null,"",null,""]
[10,null,null,null,null,null,null,null,null,null,"",null,""]
[11,null,null,null,null,null,null,null,null,null,"",null,""]
[12,null,null,null,null,null,null,null,null,null,"",null,""]
[13,null,null,null,null,null,null,null,null,null,"",null,""]
[14,null,null,null,null,null,null,null,null,null,"",null,""]
[15,null,null,null,null,null,null,null,null,null,"",null,""]
[16,null,null,null,null,null,null,null,null,null,"",null,""]
[17,null,null,null,null,null,null,null,null,null,"",null,""]
[18,null,null,null,null,null,null,null,null,null,"",null,""]
[19,null,null,null,null,null,null,null,null,null,"",null,""]
[20,null,null,null,null,null,null,null,null,null,"",null,""]
[21,null,null,null,null,null,null,null,null,null,"",null,""]
[22,null,null,null,null,null,null,null,null,null,"",null,""]
[23,null,null,null,null,null,null,null,null,null,"",null,""]
[24,null,null,null,null,null,null,null,null,null,"",null,""]
[25,null,null,null,null,null,null,null,null,null,"",null,""]
[26,null,null,null,null,null,null,null,null,null,"",null,""]
[27,null,null,null,null,null,null,null,null,null,"",null,""]
[28,null,null,null,null,null,null,null,null,null,"",null,""]
[29,null,null,null,null,null,null,null,null,null,"",null,""]
[30,null,null,null,null,null,null,null,null,null,"",null,""]
[null,null,null,null,null,null,null,"合計　*3　*4",{"$f":"IF($I$8=\"\",\"\",SUM(I8:I37))","v":""},{"$f":"IF($J$8=\"\",\"\",SUM($J$8:$J37))","v":""},{"$f":"IF(J$38=\"\",\"\",ROUND($J$38*14800,1))","v":""},{"$f":"IF(L$8=\"\",\"\",SUM($L$8:$L37))","v":""},{"$f":"IF(L38=\"\",\"\",ROUND($L$38*14800,1))","v":""}]
[null,null,null,null,null,null,null,null,null,"*1　入荷量が２０kg以下の場合は全量を排出量としてもよい"]
[null,null,null,null,null,null,null,null,null,"*2　有姿数量は、様式第９の２における証明量を記載すること"]
[null,null,null,null,null,null,null,null,null,"*3　有姿数量の合計は、各証明量を合計の上小数点第一位を四捨五入すること"]
[null,null,null,null,null,null,null,null,null,"*4　GWP換算kgの合計は、有姿数量の四捨五入前の合計の数値にGWP値を乗じ、小数点第一位を四捨五入すること"]

{"sheet":"添付資料①_HFC32","index":2,"n_rows":42,"n_cols":14,"rows_kept":42,"cut":false,"hidden":false,"merged":[[41,9,41,13],[39,9,39,13],[40,9,40,13],[2,10,2,12],[4,8,4,12],[4,13,6,13],[5,8,6,8],[5,9,5,10],[5,11,5,12],[38,9,38,13]]}
[null,"添付資料①"]
[]
[null,"HFC-32　使用先、入荷量、原料使用証明量、排出量"]
[]
[null,null,null,null,null,null,null,null,"物質名（HFC-32）",null,null,null,null,"備考"]
[null,null,null,null,null,null,null,null,"入荷量(kg)*1","原料使用証明量",null,"排出量*1"]
["No.","会社名","郵便番号","住所","代表者","代表者肩書","連絡先電話番号","担当者",null,"有姿数量(kg)*2","GWP換算kg","有姿数量(kg)*2","GWP換算kg"]
[1,"経産化学株式会社","111-1111","東京都千代田区霞が関１丁目３－１","経産　太郎","代表取締役社長","03-1234-5678","産業　二郎",null,null,{"$f":"IF(J8=\"\",\"\",J8*675)","v":""},null,{"$f":"IF(L8=\"\",\"\",L8*675)","v":""}]
[2,null,null,null,null,null,null,null,null,null,{"$f":"IF(J9=\"\",\"\",J9*675)","v":""},null,{"$f":"IF(L9=\"\",\"\",L9*675)","v":""}]
[3,null,null,null,null,null,null,null,null,null,"",null,""]
[4,null,null,null,null,null,null,null,null,null,"",null,""]
[5,null,null,null,null,null,null,null,null,null,"",null,""]
[6,null,null,null,null,null,null,null,null,null,"",null,""]
[7,null,null,null,null,null,null,null,null,null,"",null,""]
[8,null,null,null,null,null,null,null,null,null,"",null,""]
[9,null,null,null,null,null,null,null,null,null,"",null,""]
[10,null,null,null,null,null,null,null,null,null,"",null,""]
[11,null,null,null,null,null,null,null,null,null,"",null,""]
[12,null,null,null,null,null,null,null,null,null,"",null,""]
[13,null,null,null,null,null,null,null,null,null,"",null,""]
[14,null,null,null,null,null,null,null,null,null,"",null,""]
[15,null,null,null,null,null,null,null,null,null,"",null,""]
[16,null,null,null,null,null,null,null,null,null,"",null,""]
[17,null,null,null,null,null,null,null,null,null,"",null,""]
[18,null,null,null,null,null,null,null,null,null,"",null,""]
[19,null,null,null,null,null,null,null,null,null,"",null,""]
[20,null,null,null,null,null,null,null,null,null,"",null,""]
[21,null,null,null,null,null,null,null,null,null,"",null,""]
[22,null,null,null,null,null,null,null,null,null,"",null,""]
[23,null,null,null,null,null,null,null,null,null,"",null,""]
[24,null,null,null,null,null,null,null,null,null,"",null,""]
[25,null,null,null,null,null,null,null,null,null,"",null,""]
[26,null,null,null,null,null,null,null,null,null,"",null,""]
[27,null,null,null,null,null,null,null,null,null,"",null,""]
[28,null,null,null,null,null,null,null,null,null,"",null,""]
[29,null,null,null,null,null,null,null,null,null,"",null,""]
[30,null,null,null,null,null,null,null,null,null,"",null,""]
[null,null,null,null,null,null,null,"合計　*3　*4",{"$f":"IF($I$8=\"\",\"\",SUM(I8:I37))","v":""},{"$f":"IF($J$8=\"\",\"\",SUM($J$8:$J37))","v":""},{"$f":"IF(J$38=\"\",\"\",ROUND($J$38*675,1))","v":""},{"$f":"IF(L$8=\"\",\"\",SUM($L$8:$L37))","v":""},{"$f":"IF(L38=\"\",\"\",ROUND($L$38*675,1))","v":""}]
[null,null,null,null,null,null,null,null,null,"*1　入荷量が２０kg以下の場合は全量を排出量としてもよい"]
[null,null,null,null,null,null,null,null,null,"*2　有姿数量は、様式第９の２における証明量を記載すること"]
[null,null,null,null,null,null,null,null,null,"*3　有姿数量の合計は、各証明量を合計の上小数点第一位を四捨五入すること"]
[null,null,null,null,null,null,null,null,null,"*4　GWP換算kgの合計は、有姿数量の四捨五入前の合計の数値にGWP値を乗じ、小数点第一位を四捨五入すること"]

{"sheet":"添付資料①_HFC41","index":3,"n_rows":42,"n_cols":14,"rows_kept":42,"cut":false,"hidden":false,"merged":[[41,9,41,13],[39,9,39,13],[40,9,40,13],[2,10,2,12],[4,8,4,12],[4,13,6,13],[5,8,6,8],[5,9,5,10],[5,11,5,12],[38,9,38,13]]}
[null,"添付資料①"]
[]
[null,"HFC-41　使用先、入荷量、原料使用証明量、排出量"]
[]
[null,null,null,null,null,null,null,null,"物質名（HFC-41）",null,null,null,null,"備考"]
[null,null,null,null,null,null,null,null,"入荷量(kg)*1","原料使用証明量",null,"排出量*1"]
["No.","会社名","郵便番号","住所","代表者","代表者肩書","連絡先電話番号","担当者",null,"有姿数量(kg)*2","GWP換算kg","有姿数量(kg)*2","GWP換算kg"]
[1,"経産化学株式会社","111-1111","東京都千代田区霞が関１丁目３－１","経産　太郎","代表取締役社長","03-1234-5678","産業　二郎"]
[2,null,null,null,null,null,null,null,null,null,{"$f":"IF(J9=\"\",\"\",J9*92)","v":""},null,{"$f":"IF(L9=\"\",\"\",L9*92)","v":""}]
[3,null,null,null,null,null,null,null,null,null,"",null,""]
[4,null,null,null,null,null,null,null,null,null,"",null,""]
[5,null,null,null,null,null,null,null,null,null,"",null,""]
[6,null,null,null,null,null,null,null,null,null,"",null,""]
[7,null,null,null,null,null,null,null,null,null,"",null,""]
[8,null,null,null,null,null,null,null,null,null,"",null,""]
[9,null,null,null,null,null,null,null,null,null,"",null,""]
[10,null,null,null,null,null,null,null,null,null,"",null,""]
[11,null,null,null,null,null,null,null,null,null,"",null,""]
[12,null,null,null,null,null,null,null,null,null,"",null,""]
[13,null,null,null,null,null,null,null,null,null,"",null,""]
[14,null,null,null,null,null,null,null,null,null,"",null,""]
[15,null,null,null,null,null,null,null,null,null,"",null,""]
[16,null,null,null,null,null,null,null,null,null,"",null,""]
[17,null,null,null,null,null,null,null,null,null,"",null,""]
[18,null,null,null,null,null,null,null,null,null,"",null,""]
[19,null,null,null,null,null,null,null,null,null,"",null,""]
[20,null,null,null,null,null,null,null,null,null,"",null,""]
[21,null,null,null,null,null,null,null,null,null,"",null,""]
[22,null,null,null,null,null,null,null,null,null,"",null,""]
[23,null,null,null,null,null,null,null,null,null,"",null,""]
[24,null,null,null,null,null,null,null,null,null,"",null,""]
[25,null,null,null,null,null,null,null,null,null,"",null,""]
[26,null,null,null,null,null,null,null,null,null,"",null,""]
[27,null,null,null,null,null,null,null,null,null,"",null,""]
[28,null,null,null,null,null,null,null,null,null,"",null,""]
[29,null,null,null,null,null,null,null,null,null,"",null,""]
[30,null,null,null,null,null,null,null,null,null,"",null,""]
[null,null,null,null,null,null,null,"合計　*3　*4",{"$f":"IF($I$8=\"\",\"\",SUM(I8:I37))","v":""},{"$f":"IF($J$8=\"\",\"\",SUM($J$8:$J37))","v":""},{"$f":"IF(J$38=\"\",\"\",ROUND($J$38*92,1))","v":""},{"$f":"IF(L$8=\"\",\"\",SUM($L$8:$L37))","v":""},{"$f":"IF(L38=\"\",\"\",ROUND($L$38*92,1))","v":""}]
[null,null,null,null,null,null,null,null,null,"*1　入荷量が２０kg以下の場合は全量を排出量としてもよい"]
[null,null,null,null,null,null,null,null,null,"*2　有姿数量は、様式第９の２における証明量を記載すること"]
[null,null,null,null,null,null,null,null,null,"*3　有姿数量の合計は、各証明量を合計の上小数点第一位を四捨五入すること"]
[null,null,null,null,null,null,null,null,null,"*4　GWP換算kgの合計は、有姿数量の四捨五入前の合計の数値にGWP値を乗じ、小数点第一位を四捨五入すること"]

{"sheet":"添付資料②","index":4,"n_rows":1,"n_cols":1,"rows_kept":1,"cut":false,"hidden":false,"merged":[]}
["  添付資料②"]

{"sheet":"添付資料②_2","index":5,"n_rows":0,"n_cols":0,"rows_kept":0,"cut":false,"hidden":false,"merged":[]}

{"sheet":"施行文","index":6,"n_rows":138,"n_cols":12,"rows_kept":138,"cut":false,"hidden":true,"merged":[[735,2,735,4],[735,5,735,7],[736,2,736,4],[736,5,736,7],[732,2,732,4],[732,5,732,7],[733,2,733,4],[733,5,733,7],[734,2,734,4],[734,5,734,7],[729,2,729,4],[729,5,729,7],[730,2,730,4],[730,5,730,7],[731,2,731,4],[731,5,731,7],[726,2,726,4],[726,5,726,7],[727,2,727,4],[727,5,727,7],[728,2,728,4],[728,5,728,7],[723,2,723,4],[723,5,723,7],[724,2,724,4],[724,5,724,7],[725,2,725,4],[725,5,725,7],[720,2,720,4],[720,5,720,7],[721,2,721,4],[721,5,721,7],[722,2,722,4],[722,5,722,7],[717,2,717,4],[717,5,717,7],[718,2,718,4],[718,5,718,7],[719,2,719,4],[719,5,719,7],[714,2,714,4],[714,5,714,7],[715,2,715,4],[715,5,715,7],[716,2,716,4],[716,5,716,7],[711,2,711,4],[711,5,711,7],[712,2,712,4],[712,5,712,7],[713,2,713,4],[713,5,713,7],[708,2,708,4],[708,5,708,7],[709,2,709,4],[709,5,709,7],[710,2,710,4],[710,5,710,7],[705,2,705,4],[705,5,705,7],[706,2,706,4],[706,5,706,7],[707,2,707,4],[707,5,707,7],[702,2,702,4],[702,5,702,7],[703,2,703,4],[703,5,703,7],[704,2,704,4],[704,5,704,7],[699,2,699,4],[699,5,699,7],[700,2,700,4],[700,5,700,7],[701,2,701,4],[701,5,701,7],[696,2,696,4],[696,5,696,7],[697,2,697,4],[697,5,697,7],[698,2,698,4],[698,5,698,7],[693,2,693,4],[693,5,693,7],[694,2,694,4],[694,5,694,7],[695,2,695,4],[695,5,695,7],[690,2,690,4],[690,5,690,7],[691,2,691,4],[691,5,691,7],[692,2,692,4],[692,5,692,7],[687,2,687,4],[687,5,687,7],[688,2,688,4],[688,5,688,7],[689,2,689,4],[689,5,689,7],[684,2,684,4],[684,5,684,7],[685,2,685,4],[685,5,685,7],[686,2,686,4],[686,5,686,7],[681,2,681,4],[681,5,681,7],[682,2,682,4],[682,5,682,7],[683,2,683,4],[683,5,683,7],[678,2,678,4],[678,5,678,7],[679,2,679,4],[679,5,679,7],[680,2,680,4],[680,5,680,7],[675,2,675,4],[675,5,675,7],[676,2,676,4],[676,5,676,7],[677,2,677,4],[677,5,677,7],[672,2,672,4],[672,5,672,7],[673,2,673,4],[673,5,673,7],[674,2,674,4],[674,5,674,7],[669,2,669,4],[669,5,669,7],[670,2,670,4],[670,5,670,7],[671,2,671,4],[671,5,671,7],[666,2,666,4],[666,5,666,7],[667,2,667,4],[667,5,667,7],[668,2,668,4],[668,5,668,7],[663,2,663,4],[663,5,663,7],[664,2,664,4],[664,5,664,7],[665,2,665,4],[665,5,665,7],[660,2,660,4],[660,5,660,7],[661,2,661,4],[661,5,661,7],[662,2,662,4],[662,5,662,7],[657,2,657,4],[657,5,657,7],[658,2,658,4],[658,5,658,7],[659,2,659,4],[659,5,659,7],[654,2,654,4],[654,5,654,7],[655,2,655,4],[655,5,655,7],[656,2,656,4],[656,5,656,7],[651,2,651,4],[651,5,651,7],[652,2,652,4],[652,5,652,7],[653,2,653,4],[653,5,653,7],[648,2,648,4],[648,5,648,7],[649,2,649,4],[649,5,649,7],[650,2,650,4],[650,5,650,7],[645,2,645,4],[645,5,645,7],[646,2,646,4],[646,5,646,7],[647,2,647,4],[647,5,647,7],[642,2,642,4],[642,5,642,7],[643,2,643,4],[643,5,643,7],[644,2,644,4],[644,5,644,7],[639,2,639,4],[639,5,639,7],[640,2,640,4],[640,5,640,7],[641,2,641,4],[641,5,641,7],[636,2,636,4],[636,5,636,7],[637,2,637,4],[637,5,637,7],[638,2,638,4],[638,5,638,7],[633,2,633,4],[633,5,633,7],[634,2,634,4],[634,5,634,7],[635,2,635,4],[635,5,635,7],[630,2,630,4],[630,5,630,7],[631,2,631,4],[631,5,631,7],[632,2,632,4],[632,5,632,7],[627,2,627,4],[627,5,627,7],[628,2,628,4],[628,5,628,7],[629,2,629,4],[629,5,629,7],[624,2,624,4],[624,5,624,7],[625,2,625,4],[625,5,625,7],[626,2,626,4],[626,5,626,7],[621,2,621,4],[621,5,621,7],[622,2,622,4],[622,5,622,7],[623,2,623,4],[623,5,623,7],[618,2,618,4],[618,5,618,7],[619,2,619,4],[619,5,619,7],[620,2,620,4],[620,5,620,7],[615,2,615,4],[615,5,615,7],[616,2,616,4],[616,5,616,7],[617,2,617,4],[617,5,617,7],[612,2,612,4],[612,5,612,7],[613,2,613,4],[613,5,613,7],[614,2,614,4],[614,5,614,7],[609,2,609,4],[609,5,609,7],[610,2,610,4],[610,5,610,7],[611,2,611,4],[611,5,611,7],[606,2,606,4],[606,5,606,7],[607,2,607,4],[607,5,607,7],[608,2,608,4],[608,5,608,7],[603,2,603,4],[603,5,603,7],[604,2,604,4],[604,5,604,7],[605,2,605,4],[605,5,605,7],[600,2,600,4],[600,5,600,7],[601,2,601,4],[601,5,601,7],[602,2,602,4],[602,5,602,7],[597,2,597,4],[597,5,597,7],[598,2,598,4],[598,5,598,7],[599,2,599,4],[599,5,599,7],[594,2,594,4],[594,5,594,7],[595,2,595,4],[595,5,595,7],[596,2,596,4],[596,5,596,7],[591,2,591,4],[591,5,591,7],[592,2,592,4],[592,5,592,7],[593,2,593,4],[593,5,593,7],[588,2,588,4],[588,5,588,7],[589,2,589,4],[589,5,589,7],[590,2,590,4],[590,5,590,7],[585,2,585,4],[585,5,585,7],[586,2,586,4],[586,5,586,7],[587,2,587,4],[587,5,587,7],[582,2,582,4],[582,5,582,7],[583,2,583,4],[583,5,583,7],[584,2,584,4],[584,5,584,7],[579,2,579,4],[579,5,579,7],[580,2,580,4],[580,5,580,7],[581,2,581,4],[581,5,581,7],[576,2,576,4],[576,5,576,7],[577,2,577,4],[577,5,577,7],[578,2,578,4],[578,5,578,7],[573,2,573,4],[573,5,573,7],[574,2,574,4],[574,5,574,7],[575,2,575,4],[575,5,575,7],[570,2,570,4],[570,5,570,7],[571,2,571,4],[571,5,571,7],[572,2,572,4],[572,5,572,7],[567,2,567,4],[567,5,567,7],[568,2,568,4],[568,5,568,7],[569,2,569,4],[569,5,569,7],[564,2,564,4],[564,5,564,7],[565,2,565,4],[565,5,565,7],[566,2,566,4],[566,5,566,7],[561,2,561,4],[561,5,561,7],[562,2,562,4],[562,5,562,7],[563,2,563,4],[563,5,563,7],[558,2,558,4],[558,5,558,7],[559,2,559,4],[559,5,559,7],[560,2,560,4],[560,5,560,7],[555,2,555,4],[555,5,555,7],[556,2,556,4],[556,5,556,7],[557,2,557,4],[557,5,557,7],[552,2,552,4],[552,5,552,7],[553,2,553,4],[553,5,553,7],[554,2,554,4],[554,5,554,7],[549,2,549,4],[549,5,549,7],[550,2,550,4],[550,5,550,7],[551,2,551,4],[551,5,551,7],[546,2,546,4],[546,5,546,7],[547,2,547,4],[547,5,547,7],[548,2,548,4],[548,5,548,7],[543,2,543,4],[543,5,543,7],[544,2,544,4],[544,5,544,7],[545,2,545,4],[545,5,545,7],[540,2,540,4],[540,5,540,7],[541,2,541,4],[541,5,541,7],[542,2,542,4],[542,5,542,7],[537,2,537,4],[537,5,537,7],[538,2,538,4],[538,5,538,7],[539,2,539,4],[539,5,539,7],[534,2,534,4],[534,5,534,7],[535,2,535,4],[535,5,535,7],[536,2,536,4],[536,5,536,7],[531,2,531,4],[531,5,531,7],[532,2,532,4],[532,5,532,7],[533,2,533,4],[533,5,533,7],[528,2,528,4],[528,5,528,7],[529,2,529,4],[529,5,529,7],[530,2,530,4],[530,5,530,7],[525,2,525,4],[525,5,525,7],[526,2,526,4],[526,5,526,7],[527,2,527,4],[527,5,527,7],[522,2,522,4],[522,5,522,7],[523,2,523,4],[523,5,523,7],[524,2,524,4],[524,5,524,7],[519,2,519,4],[519,5,519,7],[520,2,520,4],[520,5,520,7],[521,2,521,4],[521,5,521,7],[516,2,516,4],[516,5,516,7],[517,2,517,4],[517,5,517,7],[518,2,518,4],[518,5,518,7],[513,2,513,4],[513,5,513,7],[514,2,514,4],[514,5,514,7],[515,2,515,4],[515,5,515,7],[510,2,510,4],[510,5,510,7],[511,2,511,4],[511,5,511,7],[512,2,512,4],[512,5,512,7],[507,2,507,4],[507,5,507,7],[508,2,508,4],[508,5,508,7],[509,2,509,4],[509,5,509,7],[504,2,504,4],[504,5,504,7],[505,2,505,4],[505,5,505,7],[506,2,506,4],[506,5,506,7],[501,2,501,4],[501,5,501,7],[502,2,502,4],[502,5,502,7],[503,2,503,4],[503,5,503,7],[498,2,498,4],[498,5,498,7],[499,2,499,4],[499,5,499,7],[500,2,500,4],[500,5,500,7],[495,2,495,4],[495,5,495,7],[496,2,496,4],[496,5,496,7],[497,2,497,4],[497,5,497,7],[492,2,492,4],[492,5,492,7],[493,2,493,4],[493,5,493,7],[494,2,494,4],[494,5,494,7],[489,2,489,4],[489,5,489,7],[490,2,490,4],[490,5,490,7],[491,2,491,4],[491,5,491,7],[486,2,486,4],[486,5,486,7],[487,2,487,4],[487,5,487,7],[488,2,488,4],[488,5,488,7],[483,2,483,4],[483,5,483,7],[484,2,484,4],[484,5,484,7],[485,2,485,4],[485,5,485,7],[480,2,480,4],[480,5,480,7],[481,2,481,4],[481,5,481,7],[482,2,482,4],[482,5,482,7],[477,2,477,4],[477,5,477,7],[478,2,478,4],[478,5,478,7],[479,2,479,4],[479,5,479,7],[474,2,474,4],[474,5,474,7],[475,2,475,4],[475,5,475,7],[476,2,476,4],[476,5,476,7],[471,2,471,4],[471,5,471,7],[472,2,472,4],[472,5,472,7],[473,2,473,4],[473,5,473,7],[468,2,468,4],[468,5,468,7],[469,2,469,4],[469,5,469,7],[470,2,470,4],[470,5,470,7],[465,2,465,4],[465,5,465,7],[466,2,466,4],[466,5,466,7],[467,2,467,4],[467,5,467,7],[462,2,462,4],[462,5,462,7],[463,2,463,4],[463,5,463,7],[464,2,464,4],[464,5,464,7],[459,2,459,4],[459,5,459,7],[460,2,460,4],[460,5,460,7],[461,2,461,4],[461,5,461,7],[456,2,456,4],[456,5,456,7],[457,2,457,4],[457,5,457,7],[458,2,458,4],[458,5,458,7],[453,2,453,4],[453,5,453,7],[454,2,454,4],[454,5,454,7],[455,2,455,4],[455,5,455,7],[450,2,450,4],[450,5,450,7],[451,2,451,4],[451,5,451,7],[452,2,452,4],[452,5,452,7],[447,2,447,4],[447,5,447,7],[448,2,448,4],[448,5,448,7],[449,2,449,4],[449,5,449,7],[444,2,444,4],[444,5,444,7],[445,2,445,4],[445,5,445,7],[446,2,446,4],[446,5,446,7],[441,2,441,4],[441,5,441,7],[442,2,442,4],[442,5,442,7],[443,2,443,4],[443,5,443,7],[438,2,438,4],[438,5,438,7],[439,2,439,4],[439,5,439,7],[440,2,440,4],[440,5,440,7],[435,2,435,4],[435,5,435,7],[436,2,436,4],[436,5,436,7],[437,2,437,4],[437,5,437,7],[432,2,432,4],[432,5,432,7],[433,2,433,4],[433,5,433,7],[434,2,434,4],[434,5,434,7],[429,2,429,4],[429,5,429,7],[430,2,430,4],[430,5,430,7],[431,2,431,4],[431,5,431,7],[426,2,426,4],[426,5,426,7],[427,2,427,4],[427,5,427,7],[428,2,428,4],[428,5,428,7],[423,2,423,4],[423,5,423,7],[424,2,424,4],[424,5,424,7],[425,2,425,4],[425,5,425,7],[420,2,420,4],[420,5,420,7],[421,2,421,4],[421,5,421,7],[422,2,422,4],[422,5,422,7],[417,2,417,4],[417,5,417,7],[418,2,418,4],[418,5,418,7],[419,2,419,4],[419,5,419,7],[414,2,414,4],[414,5,414,7],[415,2,415,4],[415,5,415,7],[416,2,416,4],[416,5,416,7],[411,2,411,4],[411,5,411,7],[412,2,412,4],[412,5,412,7],[413,2,413,4],[413,5,413,7],[408,2,408,4],[408,5,408,7],[409,2,409,4],[409,5,409,7],[410,2,410,4],[410,5,410,7],[405,2,405,4],[405,5,405,7],[406,2,406,4],[406,5,406,7],[407,2,407,4],[407,5,407,7],[402,2,402,4],[402,5,402,7],[403,2,403,4],[403,5,403,7],[404,2,404,4],[404,5,404,7],[399,2,399,4],[399,5,399,7],[400,2,400,4],[400,5,400,7],[401,2,401,4],[401,5,401,7],[396,2,396,4],[396,5,396,7],[397,2,397,4],[397,5,397,7],[398,2,398,4],[398,5,398,7],[393,2,393,4],[393,5,393,7],[394,2,394,4],[394,5,394,7],[395,2,395,4],[395,5,395,7],[390,2,390,4],[390,5,390,7],[391,2,391,4],[391,5,391,7],[392,2,392,4],[392,5,392,7],[387,2,387,4],[387,5,387,7],[388,2,388,4],[388,5,388,7],[389,2,389,4],[389,5,389,7],[384,2,384,4],[384,5,384,7],[385,2,385,4],[385,5,385,7],[386,2,386,4],[386,5,386,7],[381,2,381,4],[381,5,381,7],[382,2,382,4],[382,5,382,7],[383,2,383,4],[383,5,383,7],[378,2,378,4],[378,5,378,7],[379,2,379,4],[379,5,379,7],[380,2,380,4],[380,5,380,7],[375,2,375,4],[375,5,375,7],[376,2,376,4],[376,5,376,7],[377,2,377,4],[377,5,377,7],[372,2,372,4],[372,5,372,7],[373,2,373,4],[373,5,373,7],[374,2,374,4],[374,5,374,7],[369,2,369,4],[369,5,369,7],[370,2,370,4],[370,5,370,7],[371,2,371,4],[371,5,371,7],[366,2,366,4],[366,5,366,7],[367,2,367,4],[367,5,367,7],[368,2,368,4],[368,5,368,7],[363,2,363,4],[363,5,363,7],[364,2,364,4],[364,5,364,7],[365,2,365,4],[365,5,365,7],[360,2,360,4],[360,5,360,7],[361,2,361,4],[361,5,361,7],[362,2,362,4],[362,5,362,7],[357,2,357,4],[357,5,357,7],[358,2,358,4],[358,5,358,7],[359,2,359,4],[359,5,359,7],[354,2,354,4],[354,5,354,7],[355,2,355,4],[355,5,355,7],[356,2,356,4],[356,5,356,7],[351,2,351,4],[351,5,351,7],[352,2,352,4],[352,5,352,7],[353,2,353,4],[353,5,353,7],[348,2,348,4],[348,5,348,7],[349,2,349,4],[349,5,349,7],[350,2,350,4],[350,5,350,7],[345,2,345,4],[345,5,345,7],[346,2,346,4],[346,5,346,7],[347,2,347,4],[347,5,347,7],[342,2,342,4],[342,5,342,7],[343,2,343,4],[343,5,343,7],[344,2,344,4],[344,5,344,7],[339,2,339,4],[339,5,339,7],[340,2,340,4],[340,5,340,7],[341,2,341,4],[341,5,341,7],[336,2,336,4],[336,5,336,7],[337,2,337,4],[337,5,337,7],[338,2,338,4],[338,5,338,7],[333,2,333,4],[333,5,333,7],[334,2,334,4],[334,5,334,7],[335,2,335,4],[335,5,335,7],[330,2,330,4],[330,5,330,7],[331,2,331,4],[331,5,331,7],[332,2,332,4],[332,5,332,7],[327,2,327,4],[327,5,327,7],[328,2,328,4],[328,5,328,7],[329,2,329,4],[329,5,329,7],[324,2,324,4],[324,5,324,7],[325,2,325,4],[325,5,325,7],[326,2,326,4],[326,5,326,7],[321,2,321,4],[321,5,321,7],[322,2,322,4],[322,5,322,7],[323,2,323,4],[323,5,323,7],[318,2,318,4],[318,5,318,7],[319,2,319,4],[319,5,319,7],[320,2,320,4],[320,5,320,7],[315,2,315,4],[315,5,315,7],[316,2,316,4],[316,5,316,7],[317,2,317,4],[317,5,317,7],[312,2,312,4],[312,5,312,7],[313,2,313,4],[313,5,313,7],[314,2,314,4],[314,5,314,7],[309,2,309,4],[309,5,309,7],[310,2,310,4],[310,5,310,7],[311,2,311,4],[311,5,311,7],[306,2,306,4],[306,5,306,7],[307,2,307,4],[307,5,307,7],[308,2,308,4],[308,5,308,7],[303,2,303,4],[303,5,303,7],[304,2,304,4],[304,5,304,7],[305,2,305,4],[305,5,305,7],[300,2,300,4],[300,5,300,7],[301,2,301,4],[301,5,301,7],[302,2,302,4],[302,5,302,7],[297,2,297,4],[297,5,297,7],[298,2,298,4],[298,5,298,7],[299,2,299,4],[299,5,299,7],[294,2,294,4],[294,5,294,7],[295,2,295,4],[295,5,295,7],[296,2,296,4],[296,5,296,7],[291,2,291,4],[291,5,291,7],[292,2,292,4],[292,5,292,7],[293,2,293,4],[293,5,293,7],[288,2,288,4],[288,5,288,7],[289,2,289,4],[289,5,289,7],[290,2,290,4],[290,5,290,7],[285,2,285,4],[285,5,285,7],[286,2,286,4],[286,5,286,7],[287,2,287,4],[287,5,287,7],[282,2,282,4],[282,5,282,7],[283,2,283,4],[283,5,283,7],[284,2,284,4],[284,5,284,7],[279,2,279,4],[279,5,279,7],[280,2,280,4],[280,5,280,7],[281,2,281,4],[281,5,281,7],[276,2,276,4],[276,5,276,7],[277,2,277,4],[277,5,277,7],[278,2,278,4],[278,5,278,7],[273,2,273,4],[273,5,273,7],[274,2,274,4],[274,5,274,7],[275,2,275,4],[275,5,275,7],[270,2,270,4],[270,5,270,7],[271,2,271,4],[271,5,271,7],[272,2,272,4],[272,5,272,7],[267,2,267,4],[267,5,267,7],[268,2,268,4],[268,5,268,7],[269,2,269,4],[269,5,269,7],[264,2,264,4],[264,5,264,7],[265,2,265,4],[265,5,265,7],[266,2,266,4],[266,5,266,7],[261,2,261,4],[261,5,261,7],[262,2,262,4],[262,5,262,7],[263,2,263,4],[263,5,263,7],[258,2,258,4],[258,5,258,7],[259,2,259,4],[259,5,259,7],[260,2,260,4],[260,5,260,7],[255,2,255,4],[255,5,255,7],[256,2,256,4],[256,5,256,7],[257,2,257,4],[257,5,257,7],[252,2,252,4],[252,5,252,7],[253,2,253,4],[253,5,253,7],[254,2,254,4],[254,5,254,7],[249,2,249,4],[249,5,249,7],[250,2,250,4],[250,5,250,7],[251,2,251,4],[251,5,251,7],[246,2,246,4],[246,5,246,7],[247,2,247,4],[247,5,247,7],[248,2,248,4],[248,5,248,7],[243,2,243,4],[243,5,243,7],[244,2,244,4],[244,5,244,7],[245,2,245,4],[245,5,245,7],[240,2,240,4],[240,5,240,7],[241,2,241,4],[241,5,241,7],[242,2,242,4],[242,5,242,7],[237,2,237,4],[237,5,237,7],[238,2,238,4],[238,5,238,7],[239,2,239,4],[239,5,239,7]],"merged_total":1396,"flags":["merged_cut"]}
[]
[]
[null,null,null,null,"経 済 産 業 省"]
[]
[null,null,null,null,null,null,null,null,"文書番号",null,null,"文書番号を御記入ください"]
[null,null,null,null,null,null,null,null,{"$f":"TODAY()","v":"2024-07-30"},null,null,"施行文発効日の日付を御記入ください"]
[]
[null,null,{"$f":"表紙!H10","v":0},null,null,null,null,null,null,null,null,"自動表記"]
[null,null,{"$f":"CONCATENATE(表紙!H11,\"　　宛て\")","v":"　　宛て"},null,null,null,null,null,null,null,null,"自動表記"]
[]
[]
[]
[null,null,null,null,null,null,null,"経済産業大臣",null,null,null,"大臣名を御記入ください"]
[]
[]
[null,null,"原料として使用されることが確実である特定物質等の製造確認について"]
[]
[null,null,{"$f":"CONCATENATE(\"　\",DBCS(表紙!$H$8),\"年\",DBCS(表紙!$J$8),\"月\",DBCS(表紙!$L$8),\"日付けをもって申請のありました上記の件については、特定物質等の規制等によるオゾン層の保護に関する法律（昭和６３年法律第５３号）第１２条第１項の規定に基づき、下記のとおり確認しましたので、通知します。\")","v":"　年月日付けをもって申請のありました上記の件については、特定物質等の規制等によるオゾン層の保護に関する法律（昭和６３年法律第５３号）第１２条第１項の規定に基づき、下記のとおり確認しましたので、通知します。"},null,null,null,null,null,null,null,null,"日付は様式8表紙より転記"]
[]
[]
[null,null,null,null,null,"記"]
[]
[null,null,{"$f":"CONCATENATE(\"　\",DBCS(YEAR(TODAY())),\"規制年度（\",DBCS(YEAR(TODAY())),\"年１月１日から\",DBCS(YEAR(TODAY())),\"年１２月３１日まで）において原料として使用されることが確実であることが証明され、当該証明に係る数量の特定物質等を製造することができる旨の確認をする特定物質等の種類及び数量\")","v":"　２０２４規制年度（２０２４年１月１日から２０２４年１２月３１日まで）において原料として使用されることが確実であることが証明され、当該証明に係る数量の特定物質等を製造することができる旨の確認をする特定物質等の種類及び数量"}]
[]
[null,null,"特定物質等の種類および数量："]
[null,null,"モントリオール議定書附属書ＦのグループⅠ",null,null,null,null,null,null,null,null,"無い場合は行を非表示にしてください"]
[null,null,"HFC-32",{"$f":"添付資料①_HFC32!K38","v":""},null,"ＧＷＰｋｇ",null,null,null,null,null,"無い場合は行を非表示にしてください"]
[null,null,null,"(有姿数量：",{"$f":"添付資料①_HFC32!J38","v":""},"）ｋｇ",null,null,null,null,null,"無い場合は行を非表示にしてください"]
[]
[null,null,"HFC-41",{"$f":"添付資料①_HFC41!K38","v":""},null,"ＧＷＰｋｇ",null,null,null,null,null,"無い場合は行を非表示にしてください"]
[null,null,null,"(有姿数量：",{"$f":"添付資料①_HFC41!J38","v":""},"）ｋｇ",null,null,null,null,null,"無い場合は行を非表示にしてください"]
[]
[null,null,"モントリオール議定書附属書ＦのグループⅡ",null,null,null,null,null,null,null,null,"無い場合は行を非表示にしてください"]
[null,null,"HFC-23",{"$f":"添付資料①_HFC23!K38","v":""},null,"ＧＷＰｋｇ",null,null,null,null,null,"無い場合は行を非表示にしてください"]
[null,null,null,"(有姿数量：",{"$f":"添付資料①_HFC23!J38","v":""},"）ｋｇ",null,null,null,null,null,"無い場合は行を非表示にしてください"]
[]
[]
[]
[null,null,"（内訳）"]
[null,null,"HFC-23"]
[null,null,"会社名",null,null,"ＧＷＰｋｇ"]
[1,null,{"$f":"添付資料①_HFC23!B8","v":"経産化学株式会社"},null,null,{"$f":"添付資料①_HFC23!K8","v":0},null,null,null,null,null,"様式8添付資料①HFC-23より転記"]
[2,null,{"$f":"添付資料①_HFC23!B9","v":0},null,null,{"$f":"添付資料①_HFC23!K9","v":""},null,null,null,null,null,"不要な行は非表示にしてください"]
[3,null,{"$f":"添付資料①_HFC23!B10","v":0},null,null,{"$f":"添付資料①_HFC23!K10","v":""},null,null,null,null,null,"不要な行は非表示にしてください"]
[4,null,{"$f":"添付資料①_HFC23!B11","v":0},null,null,{"$f":"添付資料①_HFC23!K11","v":""},null,null,null,null,null,"不要な行は非表示にしてください"]
[5,null,{"$f":"添付資料①_HFC23!B12","v":0},null,null,{"$f":"添付資料①_HFC23!K12","v":""},null,null,null,null,null,"不要な行は非表示にしてください"]
[6,null,{"$f":"添付資料①_HFC23!B13","v":0},null,null,{"$f":"添付資料①_HFC23!K13","v":""},null,null,null,null,null,"不要な行は非表示にしてください"]
[7,null,{"$f":"添付資料①_HFC23!B14","v":0},null,null,{"$f":"添付資料①_HFC23!K14","v":""},null,null,null,null,null,"不要な行は非表示にしてください"]
[8,null,{"$f":"添付資料①_HFC23!B15","v":0},null,null,{"$f":"添付資料①_HFC23!K15","v":""},null,null,null,null,null,"不要な行は非表示にしてください"]
[9,null,{"$f":"添付資料①_HFC23!B16","v":0},null,null,{"$f":"添付資料①_HFC23!K16","v":""},null,null,null,null,null,"不要な行は非表示にしてください"]
[10,null,{"$f":"添付資料①_HFC23!B17","v":0},null,null,{"$f":"添付資料①_HFC23!K17","v":""},null,null,null,null,null,"不要な行は非表示にしてください"]
[11,null,{"$f":"添付資料①_HFC23!B18","v":0},null,null,{"$f":"添付資料①_HFC23!K18","v":""},null,null,null,null,null,"不要な行は非表示にしてください"]
[12,null,{"$f":"添付資料①_HFC23!B19","v":0},null,null,{"$f":"添付資料①_HFC23!K19","v":""},null,null,null,null,null,"不要な行は非表示にしてください"]
[13,null,{"$f":"添付資料①_HFC23!B20","v":0},null,null,{"$f":"添付資料①_HFC23!K20","v":""},null,null,null,null,null,"不要な行は非表示にしてください"]
[14,null,{"$f":"添付資料①_HFC23!B21","v":0},null,null,{"$f":"添付資料①_HFC23!K21","v":""},null,null,null,null,null,"不要な行は非表示にしてください"]
[15,null,{"$f":"添付資料①_HFC23!B22","v":0},null,null,{"$f":"添付資料①_HFC23!K22","v":""},null,null,null,null,null,"不要な行は非表示にしてください"]
[16,null,{"$f":"添付資料①_HFC23!B23","v":0},null,null,{"$f":"添付資料①_HFC23!K23","v":""},null,null,null,null,null,"不要な行は非表示にしてください"]
[17,null,{"$f":"添付資料①_HFC23!B24","v":0},null,null,{"$f":"添付資料①_HFC23!K24","v":""},null,null,null,null,null,"不要な行は非表示にしてください"]
[18,null,{"$f":"添付資料①_HFC23!B25","v":0},null,null,{"$f":"添付資料①_HFC23!K25","v":""},null,null,null,null,null,"不要な行は非表示にしてください"]
[19,null,{"$f":"添付資料①_HFC23!B26","v":0},null,null,{"$f":"添付資料①_HFC23!K26","v":""},null,null,null,null,null,"不要な行は非表示にしてください"]
[20,null,{"$f":"添付資料①_HFC23!B27","v":0},null,null,{"$f":"添付資料①_HFC23!K27","v":""},null,null,null,null,null,"不要な行は非表示にしてください"]
[21,null,{"$f":"添付資料①_HFC23!B28","v":0},null,null,{"$f":"添付資料①_HFC23!K28","v":""},null,null,null,null,null,"不要な行は非表示にしてください"]
[22,null,{"$f":"添付資料①_HFC23!B30","v":0},null,null,{"$f":"添付資料①_HFC23!K30","v":""},null,null,null,null,null,"不要な行は非表示にしてください"]
[23,null,{"$f":"添付資料①_HFC23!B31","v":0},null,null,{"$f":"添付資料①_HFC23!K31","v":""},null,null,null,null,null,"不要な行は非表示にしてください"]
[24,null,{"$f":"添付資料①_HFC23!B32","v":0},null,null,{"$f":"添付資料①_HFC23!K32","v":""},null,null,null,null,null,"不要な行は非表示にしてください"]
[25,null,{"$f":"添付資料①_HFC23!B33","v":0},null,null,{"$f":"添付資料①_HFC23!K33","v":""},null,null,null,null,null,"不要な行は非表示にしてください"]
[26,null,{"$f":"添付資料①_HFC23!B34","v":0},null,null,{"$f":"添付資料①_HFC23!K34","v":""},null,null,null,null,null,"不要な行は非表示にしてください"]
[27,null,{"$f":"添付資料①_HFC23!B35","v":0},null,null,{"$f":"添付資料①_HFC23!K35","v":""},null,null,null,null,null,"不要な行は非表示にしてください"]
[28,null,{"$f":"添付資料①_HFC23!B36","v":0},null,null,{"$f":"添付資料①_HFC23!K36","v":""},null,null,null,null,null,"不要な行は非表示にしてください"]
[29,null,{"$f":"添付資料①_HFC23!B37","v":0},null,null,{"$f":"添付資料①_HFC23!K37","v":""},null,null,null,null,null,"不要な行は非表示にしてください"]
[30,null,{"$f":"添付資料①_HFC23!B38","v":0},null,null,{"$f":"添付資料①_HFC23!K38","v":""},null,null,null,null,null,"不要な行は非表示にしてください"]
[null,null,null,null,null,null,null,"注．四捨五入のため合計数は許可数量に合致しない。"]
[null,null,"HFC-32"]
[null,null,"会社名",null,null,"ＧＷＰｋｇ",null,null,null,null,null,"様式8添付資料①HFC-32より転記"]
[1,null,{"$f":"添付資料①_HFC32!B8","v":"経産化学株式会社"},null,null,{"$f":"添付資料①_HFC32!K8","v":""},null,null,null,null,null,"不要な行は非表示にしてください"]
[2,null,{"$f":"添付資料①_HFC32!B9","v":0},null,null,{"$f":"添付資料①_HFC32!K9","v":""},null,null,null,null,null,"不要な行は非表示にしてください"]
[3,null,{"$f":"添付資料①_HFC32!B10","v":0},null,null,{"$f":"添付資料①_HFC32!K10","v":""},null,null,null,null,null,"不要な行は非表示にしてください"]
[4,null,{"$f":"添付資料①_HFC32!B11","v":0},null,null,{"$f":"添付資料①_HFC32!K11","v":""},null,null,null,null,null,"不要な行は非表示にしてください"]
[5,null,{"$f":"添付資料①_HFC32!B12","v":0},null,null,{"$f":"添付資料①_HFC32!K12","v":""},null,null,null,null,null,"不要な行は非表示にしてください"]
[6,null,{"$f":"添付資料①_HFC32!B13","v":0},null,null,{"$f":"添付資料①_HFC32!K13","v":""},null,null,null,null,null,"不要な行は非表示にしてください"]
[7,null,{"$f":"添付資料①_HFC32!B14","v":0},null,null,{"$f":"添付資料①_HFC32!K14","v":""},null,null,null,null,null,"不要な行は非表示にしてください"]
[8,null,{"$f":"添付資料①_HFC32!B15","v":0},null,null,{"$f":"添付資料①_HFC32!K15","v":""},null,null,null,null,null,"不要な行は非表示にしてください"]
[9,null,{"$f":"添付資料①_HFC32!B16","v":0},null,null,{"$f":"添付資料①_HFC32!K16","v":""},null,null,null,null,null,"不要な行は非表示にしてください"]
[10,null,{"$f":"添付資料①_HFC32!B17","v":0},null,null,{"$f":"添付資料①_HFC32!K17","v":""},null,null,null,null,null,"不要な行は非表示にしてください"]
[11,null,{"$f":"添付資料①_HFC32!B18","v":0},null,null,{"$f":"添付資料①_HFC32!K18","v":""},null,null,null,null,null,"不要な行は非表示にしてください"]
[12,null,{"$f":"添付資料①_HFC32!B19","v":0},null,null,{"$f":"添付資料①_HFC32!K19","v":""},null,null,null,null,null,"不要な行は非表示にしてください"]
[13,null,{"$f":"添付資料①_HFC32!B20","v":0},null,null,{"$f":"添付資料①_HFC32!K20","v":""},null,null,null,null,null,"不要な行は非表示にしてください"]
[14,null,{"$f":"添付資料①_HFC32!B21","v":0},null,null,{"$f":"添付資料①_HFC32!K21","v":""},null,null,null,null,null,"不要な行は非表示にしてください"]
[15,null,{"$f":"添付資料①_HFC32!B22","v":0},null,null,{"$f":"添付資料①_HFC32!K22","v":""},null,null,null,null,null,"不要な行は非表示にしてください"]
[16,null,{"$f":"添付資料①_HFC32!B23","v":0},null,null,{"$f":"添付資料①_HFC32!K23","v":""},null,null,null,null,null,"不要な行は非表示にしてください"]
[17,null,{"$f":"添付資料①_HFC32!B24","v":0},null,null,{"$f":"添付資料①_HFC32!K24","v":""},null,null,null,null,null,"不要な行は非表示にしてください"]
[18,null,{"$f":"添付資料①_HFC32!B25","v":0},null,null,{"$f":"添付資料①_HFC32!K25","v":""},null,null,null,null,null,"不要な行は非表示にしてください"]
[19,null,{"$f":"添付資料①_HFC32!B26","v":0},null,null,{"$f":"添付資料①_HFC32!K26","v":""},null,null,null,null,null,"不要な行は非表示にしてください"]
[20,null,{"$f":"添付資料①_HFC32!B27","v":0},null,null,{"$f":"添付資料①_HFC32!K27","v":""},null,null,null,null,null,"不要な行は非表示にしてください"]
[21,null,{"$f":"添付資料①_HFC32!B28","v":0},null,null,{"$f":"添付資料①_HFC32!K28","v":""},null,null,null,null,null,"不要な行は非表示にしてください"]
[22,null,{"$f":"添付資料①_HFC32!B30","v":0},null,null,{"$f":"添付資料①_HFC32!K30","v":""},null,null,null,null,null,"不要な行は非表示にしてください"]
[23,null,{"$f":"添付資料①_HFC32!B31","v":0},null,null,{"$f":"添付資料①_HFC32!K31","v":""},null,null,null,null,null,"不要な行は非表示にしてください"]
[24,null,{"$f":"添付資料①_HFC32!B32","v":0},null,null,{"$f":"添付資料①_HFC32!K32","v":""},null,null,null,null,null,"不要な行は非表示にしてください"]
[25,null,{"$f":"添付資料①_HFC32!B33","v":0},null,null,{"$f":"添付資料①_HFC32!K33","v":""},null,null,null,null,null,"不要な行は非表示にしてください"]
[26,null,{"$f":"添付資料①_HFC32!B34","v":0},null,null,{"$f":"添付資料①_HFC32!K34","v":""},null,null,null,null,null,"不要な行は非表示にしてください"]
[27,null,{"$f":"添付資料①_HFC32!B35","v":0},null,null,{"$f":"添付資料①_HFC32!K35","v":""},null,null,null,null,null,"不要な行は非表示にしてください"]
[28,null,{"$f":"添付資料①_HFC32!B36","v":0},null,null,{"$f":"添付資料①_HFC32!K36","v":""},null,null,null,null,null,"不要な行は非表示にしてください"]
[29,null,{"$f":"添付資料①_HFC32!B37","v":0},null,null,{"$f":"添付資料①_HFC32!K37","v":""},null,null,null,null,null,"不要な行は非表示にしてください"]
[30,null,{"$f":"添付資料①_HFC32!B38","v":0},null,null,{"$f":"添付資料①_HFC32!K38","v":""},null,null,null,null,null,"不要な行は非表示にしてください"]
[null,null,null,null,null,null,null,"注．四捨五入のため合計数は許可数量に合致しない。"]
[null,null,"HFC-41"]
[null,null,"会社名",null,null,"ＧＷＰｋｇ",null,null,null,null,null,"様式8添付資料①HFC-41より転記"]
[1,null,{"$f":"添付資料①_HFC41!B8","v":"経産化学株式会社"},null,null,{"$f":"添付資料①_HFC41!K8","v":0},null,null,null,null,null,"不要な行は非表示にしてください"]
[2,null,{"$f":"添付資料①_HFC41!B9","v":0},null,null,{"$f":"添付資料①_HFC41!K9","v":""},null,null,null,null,null,"不要な行は非表示にしてください"]
[3,null,{"$f":"添付資料①_HFC41!B10","v":0},null,null,{"$f":"添付資料①_HFC41!K10","v":""},null,null,null,null,null,"不要な行は非表示にしてください"]
[4,null,{"$f":"添付資料①_HFC41!B11","v":0},null,null,{"$f":"添付資料①_HFC41!K11","v":""},null,null,null,null,null,"不要な行は非表示にしてください"]
[5,null,{"$f":"添付資料①_HFC41!B12","v":0},null,null,{"$f":"添付資料①_HFC41!K12","v":""},null,null,null,null,null,"不要な行は非表示にしてください"]
[6,null,{"$f":"添付資料①_HFC41!B13","v":0},null,null,{"$f":"添付資料①_HFC41!K13","v":""},null,null,null,null,null,"不要な行は非表示にしてください"]
[7,null,{"$f":"添付資料①_HFC41!B14","v":0},null,null,{"$f":"添付資料①_HFC41!K14","v":""},null,null,null,null,null,"不要な行は非表示にしてください"]
[8,null,{"$f":"添付資料①_HFC41!B15","v":0},null,null,{"$f":"添付資料①_HFC41!K15","v":""},null,null,null,null,null,"不要な行は非表示にしてください"]
[9,null,{"$f":"添付資料①_HFC41!B16","v":0},null,null,{"$f":"添付資料①_HFC41!K16","v":""},null,null,null,null,null,"不要な行は非表示にしてください"]
[10,null,{"$f":"添付資料①_HFC41!B17","v":0},null,null,{"$f":"添付資料①_HFC41!K17","v":""},null,null,null,null,null,"不要な行は非表示にしてください"]
[11,null,{"$f":"添付資料①_HFC41!B18","v":0},null,null,{"$f":"添付資料①_HFC41!K18","v":""},null,null,null,null,null,"不要な行は非表示にしてください"]
[12,null,{"$f":"添付資料①_HFC41!B19","v":0},null,null,{"$f":"添付資料①_HFC41!K19","v":""},null,null,null,null,null,"不要な行は非表示にしてください"]
[13,null,{"$f":"添付資料①_HFC41!B20","v":0},null,null,{"$f":"添付資料①_HFC41!K20","v":""},null,null,null,null,null,"不要な行は非表示にしてください"]
[14,null,{"$f":"添付資料①_HFC41!B21","v":0},null,null,{"$f":"添付資料①_HFC41!K21","v":""},null,null,null,null,null,"不要な行は非表示にしてください"]
[15,null,{"$f":"添付資料①_HFC41!B22","v":0},null,null,{"$f":"添付資料①_HFC41!K22","v":""},null,null,null,null,null,"不要な行は非表示にしてください"]
[16,null,{"$f":"添付資料①_HFC41!B23","v":0},null,null,{"$f":"添付資料①_HFC41!K23","v":""},null,null,null,null,null,"不要な行は非表示にしてください"]
[17,null,{"$f":"添付資料①_HFC41!B24","v":0},null,null,{"$f":"添付資料①_HFC41!K24","v":""},null,null,null,null,null,"不要な行は非表示にしてください"]
[18,null,{"$f":"添付資料①_HFC41!B25","v":0},null,null,{"$f":"添付資料①_HFC41!K25","v":""},null,null,null,null,null,"不要な行は非表示にしてください"]
[19,null,{"$f":"添付資料①_HFC41!B26","v":0},null,null,{"$f":"添付資料①_HFC41!K26","v":""},null,null,null,null,null,"不要な行は非表示にしてください"]
[20,null,{"$f":"添付資料①_HFC41!B27","v":0},null,null,{"$f":"添付資料①_HFC41!K27","v":""},null,null,null,null,null,"不要な行は非表示にしてください"]
[21,null,{"$f":"添付資料①_HFC41!B28","v":0},null,null,{"$f":"添付資料①_HFC41!K28","v":""},null,null,null,null,null,"不要な行は非表示にしてください"]
[22,null,{"$f":"添付資料①_HFC41!B30","v":0},null,null,{"$f":"添付資料①_HFC41!K29","v":""},null,null,null,null,null,"不要な行は非表示にしてください"]
[23,null,{"$f":"添付資料①_HFC41!B31","v":0},null,null,{"$f":"添付資料①_HFC41!K30","v":""},null,null,null,null,null,"不要な行は非表示にしてください"]
[24,null,{"$f":"添付資料①_HFC41!B32","v":0},null,null,{"$f":"添付資料①_HFC41!K31","v":""},null,null,null,null,null,"不要な行は非表示にしてください"]
[25,null,{"$f":"添付資料①_HFC41!B33","v":0},null,null,{"$f":"添付資料①_HFC41!K32","v":""},null,null,null,null,null,"不要な行は非表示にしてください"]
[26,null,{"$f":"添付資料①_HFC41!B34","v":0},null,null,{"$f":"添付資料①_HFC41!K33","v":""},null,null,null,null,null,"不要な行は非表示にしてください"]
[27,null,{"$f":"添付資料①_HFC41!B35","v":0},null,null,{"$f":"添付資料①_HFC41!K34","v":""},null,null,null,null,null,"不要な行は非表示にしてください"]
[28,null,{"$f":"添付資料①_HFC41!B36","v":0},null,null,{"$f":"添付資料①_HFC41!K35","v":""},null,null,null,null,null,"不要な行は非表示にしてください"]
[29,null,{"$f":"添付資料①_HFC41!B37","v":0},null,null,{"$f":"添付資料①_HFC41!K36","v":""},null,null,null,null,null,"不要な行は非表示にしてください"]
[30,null,{"$f":"添付資料①_HFC41!B38","v":0},null,null,{"$f":"添付資料①_HFC41!K37","v":""},null,null,null,null,null,"不要な行は非表示にしてください"]
[null,null,null,null,null,null,null,"注．四捨五入のため合計数は許可数量に合致しない。"]

{"sheet":"案内文","index":7,"n_rows":138,"n_cols":12,"rows_kept":138,"cut":false,"hidden":true,"merged":[[2,4,2,7],[4,8,4,9],[5,8,5,9],[7,2,7,5],[8,2,8,5],[12,8,12,9],[43,2,43,4],[43,5,43,7],[44,2,44,4],[44,5,44,7],[45,2,45,4],[45,5,45,7],[40,2,40,4],[40,5,40,7],[41,2,41,4],[41,5,41,7],[42,2,42,4],[42,5,42,7],[15,2,15,9],[17,2,17,9],[22,2,22,9],[26,3,26,4],[29,3,29,4],[33,3,33,4],[52,2,52,4],[52,5,52,7],[53,2,53,4],[53,5,53,7],[54,2,54,4],[54,5,54,7],[49,2,49,4],[49,5,49,7],[50,2,50,4],[50,5,50,7],[51,2,51,4],[51,5,51,7],[46,2,46,4],[46,5,46,7],[47,2,47,4],[47,5,47,7],[48,2,48,4],[48,5,48,7],[61,2,61,4],[61,5,61,7],[62,2,62,4],[62,5,62,7],[63,2,63,4],[63,5,63,7],[58,2,58,4],[58,5,58,7],[59,2,59,4],[59,5,59,7],[60,2,60,4],[60,5,60,7],[55,2,55,4],[55,5,55,7],[56,2,56,4],[56,5,56,7],[57,2,57,4],[57,5,57,7],[70,2,70,4],[70,5,70,7],[73,2,73,4],[73,5,73,7],[74,2,74,4],[74,5,74,7],[67,2,67,4],[67,5,67,7],[68,2,68,4],[68,5,68,7],[69,2,69,4],[69,5,69,7],[64,2,64,4],[64,5,64,7],[65,2,65,4],[65,5,65,7],[66,2,66,4],[66,5,66,7],[81,2,81,4],[81,5,81,7],[82,2,82,4],[82,5,82,7],[83,2,83,4],[83,5,83,7],[78,2,78,4],[78,5,78,7],[79,2,79,4],[79,5,79,7],[80,2,80,4],[80,5,80,7],[75,2,75,4],[75,5,75,7],[76,2,76,4],[76,5,76,7],[77,2,77,4],[77,5,77,7],[90,2,90,4],[90,5,90,7],[91,2,91,4],[91,5,91,7],[92,2,92,4],[92,5,92,7],[87,2,87,4],[87,5,87,7],[88,2,88,4],[88,5,88,7],[89,2,89,4],[89,5,89,7],[84,2,84,4],[84,5,84,7],[85,2,85,4],[85,5,85,7],[86,2,86,4],[86,5,86,7],[99,2,99,4],[99,5,99,7],[100,2,100,4],[100,5,100,7],[101,2,101,4],[101,5,101,7],[96,2,96,4],[96,5,96,7],[97,2,97,4],[97,5,97,7],[98,2,98,4],[98,5,98,7],[93,2,93,4],[93,5,93,7],[94,2,94,4],[94,5,94,7],[95,2,95,4],[95,5,95,7],[110,2,110,4],[110,5,110,7],[111,2,111,4],[111,5,111,7],[112,2,112,4],[112,5,112,7],[107,2,107,4],[107,5,107,7],[108,2,108,4],[108,5,108,7],[109,2,109,4],[109,5,109,7],[102,2,102,4],[102,5,102,7],[103,2,103,4],[103,5,103,7],[106,2,106,4],[106,5,106,7],[119,2,119,4],[119,5,119,7],[120,2,120,4],[120,5,120,7],[121,2,121,4],[121,5,121,7],[116,2,116,4],[116,5,116,7],[117,2,117,4],[117,5,117,7],[118,2,118,4],[118,5,118,7],[113,2,113,4],[113,5,113,7],[114,2,114,4],[114,5,114,7],[115,2,115,4],[115,5,115,7],[128,2,128,4],[128,5,128,7],[129,2,129,4],[129,5,129,7],[130,2,130,4],[130,5,130,7],[125,2,125,4],[125,5,125,7],[126,2,126,4],[126,5,126,7],[127,2,127,4],[127,5,127,7],[122,2,122,4],[122,5,122,7],[123,2,123,4],[123,5,123,7],[124,2,124,4],[124,5,124,7],[138,2,138,4],[138,5,138,7],[139,2,139,4],[139,5,139,7],[140,2,140,4],[140,5,140,7],[134,2,134,4],[134,5,134,7],[135,2,135,4],[135,5,135,7],[136,2,136,4],[136,5,136,7],[131,2,131,4],[131,5,131,7],[132,2,132,4],[132,5,132,7],[133,2,133,4],[133,5,133,7],[147,2,147,4],[147,5,147,7],[148,2,148,4],[148,5,148,7],[149,2,149,4],[149,5,149,7],[144,2,144,4],[144,5,144,7],[145,2,145,4],[145,5,145,7],[146,2,146,4],[146,5,146,7],[141,2,141,4],[141,5,141,7],[142,2,142,4],[142,5,142,7],[143,2,143,4],[143,5,143,7],[156,2,156,4],[156,5,156,7],[157,2,157,4],[157,5,157,7],[158,2,158,4],[158,5,158,7],[153,2,153,4],[153,5,153,7],[154,2,154,4],[154,5,154,7],[155,2,155,4],[155,5,155,7],[150,2,150,4],[150,5,150,7],[151,2,151,4],[151,5,151,7],[152,2,152,4],[152,5,152,7],[165,2,165,4],[165,5,165,7],[166,2,166,4],[166,5,166,7],[167,2,167,4],[167,5,167,7],[162,2,162,4],[162,5,162,7],[163,2,163,4],[163,5,163,7],[164,2,164,4],[164,5,164,7],[159,2,159,4],[159,5,159,7],[160,2,160,4],[160,5,160,7],[161,2,161,4],[161,5,161,7],[174,2,174,4],[174,5,174,7],[175,2,175,4],[175,5,175,7],[176,2,176,4],[176,5,176,7],[171,2,171,4],[171,5,171,7],[172,2,172,4],[172,5,172,7],[173,2,173,4],[173,5,173,7],[168,2,168,4],[168,5,168,7],[169,2,169,4],[169,5,169,7],[170,2,170,4],[170,5,170,7],[183,2,183,4],[183,5,183,7],[184,2,184,4],[184,5,184,7],[185,2,185,4],[185,5,185,7],[180,2,180,4],[180,5,180,7],[181,2,181,4],[181,5,181,7],[182,2,182,4],[182,5,182,7],[177,2,177,4],[177,5,177,7],[178,2,178,4],[178,5,178,7],[179,2,179,4],[179,5,179,7],[192,2,192,4],[192,5,192,7],[193,2,193,4],[193,5,193,7],[194,2,194,4],[194,5,194,7],[189,2,189,4],[189,5,189,7],[190,2,190,4],[190,5,190,7],[191,2,191,4],[191,5,191,7],[186,2,186,4],[186,5,186,7],[187,2,187,4],[187,5,187,7],[188,2,188,4],[188,5,188,7],[201,2,201,4],[201,5,201,7],[202,2,202,4],[202,5,202,7],[203,2,203,4],[203,5,203,7],[198,2,198,4],[198,5,198,7],[199,2,199,4],[199,5,199,7],[200,2,200,4],[200,5,200,7],[195,2,195,4],[195,5,195,7],[196,2,196,4],[196,5,196,7],[197,2,197,4],[197,5,197,7],[210,2,210,4],[210,5,210,7],[211,2,211,4],[211,5,211,7],[212,2,212,4],[212,5,212,7],[207,2,207,4],[207,5,207,7],[208,2,208,4],[208,5,208,7],[209,2,209,4],[209,5,209,7],[204,2,204,4],[204,5,204,7],[205,2,205,4],[205,5,205,7],[206,2,206,4],[206,5,206,7],[219,2,219,4],[219,5,219,7],[220,2,220,4],[220,5,220,7],[221,2,221,4],[221,5,221,7],[216,2,216,4],[216,5,216,7],[217,2,217,4],[217,5,217,7],[218,2,218,4],[218,5,218,7],[213,2,213,4],[213,5,213,7],[214,2,214,4],[214,5,214,7],[215,2,215,4],[215,5,215,7],[228,2,228,4],[228,5,228,7],[229,2,229,4],[229,5,229,7],[230,2,230,4],[230,5,230,7],[225,2,225,4],[225,5,225,7],[226,2,226,4],[226,5,226,7],[227,2,227,4],[227,5,227,7],[222,2,222,4],[222,5,222,7],[223,2,223,4],[223,5,223,7],[224,2,224,4],[224,5,224,7],[237,2,237,4],[237,5,237,7],[238,2,238,4],[238,5,238,7],[239,2,239,4],[239,5,239,7],[234,2,234,4],[234,5,234,7],[235,2,235,4],[235,5,235,7],[236,2,236,4],[236,5,236,7],[231,2,231,4],[231,5,231,7],[232,2,232,4],[232,5,232,7],[233,2,233,4],[233,5,233,7],[246,2,246,4],[246,5,246,7],[247,2,247,4],[247,5,247,7],[248,2,248,4],[248,5,248,7],[243,2,243,4],[243,5,243,7],[244,2,244,4],[244,5,244,7],[245,2,245,4],[245,5,245,7],[240,2,240,4],[240,5,240,7],[241,2,241,4],[241,5,241,7],[242,2,242,4],[242,5,242,7],[255,2,255,4],[255,5,255,7],[256,2,256,4],[256,5,256,7],[257,2,257,4],[257,5,257,7],[252,2,252,4],[252,5,252,7],[253,2,253,4],[253,5,253,7],[254,2,254,4],[254,5,254,7],[249,2,249,4],[249,5,249,7],[250,2,250,4],[250,5,250,7],[251,2,251,4],[251,5,251,7],[264,2,264,4],[264,5,264,7],[265,2,265,4],[265,5,265,7],[266,2,266,4],[266,5,266,7],[261,2,261,4],[261,5,261,7],[262,2,262,4],[262,5,262,7],[263,2,263,4],[263,5,263,7],[258,2,258,4],[258,5,258,7],[259,2,259,4],[259,5,259,7],[260,2,260,4],[260,5,260,7],[273,2,273,4],[273,5,273,7],[274,2,274,4],[274,5,274,7],[275,2,275,4],[275,5,275,7],[270,2,270,4],[270,5,270,7],[271,2,271,4],[271,5,271,7],[272,2,272,4],[272,5,272,7],[267,2,267,4],[267,5,267,7],[268,2,268,4],[268,5,268,7],[269,2,269,4],[269,5,269,7],[282,2,282,4],[282,5,282,7],[283,2,283,4],[283,5,283,7],[284,2,284,4],[284,5,284,7],[279,2,279,4],[279,5,279,7],[280,2,280,4],[280,5,280,7],[281,2,281,4],[281,5,281,7],[276,2,276,4],[276,5,276,7],[277,2,277,4],[277,5,277,7],[278,2,278,4],[278,5,278,7],[291,2,291,4],[291,5,291,7],[292,2,292,4],[292,5,292,7],[293,2,293,4],[293,5,293,7],[288,2,288,4],[288,5,288,7],[289,2,289,4],[289,5,289,7],[290,2,290,4],[290,5,290,7],[285,2,285,4],[285,5,285,7],[286,2,286,4],[286,5,286,7],[287,2,287,4],[287,5,287,7],[300,2,300,4],[300,5,300,7],[301,2,301,4],[301,5,301,7],[302,2,302,4],[302,5,302,7],[297,2,297,4],[297,5,297,7],[298,2,298,4],[298,5,298,7],[299,2,299,4],[299,5,299,7],[294,2,294,4],[294,5,294,7],[295,2,295,4],[295,5,295,7],[296,2,296,4],[296,5,296,7],[309,2,309,4],[309,5,309,7],[310,2,310,4],[310,5,310,7],[311,2,311,4],[311,5,311,7],[306,2,306,4],[306,5,306,7],[307,2,307,4],[307,5,307,7],[308,2,308,4],[308,5,308,7],[303,2,303,4],[303,5,303,7],[304,2,304,4],[304,5,304,7],[305,2,305,4],[305,5,305,7],[318,2,318,4],[318,5,318,7],[319,2,319,4],[319,5,319,7],[320,2,320,4],[320,5,320,7],[315,2,315,4],[315,5,315,7],[316,2,316,4],[316,5,316,7],[317,2,317,4],[317,5,317,7],[312,2,312,4],[312,5,312,7],[313,2,313,4],[313,5,313,7],[314,2,314,4],[314,5,314,7],[327,2,327,4],[327,5,327,7],[328,2,328,4],[328,5,328,7],[329,2,329,4],[329,5,329,7],[324,2,324,4],[324,5,324,7],[325,2,325,4],[325,5,325,7],[326,2,326,4],[326,5,326,7],[321,2,321,4],[321,5,321,7],[322,2,322,4],[322,5,322,7],[323,2,323,4],[323,5,323,7],[336,2,336,4],[336,5,336,7],[337,2,337,4],[337,5,337,7],[338,2,338,4],[338,5,338,7],[333,2,333,4],[333,5,333,7],[334,2,334,4],[334,5,334,7],[335,2,335,4],[335,5,335,7],[330,2,330,4],[330,5,330,7],[331,2,331,4],[331,5,331,7],[332,2,332,4],[332,5,332,7],[345,2,345,4],[345,5,345,7],[346,2,346,4],[346,5,346,7],[347,2,347,4],[347,5,347,7],[342,2,342,4],[342,5,342,7],[343,2,343,4],[343,5,343,7],[344,2,344,4],[344,5,344,7],[339,2,339,4],[339,5,339,7],[340,2,340,4],[340,5,340,7],[341,2,341,4],[341,5,341,7],[354,2,354,4],[354,5,354,7],[355,2,355,4],[355,5,355,7],[356,2,356,4],[356,5,356,7],[351,2,351,4],[351,5,351,7],[352,2,352,4],[352,5,352,7],[353,2,353,4],[353,5,353,7],[348,2,348,4],[348,5,348,7],[349,2,349,4],[349,5,349,7],[350,2,350,4],[350,5,350,7],[363,2,363,4],[363,5,363,7],[364,2,364,4],[364,5,364,7],[365,2,365,4],[365,5,365,7],[360,2,360,4],[360,5,360,7],[361,2,361,4],[361,5,361,7],[362,2,362,4],[362,5,362,7],[357,2,357,4],[357,5,357,7],[358,2,358,4],[358,5,358,7],[359,2,359,4],[359,5,359,7],[372,2,372,4],[372,5,372,7],[373,2,373,4],[373,5,373,7],[374,2,374,4],[374,5,374,7],[369,2,369,4],[369,5,369,7],[370,2,370,4],[370,5,370,7],[371,2,371,4],[371,5,371,7],[366,2,366,4],[366,5,366,7],[367,2,367,4],[367,5,367,7],[368,2,368,4],[368,5,368,7],[381,2,381,4],[381,5,381,7],[382,2,382,4],[382,5,382,7],[383,2,383,4],[383,5,383,7],[378,2,378,4],[378,5,378,7],[379,2,379,4],[379,5,379,7],[380,2,380,4],[380,5,380,7],[375,2,375,4],[375,5,375,7],[376,2,376,4],[376,5,376,7],[377,2,377,4],[377,5,377,7],[390,2,390,4],[390,5,390,7],[391,2,391,4],[391,5,391,7],[392,2,392,4],[392,5,392,7],[387,2,387,4],[387,5,387,7],[388,2,388,4],[388,5,388,7],[389,2,389,4],[389,5,389,7],[384,2,384,4],[384,5,384,7],[385,2,385,4],[385,5,385,7],[386,2,386,4],[386,5,386,7],[399,2,399,4],[399,5,399,7],[400,2,400,4],[400,5,400,7],[401,2,401,4],[401,5,401,7],[396,2,396,4],[396,5,396,7],[397,2,397,4],[397,5,397,7],[398,2,398,4],[398,5,398,7],[393,2,393,4],[393,5,393,7],[394,2,394,4],[394,5,394,7],[395,2,395,4],[395,5,395,7],[408,2,408,4],[408,5,408,7],[409,2,409,4],[409,5,409,7],[410,2,410,4],[410,5,410,7],[405,2,405,4],[405,5,405,7],[406,2,406,4],[406,5,406,7],[407,2,407,4],[407,5,407,7],[402,2,402,4],[402,5,402,7],[403,2,403,4],[403,5,403,7],[404,2,404,4],[404,5,404,7],[417,2,417,4],[417,5,417,7],[418,2,418,4],[418,5,418,7],[419,2,419,4],[419,5,419,7],[414,2,414,4],[414,5,414,7],[415,2,415,4],[415,5,415,7],[416,2,416,4],[416,5,416,7],[411,2,411,4],[411,5,411,7],[412,2,412,4],[412,5,412,7],[413,2,413,4],[413,5,413,7],[426,2,426,4],[426,5,426,7],[427,2,427,4],[427,5,427,7],[428,2,428,4],[428,5,428,7],[423,2,423,4],[423,5,423,7],[424,2,424,4],[424,5,424,7],[425,2,425,4],[425,5,425,7],[420,2,420,4],[420,5,420,7],[421,2,421,4],[421,5,421,7],[422,2,422,4],[422,5,422,7],[435,2,435,4],[435,5,435,7],[436,2,436,4],[436,5,436,7],[437,2,437,4],[437,5,437,7],[432,2,432,4],[432,5,432,7],[433,2,433,4],[433,5,433,7],[434,2,434,4],[434,5,434,7],[429,2,429,4],[429,5,429,7],[430,2,430,4],[430,5,430,7],[431,2,431,4],[431,5,431,7],[444,2,444,4],[444,5,444,7],[445,2,445,4],[445,5,445,7],[446,2,446,4],[446,5,446,7],[441,2,441,4],[441,5,441,7],[442,2,442,4],[442,5,442,7],[443,2,443,4],[443,5,443,7],[438,2,438,4],[438,5,438,7],[439,2,439,4],[439,5,439,7],[440,2,440,4],[440,5,440,7],[453,2,453,4],[453,5,453,7],[454,2,454,4],[454,5,454,7],[455,2,455,4],[455,5,455,7],[450,2,450,4],[450,5,450,7],[451,2,451,4],[451,5,451,7],[452,2,452,4],[452,5,452,7],[447,2,447,4],[447,5,447,7],[448,2,448,4],[448,5,448,7],[449,2,449,4],[449,5,449,7],[462,2,462,4],[462,5,462,7],[463,2,463,4],[463,5,463,7],[464,2,464,4],[464,5,464,7],[459,2,459,4],[459,5,459,7],[460,2,460,4],[460,5,460,7],[461,2,461,4],[461,5,461,7],[456,2,456,4],[456,5,456,7],[457,2,457,4],[457,5,457,7],[458,2,458,4],[458,5,458,7],[471,2,471,4],[471,5,471,7],[472,2,472,4],[472,5,472,7],[473,2,473,4],[473,5,473,7],[468,2,468,4],[468,5,468,7],[469,2,469,4],[469,5,469,7],[470,2,470,4],[470,5,470,7],[465,2,465,4],[465,5,465,7],[466,2,466,4],[466,5,466,7],[467,2,467,4],[467,5,467,7],[480,2,480,4],[480,5,480,7],[481,2,481,4],[481,5,481,7],[482,2,482,4],[482,5,482,7],[477,2,477,4],[477,5,477,7],[478,2,478,4],[478,5,478,7],[479,2,479,4],[479,5,479,7],[474,2,474,4],[474,5,474,7],[475,2,475,4],[475,5,475,7],[476,2,476,4],[476,5,476,7],[489,2,489,4],[489,5,489,7],[490,2,490,4],[490,5,490,7],[491,2,491,4],[491,5,491,7],[486,2,486,4],[486,5,486,7],[487,2,487,4],[487,5,487,7],[488,2,488,4],[488,5,488,7],[483,2,483,4],[483,5,483,7],[484,2,484,4],[484,5,484,7],[485,2,485,4],[485,5,485,7],[498,2,498,4],[498,5,498,7],[499,2,499,4],[499,5,499,7],[500,2,500,4],[500,5,500,7],[495,2,495,4],[495,5,495,7],[496,2,496,4],[496,5,496,7],[497,2,497,4],[497,5,497,7],[492,2,492,4],[492,5,492,7],[493,2,493,4],[493,5,493,7],[494,2,494,4],[494,5,494,7],[507,2,507,4],[507,5,507,7],[508,2,508,4],[508,5,508,7],[509,2,509,4],[509,5,509,7],[504,2,504,4],[504,5,504,7],[505,2,505,4],[505,5,505,7],[506,2,506,4],[506,5,506,7],[501,2,501,4],[501,5,501,7],[502,2,502,4],[502,5,502,7],[503,2,503,4],[503,5,503,7],[516,2,516,4],[516,5,516,7],[517,2,517,4],[517,5,517,7],[518,2,518,4],[518,5,518,7],[513,2,513,4],[513,5,513,7],[514,2,514,4],[514,5,514,7],[515,2,515,4],[515,5,515,7],[510,2,510,4],[510,5,510,7],[511,2,511,4],[511,5,511,7],[512,2,512,4],[512,5,512,7],[525,2,525,4],[525,5,525,7],[526,2,526,4],[526,5,526,7],[527,2,527,4],[527,5,527,7],[522,2,522,4],[522,5,522,7],[523,2,523,4],[523,5,523,7],[524,2,524,4],[524,5,524,7],[519,2,519,4],[519,5,519,7],[520,2,520,4],[520,5,520,7],[521,2,521,4],[521,5,521,7],[534,2,534,4],[534,5,534,7],[535,2,535,4],[535,5,535,7],[536,2,536,4],[536,5,536,7],[531,2,531,4],[531,5,531,7],[532,2,532,4],[532,5,532,7],[533,2,533,4],[533,5,533,7],[528,2,528,4],[528,5,528,7],[529,2,529,4],[529,5,529,7],[530,2,530,4],[530,5,530,7],[543,2,543,4],[543,5,543,7],[544,2,544,4],[544,5,544,7]],"merged_total":1396,"flags":["merged_cut"]}
[]
[]
[null,null,null,null,"（案）"]
[]
[null,null,null,null,null,null,null,null,"番号",null,null,"文書番号を御記入ください"]
[null,null,null,null,null,null,null,null,{"$f":"TODAY()","v":"2024-07-30"},null,null,"施行文発効日の日付を御記入ください"]
[]
[null,null,{"$f":"表紙!H10","v":0},null,null,null,null,null,null,null,null,"自動表記"]
[null,null,{"$f":"CONCATENATE(表紙!H11,\"　　宛て\")","v":"　　宛て"},null,null,null,null,null,null,null,null,"自動表記"]
[]
[]
[]
[null,null,null,null,null,null,null,"経済産業大臣",null,null,null,"大臣名を御記入ください"]
[]
[]
[null,null,"原料として使用されることが確実である特定物質等の製造確認について"]
[]
[null,null,{"$f":"CONCATENATE(\"　\",DBCS(表紙!$H$8),\"年\",DBCS(表紙!$J$8),\"月\",DBCS(表紙!$L$8),\"日付けをもって申請のありました上記の件については、特定物質等の規制等によるオゾン層の保護に関する法律（昭和６３年法律第５３号）第１２条第１項の規定に基づき、下記のとおり確認しましたので、通知します。\")","v":"　年月日付けをもって申請のありました上記の件については、特定物質等の規制等によるオゾン層の保護に関する法律（昭和６３年法律第５３号）第１２条第１項の規定に基づき、下記のとおり確認しましたので、通知します。"},null,null,null,null,null,null,null,null,"日付は様式8表紙より転記"]
[]
[]
[null,null,null,null,null,null,"記"]
[]
[null,null,{"$f":"CONCATENATE(\"　\",DBCS(YEAR(TODAY())),\"規制年度（\",DBCS(YEAR(TODAY())),\"年１月１日から\",DBCS(YEAR(TODAY())),\"年１２月３１日まで）において原料として使用されることが確実であることが証明され、当該証明に係る数量の特定物質等を製造することができる旨の確認をする特定物質等の種類及び数量\")","v":"　２０２４規制年度（２０２４年１月１日から２０２４年１２月３１日まで）において原料として使用されることが確実であることが証明され、当該証明に係る数量の特定物質等を製造することができる旨の確認をする特定物質等の種類及び数量"}]
[]
[null,null,"特定物質等の種類および数量："]
[null,null,"モントリオール議定書附属書ＦのグループⅠ",null,null,null,null,null,null,null,null,"無い場合は行を非表示にしてください"]
[null,null,"HFC-32",{"$f":"添付資料①_HFC32!K38","v":""},null,"ＧＷＰｋｇ",null,null,null,null,null,"無い場合は行を非表示にしてください"]
[null,null,null,"(有姿数量：",{"$f":"添付資料①_HFC32!J38","v":""},"）ｋｇ",null,null,null,null,null,"無い場合は行を非表示にしてください"]
[]
[null,null,"HFC-41",{"$f":"添付資料①_HFC41!K38","v":""},null,"ＧＷＰｋｇ",null,null,null,null,null,"無い場合は行を非表示にしてください"]
[null,null,null,"(有姿数量：",{"$f":"添付資料①_HFC41!J38","v":""},"）ｋｇ",null,null,null,null,null,"無い場合は行を非表示にしてください"]
[]
[null,null,"モントリオール議定書附属書ＦのグループⅡ",null,null,null,null,null,null,null,null,"無い場合は行を非表示にしてください"]
[null,null,"HFC-23",{"$f":"添付資料①_HFC23!K38","v":""},null,"ＧＷＰｋｇ",null,null,null,null,null,"無い場合は行を非表示にしてください"]
[null,null,null,"(有姿数量：",{"$f":"添付資料①_HFC23!J38","v":""},"）ｋｇ",null,null,null,null,null,"無い場合は行を非表示にしてください"]
[]
[]
[]
[null,null,"（内訳）"]
[null,null,"HFC-23"]
[null,null,"会社名",null,null,"ＧＷＰｋｇ"]
[1,null,{"$f":"添付資料①_HFC23!B8","v":"経産化学株式会社"},null,null,{"$f":"添付資料①_HFC23!K8","v":0},null,null,null,null,null,"様式8添付資料①HFC-23より転記"]
[2,null,{"$f":"添付資料①_HFC23!B9","v":0},null,null,{"$f":"添付資料①_HFC23!K9","v":""},null,null,null,null,null,"不要な行は非表示にしてください"]
[3,null,{"$f":"添付資料①_HFC23!B10","v":0},null,null,{"$f":"添付資料①_HFC23!K10","v":""},null,null,null,null,null,"不要な行は非表示にしてください"]
[4,null,{"$f":"添付資料①_HFC23!B11","v":0},null,null,{"$f":"添付資料①_HFC23!K11","v":""},null,null,null,null,null,"不要な行は非表示にしてください"]
[5,null,{"$f":"添付資料①_HFC23!B12","v":0},null,null,{"$f":"添付資料①_HFC23!K12","v":""},null,null,null,null,null,"不要な行は非表示にしてください"]
[6,null,{"$f":"添付資料①_HFC23!B13","v":0},null,null,{"$f":"添付資料①_HFC23!K13","v":""},null,null,null,null,null,"不要な行は非表示にしてください"]
[7,null,{"$f":"添付資料①_HFC23!B14","v":0},null,null,{"$f":"添付資料①_HFC23!K14","v":""},null,null,null,null,null,"不要な行は非表示にしてください"]
[8,null,{"$f":"添付資料①_HFC23!B15","v":0},null,null,{"$f":"添付資料①_HFC23!K15","v":""},null,null,null,null,null,"不要な行は非表示にしてください"]
[9,null,{"$f":"添付資料①_HFC23!B16","v":0},null,null,{"$f":"添付資料①_HFC23!K16","v":""},null,null,null,null,null,"不要な行は非表示にしてください"]
[10,null,{"$f":"添付資料①_HFC23!B17","v":0},null,null,{"$f":"添付資料①_HFC23!K17","v":""},null,null,null,null,null,"不要な行は非表示にしてください"]
[11,null,{"$f":"添付資料①_HFC23!B18","v":0},null,null,{"$f":"添付資料①_HFC23!K18","v":""},null,null,null,null,null,"不要な行は非表示にしてください"]
[12,null,{"$f":"添付資料①_HFC23!B19","v":0},null,null,{"$f":"添付資料①_HFC23!K19","v":""},null,null,null,null,null,"不要な行は非表示にしてください"]
[13,null,{"$f":"添付資料①_HFC23!B20","v":0},null,null,{"$f":"添付資料①_HFC23!K20","v":""},null,null,null,null,null,"不要な行は非表示にしてください"]
[14,null,{"$f":"添付資料①_HFC23!B21","v":0},null,null,{"$f":"添付資料①_HFC23!K21","v":""},null,null,null,null,null,"不要な行は非表示にしてください"]
[15,null,{"$f":"添付資料①_HFC23!B22","v":0},null,null,{"$f":"添付資料①_HFC23!K22","v":""},null,null,null,null,null,"不要な行は非表示にしてください"]
[16,null,{"$f":"添付資料①_HFC23!B23","v":0},null,null,{"$f":"添付資料①_HFC23!K23","v":""},null,null,null,null,null,"不要な行は非表示にしてください"]
[17,null,{"$f":"添付資料①_HFC23!B24","v":0},null,null,{"$f":"添付資料①_HFC23!K24","v":""},null,null,null,null,null,"不要な行は非表示にしてください"]
[18,null,{"$f":"添付資料①_HFC23!B25","v":0},null,null,{"$f":"添付資料①_HFC23!K25","v":""},null,null,null,null,null,"不要な行は非表示にしてください"]
[19,null,{"$f":"添付資料①_HFC23!B26","v":0},null,null,{"$f":"添付資料①_HFC23!K26","v":""},null,null,null,null,null,"不要な行は非表示にしてください"]
[20,null,{"$f":"添付資料①_HFC23!B27","v":0},null,null,{"$f":"添付資料①_HFC23!K27","v":""},null,null,null,null,null,"不要な行は非表示にしてください"]
[21,null,{"$f":"添付資料①_HFC23!B28","v":0},null,null,{"$f":"添付資料①_HFC23!K28","v":""},null,null,null,null,null,"不要な行は非表示にしてください"]
[22,null,{"$f":"添付資料①_HFC23!B30","v":0},null,null,{"$f":"添付資料①_HFC23!K30","v":""},null,null,null,null,null,"不要な行は非表示にしてください"]
[23,null,{"$f":"添付資料①_HFC23!B31","v":0},null,null,{"$f":"添付資料①_HFC23!K31","v":""},null,null,null,null,null,"不要な行は非表示にしてください"]
[24,null,{"$f":"添付資料①_HFC23!B32","v":0},null,null,{"$f":"添付資料①_HFC23!K32","v":""},null,null,null,null,null,"不要な行は非表示にしてください"]
[25,null,{"$f":"添付資料①_HFC23!B33","v":0},null,null,{"$f":"添付資料①_HFC23!K33","v":""},null,null,null,null,null,"不要な行は非表示にしてください"]
[26,null,{"$f":"添付資料①_HFC23!B34","v":0},null,null,{"$f":"添付資料①_HFC23!K34","v":""},null,null,null,null,null,"不要な行は非表示にしてください"]
[27,null,{"$f":"添付資料①_HFC23!B35","v":0},null,null,{"$f":"添付資料①_HFC23!K35","v":""},null,null,null,null,null,"不要な行は非表示にしてください"]
[28,null,{"$f":"添付資料①_HFC23!B36","v":0},null,null,{"$f":"添付資料①_HFC23!K36","v":""},null,null,null,null,null,"不要な行は非表示にしてください"]
[29,null,{"$f":"添付資料①_HFC23!B37","v":0},null,null,{"$f":"添付資料①_HFC23!K37","v":""},null,null,null,null,null,"不要な行は非表示にしてください"]
[30,null,{"$f":"添付資料①_HFC23!B38","v":0},null,null,{"$f":"添付資料①_HFC23!K38","v":""},null,null,null,null,null,"不要な行は非表示にしてください"]
[null,null,null,null,null,null,null,"注．四捨五入のため合計数は許可数量に合致しない。"]
[null,null,"HFC-32"]
[null,null,"会社名",null,null,"ＧＷＰｋｇ",null,null,null,null,null,"様式8添付資料①HFC-32より転記"]
[1,null,{"$f":"添付資料①_HFC32!B8","v":"経産化学株式会社"},null,null,{"$f":"添付資料①_HFC32!K8","v":""},null,null,null,null,null,"不要な行は非表示にしてください"]
[2,null,{"$f":"添付資料①_HFC32!B9","v":0},null,null,{"$f":"添付資料①_HFC32!K9","v":""},null,null,null,null,null,"不要な行は非表示にしてください"]
[3,null,{"$f":"添付資料①_HFC32!B10","v":0},null,null,{"$f":"添付資料①_HFC32!K10","v":""},null,null,null,null,null,"不要な行は非表示にしてください"]
[4,null,{"$f":"添付資料①_HFC32!B11","v":0},null,null,{"$f":"添付資料①_HFC32!K11","v":""},null,null,null,null,null,"不要な行は非表示にしてください"]
[5,null,{"$f":"添付資料①_HFC32!B12","v":0},null,null,{"$f":"添付資料①_HFC32!K12","v":""},null,null,null,null,null,"不要な行は非表示にしてください"]
[6,null,{"$f":"添付資料①_HFC32!B13","v":0},null,null,{"$f":"添付資料①_HFC32!K13","v":""},null,null,null,null,null,"不要な行は非表示にしてください"]
[7,null,{"$f":"添付資料①_HFC32!B14","v":0},null,null,{"$f":"添付資料①_HFC32!K14","v":""},null,null,null,null,null,"不要な行は非表示にしてください"]
[8,null,{"$f":"添付資料①_HFC32!B15","v":0},null,null,{"$f":"添付資料①_HFC32!K15","v":""},null,null,null,null,null,"不要な行は非表示にしてください"]
[9,null,{"$f":"添付資料①_HFC32!B16","v":0},null,null,{"$f":"添付資料①_HFC32!K16","v":""},null,null,null,null,null,"不要な行は非表示にしてください"]
[10,null,{"$f":"添付資料①_HFC32!B17","v":0},null,null,{"$f":"添付資料①_HFC32!K17","v":""},null,null,null,null,null,"不要な行は非表示にしてください"]
[11,null,{"$f":"添付資料①_HFC32!B18","v":0},null,null,{"$f":"添付資料①_HFC32!K18","v":""},null,null,null,null,null,"不要な行は非表示にしてください"]
[12,null,{"$f":"添付資料①_HFC32!B19","v":0},null,null,{"$f":"添付資料①_HFC32!K19","v":""},null,null,null,null,null,"不要な行は非表示にしてください"]
[13,null,{"$f":"添付資料①_HFC32!B20","v":0},null,null,{"$f":"添付資料①_HFC32!K20","v":""},null,null,null,null,null,"不要な行は非表示にしてください"]
[14,null,{"$f":"添付資料①_HFC32!B21","v":0},null,null,{"$f":"添付資料①_HFC32!K21","v":""},null,null,null,null,null,"不要な行は非表示にしてください"]
[15,null,{"$f":"添付資料①_HFC32!B22","v":0},null,null,{"$f":"添付資料①_HFC32!K22","v":""},null,null,null,null,null,"不要な行は非表示にしてください"]
[16,null,{"$f":"添付資料①_HFC32!B23","v":0},null,null,{"$f":"添付資料①_HFC32!K23","v":""},null,null,null,null,null,"不要な行は非表示にしてください"]
[17,null,{"$f":"添付資料①_HFC32!B24","v":0},null,null,{"$f":"添付資料①_HFC32!K24","v":""},null,null,null,null,null,"不要な行は非表示にしてください"]
[18,null,{"$f":"添付資料①_HFC32!B25","v":0},null,null,{"$f":"添付資料①_HFC32!K25","v":""},null,null,null,null,null,"不要な行は非表示にしてください"]
[19,null,{"$f":"添付資料①_HFC32!B26","v":0},null,null,{"$f":"添付資料①_HFC32!K26","v":""},null,null,null,null,null,"不要な行は非表示にしてください"]
[20,null,{"$f":"添付資料①_HFC32!B27","v":0},null,null,{"$f":"添付資料①_HFC32!K27","v":""},null,null,null,null,null,"不要な行は非表示にしてください"]
[21,null,{"$f":"添付資料①_HFC32!B28","v":0},null,null,{"$f":"添付資料①_HFC32!K28","v":""},null,null,null,null,null,"不要な行は非表示にしてください"]
[22,null,{"$f":"添付資料①_HFC32!B30","v":0},null,null,{"$f":"添付資料①_HFC32!K30","v":""},null,null,null,null,null,"不要な行は非表示にしてください"]
[23,null,{"$f":"添付資料①_HFC32!B31","v":0},null,null,{"$f":"添付資料①_HFC32!K31","v":""},null,null,null,null,null,"不要な行は非表示にしてください"]
[24,null,{"$f":"添付資料①_HFC32!B32","v":0},null,null,{"$f":"添付資料①_HFC32!K32","v":""},null,null,null,null,null,"不要な行は非表示にしてください"]
[25,null,{"$f":"添付資料①_HFC32!B33","v":0},null,null,{"$f":"添付資料①_HFC32!K33","v":""},null,null,null,null,null,"不要な行は非表示にしてください"]
[26,null,{"$f":"添付資料①_HFC32!B34","v":0},null,null,{"$f":"添付資料①_HFC32!K34","v":""},null,null,null,null,null,"不要な行は非表示にしてください"]
[27,null,{"$f":"添付資料①_HFC32!B35","v":0},null,null,{"$f":"添付資料①_HFC32!K35","v":""},null,null,null,null,null,"不要な行は非表示にしてください"]
[28,null,{"$f":"添付資料①_HFC32!B36","v":0},null,null,{"$f":"添付資料①_HFC32!K36","v":""},null,null,null,null,null,"不要な行は非表示にしてください"]
[29,null,{"$f":"添付資料①_HFC32!B37","v":0},null,null,{"$f":"添付資料①_HFC32!K37","v":""},null,null,null,null,null,"不要な行は非表示にしてください"]
[30,null,{"$f":"添付資料①_HFC32!B38","v":0},null,null,{"$f":"添付資料①_HFC32!K38","v":""},null,null,null,null,null,"不要な行は非表示にしてください"]
[null,null,null,null,null,null,null,"注．四捨五入のため合計数は許可数量に合致しない。"]
[null,null,"HFC-41"]
[null,null,"会社名",null,null,"ＧＷＰｋｇ",null,null,null,null,null,"様式8添付資料①HFC-41より転記"]
[1,null,{"$f":"添付資料①_HFC41!B8","v":"経産化学株式会社"},null,null,{"$f":"添付資料①_HFC41!K8","v":0},null,null,null,null,null,"不要な行は非表示にしてください"]
[2,null,{"$f":"添付資料①_HFC41!B9","v":0},null,null,{"$f":"添付資料①_HFC41!K9","v":""},null,null,null,null,null,"不要な行は非表示にしてください"]
[3,null,{"$f":"添付資料①_HFC41!B10","v":0},null,null,{"$f":"添付資料①_HFC41!K10","v":""},null,null,null,null,null,"不要な行は非表示にしてください"]
[4,null,{"$f":"添付資料①_HFC41!B11","v":0},null,null,{"$f":"添付資料①_HFC41!K11","v":""},null,null,null,null,null,"不要な行は非表示にしてください"]
[5,null,{"$f":"添付資料①_HFC41!B12","v":0},null,null,{"$f":"添付資料①_HFC41!K12","v":""},null,null,null,null,null,"不要な行は非表示にしてください"]
[6,null,{"$f":"添付資料①_HFC41!B13","v":0},null,null,{"$f":"添付資料①_HFC41!K13","v":""},null,null,null,null,null,"不要な行は非表示にしてください"]
[7,null,{"$f":"添付資料①_HFC41!B14","v":0},null,null,{"$f":"添付資料①_HFC41!K14","v":""},null,null,null,null,null,"不要な行は非表示にしてください"]
[8,null,{"$f":"添付資料①_HFC41!B15","v":0},null,null,{"$f":"添付資料①_HFC41!K15","v":""},null,null,null,null,null,"不要な行は非表示にしてください"]
[9,null,{"$f":"添付資料①_HFC41!B16","v":0},null,null,{"$f":"添付資料①_HFC41!K16","v":""},null,null,null,null,null,"不要な行は非表示にしてください"]
[10,null,{"$f":"添付資料①_HFC41!B17","v":0},null,null,{"$f":"添付資料①_HFC41!K17","v":""},null,null,null,null,null,"不要な行は非表示にしてください"]
[11,null,{"$f":"添付資料①_HFC41!B18","v":0},null,null,{"$f":"添付資料①_HFC41!K18","v":""},null,null,null,null,null,"不要な行は非表示にしてください"]
[12,null,{"$f":"添付資料①_HFC41!B19","v":0},null,null,{"$f":"添付資料①_HFC41!K19","v":""},null,null,null,null,null,"不要な行は非表示にしてください"]
[13,null,{"$f":"添付資料①_HFC41!B20","v":0},null,null,{"$f":"添付資料①_HFC41!K20","v":""},null,null,null,null,null,"不要な行は非表示にしてください"]
[14,null,{"$f":"添付資料①_HFC41!B21","v":0},null,null,{"$f":"添付資料①_HFC41!K21","v":""},null,null,null,null,null,"不要な行は非表示にしてください"]
[15,null,{"$f":"添付資料①_HFC41!B22","v":0},null,null,{"$f":"添付資料①_HFC41!K22","v":""},null,null,null,null,null,"不要な行は非表示にしてください"]
[16,null,{"$f":"添付資料①_HFC41!B23","v":0},null,null,{"$f":"添付資料①_HFC41!K23","v":""},null,null,null,null,null,"不要な行は非表示にしてください"]
[17,null,{"$f":"添付資料①_HFC41!B24","v":0},null,null,{"$f":"添付資料①_HFC41!K24","v":""},null,null,null,null,null,"不要な行は非表示にしてください"]
[18,null,{"$f":"添付資料①_HFC41!B25","v":0},null,null,{"$f":"添付資料①_HFC41!K25","v":""},null,null,null,null,null,"不要な行は非表示にしてください"]
[19,null,{"$f":"添付資料①_HFC41!B26","v":0},null,null,{"$f":"添付資料①_HFC41!K26","v":""},null,null,null,null,null,"不要な行は非表示にしてください"]
[20,null,{"$f":"添付資料①_HFC41!B27","v":0},null,null,{"$f":"添付資料①_HFC41!K27","v":""},null,null,null,null,null,"不要な行は非表示にしてください"]
[21,null,{"$f":"添付資料①_HFC41!B28","v":0},null,null,{"$f":"添付資料①_HFC41!K28","v":""},null,null,null,null,null,"不要な行は非表示にしてください"]
[22,null,{"$f":"添付資料①_HFC41!B29","v":0},null,null,{"$f":"添付資料①_HFC41!K29","v":""},null,null,null,null,null,"不要な行は非表示にしてください"]
[23,null,{"$f":"添付資料①_HFC41!B30","v":0},null,null,{"$f":"添付資料①_HFC41!K30","v":""},null,null,null,null,null,"不要な行は非表示にしてください"]
[24,null,{"$f":"添付資料①_HFC41!B31","v":0},null,null,{"$f":"添付資料①_HFC41!K31","v":""},null,null,null,null,null,"不要な行は非表示にしてください"]
[25,null,{"$f":"添付資料①_HFC41!B32","v":0},null,null,{"$f":"添付資料①_HFC41!K32","v":""},null,null,null,null,null,"不要な行は非表示にしてください"]
[26,null,{"$f":"添付資料①_HFC41!B33","v":0},null,null,{"$f":"添付資料①_HFC41!K33","v":""},null,null,null,null,null,"不要な行は非表示にしてください"]
[27,null,{"$f":"添付資料①_HFC41!B34","v":0},null,null,{"$f":"添付資料①_HFC41!K34","v":""},null,null,null,null,null,"不要な行は非表示にしてください"]
[28,null,{"$f":"添付資料①_HFC41!B35","v":0},null,null,{"$f":"添付資料①_HFC41!K35","v":""},null,null,null,null,null,"不要な行は非表示にしてください"]
[29,null,{"$f":"添付資料①_HFC41!B36","v":0},null,null,{"$f":"添付資料①_HFC41!K36","v":""},null,null,null,null,null,"不要な行は非表示にしてください"]
[30,null,{"$f":"添付資料①_HFC41!B37","v":0},null,null,{"$f":"添付資料①_HFC41!K37","v":""},null,null,null,null,null,"不要な行は非表示にしてください"]
[null,null,null,null,null,null,null,"注．四捨五入のため合計数は許可数量に合致しない。"]